{"text_format":"1","workbook":"xlsx","n_sheets":16,"sheets":["Estrutura simulador","ID EG","Esq_Atual","Modelação de custos atual","Prod_RU","Modelação do sist PAYT","Modelação de custos PAYT","Modelação do sist SAYT_RAYT","Modelação de custos SAYT_RAYT","Preços unitários","Sit atual vs PAYT vs SAYT_RAYT","Tarifário PAYT","Apoio","Apoio_cálculo custos_sit_atual","Apoio_cálculo custos_PAYT","Apoio_cálculo custos_SAYT_RAYT"],"not_rendered":{"charts":0,"images":9,"macros":1,"external_links":0,"defined_names":11,"comments":0,"pivot_tables":0},"unopened":[],"bounds":{"document_bytes":16777216,"sheet_cells":100000,"rows_first":2000,"rows_last":500,"rows_between":2000,"halvings":0,"cell_chars":16384,"cell_head_chars":4096},"cells_cut":0,"cells_raw":0,"read":"whole","date_system":"1900"}

{"sheet":"Estrutura simulador","index":0,"n_rows":0,"n_cols":0,"rows_kept":0,"cut":false,"hidden":false,"merged":[]}

{"sheet":"ID EG","index":1,"n_rows":19,"n_cols":30,"rows_kept":19,"cut":false,"hidden":false,"merged":[[15,6,15,28],[17,6,17,28],[18,6,18,28],[8,6,8,28],[9,6,9,28],[11,6,11,28],[12,6,12,28],[14,6,14,28]]}
[]
[]
[]
[]
[]
[]
[]
[]
[null,null,null,null,null,null,"Município"]
[null,null,null,null,null,null,"Selecionar Entidade/Município",null,null,null,null,null,null,null,null,null,null,null,null,null,null,null,null,null,null,null,null,null,null,"Escolher Entidade"]
[]
[null,null,null,null,null,null,"Tipologia da área de intervenção"]
[null,null,null,null,null,null,{"$f":"+IF(G10=\"\",\"\",VLOOKUP(G10,Apoio!C5:O24,3,FALSE))","v":"-"},null,null,null,null,null,null,null,null,null,null,null,null,null,null,null,null,null,null,null,null,null,null,"[campo automático]"]
[]
[null,null,null,null,null,null,"População (2021)"]
[null,null,null,null,null,null,{"$f":"+IF(G10=\"\",\"\",VLOOKUP(G10,Apoio!C5:O24,2,FALSE))","v":"-"},null,null,null,null,null,null,null,null,null,null,null,null,null,null,null,null,null,null,null,null,null,null,"[campo automático]"]
[]
[null,null,null,null,null,null,"Alojamentos (2021)"]
[null,null,null,null,null,null,{"$f":"+IF(G10=\"\",\"\",VLOOKUP(G10,Apoio!C5:O24,4,FALSE))","v":"-"},null,null,null,null,null,null,null,null,null,null,null,null,null,null,null,null,null,null,null,null,null,null,"[campo automático]"]

{"sheet":"Esq_Atual","index":2,"n_rows":223,"n_cols":117,"rows_kept":223,"cut":false,"hidden":false,"merged":[[217,41,217,52],[217,53,217,55],[217,58,217,68],[217,69,217,71],[217,72,217,80],[217,81,217,87],[218,41,218,52],[218,53,218,55],[219,41,219,52],[219,53,219,55],[220,41,220,52],[220,53,220,55],[220,62,220,63],[221,62,221,63],[221,65,221,66],[222,62,222,63],[222,65,222,66],[209,40,210,92],[211,41,211,91],[212,47,212,48],[214,41,214,52],[214,53,214,55],[214,58,214,68],[214,69,214,71],[214,72,214,80],[214,81,214,87],[215,41,215,52],[215,53,215,55],[215,58,215,68],[215,69,215,71],[215,72,215,80],[215,81,215,87],[216,41,216,52],[216,53,216,55],[216,58,216,68],[216,69,216,71],[216,72,216,80],[216,81,216,87],[162,77,162,79],[124,32,125,34],[126,32,126,34],[127,32,127,34],[128,32,128,34],[129,32,129,34],[130,32,130,34],[131,32,131,34],[132,32,132,34],[133,32,133,34],[134,32,134,34],[135,32,135,34],[136,32,136,34],[137,32,137,34],[138,32,138,34],[139,32,139,34],[140,32,140,34],[146,77,147,79],[156,57,156,66],[156,67,156,69],[156,70,156,73],[150,57,150,66],[150,67,150,69],[153,77,153,79],[132,72,132,77],[161,57,161,66],[161,67,161,69],[161,70,161,73],[160,74,160,76],[161,74,161,76],[148,67,148,69],[148,70,148,73],[190,86,190,88],[191,83,191,84],[191,86,191,88],[203,41,203,48],[203,49,203,51],[203,54,203,59],[203,60,203,62],[203,63,203,70],[203,71,203,76],[203,82,203,83],[203,85,203,86],[79,85,79,86],[79,88,79,89],[79,91,79,92],[80,85,80,86],[80,88,80,89],[80,91,80,92],[83,60,83,61],[83,63,83,64],[83,66,83,67],[84,60,84,61],[84,63,84,64],[84,66,84,67],[83,85,83,86],[83,88,83,89],[83,91,83,92],[84,85,84,86],[148,77,148,79],[149,77,149,79],[150,77,150,79],[151,77,151,79],[152,77,152,79],[204,85,204,86],[144,8,144,9],[144,11,144,13],[145,8,145,9],[145,11,145,13],[146,8,146,9],[146,11,146,13],[147,8,147,9],[147,11,147,13],[166,48,166,49],[166,51,166,53],[167,48,167,49],[167,51,167,53],[168,48,168,49],[168,51,168,53],[169,48,169,49],[169,51,169,53],[182,67,182,69],[146,55,147,56],[148,45,148,48],[148,49,148,51],[148,52,148,54],[154,67,154,69],[154,70,154,73],[157,52,157,54],[157,55,157,56],[156,45,156,48],[156,49,156,51],[156,52,156,54],[188,86,188,88],[189,83,189,84],[189,86,189,88],[84,88,84,89],[84,91,84,92],[162,67,162,69],[162,70,162,73],[194,32,194,35],[194,36,194,38],[192,64,192,66],[178,39,178,46],[154,45,154,48],[154,49,154,51],[154,52,154,54],[154,55,154,56],[154,57,154,66],[152,49,152,51],[152,52,152,54],[152,55,152,56],[152,57,152,66],[148,55,148,56],[148,57,148,66],[182,39,182,46],[151,52,151,54],[151,55,151,56],[193,39,193,41],[193,44,193,53],[193,32,193,35],[193,36,193,38],[181,67,181,69],[123,77,123,78],[123,53,123,58],[123,59,123,64],[123,65,123,70],[123,71,123,76],[204,41,204,48],[204,49,204,51],[175,25,175,27],[181,9,181,11],[182,9,182,11],[160,55,160,56],[159,45,159,48],[159,49,159,51],[159,52,159,54],[159,55,159,56],[158,45,158,48],[161,52,161,54],[161,55,161,56],[160,45,160,48],[160,49,160,51],[160,52,160,54],[144,32,144,33],[190,44,191,53],[190,54,191,56],[156,55,156,56],[175,13,175,14],[149,52,149,54],[149,55,149,56],[161,45,161,48],[153,52,153,54],[153,55,153,56],[152,45,152,48],[150,55,150,56],[153,45,153,48],[153,49,153,51],[151,45,151,48],[151,49,151,51],[213,12,213,15],[194,39,194,41],[194,42,194,43],[184,84,184,92],[184,93,184,96],[184,97,184,100],[184,101,184,104],[184,105,184,108],[193,54,193,56],[193,57,193,60],[193,61,193,63],[193,64,193,66],[194,44,194,53],[194,54,194,56],[194,57,194,60],[194,61,194,63],[194,64,194,66],[205,41,205,48],[205,49,205,51],[202,49,202,51],[202,54,202,59],[202,60,202,62],[202,63,202,70],[202,71,202,76],[202,82,202,83],[190,57,191,60],[190,61,191,63],[190,64,191,66],[192,44,192,53],[192,54,192,56],[192,57,192,60],[204,82,204,83],[200,47,200,48],[202,41,202,48],[181,113,181,116],[183,84,183,92],[183,93,183,96],[183,97,183,100],[183,101,183,104],[183,105,183,108],[193,13,193,14],[192,13,192,14],[192,32,192,35],[192,36,192,38],[192,39,192,41],[192,42,192,43],[182,84,182,92],[182,93,182,96],[182,97,182,100],[182,101,182,104],[182,105,182,108],[182,109,182,112],[182,113,182,116],[193,42,193,43],[183,67,183,69],[188,13,188,14],[188,33,188,34],[188,46,188,47],[181,39,181,46],[192,61,192,63],[188,83,188,84],[190,83,190,84],[184,109,184,112],[184,113,184,116],[178,93,178,116],[179,93,179,96],[179,97,179,100],[179,101,179,104],[179,105,179,108],[189,13,189,14],[179,109,179,112],[183,9,183,11],[183,18,183,22],[183,39,183,46],[179,113,179,116],[181,84,181,92],[181,93,181,96],[181,97,181,100],[181,101,181,104],[181,105,181,108],[191,13,191,14],[190,13,190,14],[190,32,191,35],[190,36,191,38],[190,39,191,41],[190,42,191,43],[180,84,180,92],[180,93,180,96],[180,97,180,100],[178,67,178,69],[180,101,180,104],[180,105,180,108],[181,109,181,112],[180,9,180,11],[180,39,180,46],[180,67,180,69],[178,9,178,11],[158,55,158,56],[158,57,158,66],[158,67,158,69],[158,70,158,73],[160,57,160,66],[160,67,160,69],[179,9,179,11],[179,39,179,46],[179,67,179,69],[155,45,155,48],[155,49,155,51],[155,52,155,54],[155,55,155,56],[156,74,156,76],[156,80,156,82],[157,74,157,76],[162,45,162,48],[162,49,162,51],[162,52,162,54],[162,55,162,56],[162,57,162,66],[158,49,158,51],[158,52,158,54],[161,49,161,51],[157,45,157,48],[157,49,157,51],[161,80,161,82],[159,57,159,66],[159,67,159,69],[159,70,159,73],[158,74,158,76],[138,29,138,31],[139,29,139,31],[140,29,140,31],[135,81,135,89],[136,45,136,53],[136,58,136,59],[136,67,136,68],[136,76,136,77],[136,85,136,86],[139,67,139,68],[139,76,139,77],[139,85,139,86],[140,45,140,53],[140,58,140,59],[140,67,140,68],[140,76,140,77],[140,85,140,86],[137,45,137,53],[137,58,137,59],[137,67,137,68],[137,76,137,77],[137,85,137,86],[138,45,138,53],[138,58,138,59],[138,76,138,77],[138,85,138,86],[139,45,139,53],[139,58,139,59],[135,54,135,62],[135,63,135,71],[135,72,135,80],[137,35,137,37],[140,3,140,6],[140,7,140,9],[140,10,140,11],[140,22,140,24],[140,25,140,28],[139,3,139,6],[139,7,139,9],[139,10,139,11],[139,22,139,24],[139,25,139,28],[138,3,138,6],[138,7,138,9],[138,10,138,11],[138,22,138,24],[138,25,138,28],[138,12,138,21],[139,12,139,21],[140,12,140,21],[135,3,135,6],[135,7,135,9],[135,10,135,11],[135,22,135,24],[135,25,135,28],[134,3,134,6],[134,7,134,9],[134,10,134,11],[134,22,134,24],[134,25,134,28],[136,29,136,31],[137,3,137,6],[137,7,137,9],[137,10,137,11],[137,22,137,24],[137,25,137,28],[137,12,137,21],[137,29,137,31],[132,3,132,6],[132,7,132,9],[132,10,132,11],[132,22,132,24],[132,25,132,28],[132,29,132,31],[133,29,133,31],[134,29,134,31],[135,29,135,31],[127,29,127,31],[128,29,128,31],[127,54,127,59],[127,60,127,65],[127,66,127,71],[132,12,132,21],[133,12,133,21],[136,3,136,6],[136,7,136,9],[136,10,136,11],[136,22,136,24],[136,25,136,28],[133,3,133,6],[133,7,133,9],[133,10,133,11],[133,22,133,24],[133,25,133,28],[136,12,136,21],[136,35,136,37],[132,45,132,53],[132,54,132,59],[132,60,132,65],[132,66,132,71],[131,3,131,6],[131,7,131,9],[131,10,131,11],[131,22,131,24],[131,25,131,28],[128,66,128,71],[128,72,128,77],[130,45,130,53],[130,54,130,59],[130,60,130,65],[130,66,130,71],[130,72,130,77],[131,72,131,77],[128,3,128,6],[128,7,128,9],[128,10,128,11],[128,22,128,24],[128,25,128,28],[129,29,129,31],[130,29,130,31],[131,29,131,31],[128,12,128,21],[129,12,129,21],[130,12,130,21],[131,12,131,21],[129,45,129,53],[129,54,129,59],[129,60,129,65],[131,45,131,53],[131,54,131,59],[131,60,131,65],[131,66,131,71],[130,3,130,6],[130,7,130,9],[130,10,130,11],[130,22,130,24],[130,25,130,28],[129,3,129,6],[129,7,129,9],[129,10,129,11],[129,22,129,24],[129,25,129,28],[129,66,129,71],[129,72,129,77],[128,54,128,59],[128,60,128,65],[126,54,126,77],[127,3,127,6],[127,7,127,9],[127,10,127,11],[127,22,127,24],[127,25,127,28],[127,12,127,21],[127,72,127,77],[128,45,128,53],[122,45,122,52],[122,53,122,58],[121,45,121,52],[121,53,121,58],[121,59,121,64],[121,65,121,70],[121,71,121,76],[126,3,126,6],[126,7,126,9],[126,10,126,11],[126,22,126,24],[126,25,126,28],[122,59,122,64],[122,65,122,70],[123,45,123,52],[122,71,122,76],[124,3,125,6],[124,7,125,9],[124,10,125,11],[124,22,125,24],[126,12,126,21],[126,29,126,31],[122,18,122,19],[122,5,122,6],[124,12,125,21],[124,35,125,37],[126,35,126,37],[124,25,125,28],[117,45,117,52],[117,53,117,58],[117,59,117,64],[117,65,117,70],[117,71,117,76],[117,77,117,78],[118,17,118,18],[119,17,119,18],[116,53,116,58],[116,59,116,64],[116,65,116,70],[116,71,116,76],[118,53,118,58],[118,59,118,64],[118,65,118,70],[118,71,118,76],[118,77,118,78],[119,71,119,76],[119,77,119,78],[116,77,116,78],[120,45,120,52],[120,53,120,58],[120,59,120,64],[120,65,120,70],[120,71,120,76],[120,77,120,78],[119,45,119,52],[119,53,119,58],[119,59,119,64],[119,65,119,70],[121,77,121,78],[122,77,122,78],[109,13,109,15],[101,63,101,66],[107,13,107,15],[102,47,102,50],[102,51,102,54],[102,55,102,58],[102,59,102,62],[102,63,102,66],[104,51,104,66],[106,55,106,57],[108,45,108,59],[114,17,114,18],[109,45,112,59],[115,17,115,18],[116,17,116,18],[117,17,117,18],[108,13,108,15],[106,13,106,15],[110,13,110,15],[111,13,111,15],[96,51,96,54],[96,55,96,58],[98,63,98,66],[99,47,99,50],[99,51,99,54],[99,55,99,58],[99,59,99,62],[99,63,99,66],[103,13,103,15],[103,19,103,21],[98,47,98,50],[98,51,98,54],[98,55,98,58],[98,59,98,62],[101,13,101,15],[101,19,101,21],[100,47,100,50],[100,51,100,54],[100,55,100,58],[100,59,100,62],[100,63,100,66],[101,47,101,50],[101,51,101,54],[101,55,101,58],[101,59,101,62],[103,51,103,54],[103,55,103,58],[103,59,103,62],[103,63,103,66],[92,4,95,18],[88,52,88,53],[92,47,94,50],[92,51,92,66],[93,51,93,54],[93,55,93,58],[93,59,93,62],[83,5,83,8],[80,5,80,8],[81,5,81,8],[93,63,93,66],[99,9,99,11],[94,51,94,54],[94,55,94,58],[94,59,94,62],[94,63,94,66],[96,59,96,62],[96,63,96,66],[89,14,89,16],[91,4,91,18],[97,47,97,50],[97,51,97,54],[97,55,97,58],[97,59,97,62],[97,63,97,66],[95,47,95,50],[95,51,95,54],[95,55,95,58],[95,59,95,62],[95,63,95,66],[96,47,96,50],[82,5,82,8],[82,9,82,12],[79,5,79,8],[79,9,79,12],[73,63,73,66],[78,5,78,8],[78,9,78,12],[77,5,77,8],[77,9,77,12],[73,47,73,50],[73,51,73,54],[73,55,73,58],[73,59,73,62],[86,12,86,14],[83,9,83,12],[84,9,84,12],[79,60,79,61],[79,63,79,64],[79,66,79,67],[80,9,80,12],[81,9,81,12],[86,50,86,52],[80,60,80,61],[80,63,80,64],[80,66,80,67],[71,63,71,66],[76,5,76,8],[76,9,76,12],[72,47,72,50],[72,51,72,54],[72,55,72,58],[72,59,72,62],[72,63,72,66],[75,5,75,8],[75,9,75,12],[71,47,71,50],[71,51,71,54],[71,55,71,58],[71,59,71,62],[71,11,71,12],[76,54,76,56],[69,9,69,11],[69,47,69,50],[69,51,69,54],[69,55,69,58],[69,59,69,62],[69,63,69,66],[70,47,70,50],[70,51,70,54],[70,55,70,58],[70,59,70,62],[70,63,70,66],[62,51,62,54],[62,55,62,58],[62,59,62,62],[66,18,66,19],[66,21,66,22],[66,24,66,25],[67,63,67,66],[68,47,68,50],[68,51,68,54],[68,55,68,58],[68,59,68,62],[68,63,68,66],[66,47,66,50],[66,51,66,54],[66,55,66,58],[66,59,66,62],[66,63,66,66],[67,47,67,50],[67,51,67,54],[67,55,67,58],[67,59,67,62],[65,63,65,66],[64,47,64,50],[64,51,64,54],[67,18,67,19],[67,21,67,22],[67,24,67,25],[65,55,65,58],[65,59,65,62],[62,47,62,50],[56,5,56,8],[56,9,56,12],[62,5,62,8],[62,9,62,12],[59,47,61,50],[59,51,59,66],[60,51,60,54],[60,55,60,58],[60,59,60,62],[60,63,60,66],[64,13,64,15],[61,51,61,54],[61,55,61,58],[61,59,61,62],[61,63,61,66],[61,5,61,8],[61,9,61,12],[60,5,60,8],[60,9,60,12],[59,5,59,8],[59,9,59,12],[62,63,62,66],[64,55,64,58],[64,59,64,62],[64,63,64,66],[63,47,63,50],[63,51,63,54],[63,55,63,58],[63,59,63,62],[63,63,63,66],[57,5,57,8],[57,9,57,12],[54,5,54,8],[54,9,54,12],[50,50,50,55],[50,56,50,61],[50,68,50,73],[50,74,50,79],[53,5,53,8],[53,9,53,12],[49,50,49,55],[49,56,49,61],[49,68,49,73],[49,74,49,79],[49,46,49,49],[49,80,49,85],[55,57,55,58],[55,65,55,66],[55,71,55,72],[55,79,55,80],[53,52,53,54],[58,5,58,8],[47,92,47,97],[47,104,47,109],[47,110,47,115],[52,5,52,8],[52,9,52,12],[48,46,48,49],[46,86,46,91],[46,92,46,97],[46,104,46,109],[46,110,46,115],[51,5,51,8],[51,9,51,12],[47,46,47,49],[47,50,47,55],[47,56,47,61],[47,68,47,73],[48,92,48,97],[48,104,48,109],[48,110,48,115],[46,80,46,85],[47,80,47,85],[48,80,48,85],[50,86,50,91],[50,92,50,97],[50,104,50,109],[50,110,50,115],[50,5,50,8],[50,9,50,12],[46,46,46,49],[55,5,55,8],[55,9,55,12],[40,110,40,115],[41,46,41,49],[41,50,41,55],[41,56,41,61],[41,68,41,73],[41,74,41,79],[41,86,41,91],[41,92,41,97],[41,104,41,109],[41,110,41,115],[42,110,42,115],[43,46,43,49],[43,50,43,55],[43,56,43,61],[43,68,43,73],[43,74,43,79],[43,86,43,91],[43,92,43,97],[43,104,43,109],[43,110,43,115],[42,46,42,49],[42,50,42,55],[42,56,42,61],[42,68,42,73],[42,74,42,79],[42,86,42,91],[42,92,42,97],[42,104,42,109],[40,46,40,49],[40,50,40,55],[40,56,40,61],[40,68,40,73],[40,74,40,79],[40,86,40,91],[40,92,40,97],[40,104,40,109],[41,9,41,17],[41,18,41,26],[42,62,42,67],[43,62,43,67],[44,62,44,67],[40,80,40,85],[41,80,41,85],[42,80,42,85],[43,80,43,85],[44,80,44,85],[44,46,44,49],[44,50,44,55],[44,56,44,61],[44,68,44,73],[44,74,44,79],[44,86,44,91],[44,92,44,97],[44,104,44,109],[41,36,41,39],[40,62,40,67],[41,62,41,67],[40,36,40,39],[35,104,35,109],[35,110,35,115],[37,86,37,91],[37,92,37,97],[37,104,37,109],[37,110,37,115],[37,80,37,85],[38,86,38,91],[38,92,38,97],[38,104,38,109],[38,110,38,115],[39,46,39,49],[39,50,39,55],[39,56,39,61],[39,68,39,73],[39,74,39,79],[39,86,39,91],[39,92,39,97],[39,104,39,109],[39,110,39,115],[38,46,38,49],[38,50,38,55],[38,56,38,61],[38,68,38,73],[38,74,38,79],[38,80,38,85],[39,80,39,85],[36,62,36,67],[37,62,37,67],[38,62,38,67],[39,62,39,67],[31,104,31,121],[34,104,34,109],[34,110,34,115],[40,5,40,8],[40,9,40,17],[40,18,40,26],[35,46,35,49],[35,50,35,55],[35,56,35,61],[35,68,35,73],[34,46,34,49],[34,50,34,55],[34,56,34,61],[34,68,34,73],[34,74,34,79],[34,86,34,91],[39,5,39,8],[39,9,39,17],[39,18,39,26],[36,46,36,49],[36,50,36,55],[36,56,36,61],[36,68,36,73],[36,74,36,79],[36,86,36,91],[37,46,37,49],[37,50,37,55],[37,56,37,61],[37,68,37,73],[37,74,37,79],[36,104,36,109],[36,110,36,115],[34,92,34,97],[36,92,36,97],[32,92,33,97],[32,68,33,73],[32,74,33,79],[32,86,33,91],[34,80,34,85],[35,80,35,85],[36,80,36,85],[35,74,35,79],[35,86,35,91],[35,92,35,97],[37,9,37,17],[35,27,35,35],[36,27,36,35],[37,27,37,35],[34,62,34,67],[35,62,35,67],[35,9,35,17],[35,18,35,26],[36,36,36,39],[37,36,37,39],[22,48,22,50],[22,62,22,64],[22,76,22,78],[22,85,22,90],[25,54,25,56],[17,13,17,20],[17,54,17,61],[20,13,20,15],[20,48,20,50],[20,62,20,64],[27,65,27,66],[27,73,27,74],[27,81,27,82],[32,9,32,17],[32,18,32,26],[26,9,26,17],[26,18,26,26],[27,9,27,17],[27,18,27,26],[27,57,27,58],[28,9,28,17],[29,9,29,17],[30,9,30,17],[31,9,31,17],[28,18,28,26],[29,18,29,26],[32,80,33,85],[30,18,30,26],[31,18,31,26],[33,9,33,17],[33,18,33,26],[32,62,33,67],[31,50,31,67],[38,27,38,35],[39,27,39,35],[40,27,40,35],[41,27,41,35],[134,12,134,21],[135,12,135,21],[32,5,32,8],[26,5,27,8],[28,5,28,8],[29,5,29,8],[30,5,30,8],[31,5,31,8],[37,5,37,8],[37,18,37,26],[32,46,33,49],[32,50,33,55],[32,56,33,61],[38,5,38,8],[38,9,38,17],[38,18,38,26],[35,5,35,8],[38,36,38,39],[36,5,36,8],[36,9,36,17],[36,18,36,26],[33,5,33,8],[34,5,34,8],[34,9,34,17],[34,18,34,26],[35,36,35,39],[39,36,39,39],[22,11,22,12],[26,36,27,39],[28,36,28,39],[29,36,29,39],[30,36,30,39],[31,36,31,39],[32,36,32,39]],"merged_total":1187,"flags":["merged_cut"]}
[]
[]
[]
[]
[]
[]
[]
[null,"Índice"]
[]
[null,null,null,"Recolha indiferenciada",null,null,null,null,null,null,null,null,null,null,null,null,null,"Recolha em comércios/serviços",null,null,null,null,null,null,null,null,null,null,null,null,null,null,null,"Monitorização, tratamento de informação e fiscalização"]
[]
[null,null,null,"Recolha seletiva",null,null,null,null,null,null,null,null,null,null,null,null,null,"Recursos humanos",null,null,null,null,null,null,null,null,null,null,null,null,null,null,null,"Ecocentro",null,null,null,null,null,null,null,null,null,null,null,null,null,"Transferência"]
[]
[]
[null,"Recolha indiferenciada",null,null,null,null,null,null,null,null,null,null,null,null,null,null,null,null,null,null,null,null,null,null,null,null,null,null,null,null,null,null,null,null,null,null,null,null,null,null,null,null,"Recolha seletiva"]
[]
[]
[null,null,null,"Entidade que executa a recolha",null,null,null,null,null,null,null,null,null,null,null,null,null,null,null,null,null,null,"Escolher opção",null,null,null,null,null,null,null,null,null,null,null,null,null,null,null,null,null,null,null,null,null,"Entidade que executa a recolha",null,null,null,null,null,null,null,null,null,null,null,null,null,null,null,null,null,null,"Escolher opção"]
[]
[null,null,null,"Atual esquema de deposição",null,null,null,null,null,null,null,null,null,null,null,null,null,null,null,null,null,null,null,null,null,null,null,null,null,null,null,null,null,null,null,null,null,null,null,null,null,null,null,null,"Fluxos recolhidos seletivamente"]
[null,null,null,"- Contentores coletivos na via pública",null,null,null,null,null,null,null,null,null,null,null,null,null,"Escolher opção",null,null,null,null,null,null,null,null,null,null,null,null,null,null,null,null,null,null,null,null,null,null,null,null,null,null,"Papel-cartão",null,null,null,null,null,null,null,"Escolher opção",null,null,null,null,null,"Vidro",null,null,null,null,null,null,null,"Escolher opção"]
[]
[null,null,null,null,". Nº total de equipamentos",null,null,null,null,null,null,{"$f":"+J42+S42+AB42","v":0},null,"[campo automático]",null,null,null,null,null,null,null,null,null,null,null,null,null,null,null,null,null,null,null,null,null,null,null,null,null,null,null,null,null,null,"Plástico",null,null,null,null,null,null,null,"Escolher opção",null,null,null,null,null,"Biorresíduos",null,null,null,null,null,null,null,"Escolher opção",null,null,null,null,null,"Outros fluxos",null,null,null,null,null,null,null,"Escolher opção",null,null,null,null,null,null,null,null,null,null," (designar quais)"]
[]
[null,null,null,null,". Tipologia dos equipamentos",null,null,null,null,null,null,null,null,null,null,null,null,null,null,null,null,null,null,null,null,null,null,null,null,null,null,null,null,null,null,null,null,null,null,null,null,null,null,null,"Atual esquema de deposição"]
[null,null,null,null,null,null,null,null,null,null,null,null,null,null,null,null,null,null,null,null,null,null,null,null,null,null,null,null,null,null,null,null,null,null,null,null,null,null,null,null,null,null,null,null,"- Contentores coletivos na via pública",null,null,null,null,null,null,null,null,null,null,null,null,null,"Escolher opção"]
[null,null,null,null,null,"Capacidade",null,null,null,"Cont. de superfície ",null,null,null,null,null,null,null,null,"Cont. semi-enterrados",null,null,null,null,null,null,null,null,"Cont. enterrados",null,null,null,null,null,null,null,null,"Total"]
[null,null,null,null,null,null,null,null,null,"nº",null,null,null,null,null,null,null,null,"nº",null,null,null,null,null,null,null,null,"nº",null,null,null,null,null,null,null,null,null,null,null,null,null,null,null,null,null,". Nº total de equipamentos:",null,null,null,null,null,null,null,"Papel-cartão",null,null,null,{"$f":"+AY51+BE51","v":0},null,null,null,"Plástico",null,null,null,{"$f":"+BQ51+BW51","v":0},null,null,null,"Vidro",null,null,null,{"$f":"+CI51+CO51","v":0},null,null,null,"Biorresíduos",null,null,null,{"$f":"+DA51+DG51","v":0},null,null,"[campos automáticos]"]
[null,null,null,null,null,"110 L",null,null,null,null,null,null,null,null,null,null,null,null,null,null,null,null,null,null,null,null,null,null,null,null,null,null,null,null,null,null,{"$f":"+J29+S29+AB29","v":0}]
[null,null,null,null,null,"120 L",null,null,null,null,null,null,null,null,null,null,null,null,null,null,null,null,null,null,null,null,null,null,null,null,null,null,null,null,null,null,0,null,null,null,null,null,null,null,null,". Tipologia dos equipamentos:"]
[null,null,null,null,null,"240 L",null,null,null,null,null,null,null,null,null,null,null,null,null,null,null,null,null,null,null,null,null,null,null,null,null,null,null,null,null,null,0]
[null,null,null,null,null,"360 L",null,null,null,null,null,null,null,null,null,null,null,null,null,null,null,null,null,null,null,null,null,null,null,null,null,null,null,null,null,null,0,null,null,null,null,null,null,null,null,null,null,null,null,null,"Fluxo: Papel-cartão",null,null,null,null,null,null,null,null,null,null,null,null,null,null,null,null,null,"Fluxo: Plástico",null,null,null,null,null,null,null,null,null,null,null,null,null,null,null,null,null,"Fluxo: Vidro",null,null,null,null,null,null,null,null,null,null,null,null,null,null,null,null,null,"Fluxo: Biorresíduos"]
[null,null,null,null,null,"800 L",null,null,null,null,null,null,null,null,null,null,null,null,null,null,null,null,null,null,null,null,null,null,null,null,null,null,null,null,null,null,0,null,null,null,null,null,null,null,null,null,"Capacidade",null,null,null,"Cont. de superfície ",null,null,null,null,null,"Cont. semi-enterrados",null,null,null,null,null,"Cont. enterrados",null,null,null,null,null,"Cont. de superfície ",null,null,null,null,null,"Cont. semi-enterrados",null,null,null,null,null,"Cont. enterrados",null,null,null,null,null,"Cont. de superfície ",null,null,null,null,null,"Cont. semi-enterrados",null,null,null,null,null,"Cont. enterrados",null,null,null,null,null,"Cont. de superfície ",null,null,null,null,null,"Cont. semi-enterrados",null,null,null,null,null,"Cont. enterrados"]
[null,null,null,null,null,"1 000 L",null,null,null,null,null,null,null,null,null,null,null,null,null,null,null,null,null,null,null,null,null,null,null,null,null,null,null,null,null,null,0]
[null,null,null,null,null,"1 100 L",null,null,null,null,null,null,null,null,null,null,null,null,null,null,null,null,null,null,null,null,null,null,null,null,null,null,null,null,null,null,0,null,null,null,null,null,null,null,null,null,"240 L"]
[null,null,null,null,null,"3 000 L",null,null,null,null,null,null,null,null,null,null,null,null,null,null,null,null,null,null,null,null,null,null,null,null,null,null,null,null,null,null,0,null,null,null,null,null,null,null,null,null,"360 L"]
[null,null,null,null,null,"3 200 L",null,null,null,null,null,null,null,null,null,null,null,null,null,null,null,null,null,null,null,null,null,null,null,null,null,null,null,null,null,null,0,null,null,null,null,null,null,null,null,null,"750 L"]
[null,null,null,null,null,"4 000 L",null,null,null,null,null,null,null,null,null,null,null,null,null,null,null,null,null,null,null,null,null,null,null,null,null,null,null,null,null,null,0,null,null,null,null,null,null,null,null,null,"800 L"]
[null,null,null,null,null,"5 000 L",null,null,null,null,null,null,null,null,null,null,null,null,null,null,null,null,null,null,null,null,null,null,null,null,null,null,null,null,null,null,0,null,null,null,null,null,null,null,null,null,"1 000 L"]
[null,null,null,null,null,"Outra:",null,null,null,null,null,null,null,null,null,null,null,null,null,null,null,null,null,null,null,null,null,null,null,null,null,null,null,null,null,null,0,null,null,null,null,null,null,null,null,null,"1 100 L"]
[null,null,null,null,null,"____ L",null,null,null,null,null,null,null,null,null,null,null,null,null,null,null,null,null,null,null,null,null,null,null,null,null,null,null,null,null,null,0,null,null,null,null,null,null,null,null,null,"1 500 L"]
[null,null,null,null,null,null,null,null,"sub-total",{"$f":"+SUM(J29:R41)","v":0},null,null,null,null,null,null,null,null,{"$f":"+SUM(S29:AA41)","v":0},null,null,null,null,null,null,null,null,{"$f":"+SUM(AB29:AJ41)","v":0},null,null,null,null,null,null,null,null,{"$f":"+J42+S42+AB42","v":0},null,null,null,null,null,null,null,null,null,"2 350 L"]
[null,null,null,null,null,null,null,null,null,null,null,null,null,null,null,null,null,null,null,null,null,null,null,null,null,null,null,null,null,null,null,null,null,null,null,null,null,null,null,null,null,null,null,null,null,null,"2 500 L"]
[null,null,null,null,null,null,null,null,null,null,null,null,null,null,null,null,null,null,null,null,null,null,null,null,null,null,null,null,null,null,null,null,null,null,null,null,null,null,null,null,null,null,null,null,null,null,"2 700 L"]
[null,null,null,"- Contentores porta-a-porta",null,null,null,null,null,null,null,null,null,null,null,"Escolher opção",null,null,null,null,null,null,null,null,null,null,null,null,null,null,null,null,null,null,null,null,null,null,null,null,null,null,null,null,null,null,"3 000 L"]
[null,null,null,null,null,null,null,null,null,null,null,null,null,null,null,null,null,null,null,null,null,null,null,null,null,null,null,null,null,null,null,null,null,null,null,null,null,null,null,null,null,null,null,null,null,null,"3 200 L"]
[null,null,null,null,". Nº total de equipamentos",null,null,null,null,null,null,{"$f":"+SUM(J52:M63)","v":0},null,null,"[campo automático]",null,null,null,null,null,null,null,null,null,null,null,null,null,null,null,null,null,null,null,null,null,null,null,null,null,null,null,null,null,null,null,"4 000 L"]
[null,null,null,null,null,null,null,null,null,null,null,null,null,null,null,null,null,null,null,null,null,null,null,null,null,null,null,null,null,null,null,null,null,null,null,null,null,null,null,null,null,null,null,null,null,null,"5 000 L"]
[null,null,null,null,". Tipologia dos equipamentos",null,null,null,null,null,null,null,null,null,null,null,null,null,null,null,null,null,null,null,null,null,null,null,null,null,null,null,null,null,null,null,null,null,null,null,null,null,null,null,null,null,"Outra:"]
[null,null,null,null,null,null,null,null,null,null,null,null,null,null,null,null,null,null,null,null,null,null,null,null,null,null,null,null,null,null,null,null,null,null,null,null,null,null,null,null,null,null,null,null,null,null,"____ L"]
[null,null,null,null,null,"Capacidade",null,null,null,"nº",null,null,null,null,null,null,null,null,null,null,null,null,null,null,null,null,null,null,null,null,null,null,null,null,null,null,null,null,null,null,null,null,null,null,null,null,null,null,null,"sub-total",{"$f":"+SUM(AY35:BD50)","v":0},null,null,null,null,null,{"$f":"+SUM(BE35:BJ50)","v":0},null,null,null,null,null,{"$f":"+SUM(BK35:BP50)","v":0},null,null,null,null,null,{"$f":"+SUM(BQ35:BV50)","v":0},null,null,null,null,null,{"$f":"+SUM(BW35:CB50)","v":0},null,null,null,null,null,{"$f":"+SUM(CC35:CH50)","v":0},null,null,null,null,null,{"$f":"+SUM(CI35:CN50)","v":0},null,null,null,null,null,{"$f":"+SUM(CO35:CT50)","v":0},null,null,null,null,null,{"$f":"+SUM(CU35:CZ50)","v":0},null,null,null,null,null,{"$f":"+SUM(DA35:DF50)","v":0},null,null,null,null,null,{"$f":"+SUM(DG35:DL50)","v":0},null,null,null,null,null,{"$f":"+SUM(DM35:DR50)","v":0}]
[null,null,null,null,null,"40 L"]
[null,null,null,null,null,"50 L"]
[null,null,null,null,null,"60 L",null,null,null,null,null,null,null,null,null,null,null,null,null,null,null,null,null,null,null,null,null,null,null,null,null,null,null,null,null,null,null,null,null,null,null,null,null,null,"- Contentores porta-a-porta",null,null,null,null,null,null,null,null,null,null,null,"Escolher opção"]
[null,null,null,null,null,"80 L"]
[null,null,null,null,null,"90 L",null,null,null,null,null,null,null,null,null,null,null,null,null,null,null,null,null,null,null,null,null,null,null,null,null,null,null,null,null,null,null,null,null,null,null,null,null,null,null,null,". Nº total de equipamentos",null,null,null,null,null,null,"Papel-cartão",null,null,null,{"$f":"+SUM(AZ63:BC74)","v":0},null,null,null,"Plástico",null,null,null,{"$f":"+SUM(BD63:BG74)","v":0},null,null,null,"Vidro",null,{"$f":"+SUM(BH63:BK74)","v":0},null,null,null,"Biorresíduos",null,null,null,{"$f":"+SUM(BL63:BO74)","v":0},null,null,"[campos automáticos]"]
[null,null,null,null,null,"120 L"]
[null,null,null,null,null,"140 L",null,null,null,null,null,null,null,null,null,null,null,null,null,null,null,null,null,null,null,null,null,null,null,null,null,null,null,null,null,null,null,null,null,null,null,null,null,null,null,null,". Tipologia dos equipamentos"]
[null,null,null,null,null,"240 L"]
[null,null,null,null,null,"360 L",null,null,null,null,null,null,null,null,null,null,null,null,null,null,null,null,null,null,null,null,null,null,null,null,null,null,null,null,null,null,null,null,null,null,null,null,null,null,null,null,null,"Capacidade",null,null,null,"Fluxo"]
[null,null,null,null,null,"800 L",null,null,null,null,null,null,null,null,null,null,null,null,null,null,null,null,null,null,null,null,null,null,null,null,null,null,null,null,null,null,null,null,null,null,null,null,null,null,null,null,null,null,null,null,null,"Papel-cartão",null,null,null,"Plástico",null,null,null,"Vidro",null,null,null,"Biorresíduos"]
[null,null,null,null,null,"Outra:",null,null,null,null,null,null,null,null,null,null,null,null,null,null,null,null,null,null,null,null,null,null,null,null,null,null,null,null,null,null,null,null,null,null,null,null,null,null,null,null,null,null,null,null,null,"nº",null,null,null,"nº",null,null,null,"nº",null,null,null,"nº"]
[null,null,null,null,null,"____ L",null,null,null,null,null,null,null,null,null,null,null,null,null,null,null,null,null,null,null,null,null,null,null,null,null,null,null,null,null,null,null,null,null,null,null,null,null,null,null,null,null,"40 L"]
[null,null,null,null,null,null,null,null,null,null,null,null,null,null,null,null,null,null,null,null,null,null,null,null,null,null,null,null,null,null,null,null,null,null,null,null,null,null,null,null,null,null,null,null,null,null,null,"50 L"]
[null,null,null,"- Sacos padronizados porta-a-porta",null,null,null,null,null,null,null,null,null,null,null,null,null,"Escolher opção",null,null,null,null,null,null,null,null,null,null,null,null,null,null,null,null,null,null,null,null,null,null,null,null,null,null,null,null,null,"60 L"]
[null,null,null,null,null,null,null,null,null,null,null,null,null,null,null,null,null,null,null,null,null,null,null,null,null,null,null,null,null,null,null,null,null,null,null,null,null,null,null,null,null,null,null,null,null,null,null,"80 L"]
[null,null,null,null,". Tipologia dos sacos (capacidade expressa em litros)",null,null,null,null,null,null,null,null,null,null,null,null,null,15,null,"/",30,null,"/",50,null,null,null,null,null,null,null,null,null,null,null,null,null,null,null,null,null,null,null,null,null,null,"90 L"]
[null,null,null,null,". Nº de sacos",null,null,null,null,null,null,null,null,null,null,null,null,null,null,null,"/",null,null,"/",null,null,null,null,null,null,null,null,null,null,null,null,null,null,null,null,null,null,null,null,null,null,null,"120 L"]
[null,null,null,null,null,null,null,null,null,null,null,null,null,null,null,null,null,null,null,null,null,null,null,null,null,null,null,null,null,null,null,null,null,null,null,null,null,null,null,null,null,null,null,null,null,null,null,"140 L"]
[null,null,null,"- Em compartimentos",null,null,null,null,null,null,null,null,null,"Escolher opção",null,null,null,null,null,null,null,null,null,null,null,null,null,null,null,null,null,null,null,null,null,null,null,null,null,null,null,null,null,null,null,null,null,"240 L"]
[null,null,null,null,null,null,null,null,null,null,null,null,null,null,null,null,null,null,null,null,null,null,null,null,null,null,null,null,null,null,null,null,null,null,null,null,null,null,null,null,null,null,null,null,null,null,null,"360 L"]
[null,null,null,null,". Nº de compartimentos",null,null,null,null,null,null,null,null,null,null,null,null,null,null,null,null,null,null,null,null,null,null,null,null,null,null,null,null,null,null,null,null,null,null,null,null,null,null,null,null,null,null,"800 L"]
[null,null,null,null,null,null,null,null,null,null,null,null,null,null,null,null,null,null,null,null,null,null,null,null,null,null,null,null,null,null,null,null,null,null,null,null,null,null,null,null,null,null,null,null,null,null,null,"Outra:"]
[null,null,null,null,". Tipologia dos equipamentos",null,null,null,null,null,null,null,null,null,null,null,null,null,null,null,null,null,null,null,null,null,null,null,null,null,null,null,null,null,null,null,null,null,null,null,null,null,null,null,null,null,null,"____ L"]
[]
[null,null,null,null,null,"Capacidade",null,null,null,"nº"]
[null,null,null,null,null,"90 L",null,null,null,null,null,null,null,null,null,null,null,null,null,null,null,null,null,null,null,null,null,null,null,null,null,null,null,null,null,null,null,null,null,null,null,null,null,null,"- Sacos padronizados porta-a-porta",null,null,null,null,null,null,null,null,null,null,null,null,null,"Escolher opção"]
[null,null,null,null,null,"120 L"]
[null,null,null,null,null,"140 L",null,null,null,null,null,null,null,null,null,null,null,null,null,null,null,null,null,null,null,null,null,null,null,null,null,null,null,null,null,null,null,null,null,null,null,null,null,null,null,"Fluxo: Papel-cartão",null,null,null,null,null,null,null,null,null,null,null,null,null,null,null,null,null,null,null,null,null,null,null,null,"Fluxo: Plástico"]
[null,null,null,null,null,"240 L",null,null,null,null,null,null,null,null,null,null,null,null,null,null,null,null,null,null,null,null,null,null,null,null,null,null,null,null,null,null,null,null,null,null,null,null,null,null,null,null,". Tipologia dos sacos (capacidade expressa em litros)",null,null,null,null,null,null,null,null,null,null,null,null,null,15,null,"/",30,null,"/",50,null,null,null,null,". Tipologia dos sacos (capacidade expressa em litros)",null,null,null,null,null,null,null,null,null,null,null,null,null,15,null,"/",30,null,"/",50]
[null,null,null,null,null,"360 L",null,null,null,null,null,null,null,null,null,null,null,null,null,null,null,null,null,null,null,null,null,null,null,null,null,null,null,null,null,null,null,null,null,null,null,null,null,null,null,null,". Nº de sacos",null,null,null,null,null,null,null,null,null,null,null,null,null,null,null,"/",null,null,"/",null,null,null,null,null,". Nº de sacos",null,null,null,null,null,null,null,null,null,null,null,null,null,null,null,"/",null,null,"/"]
[null,null,null,null,null,"800 L"]
[null,null,null,null,null,"Outra:",null,null,null,null,null,null,null,null,null,null,null,null,null,null,null,null,null,null,null,null,null,null,null,null,null,null,null,null,null,null,null,null,null,null,null,null,null,null,null,"Fluxo: Vidro",null,null,null,null,null,null,null,null,null,null,null,null,null,null,null,null,null,null,null,null,null,null,null,null,"Fluxo: Biorresíduos"]
[null,null,null,null,null,"____ L",null,null,null,null,null,null,null,null,null,null,null,null,null,null,null,null,null,null,null,null,null,null,null,null,null,null,null,null,null,null,null,null,null,null,null,null,null,null,null,null,". Tipologia dos sacos (capacidade expressa em litros)",null,null,null,null,null,null,null,null,null,null,null,null,null,15,null,"/",30,null,"/",50,null,null,null,null,". Tipologia dos sacos (capacidade expressa em litros)",null,null,null,null,null,null,null,null,null,null,null,null,null,15,null,"/",30,null,"/",50]
[null,null,null,null,null,null,null,null,"total",{"$f":"+SUM(J77:M84)","v":0},null,null,null,null,null,null,null,null,null,null,null,null,null,null,null,null,null,null,null,null,null,null,null,null,null,null,null,null,null,null,null,null,null,null,null,null,". Nº de sacos",null,null,null,null,null,null,null,null,null,null,null,null,null,null,null,"/",null,null,"/",null,null,null,null,null,". Nº de sacos",null,null,null,null,null,null,null,null,null,null,null,null,null,null,null,"/",null,null,"/"]
[]
[null,null,null,"- Equipamentos não padronizados",null,null,null,null,null,null,null,null,null,null,null,null,"Escolher opção",null,null,null,null,null,null,null,null,null,null,null,null,null,null,null,null,null,null,null,null,null,null,null,null,null,null,null,"- Em compartimentos",null,null,null,null,null,null,null,null,null,"Escolher opção"]
[null,null,null,"Nota: Baldes ou sacos com características não uniformizadas entre utilizadores"]
[null,null,null,null,null,null,null,null,null,null,null,null,null,null,null,null,null,null,null,null,null,null,null,null,null,null,null,null,null,null,null,null,null,null,null,null,null,null,null,null,null,null,null,null,null,". Nº de compartimentos"]
[null,null,null,"- Outro (Campo livre a designar pela EG)",null,null,null,null,null,null,null,null,null,null,null,null,null,null,"Escolher opção"]
[null,null,null,null,null,null,null,null,null,null,null,null,null,null,null,null,null,null,null,null,null,null,null,null,null,null,null,null,null,null,null,null,null,null,null,null,null,null,null,null,null,null,null,null,null,". Tipologia dos equipamentos"]
[null,null,null,null,"Especificar esquema"]
[null,null,null,null,null,null,null,null,null,null,null,null,null,null,null,null,null,null,null,null,null,null,null,null,null,null,null,null,null,null,null,null,null,null,null,null,null,null,null,null,null,null,null,null,null,null,null,"Capacidade",null,null,null,"Fluxo"]
[null,null,null,null,null,null,null,null,null,null,null,null,null,null,null,null,null,null,null,null,null,null,null,null,null,null,null,null,null,null,null,null,null,null,null,null,null,null,null,null,null,null,null,null,null,null,null,null,null,null,null,"Papel-cartão",null,null,null,"Plástico",null,null,null,"Vidro",null,null,null,"Biorresíduos"]
[null,null,null,null,null,null,null,null,null,null,null,null,null,null,null,null,null,null,null,null,null,null,null,null,null,null,null,null,null,null,null,null,null,null,null,null,null,null,null,null,null,null,null,null,null,null,null,null,null,null,null,"nº",null,null,null,"nº",null,null,null,"nº",null,null,null,"nº"]
[null,null,null,null,null,null,null,null,null,null,null,null,null,null,null,null,null,null,null,null,null,null,null,null,null,null,null,null,null,null,null,null,null,null,null,null,null,null,null,null,null,null,null,null,null,null,null,"90 L"]
[null,null,null,null,null,null,null,null,null,null,null,null,null,null,null,null,null,null,null,null,null,null,null,null,null,null,null,null,null,null,null,null,null,null,null,null,null,null,null,null,null,null,null,null,null,null,null,"120 L"]
[null,null,null,"Circuitos de recolha",null,null,null,null,null,null,null,null,null,null,null,null,null,null,null,null,null,null,null,null,null,null,null,null,null,null,null,null,null,null,null,null,null,null,null,null,null,null,null,null,null,null,null,"140 L"]
[null,null,null,null,null,null,null,null,null,null,null,null,null,null,null,null,null,null,null,null,null,null,null,null,null,null,null,null,null,null,null,null,null,null,null,null,null,null,null,null,null,null,null,null,null,null,null,"240 L"]
[null,null,null,null,". Nº de circuitos",null,null,null,null,null,null,null,null,null,null,null,null,null,null,null,null,null,null,null,null,null,null,null,null,null,null,null,null,null,null,null,null,null,null,null,null,null,null,null,null,null,null,"360 L"]
[null,null,null,null,null,null,null,null,null,null,null,null,null,null,null,null,null,null,null,null,null,null,null,null,null,null,null,null,null,null,null,null,null,null,null,null,null,null,null,null,null,null,null,null,null,null,null,"800 L"]
[null,null,null,null,". Quantitativos médios recolhidos",null,null,null,null,null,null,null,null,null,null,null,"t/ano",null,null,null,null,null,"t/recolha",null,null,null,null,null,null,null,null,null,null,null,null,null,null,null,null,null,null,null,null,null,null,null,null,"Outra:"]
[null,null,null,null,null,null,null,null,null,null,null,null,null,null,null,null,null,null,null,null,null,null,null,null,null,null,null,null,null,null,null,null,null,null,null,null,null,null,null,null,null,null,null,null,null,null,null,"____ L"]
[null,null,null,null,". Distância média percorrida",null,null,null,null,null,null,null,null,null,null,null,"km/ano",null,null,null,null,null,"km/recolha",null,null,null,null,null,null,null,null,null,null,null,null,null,null,null,null,null,null,null,null,null,null,null,null,null,null,null,"total",{"$f":"+SUM(AZ96:BC103)","v":0},null,null,null,{"$f":"+SUM(BD96:BG103)","v":0},null,null,null,{"$f":"+SUM(BH96:BK103)","v":0},null,null,null,{"$f":"+SUM(BL96:BO103)","v":0}]
[null,null,null,null,null,null,null,null,null,null,null,null,null,null,null,null,null,null,null,null,null,null,null,null,null,null,null,null,null,null,null,null,null,null,null,null,null,null,null,null,null,null,null,null,null,null,null,null,null,null,null,{"$f":"+SUM(AZ104:BO104)","v":0}]
[null,null,null,"Frequência de recolha"]
[null,null,null,"- Contentores coletivos na via pública",null,null,null,null,null,null,null,null,null,null,null,null,"recolhas/ano",null,null,null,null,null,null,null,null,null,null,null,null,null,null,null,null,null,null,null,null,null,null,null,null,null,null,null,"- Outro (Campo livre a designar pela EG)",null,null,null,null,null,null,null,null,null,null,null,null,null,null,"Escolher opção"]
[null,null,null,"- Contentores porta-a-porta",null,null,null,null,null,null,null,null,null,null,null,null,"recolhas/ano"]
[null,null,null,"- Sacos padronizados porta-a-porta",null,null,null,null,null,null,null,null,null,null,null,null,"recolhas/ano",null,null,null,null,null,null,null,null,null,null,null,null,null,null,null,null,null,null,null,null,null,null,null,null,null,null,null,null,"Especificar esquema"]
[null,null,null,"- Em compartimentos",null,null,null,null,null,null,null,null,null,null,null,null,"recolhas/ano"]
[null,null,null,"- Equipamentos não padronizados",null,null,null,null,null,null,null,null,null,null,null,null,"recolhas/ano"]
[null,null,null,"- Outro",null,null,null,null,null,null,null,null,null,null,null,null,"recolhas/ano"]
[]
[null,null,null,"Equipa de recolha"]
[null,null,null,"- Contentores coletivos na via pública",null,null,null,null,null,null,null,null,null,null,null,"1 motorista","+",null,null,"ajudante(s)",null,null,null,null,null,null,null,null,null,null,null,null,null,null,null,null,null,null,null,null,null,null,null,"Circuitos de recolha"]
[null,null,null,"- Contentores porta-a-porta",null,null,null,null,null,null,null,null,null,null,null,"1 motorista","+",null,null,"ajudante(s)"]
[null,null,null,"- Sacos padronizados porta-a-porta",null,null,null,null,null,null,null,null,null,null,null,"1 motorista","+",null,null,"ajudante(s)",null,null,null,null,null,null,null,null,null,null,null,null,null,null,null,null,null,null,null,null,null,null,null,null,null,null,null,null,null,null,null,null,null,"Fluxo: Papel-cartão",null,null,null,null,null,"Fluxo: Plástico",null,null,null,null,null,"Fluxo: Vidro",null,null,null,null,null,"Fluxo:Biorresíduos",null,null,null,null,null,"total"]
[null,null,null,"- Em compartimentos",null,null,null,null,null,null,null,null,null,null,null,"1 motorista","+",null,null,"ajudante(s)",null,null,null,null,null,null,null,null,null,null,null,null,null,null,null,null,null,null,null,null,null,null,null,null,null,"Nº de circuitos",null,null,null,null,null,null,null,null,null,null,null,null,null,null,null,null,null,null,null,null,null,null,null,null,null,null,null,null,null,null,null,{"$f":"+SUM(BB118:BY118)","v":0}]
[null,null,null,"- Equipamentos não padronizados",null,null,null,null,null,null,null,null,null,null,null,"1 motorista","+",null,null,"ajudante(s)",null,null,null,null,null,null,null,null,null,null,null,null,null,null,null,null,null,null,null,null,null,null,null,null,null,"Quantitativos médios recolhidos"]
[null,null,null,"- Outro",null,null,null,null,null,null,null,null,null,null,null,"1 motorista","+",null,null,"ajudante(s)",null,null,null,null,null,null,null,null,null,null,null,null,null,null,null,null,null,null,null,null,null,null,null,null,null,"t/ano",null,null,null,null,null,null,null,null,null,null,null,null,null,null,null,null,null,null,null,null,null,null,null,null,null,null,null,null,null,null,null,{"$f":"+SUM(BB120:BY120)","v":0}]
[null,null,null,null,null,null,null,null,null,null,null,null,null,null,null,null,null,null,null,null,null,null,null,null,null,null,null,null,null,null,null,null,null,null,null,null,null,null,null,null,null,null,null,null,null,"t/recolha",null,null,null,null,null,null,null,null,null,null,null,null,null,null,null,null,null,null,null,null,null,null,null,null,null,null,null,null,null,null,null,{"$f":"+SUM(BB121:BY121)","v":0}]
[null,null,null,"Viaturas de recolha",null,null,null,null,null,null,null,null,null,null,null,null,null,null,null,null,null,null,null,null,null,null,null,null,null,null,null,null,null,null,null,null,null,null,null,null,null,null,null,null,null,"Distância média percorrida"]
[null,null,null,". Nº",null,{"$f":"+COUNTA(D127:G141)","v":0},null,"[campo automático]",null,null,null,null,null,null,null,null,null,". Idade média",{"$f":"IFERROR(ROUND(AVERAGE(K127:L141),0),0)","v":0},null,"[campo automático]",null,null,null,null,null,null,null,null,null,null,null,null,null,null,null,null,null,null,null,null,null,null,null,null,"km/ano",null,null,null,null,null,null,null,null,null,null,null,null,null,null,null,null,null,null,null,null,null,null,null,null,null,null,null,null,null,null,null,0]
[null,null,null,null,null,null,null,null,null,null,null,null,null,null,null,null,null,null,null,null,null,null,null,null,null,null,null,null,null,null,null,null,null,null,null,null,null,null,null,null,null,null,null,null,null,"km/recolha",null,null,null,null,null,null,null,null,null,null,null,null,null,null,null,null,null,null,null,null,null,null,null,null,null,null,null,null,null,null,null,0]
[null,null,null,"Matrícula*",null,null,null,"Afetação",null,null,"Idade",null,"Tipo de viatura*",null,null,null,null,null,null,null,null,null,"Tipo de combustível*",null,null,"Elevador de contentores",null,null,null,"km/ano*",null,null,"L/ano*",null,null,"L/100 km // kW/100 km"]
[null,null,null,null,null,null,null,null,null,null,null,null,null,null,null,null,null,null,null,null,null,null,null,null,null,null,null,null,null,null,null,null,null,null,null,null,null,null,null,null,null,null,null,"Frequência de recolha"]
[null,null,null,null,null,null,null,null,null,null,null,null,null,null,null,null,null,null,null,null,null,null,null,null,null,null,null,null,null,null,null,null,null,null,null,{"$f":"IF(ISERROR(AG127*100/AD127),\"\",AG127*100/AD127)","v":""},null,null,null,null,null,null,null,null,null,null,null,null,null,null,null,null,null,null,"recolhas/ano"]
[null,null,null,null,null,null,null,null,null,null,null,null,null,null,null,null,null,null,null,null,null,null,null,null,null,null,null,null,null,null,null,null,null,null,null,{"$f":"IF(ISERROR(AG128*100/AD128),\"\",AG128*100/AD128)","v":""},null,null,null,null,null,null,null,null,null,null,null,null,null,null,null,null,null,null,"Fluxo: Papel-cartão",null,null,null,null,null,"Fluxo: Plástico",null,null,null,null,null,"Fluxo: Vidro",null,null,null,null,null,"Fluxo:Biorresíduos"]
[null,null,null,null,null,null,null,null,null,null,null,null,null,null,null,null,null,null,null,null,null,null,null,null,null,null,null,null,null,null,null,null,null,null,null,"",null,null,null,null,null,null,null,null,null,"Contentores coletivos na via pública"]
[null,null,null,null,null,null,null,null,null,null,null,null,null,null,null,null,null,null,null,null,null,null,null,null,null,null,null,null,null,null,null,null,null,null,null,"",null,null,null,null,null,null,null,null,null,"Contentores porta-a-porta"]
[null,null,null,null,null,null,null,null,null,null,null,null,null,null,null,null,null,null,null,null,null,null,null,null,null,null,null,null,null,null,null,null,null,null,null,"",null,null,null,null,null,null,null,null,null,"Sacos padronizados porta-a-porta"]
[null,null,null,null,null,null,null,null,null,null,null,null,null,null,null,null,null,null,null,null,null,null,null,null,null,null,null,null,null,null,null,null,null,null,null,"",null,null,null,null,null,null,null,null,null,"Em compartimentos"]
[null,null,null,null,null,null,null,null,null,null,null,null,null,null,null,null,null,null,null,null,null,null,null,null,null,null,null,null,null,null,null,null,null,null,null,"",null,null,null,null,null,null,null,null,null,"Outro"]
[null,null,null,null,null,null,null,null,null,null,null,null,null,null,null,null,null,null,null,null,null,null,null,null,null,null,null,null,null,null,null,null,null,null,null,""]
[null,null,null,null,null,null,null,null,null,null,null,null,null,null,null,null,null,null,null,null,null,null,null,null,null,null,null,null,null,null,null,null,null,null,null,"",null,null,null,null,null,null,null,"Equipa de recolha"]
[null,null,null,null,null,null,null,null,null,null,null,null,null,null,null,null,null,null,null,null,null,null,null,null,null,null,null,null,null,null,null,null,null,null,null,"",null,null,null,null,null,null,null,null,null,null,null,null,null,null,null,null,null,null,"Fluxo: Papel-cartão",null,null,null,null,null,null,null,null,"Fluxo: Plástico",null,null,null,null,null,null,null,null,"Fluxo: Vidro",null,null,null,null,null,null,null,null,"Fluxo: Biorresíduos"]
[null,null,null,null,null,null,null,null,null,null,null,null,null,null,null,null,null,null,null,null,null,null,null,null,null,null,null,null,null,null,null,null,null,null,null,"",null,null,null,null,null,null,null,null,null,"Contentores coletivos na via pública",null,null,null,null,null,null,null,null,null,null,"1 motorista","+",null,null,"ajudante(s)",null,null,null,null,"1 motorista","+",null,null,"ajudante(s)",null,null,null,null,"1 motorista","+",null,null,"ajudante(s)",null,null,null,null,"1 motorista","+",null,null,"ajudante(s)"]
[null,null,null,null,null,null,null,null,null,null,null,null,null,null,null,null,null,null,null,null,null,null,null,null,null,null,null,null,null,null,null,null,null,null,null,"",null,null,null,null,null,null,null,null,null,"Contentores porta-a-porta",null,null,null,null,null,null,null,null,null,null,"1 motorista","+",null,null,"ajudante(s)",null,null,null,null,"1 motorista","+",null,null,"ajudante(s)",null,null,null,null,"1 motorista","+",null,null,"ajudante(s)",null,null,null,null,"1 motorista","+",null,null,"ajudante(s)"]
[null,null,null,null,null,null,null,null,null,null,null,null,null,null,null,null,null,null,null,null,null,null,null,null,null,null,null,null,null,null,null,null,null,null,null,"",null,null,null,null,null,null,null,null,null,"Sacos padronizados porta-a-porta",null,null,null,null,null,null,null,null,null,null,"1 motorista","+",null,null,"ajudante(s)",null,null,null,null,"1 motorista","+",null,null,"ajudante(s)",null,null,null,null,"1 motorista","+",null,null,"ajudante(s)",null,null,null,null,"1 motorista","+",null,null,"ajudante(s)"]
[null,null,null,null,null,null,null,null,null,null,null,null,null,null,null,null,null,null,null,null,null,null,null,null,null,null,null,null,null,null,null,null,null,null,null,"",null,null,null,null,null,null,null,null,null,"Em compartimentos",null,null,null,null,null,null,null,null,null,null,"1 motorista","+",null,null,"ajudante(s)",null,null,null,null,"1 motorista","+",null,null,"ajudante(s)",null,null,null,null,"1 motorista","+",null,null,"ajudante(s)",null,null,null,null,"1 motorista","+",null,null,"ajudante(s)"]
[null,null,null,null,null,null,null,null,null,null,null,null,null,null,null,null,null,null,null,null,null,null,null,null,null,null,null,null,null,null,null,null,null,null,null,"",null,null,null,null,null,null,null,null,null,"Outro",null,null,null,null,null,null,null,null,null,null,"1 motorista","+",null,null,"ajudante(s)",null,null,null,null,"1 motorista","+",null,null,"ajudante(s)",null,null,null,null,"1 motorista","+",null,null,"ajudante(s)",null,null,null,null,"1 motorista","+",null,null,"ajudante(s)"]
[null,null,null,"* preenchimento obrigatório"]
[]
[null,null,null,"Pessoal afeto à recolha",null,null,null,null,null,null,null,null,null,null,null,null,null,null,null,null,null,null,null,null,null,null,null,null,null,null,null,null,null,null,null,null,null,null,null,null,null,null,null,"Viaturas de recolha"]
[null,null,null,null,null,null,null,null,"nº",null,null,"Afetação",null,null,null,null,null,null,null,null,null,null,null,null,null,null,null,null,null,null,null,null,null,null,null,null,null,null,null,null,null,null,null,null,". Nº",null,{"$f":"+COUNTA(AT149:AW163)","v":0},null,"[campo automático]",null,null,null,null,null,null,null,null,null,". Idade média",{"$f":"IFERROR(ROUND(AVERAGE(BD149:BE163),0),0)","v":0},null,"[campo automático]"]
[null,null,null,"Encarregado",null,null,null,null,null,null,null,null,null,null,"[0%-100%]"]
[null,null,null,"Motorista",null,null,null,null,null,null,null,null,null,null,"[0%-100%]",null,null,null,null,null,null,null,null,null,null,null,null,null,null,null,null,null,null,null,null,null,null,null,null,null,null,null,null,null,null,"Matrícula*",null,null,null,"Fluxo",null,null,"Afetação",null,null,"Idade",null,"Tipo de viatura*",null,null,null,null,null,null,null,null,null,"Tipo de combustível*",null,null,"Elevador de contentores",null,null,null,"km/ano*",null,null,"L/ano*",null,null,"L/100 km // kW/100 km"]
[null,null,null,"Ajudante",null,null,null,null,null,null,null,null,null,null,"[0%-100%]"]
[null,null,null,null,null,null,null,null,null,null,null,null,null,null,null,null,null,null,null,null,null,null,null,null,null,null,null,null,null,null,null,null,null,null,null,null,null,null,null,null,null,null,null,null,null,null,null,null,null,null,null,null,null,null,null,null,null,null,null,null,null,null,null,null,null,null,null,null,null,null,null,null,null,null,null,null,null,null,null,null,{"$f":"IF(ISERROR(BZ149*100/BW149),\"\",BZ149*100/BW149)","v":""}]
[null,null,null,null,null,null,null,null,null,null,null,null,null,null,null,null,null,null,null,null,null,null,null,null,null,null,null,null,null,null,null,null,null,null,null,null,null,null,null,null,null,null,null,null,null,null,null,null,null,null,null,null,null,null,null,null,null,null,null,null,null,null,null,null,null,null,null,null,null,null,null,null,null,null,null,null,null,null,null,null,{"$f":"IF(ISERROR(BZ150*100/BW150),\"\",BZ150*100/BW150)","v":""}]
[null,null,null,null,null,null,null,null,null,null,null,null,null,null,null,null,null,null,null,null,null,null,null,null,null,null,null,null,null,null,null,null,null,null,null,null,null,null,null,null,null,null,null,null,null,null,null,null,null,null,null,null,null,null,null,null,null,null,null,null,null,null,null,null,null,null,null,null,null,null,null,null,null,null,null,null,null,null,null,null,""]
[null,null,null,null,null,null,null,null,null,null,null,null,null,null,null,null,null,null,null,null,null,null,null,null,null,null,null,null,null,null,null,null,null,null,null,null,null,null,null,null,null,null,null,null,null,null,null,null,null,null,null,null,null,null,null,null,null,null,null,null,null,null,null,null,null,null,null,null,null,null,null,null,null,null,null,null,null,null,null,null,""]
[null,null,null,null,null,null,null,null,null,null,null,null,null,null,null,null,null,null,null,null,null,null,null,null,null,null,null,null,null,null,null,null,null,null,null,null,null,null,null,null,null,null,null,null,null,null,null,null,null,null,null,null,null,null,null,null,null,null,null,null,null,null,null,null,null,null,null,null,null,null,null,null,null,null,null,null,null,null,null,null,""]
[null,null,null,null,null,null,null,null,null,null,null,null,null,null,null,null,null,null,null,null,null,null,null,null,null,null,null,null,null,null,null,null,null,null,null,null,null,null,null,null,null,null,null,null,null,null,null,null,null,null,null,null,null,null,null,null,null,null,null,null,null,null,null,null,null,null,null,null,null,null,null,null,null,null,null,null,null,null,null,null,""]
[null,null,null,null,null,null,null,null,null,null,null,null,null,null,null,null,null,null,null,null,null,null,null,null,null,null,null,null,null,null,null,null,null,null,null,null,null,null,null,null,null,null,null,null,null,null,null,null,null,null,null,null,null,null,null,null,null,null,null,null,null,null,null,null,null,null,null,null,null,null,null,null,null,null,null,null,null,null,null,null,""]
[null,null,null,null,null,null,null,null,null,null,null,null,null,null,null,null,null,null,null,null,null,null,null,null,null,null,null,null,null,null,null,null,null,null,null,null,null,null,null,null,null,null,null,null,null,null,null,null,null,null,null,null,null,null,null,null,null,null,null,null,null,null,null,null,null,null,null,null,null,null,null,null,null,null,null,null,null,null,null,null,""]
[null,null,null,null,null,null,null,null,null,null,null,null,null,null,null,null,null,null,null,null,null,null,null,null,null,null,null,null,null,null,null,null,null,null,null,null,null,null,null,null,null,null,null,null,null,null,null,null,null,null,null,null,null,null,null,null,null,null,null,null,null,null,null,null,null,null,null,null,null,null,null,null,null,null,null,null,null,null,null,null,""]
[null,null,null,null,null,null,null,null,null,null,null,null,null,null,null,null,null,null,null,null,null,null,null,null,null,null,null,null,null,null,null,null,null,null,null,null,null,null,null,null,null,null,null,null,null,null,null,null,null,null,null,null,null,null,null,null,null,null,null,null,null,null,null,null,null,null,null,null,null,null,null,null,null,null,null,null,null,null,null,null,""]
[null,null,null,null,null,null,null,null,null,null,null,null,null,null,null,null,null,null,null,null,null,null,null,null,null,null,null,null,null,null,null,null,null,null,null,null,null,null,null,null,null,null,null,null,null,null,null,null,null,null,null,null,null,null,null,null,null,null,null,null,null,null,null,null,null,null,null,null,null,null,null,null,null,null,null,null,null,null,null,null,""]
[null,null,null,null,null,null,null,null,null,null,null,null,null,null,null,null,null,null,null,null,null,null,null,null,null,null,null,null,null,null,null,null,null,null,null,null,null,null,null,null,null,null,null,null,null,null,null,null,null,null,null,null,null,null,null,null,null,null,null,null,null,null,null,null,null,null,null,null,null,null,null,null,null,null,null,null,null,null,null,null,""]
[null,null,null,null,null,null,null,null,null,null,null,null,null,null,null,null,null,null,null,null,null,null,null,null,null,null,null,null,null,null,null,null,null,null,null,null,null,null,null,null,null,null,null,null,null,null,null,null,null,null,null,null,null,null,null,null,null,null,null,null,null,null,null,null,null,null,null,null,null,null,null,null,null,null,null,null,null,null,null,null,""]
[null,null,null,null,null,null,null,null,null,null,null,null,null,null,null,null,null,null,null,null,null,null,null,null,null,null,null,null,null,null,null,null,null,null,null,null,null,null,null,null,null,null,null,null,null,null,null,null,null,null,null,null,null,null,null,null,null,null,null,null,null,null,null,null,null,null,null,null,null,null,null,null,null,null,null,null,null,null,null,null,""]
[null,null,null,null,null,null,null,null,null,null,null,null,null,null,null,null,null,null,null,null,null,null,null,null,null,null,null,null,null,null,null,null,null,null,null,null,null,null,null,null,null,null,null,null,null,null,null,null,null,null,null,null,null,null,null,null,null,null,null,null,null,null,null,null,null,null,null,null,null,null,null,null,null,null,null,null,null,null,null,null,""]
[null,null,null,null,null,null,null,null,null,null,null,null,null,null,null,null,null,null,null,null,null,null,null,null,null,null,null,null,null,null,null,null,null,null,null,null,null,null,null,null,null,null,null,null,null,"* preenchimento obrigatório"]
[]
[null,null,null,null,null,null,null,null,null,null,null,null,null,null,null,null,null,null,null,null,null,null,null,null,null,null,null,null,null,null,null,null,null,null,null,null,null,null,null,null,null,null,null,"Pessoal afeto à recolha"]
[null,null,null,null,null,null,null,null,null,null,null,null,null,null,null,null,null,null,null,null,null,null,null,null,null,null,null,null,null,null,null,null,null,null,null,null,null,null,null,null,null,null,null,null,null,null,null,null,"nº",null,null,"Afetação"]
[null,null,null,null,null,null,null,null,null,null,null,null,null,null,null,null,null,null,null,null,null,null,null,null,null,null,null,null,null,null,null,null,null,null,null,null,null,null,null,null,null,null,null,"Encarregado",null,null,null,null,null,null,null,null,null,null,"[0%-100%]"]
[null,null,null,null,null,null,null,null,null,null,null,null,null,null,null,null,null,null,null,null,null,null,null,null,null,null,null,null,null,null,null,null,null,null,null,null,null,null,null,null,null,null,null,"Motorista",null,null,null,null,null,null,null,null,null,null,"[0%-100%]"]
[null,null,null,null,null,null,null,null,null,null,null,null,null,null,null,null,null,null,null,null,null,null,null,null,null,null,null,null,null,null,null,null,null,null,null,null,null,null,null,null,null,null,null,"Ajudante",null,null,null,null,null,null,null,null,null,null,"[0%-100%]"]
[]
[]
[null,"Recolha em comércios/serviços"]
[]
[]
[null,null,"Nº produtores abrangidos pela recolha",null,null,null,null,null,null,null,null,null,null,null,null,null,null,null,null,"Recolha dedicada",null,null,null,null,null,null,null,null,null,"Escolher opção"]
[]
[null,null,"Fluxos recolhidos",null,null,null,null,null,null,null,null,null,null,null,null,null,null,null,null,null,null,null,null,null,null,null,null,null,null,null,null,null,"Entidade que executa a recolha ",null,null,null,null,null,null,null,null,null,null,null,null,null,null,null,null,null,null,null,null,null,null,null,null,null,null,null,"Frequência de recolha",null,null,null,null,null,null,null,null,null,null,null,null,null,null,null,null,null,null,null,null,null,null,null,"Esquema de deposição"]
[null,null,null,"Fluxo: Indiferenciado",null,null,null,null,null,null,null,null,null,"Escolher opção",null,null,null,null,null,null,null,null,null,null,null,null,null,null,null,null,null,null,null,"Fluxo: Indiferenciado",null,null,null,null,null,null,null,null,null,null,null,null,null,null,"Escolher entidade",null,null,null,null,null,null,null,null,null,null,null,null,"Fluxo: Indiferenciado",null,null,null,null,null,null,null,null,"recolhas/ano",null,null,null,null,null,null,null,null,null,null,null,null,null,null,null,null,null,null,null,null,null,null,"Fluxo"]
[null,null,null,"Fluxo: Papel-cartão",null,null,null,null,null,null,null,null,null,"Escolher opção",null,null,null,null,null,null,null,null,null,null,null,null,null,null,null,null,null,null,null,"Fluxo: Papel-cartão",null,null,null,null,null,null,null,null,null,null,null,null,null,null,"Escolher entidade",null,null,null,null,null,null,null,null,null,null,null,null,"Fluxo: Papel-cartão",null,null,null,null,null,null,null,null,"recolhas/ano",null,null,null,null,null,null,null,null,null,null,null,null,null,null,null,null,null,null,null,null,null,null,"Indiferenciado",null,null,null,"Papel-cartão",null,null,null,"Plástico",null,null,null,"Vidro",null,null,null,"Biorresíduos",null,null,null,"Outros"]
[null,null,null,"Fluxo: Plástico",null,null,null,null,null,null,null,null,null,"Escolher opção",null,null,null,null,null,null,null,null,null,null,null,null,null,null,null,null,null,null,null,"Fluxo: Plástico",null,null,null,null,null,null,null,null,null,null,null,null,null,null,"Escolher entidade",null,null,null,null,null,null,null,null,null,null,null,null,"Fluxo: Plástico",null,null,null,null,null,null,null,null,"recolhas/ano",null,null,null,null,null,null,null,null,null,null,null,null,null,"Contentores coletivos na via pública"]
[null,null,null,"Fluxo: Vidro",null,null,null,null,null,null,null,null,null,"Escolher opção",null,null,null,null,null,null,null,null,null,null,null,null,null,null,null,null,null,null,null,"Fluxo: Vidro",null,null,null,null,null,null,null,null,null,null,null,null,null,null,"Escolher entidade",null,null,null,null,null,null,null,null,null,null,null,null,"Fluxo: Vidro",null,null,null,null,null,null,null,null,"recolhas/ano",null,null,null,null,null,null,null,null,null,null,null,null,null,"Contentores porta-a-porta"]
[null,null,null,"Fluxo: Biorresíduos",null,null,null,null,null,null,null,null,null,"Escolher opção",null,null,null,null,null,null,null,null,null,null,null,null,null,null,null,null,null,null,null,"Fluxo: Biorresíduos",null,null,null,null,null,null,null,null,null,null,null,null,null,null,"Escolher entidade",null,null,null,null,null,null,null,null,null,null,null,null,"Fluxo: Biorresíduos",null,null,null,null,null,null,null,null,"recolhas/ano",null,null,null,null,null,null,null,null,null,null,null,null,null,"Sacos padronizados porta-a-porta"]
[null,null,null,"Outros fluxos",null,null,null,null,null,null,null,null,null,"Escolher opção",null,null,null,null,null,null,null,null,null," (designar quais)",null,null,null,null,null,null,null,null,null,"Outros fluxos",null,null,null,null,null,null,null,null,null,null,null,null,null,null,"Escolher entidade",null,null,null,null,null,null,null,null,null,null,null,null,"Outros fluxos",null,null,null,null,null,null,null,null,"recolhas/ano",null,null,null,null,null,null,null,null,null,null,null,null,null,"Em compartimentos"]
[null,null,null,null,null,null,null,null,null,null,null,null,null,null,null,null,null,null,null,null,null,null,null,null,null,null,null,null,null,null,null,null,null,null,null,null,null,null,null,null,null,null,null,null,null,null,null,null,null,null,null,null,null,null,null,null,null,null,null,null,null,null,null,null,null,null,null,null,null,null,null,null,null,null,null,null,null,null,null,null,null,null,null,null,"Outro"]
[]
[]
[null,null,"Equipa de recolha",null,null,null,null,null,null,null,null,null,null,null,null,null,null,null,null,null,null,null,null,null,null,null,null,null,null,null,"Viaturas de recolha",null,null,null,null,null,null,null,null,null,null,null,null,null,null,null,null,null,null,null,null,null,null,null,null,null,null,null,null,null,null,null,null,null,null,null,null,null,null,null,null,null,null,null,null,null,null,null,"Pessoal afeto à recolha"]
[null,null,null,"Fluxo: Indiferenciado",null,null,null,null,null,null,null,"1 motorista","+",null,null,"ajudante(s)",null,null,null,null,null,null,null,null,null,null,null,null,null,null,null,". Nº",null,{"$f":"+COUNTA(AG193:AJ195)","v":0},null,"[campo automático]",null,null,null,null,null,null,null,null,null,". Idade média",{"$f":"IFERROR(ROUND(AVERAGE(AQ193:AR195),0),0)","v":0},null,"[campo automático]",null,null,null,null,null,null,null,null,null,null,null,null,null,null,null,null,null,null,null,null,null,null,null,null,null,null,null,null,null,null,null,null,null,null,"nº",null,null,"Afetação"]
[null,null,null,"Fluxo: Papel-cartão",null,null,null,null,null,null,null,"1 motorista","+",null,null,"ajudante(s)",null,null,null,null,null,null,null,null,null,null,null,null,null,null,null,null,null,null,null,null,null,null,null,null,null,null,null,null,null,null,null,null,null,null,null,null,null,null,null,null,null,null,null,null,null,null,null,null,null,null,null,null,null,null,null,null,null,null,null,null,null,null,"Encarregado",null,null,null,null,null,null,null,null,null,null,"[0%-100%]"]
[null,null,null,"Fluxo: Plástico",null,null,null,null,null,null,null,"1 motorista","+",null,null,"ajudante(s)",null,null,null,null,null,null,null,null,null,null,null,null,null,null,null,null,"Matrícula*",null,null,null,"Fluxo",null,null,"Afetação",null,null,"Idade",null,"Tipo de viatura*",null,null,null,null,null,null,null,null,null,"Tipo de combustível*",null,null,"Elevador de contentores",null,null,null,"km/ano",null,null,"L/100 km // kW/100 km",null,null,null,null,null,null,null,null,null,null,null,null,null,"Motorista",null,null,null,null,null,null,null,null,null,null,"[0%-100%]"]
[null,null,null,"Fluxo: Vidro",null,null,null,null,null,null,null,"1 motorista","+",null,null,"ajudante(s)",null,null,null,null,null,null,null,null,null,null,null,null,null,null,null,null,null,null,null,null,null,null,null,null,null,null,null,null,null,null,null,null,null,null,null,null,null,null,null,null,null,null,null,null,null,null,null,null,null,null,null,null,null,null,null,null,null,null,null,null,null,null,"Ajudante",null,null,null,null,null,null,null,null,null,null,"[0%-100%]"]
[null,null,null,"Fluxo: Biorresíduos",null,null,null,null,null,null,null,"1 motorista","+",null,null,"ajudante(s)"]
[null,null,null,"Outros fluxos",null,null,null,null,null,null,null,"1 motorista","+",null,null,"ajudante(s)"]
[]
[null,null,null,null,null,null,null,null,null,null,null,null,null,null,null,null,null,null,null,null,null,null,null,null,null,null,null,null,null,null,null,null,"* preenchimento obrigatório"]
[]
[null,"Monitorização, tratamento de informação e fiscalização",null,null,null,null,null,null,null,null,null,null,null,null,null,null,null,null,null,null,null,null,null,null,null,null,null,null,null,null,null,null,null,null,null,null,null,null,null,null,"Ecocentro"]
[]
[]
[null,null,"Monitorização e tratamento de informação (Software de gestão)",null,null,null,null,null,null,null,null,null,null,null,null,null,null,null,null,null,null,null,null,null,null,null,null,null,null,null,null,null,null,null,null,null,null,null,null,null,null,"Nº  de instalações"]
[null,null,null,null,null,null,null,null,null,null,null,null,null,null,null,null,null,null,"nº",null,null,null,"Afetação",null,null,null,null,null,null,null,null,null,null,null,null,null,null,null,null,null,null,null,null,null,null,null,null,null,null,null,null,null,null,null,null,null,null,null,null,null,null,null,null,null,null,null,null,null,null,null,null,null,null,null,null,null,null,null,null,"Pessoal"]
[null,null,null,"Utilizadores com licença de edição",null,null,null,null,null,null,null,null,null,null,null,null,null,null,null,null,null,null,null,null,null,"[0%-100%]",null,null,null,null,null,null,null,null,null,null,null,null,null,null,null,"Contentores",null,null,null,null,null,null,null,"nº",null,null,null,null,"Viaturas",null,null,null,null,null,"nº",null,null,"Distância percorrida (km/ano)",null,null,null,null,null,null,null,"Consumo (L/100 km)",null,null,null,null,null,null,null,null,null,null,"nº",null,null,"Afetação"]
[null,null,null,"Utilizadores com permissões de consulta",null,null,null,null,null,null,null,null,null,null,null,null,null,null,null,null,null,null,null,null,null,"[0%-100%]",null,null,null,null,null,null,null,null,null,null,null,null,null,null,null,"Contentores metálicos 15 m3",null,null,null,null,null,null,null,null,null,null,null,null,"Viatura de transporte",null,null,null,null,null,null,null,null,null,null,null,null,null,null,null,null,null,null,null,null,null,null,null,null,"Motorista",null,null,null,null,null,null,null,"[0%-100%]"]
[null,null,null,null,null,null,null,null,null,null,null,null,null,null,null,null,null,null,null,null,null,null,null,null,null,null,null,null,null,null,null,null,null,null,null,null,null,null,null,null,null,"Contentores metálicos 30 m3",null,null,null,null,null,null,null,null,null,null,null,null,null,null,null,null,null,null,null,null,null,null,null,null,null,null,null,null,null,null,null,null,null,null,null,null,null,"Operador",null,null,null,null,null,null,null,"[0%-100%]"]
[null,null,"Fiscalização",null,null,null,null,null,null,null,null,null,null,null,null,null,null,null,null,null,null,null,null,null,null,null,null,null,null,null,null,null,null,null,null,null,null,null,null,null,null,"Autocompactadores 20 m3"]
[null,null,null,null,null,null,null,null,null,null,null,null,null,null,null,null,null,null,"nº",null,null,null,"Afetação"]
[null,null,null,"Fiscais",null,null,null,null,null,null,null,null,null,null,null,null,null,null,null,null,null,null,null,null,null,"[0%-100%]"]
[]
[null,null,null,null,null,null,null,null,null,null,null,null,null,null,null,null,null,null,null,null,null,null,null,null,null,null,null,null,null,null,null,null,null,null,null,null,null,null,null,null,"Transferência"]
[null,"Recursos humanos"]
[]
[null,null,null,null,null,null,null,null,null,null,null,null,null,null,null,null,null,null,null,null,null,null,null,null,null,null,null,null,null,null,null,null,null,null,null,null,null,null,null,null,null,"Nº  de instalações"]
[null,null,"Nº de trabalhadores",null,null,null,null,null,null,null,null,null,{"$f":"+S203*W203+S204*W204+S208*W208+CE204*CH204+CE205*CH205+CF190*CI190+CF191*CI191+CF192*CI192+AW168*AZ168+AW169*AZ169+AW170*AZ170+I146*L146+I147*L147+I148*L148+BK222*BN222+BK223*BN223","v":0}]
[null,null,null,null,null,null,null,null,null,null,null,"[campo automático]",null,null,null,null,null,null,null,null,null,null,null,null,null,null,null,null,null,null,null,null,null,null,null,null,null,null,null,null,null,"Contentores / Equipamento",null,null,null,null,null,null,null,null,null,null,null,"nº",null,null,null,null,"Viaturas",null,null,null,null,null,null,null,null,null,null,"nº",null,null,"Distância percorrida (km/ano)",null,null,null,null,null,null,null,null,"Consumo (L/100 km)"]
[null,null,null,null,null,null,null,null,null,null,null,null,null,null,null,null,null,null,null,null,null,null,null,null,null,null,null,null,null,null,null,null,null,null,null,null,null,null,null,null,null,"Contentores metálicos 30 m3 aberto",null,null,null,null,null,null,null,null,null,null,null,null,null,null,null,null,"Semi-reboque 90 m3 com piso móvel"]
[null,null,null,null,null,null,null,null,null,null,null,null,null,null,null,null,null,null,null,null,null,null,null,null,null,null,null,null,null,null,null,null,null,null,null,null,null,null,null,null,null,"Contentores metálicos 40 m3 aberto",null,null,null,null,null,null,null,null,null,null,null,null,null,null,null,null,"Trator para semi-reboque piso móvel"]
[null,null,null,null,null,null,null,null,null,null,null,null,null,null,null,null,null,null,null,null,null,null,null,null,null,null,null,null,null,null,null,null,null,null,null,null,null,null,null,null,null,"Contentores metálicos 30 m3 fechado",null,null,null,null,null,null,null,null,null,null,null,null,null,null,null,null,"Chassis cabina para veículo de transferência"]
[null,null,null,null,null,null,null,null,null,null,null,null,null,null,null,null,null,null,null,null,null,null,null,null,null,null,null,null,null,null,null,null,null,null,null,null,null,null,null,null,null,"Contentores metálicos 40 m3 fechado"]
[null,null,null,null,null,null,null,null,null,null,null,null,null,null,null,null,null,null,null,null,null,null,null,null,null,null,null,null,null,null,null,null,null,null,null,null,null,null,null,null,null,"Compactador estacionário c/ tremonha de carga",null,null,null,null,null,null,null,null,null,null,null,null,null,null,null,null,"Pessoal"]
[null,null,null,null,null,null,null,null,null,null,null,null,null,null,null,null,null,null,null,null,null,null,null,null,null,null,null,null,null,null,null,null,null,null,null,null,null,null,null,null,null,"Mesa de translação",null,null,null,null,null,null,null,null,null,null,null,null,null,null,null,null,null,null,null,null,"nº",null,null,"Afetação"]
[null,null,null,null,null,null,null,null,null,null,null,null,null,null,null,null,null,null,null,null,null,null,null,null,null,null,null,null,null,null,null,null,null,null,null,null,null,null,null,null,null,null,null,null,null,null,null,null,null,null,null,null,null,null,null,null,null,null,null,"Motorista",null,null,null,null,null,null,null,"[0%-100%]"]
[null,null,null,null,null,null,null,null,null,null,null,null,null,null,null,null,null,null,null,null,null,null,null,null,null,null,null,null,null,null,null,null,null,null,null,null,null,null,null,null,null,null,null,null,null,null,null,null,null,null,null,null,null,null,null,null,null,null,null,"Operador",null,null,null,null,null,null,null,"[0%-100%]"]

{"sheet":"Modelação de custos atual","index":3,"n_rows":35,"n_cols":12,"rows_kept":35,"cut":false,"hidden":false,"merged":[[7,1,8,5],[7,8,8,12]]}
[]
[]
[]
[]
[]
[]
[]
[null,"Custos",null,null,null,null,null,null,"Receitas"]
[]
[]
[null,null,"Rendas de edifícios",null,"€/ano",null,null,null,null,"Receitas com serviços auxiliares",null,"€/ano"]
[null,null,"Aluguer de edifícios",null,"€/ano",null,null,null,null,"Receitas (p.ex. prestações de serviços a outras EG)",null,"€/ano"]
[null,null,"Comunicações",null,"€/ano",null,null,null,null,"Subsídios ",null,"€/ano"]
[null,null,"Comunicações associadas aos sistemas de instrumentação",null,"€/ano"]
[null,null,"Seguros gerais",null,"€/ano"]
[null,null,"Seguros de frota",null,"€/ano"]
[null,null,"Honorários",null,"€/ano"]
[null,null,"Conservação e reparação"]
[null,null,"Contentores",null,"[2-5%]"]
[null,null,"Viaturas",null,"[4-6%]"]
[null,null,"Construção civil",null,"[1-2%]"]
[null,null,"Custos com serviços auxiliares",null,"€/ano"]
[null,null,"Custos com pessoal"]
[null,null,"Encarregado",null,"[€/pessoa.ano]"]
[null,null,"Motorista",null,"[€/pessoa.ano]"]
[null,null,"Ajudante",null,"[€/pessoa.ano]"]
[null,null,"Técnico especializado",null,"[€/pessoa.ano]"]
[null,null,"Fiscal",null,"[€/pessoa.ano]"]
[null,null,"Pessoal de enquadramento",null,"[10% dos custos com pessoal direto]"]
[null,null,"Custos com subcontratos",null,"€/ano"]
[null,null,"Custos com trabalhos especializados",null,"€/ano"]
[null,null,"Custos com publicidade e propaganda",null,"€/ano"]
[null,null,"Custos financeiros",null,"€/ano"]
[null,null,"Outros (eletricidade, água,limpeza, utilização de inst comuns, etc.)",null,"[3% - 5% dos custos totais]"]
[null,null,"Custo anual com a entidade gestora em alta",null,"€/ano"]

{"sheet":"Prod_RU","index":4,"n_rows":78,"n_cols":21,"rows_kept":78,"cut":false,"hidden":false,"merged":[[32,4,32,6],[32,7,32,13],[15,4,15,13],[12,1,13,13],[32,14,32,20],[29,1,30,21]]}
[]
[]
[]
[]
[]
[]
[]
[null,"Índice"]
[]
[null,null,"Quantitativos de RU","Quantitativos por fluxo"]
[]
[]
[null,"QUANTITATIVOS DE RU"]
[]
[]
[null,null,null,null,"Na área total de intervenção da EG"]
[]
[null,null,null,null,2021,2022,2023,2024,2025,2026,2027,2028,2029,2030]
[]
[null,null,"Produção RU na área total de intervenção da Entidade/Município","t/ano",{"$f":"IFERROR(VLOOKUP('ID EG'!$G$10,Apoio!$C$5:$O$24,5,FALSE),\"\")","v":"-"},null,{"$f":"IFERROR(G23*G26/1000,0)","v":0},{"$f":"IFERROR(H23*H26/1000,0)","v":0},{"$f":"IFERROR(I23*I26/1000,0)","v":0},{"$f":"IFERROR(J23*J26/1000,0)","v":0},{"$f":"IFERROR(K23*K26/1000,0)","v":0},{"$f":"IFERROR(L23*L26/1000,0)","v":0},{"$f":"IFERROR(M23*M26/1000,0)","v":0},0]
[null,null,"taxa crescimento anual","-",null,{"$f":"IFERROR((F20-E20)/E20,0)","v":0},{"$f":"IFERROR((G20-F20)/F20,0)","v":0},{"$f":"IFERROR((H20-G20)/G20,0)","v":0},{"$f":"IFERROR((I20-H20)/H20,0)","v":0},{"$f":"IFERROR((J20-I20)/I20,0)","v":0},{"$f":"IFERROR((K20-J20)/J20,0)","v":0},{"$f":"IFERROR((L20-K20)/K20,0)","v":0},0,{"$f":"IFERROR((N20-M20)/M20,0)","v":0}]
[]
[null,null,"População residente na área total de intervenção da Entidade/Município","hab",{"$f":"IFERROR(VLOOKUP('ID EG'!$G$10,Apoio!$C$5:$O$24,2,FALSE),\"\")","v":"-"},null,{"$f":"F23*(1+G24)","v":0},{"$f":"G23*(1+H24)","v":0},0,0,0,{"$f":"I23*(1+L24)","v":0},0,{"$f":"K23*(1+N24)","v":0}]
[null,null,"taxa crescimento anual","-",null,{"$f":"IFERROR((F23-E23)/E23,0)","v":0}]
[]
[null,null,"Capitação média RU na área total de intervenção da Entidade/Município","kg/hab.ano",{"$f":"IFERROR(E20*1000/E23,0)","v":0},{"$f":"IFERROR(F20*1000/F23,0)","v":0},{"$f":"F26*(1+G27)","v":0},{"$f":"G26*(1+H27)","v":0},{"$f":"H26*(1+I27)","v":0},0,0,{"$f":"I26*(1+L27)","v":0},0,{"$f":"K26*(1+N27)","v":0}]
[null,null,"taxa crescimento anual",null,null,{"$f":"IFERROR((F26-E26)/E26,0)","v":0}]
[]
[]
[null,"QUANTITATIVOS POR FLUXO"]
[]
[]
[null,null,null,null,"Na totalidade da área de intervenção da Entidade/Município",null,null,"Na área de PAYT",null,null,null,null,null,null,"Na área de SAYT/RAYT"]
[]
[null,null,null,null,2021,2022,2023,2024,2025,2026,2027,2028,2029,2030,2024,2025,2026,2027,2028,2029,2030]
[]
[null,null,"População residente ","hab"]
[null,null,"% da população na área total de intervenção da Entidade/Município","-",null,null,null,{"$f":"IFERROR(H37/H23,0)","v":0},{"$f":"IFERROR(I37/I23,0)","v":0},0,{"$f":"IFERROR(K37/K23,0)","v":0},{"$f":"IFERROR(L37/L23,0)","v":0},{"$f":"IFERROR(M37/M23,0)","v":0},{"$f":"IFERROR(N37/N23,0)","v":0},{"$f":"IFERROR(O37/H23,0)","v":0},0,0,0,0,0,0]
[]
[null,null,"Quantitativos recolha seletiva RO","t/ano",{"$f":"IFERROR(VLOOKUP('ID EG'!$G$10,Apoio!$C$5:$O$24,10,FALSE),\"\")","v":"-"},null,null,{"$f":"H41*$H$37/1000","v":0},{"$f":"I41*$I$37/1000","v":0},{"$f":"J41*$J$37/1000","v":0},{"$f":"K41*$K$37/1000","v":0},{"$f":"L41*$L$37/1000","v":0},{"$f":"M41*$M$37/1000","v":0},{"$f":"N41*$N$37/1000","v":0},{"$f":"O41*$O$37/1000","v":0},{"$f":"P41*$P$37/1000","v":0},{"$f":"Q41*$Q$37/1000","v":0},{"$f":"R41*$R$37/1000","v":0},{"$f":"S41*$S$37/1000","v":0},{"$f":"T41*$T$37/1000","v":0},{"$f":"U41*$U$37/1000","v":0}]
[null,null,"Capitação recolha seletiva RO","kg/hab.ano",{"$f":"IFERROR(E40*1000/$E$23,0)","v":0},{"$f":"IFERROR(F40*1000/$F$23,0)","v":0},null,null,{"$f":"H41*(1+I42)","v":0},{"$f":"I41*(1+J42)","v":0},{"$f":"J41*(1+K42)","v":0},{"$f":"K41*(1+L42)","v":0},{"$f":"L41*(1+M42)","v":0},{"$f":"K41*(1+N42)","v":0},null,{"$f":"O41*(1+P42)","v":0},{"$f":"P41*(1+Q42)","v":0},{"$f":"Q41*(1+R42)","v":0},{"$f":"R41*(1+S42)","v":0},{"$f":"S41*(1+T42)","v":0},{"$f":"R41*(1+U42)","v":0}]
[null,null,"taxa crescimento anual da capitação","-"]
[]
[null,null,"Quantitativos recolha seletiva Papel-cartão","t/ano",{"$f":"IFERROR(VLOOKUP('ID EG'!$G$10,Apoio!$C$5:$O$24,7,FALSE),\"\")","v":"-"},null,null,{"$f":"H45*$H$37/1000","v":0},{"$f":"I45*$I$37/1000","v":0},{"$f":"J45*$J$37/1000","v":0},{"$f":"K45*$K$37/1000","v":0},{"$f":"L45*$L$37/1000","v":0},{"$f":"M45*$M$37/1000","v":0},{"$f":"N45*$N$37/1000","v":0},{"$f":"O45*$O$37/1000","v":0},{"$f":"P45*$P$37/1000","v":0},{"$f":"Q45*$Q$37/1000","v":0},{"$f":"R45*$R$37/1000","v":0},{"$f":"S45*$S$37/1000","v":0},{"$f":"T45*$T$37/1000","v":0},{"$f":"U45*$U$37/1000","v":0}]
[null,null,"Capitação recolha seletiva Papel-cartão","kg/hab.ano",{"$f":"IFERROR(E44*1000/$E$23,0)","v":0},{"$f":"IFERROR(F44*1000/$F$23,0)","v":0},null,null,{"$f":"H45*(1+I46)","v":0},{"$f":"I45*(1+J46)","v":0},{"$f":"J45*(1+K46)","v":0},{"$f":"K45*(1+L46)","v":0},{"$f":"L45*(1+M46)","v":0},{"$f":"K45*(1+N46)","v":0},null,{"$f":"O45*(1+P46)","v":0},0,0,0,0,0]
[null,null,"taxa crescimento anual da capitação","-"]
[]
[null,null,"Quantitativos recolha seletiva Plástico","t/ano",{"$f":"IFERROR(VLOOKUP('ID EG'!$G$10,Apoio!$C$5:$O$24,8,FALSE),\"\")","v":"-"},null,null,{"$f":"H49*$H$37/1000","v":0},{"$f":"I49*$I$37/1000","v":0},{"$f":"J49*$J$37/1000","v":0},{"$f":"K49*$K$37/1000","v":0},{"$f":"L49*$L$37/1000","v":0},{"$f":"M49*$M$37/1000","v":0},{"$f":"N49*$N$37/1000","v":0},{"$f":"O49*$O$37/1000","v":0},{"$f":"P49*$P$37/1000","v":0},{"$f":"Q49*$Q$37/1000","v":0},{"$f":"R49*$R$37/1000","v":0},{"$f":"S49*$S$37/1000","v":0},{"$f":"T49*$T$37/1000","v":0},{"$f":"U49*$U$37/1000","v":0}]
[null,null,"Capitação recolha seletiva Plástico","kg/hab.ano",{"$f":"IFERROR(E48*1000/$E$23,0)","v":0},{"$f":"IFERROR(F48*1000/$F$23,0)","v":0},null,null,{"$f":"H49*(1+I50)","v":0},0,0,0,0,0,null,{"$f":"O49*(1+P50)","v":0},0,0,0,0,0]
[null,null,"taxa crescimento anual da capitação","-"]
[]
[null,null,"Quantitativos recolha seletiva Vidro","t/ano",{"$f":"IFERROR(VLOOKUP('ID EG'!$G$10,Apoio!$C$5:$O$24,9,FALSE),\"\")","v":"-"},null,null,{"$f":"H53*$H$37/1000","v":0},{"$f":"I53*$I$37/1000","v":0},{"$f":"J53*$J$37/1000","v":0},{"$f":"K53*$K$37/1000","v":0},{"$f":"L53*$L$37/1000","v":0},{"$f":"M53*$M$37/1000","v":0},{"$f":"N53*$N$37/1000","v":0},{"$f":"O53*$O$37/1000","v":0},{"$f":"P53*$P$37/1000","v":0},{"$f":"Q53*$Q$37/1000","v":0},{"$f":"R53*$R$37/1000","v":0},{"$f":"S53*$S$37/1000","v":0},{"$f":"T53*$T$37/1000","v":0},{"$f":"U53*$U$37/1000","v":0}]
[null,null,"Capitação recolha seletiva Vidro","kg/hab.ano",{"$f":"IFERROR(E52*1000/$E$23,0)","v":0},{"$f":"IFERROR(F52*1000/$F$23,0)","v":0},null,null,{"$f":"H53*(1+I54)","v":0},0,0,0,0,0,null,{"$f":"O53*(1+P54)","v":0},0,0,0,0,0]
[null,null,"taxa crescimento anual da capitação","-"]
[]
[null,null,"Quantitativos recolha seletiva Multimaterial","t/ano",{"$f":"IFERROR(E44+E48+E52,0)","v":0},{"$f":"F44+F48+F52","v":0},null,{"$f":"H44+H48+H52","v":0},0,0,0,0,0,0,0,0,0,0,0,0,0]
[null,null,"Capitação recolha seletiva 3F","kg/hab.ano",0,0,0,{"$f":"H45+H49+H53","v":0},0,0,0,0,0,0,0,0,0,0,0,0,0]
[null,null,"controlo",null,{"$f":"IFERROR(E56*1000/E57-E23,0)","v":0},{"$f":"IFERROR(F56*1000/F57-F23,0)","v":0},null,{"$f":"IFERROR(H56*1000/H57-H23,0)","v":0},0,0,0,0,0,0,0,0,0,0,0,0,0]
[]
[null,null,"Quantitativos recolha seletiva Outros Recicláveis","t/ano",{"$f":"IFERROR(VLOOKUP('ID EG'!$G$10,Apoio!$C$5:$O$24,11,FALSE),\"\")","v":"-"},null,null,{"$f":"H61*$H$37/1000","v":0},{"$f":"I61*$I$37/1000","v":0},{"$f":"J61*$J$37/1000","v":0},{"$f":"K61*$K$37/1000","v":0},{"$f":"L61*$L$37/1000","v":0},{"$f":"M61*$M$37/1000","v":0},{"$f":"N61*$N$37/1000","v":0},{"$f":"O61*$O$37/1000","v":0},{"$f":"P61*$P$37/1000","v":0},{"$f":"Q61*$Q$37/1000","v":0},{"$f":"R61*$R$37/1000","v":0},{"$f":"S61*$S$37/1000","v":0},{"$f":"T61*$T$37/1000","v":0},{"$f":"U61*$U$37/1000","v":0}]
[null,null,"Capitação  recolha seletiva Outros enviados para reciclagem","kg/hab.ano",{"$f":"IFERROR(E60*1000/$E$23,0)","v":0},{"$f":"IFERROR(F60*1000/$F$23,0)","v":0},null,null,{"$f":"H61*(1+I62)","v":0},{"$f":"I61*(1+J62)","v":0},0,0,0,0,null,{"$f":"O61*(1+P62)","v":0},0,0,0,0,0]
[null,null,"taxa crescimento anual da capitação","-"]
[]
[]
[null,null,"Quantitativos recolha Outros Resíduos","t/ano",{"$f":"IFERROR(VLOOKUP('ID EG'!$G$10,Apoio!$C$5:$O$24,12,FALSE),\"\")","v":"-"},null,null,{"$f":"H66*$H$37/1000","v":0},{"$f":"I66*$I$37/1000","v":0},{"$f":"J66*$J$37/1000","v":0},{"$f":"K66*$K$37/1000","v":0},{"$f":"L66*$L$37/1000","v":0},{"$f":"M66*$M$37/1000","v":0},{"$f":"N66*$N$37/1000","v":0},{"$f":"O66*$O$37/1000","v":0},{"$f":"P66*$P$37/1000","v":0},{"$f":"Q66*$Q$37/1000","v":0},{"$f":"R66*$R$37/1000","v":0},{"$f":"S66*$S$37/1000","v":0},{"$f":"T66*$T$37/1000","v":0},{"$f":"U66*$U$37/1000","v":0}]
[null,null,"Capitação recolha seletiva Outros não valorizáveis","kg/hab.ano",{"$f":"IFERROR(E65*1000/$E$23,0)","v":0},{"$f":"IFERROR(F65*1000/$F$23,0)","v":0},null,null,{"$f":"H66*(1+I67)","v":0},0,0,0,0,0,null,{"$f":"O66*(1+P67)","v":0},0,0,0,0,0]
[null,null,"taxa crescimento anual da capitação","-"]
[]
[null,null,"Quantitativos recolha indiferenciada","t/ano",{"$f":"IFERROR(E20-E40-E56-E60-E65,0)","v":0},{"$f":"F20-F40-F56-F60-F65","v":0},null,{"$f":"H70*H37/1000","v":0},0,0,0,0,0,0,0,0,0,0,0,0,0]
[null,null,"Capitação recolha indiferenciada","kg/hab.ano",{"$f":"IFERROR(E26-E41-E57-E61-E66,0)","v":0},{"$f":"F26-F41-F57-F61-F66","v":0},{"$f":"G26-G41-G57-G61-G66","v":0},{"$f":"H26-H41-H57-H61-H66","v":0},0,0,0,0,0,0,0,0,0,0,0,0,0]
[null,null,"taxa crescimento anual da capitação","-",null,null,null,{"$f":"IFERROR((H70-G70)/G70,0)","v":0},0,0,0,0,0,0,0,0,0,0,0,0,0]
[null,null,"controlo",null,{"$f":"IFERROR(E40+E56+E60+E65+E69-E20,0)","v":0},{"$f":"+F40+F56+F60+F65+F69-F20","v":0},null,{"$f":"IFERROR(H69*1000/H70-H37,0)","v":0},0,0,0,0,0,0,0,0,0,0,0,0,0]
[null,null,"controlo",null,{"$f":"IFERROR(E41+E57+E61+E66+E70-E26,0)","v":0},{"$f":"+F41+F57+F61+F66+F70-F26","v":0},0,{"$f":"+H41+H57+H61+H66+H70-H26","v":0},0,0,0,0,0,0,0,0,0,0,0,0,0]
[]
[null,null,"Produção RU","t/ano",null,null,null,{"$f":"+H69+H60+H56+H40+H65","v":0},0,0,0,0,0,0,0,0,0,0,0,0,0]
[null,null,"Capitação de RU","kg/hab.ano",null,null,null,{"$f":"IFERROR(H75/H37*1000,0)","v":0},0,0,0,0,0,0,0,0,0,0,0,0,0]
[null,null,"taxa crescimento anual","-",null,null,null,null,{"$f":"IFERROR((I75-H75)/H75,0)","v":0},{"$f":"IFERROR((J75-I75)/I75,0)","v":0},{"$f":"IFERROR((K75-J75)/J75,0)","v":0},{"$f":"IFERROR((L75-K75)/K75,0)","v":0},{"$f":"IFERROR((M75-L75)/L75,0)","v":0},{"$f":"IFERROR((N75-K75)/K75,0)","v":0},null,{"$f":"IFERROR((P75-O75)/O75,0)","v":0},0,0,0,0,0]
[null,null,"controlo",null,null,null,null,{"$f":"+H76-H26","v":0},0,0,0,0,0,0,0,0,0,0,0,0,0]

{"sheet":"Modelação do sist PAYT","index":5,"n_rows":175,"n_cols":156,"rows_kept":175,"cut":false,"hidden":false,"merged":[[147,31,147,36],[147,37,147,42],[147,43,147,48],[152,27,152,30],[152,31,152,36],[152,37,152,42],[152,43,152,48],[148,31,148,36],[148,37,148,42],[148,43,148,48],[149,31,149,36],[149,37,149,42],[149,43,149,48],[150,31,150,36],[150,37,150,42],[150,43,150,48],[151,31,151,36],[151,37,151,42],[151,43,151,48],[151,27,151,30],[94,43,94,48],[104,31,104,36],[104,37,104,42],[104,43,104,48],[140,43,140,48],[150,27,150,30],[147,27,147,30],[148,27,148,30],[149,27,149,30],[144,27,144,30],[145,27,145,30],[146,27,146,30],[141,27,141,30],[142,27,142,30],[145,31,145,36],[145,37,145,42],[145,43,145,48],[133,27,134,30],[104,27,104,30],[101,31,101,36],[101,37,101,42],[146,31,146,36],[146,37,146,42],[146,43,146,48],[135,27,135,30],[136,27,136,30],[52,65,52,67],[52,68,52,70],[52,71,52,73],[84,56,84,59],[84,60,84,63],[84,64,84,67],[84,68,84,71],[84,72,84,75],[80,64,80,67],[80,68,80,71],[80,72,80,75],[81,60,81,63],[81,64,81,67],[81,68,81,71],[81,72,81,75],[82,56,82,59],[71,60,71,63],[71,64,71,67],[71,68,71,71],[94,27,94,30],[94,31,94,36],[94,37,94,42],[84,76,84,78],[74,76,74,79],[52,74,52,76],[82,76,82,78],[83,56,83,59],[83,60,83,63],[83,64,83,67],[83,68,83,71],[83,72,83,75],[52,59,52,61],[52,62,52,64],[56,74,56,75],[70,76,70,79],[69,56,69,59],[69,60,69,63],[69,64,69,67],[82,60,82,63],[82,64,82,67],[82,68,82,71],[82,72,82,75],[79,56,81,59],[79,60,79,75],[79,76,81,78],[80,60,80,63],[144,31,144,36],[144,37,144,42],[144,43,144,48],[138,27,138,30],[139,27,139,30],[140,27,140,30],[138,31,138,36],[138,37,138,42],[138,43,138,48],[139,31,139,36],[139,37,139,42],[139,43,139,48],[140,31,140,36],[140,37,140,42],[143,27,143,30],[141,31,141,36],[141,37,141,42],[141,43,141,48],[142,31,142,36],[142,37,142,42],[142,43,142,48],[143,31,143,36],[143,37,143,42],[143,43,143,48],[71,72,71,75],[71,76,71,79],[73,68,73,71],[73,72,73,75],[73,76,73,79],[72,56,72,59],[72,60,72,63],[72,64,72,67],[72,68,72,71],[72,72,72,75],[72,76,72,79],[88,31,88,36],[88,37,88,42],[88,43,88,48],[90,12,90,14],[98,13,98,15],[137,27,137,30],[135,31,135,36],[135,37,135,42],[71,56,71,59],[98,37,98,42],[98,43,98,48],[91,37,91,42],[91,43,91,48],[92,31,92,36],[92,37,92,42],[120,14,120,16],[131,12,131,14],[133,31,133,36],[133,37,133,42],[133,43,133,48],[134,31,134,36],[134,37,134,42],[134,43,134,48],[131,28,131,47],[68,60,68,63],[68,64,68,67],[68,68,68,71],[68,72,68,75],[68,76,68,79],[154,13,154,15],[168,14,168,16],[77,64,77,66],[74,60,74,63],[74,64,74,67],[74,68,74,71],[74,72,74,75],[139,13,139,15],[135,43,135,48],[136,31,136,36],[136,37,136,42],[136,43,136,48],[137,31,137,36],[137,37,137,42],[137,43,137,48],[90,37,90,42],[90,43,90,48],[91,31,91,36],[87,43,87,48],[51,92,51,94],[51,95,51,97],[51,98,51,100],[51,101,51,103],[64,72,64,75],[64,76,64,79],[63,56,63,59],[63,60,63,63],[63,64,63,67],[63,68,63,71],[63,72,63,75],[60,56,62,59],[60,60,60,75],[60,76,62,79],[61,60,61,63],[61,64,61,67],[61,68,61,71],[61,72,61,75],[62,60,62,63],[62,64,62,67],[62,68,62,71],[62,72,62,75],[54,62,54,64],[56,66,56,67],[56,82,56,83],[56,90,56,91],[52,95,52,97],[52,98,52,100],[52,101,52,103],[52,77,52,79],[52,80,52,82],[52,83,52,85],[52,86,52,88],[52,89,52,91],[52,92,52,94],[51,56,51,58],[51,62,51,64],[51,65,51,67],[51,71,51,73],[51,74,51,76],[51,80,51,82],[49,98,49,100],[49,101,49,103],[50,56,50,58],[50,65,50,67],[50,74,50,76],[50,83,50,85],[50,92,50,94],[50,95,50,97],[50,98,50,100],[50,101,50,103],[49,56,49,58],[49,65,49,67],[49,74,49,76],[49,83,49,85],[49,92,49,94],[49,95,49,97],[51,83,51,85],[51,89,51,91],[46,98,46,100],[46,101,46,103],[47,56,47,58],[47,59,47,61],[47,68,47,70],[47,77,47,79],[47,86,47,88],[47,95,47,97],[47,98,47,100],[47,101,47,103],[46,56,46,58],[46,59,46,61],[46,68,46,70],[46,77,46,79],[46,86,46,88],[46,95,46,97],[48,83,48,85],[48,89,48,91],[48,92,48,94],[48,95,48,97],[48,98,48,100],[48,101,48,103],[48,56,48,58],[48,62,48,64],[48,65,48,67],[48,71,48,73],[48,74,48,76],[48,80,48,82],[45,95,45,97],[45,98,45,100],[45,101,45,103],[44,56,44,58],[44,59,44,61],[44,68,44,70],[44,77,44,79],[44,86,44,88],[44,95,44,97],[40,95,40,97],[42,83,42,85],[42,86,42,88],[42,92,42,94],[42,95,42,97],[43,56,43,58],[43,59,43,61],[43,65,43,67],[43,68,43,70],[43,74,43,76],[43,77,43,79],[174,8,174,10],[22,58,22,60],[22,72,22,74],[22,85,22,87],[19,54,19,60],[35,92,37,94],[35,95,37,97],[38,56,38,58],[38,59,38,61],[38,68,38,70],[38,77,38,79],[38,86,38,88],[38,95,38,97],[35,74,37,76],[35,77,37,79],[35,80,37,82],[35,83,37,85],[35,86,37,88],[35,89,37,91],[35,56,37,58],[35,59,37,61],[35,62,37,64],[40,77,40,79],[40,86,40,88],[172,4,172,7],[172,8,172,10],[163,4,163,7],[163,8,163,11],[164,4,164,7],[164,8,164,11],[165,4,165,7],[165,8,165,11],[173,4,173,7],[173,8,173,10],[157,4,157,7],[157,8,157,11],[158,4,158,7],[158,8,158,11],[159,4,159,7],[159,8,159,11],[143,4,143,7],[143,8,143,11],[171,4,171,7],[171,8,171,10],[166,8,166,11],[170,4,170,7],[170,8,170,10],[160,4,160,7],[160,8,160,11],[161,4,161,7],[161,8,161,11],[162,4,162,7],[162,8,162,11],[144,4,144,7],[144,8,144,11],[145,8,145,11],[156,4,156,7],[156,8,156,11],[137,8,137,11],[141,4,141,7],[141,8,141,11],[142,4,142,7],[142,8,142,11],[126,4,126,7],[126,8,126,10],[127,4,127,7],[127,8,127,10],[128,8,128,10],[133,4,133,7],[133,8,133,11],[134,4,134,7],[134,8,134,11],[135,4,135,7],[135,8,135,11],[136,4,136,7],[136,8,136,11],[125,4,125,7],[125,8,125,10],[126,123,126,125],[104,8,104,11],[108,4,108,7],[108,8,108,11],[106,14,106,16],[115,4,115,7],[115,8,115,11],[116,4,116,7],[116,8,116,11],[109,4,109,7],[109,8,109,11],[110,4,110,7],[110,8,110,11],[125,123,125,125],[118,8,118,11],[122,4,122,7],[122,8,122,10],[123,4,123,7],[123,8,123,10],[124,4,124,7],[124,8,124,10],[124,123,124,125],[121,123,121,125],[122,123,122,125],[109,121,109,122],[110,121,110,122],[111,118,111,119],[100,4,100,7],[100,8,100,11],[123,123,123,125],[111,4,111,7],[111,8,111,11],[120,123,120,125],[109,118,109,119],[110,118,110,119],[108,118,108,119],[102,4,102,7],[102,8,102,11],[118,123,118,125],[117,4,117,7],[117,8,117,11],[112,4,112,7],[112,8,112,11],[113,4,113,7],[113,8,113,11],[114,4,114,7],[99,43,99,48],[100,31,100,36],[100,37,100,42],[100,43,100,48],[117,113,117,115],[103,4,103,7],[103,8,103,11],[99,27,99,30],[100,27,100,30],[101,27,101,30],[102,27,102,30],[103,27,103,30],[99,31,99,36],[101,4,101,7],[101,8,101,11],[114,8,114,11],[102,43,102,48],[103,31,103,36],[103,37,103,42],[103,43,103,48],[101,43,101,48],[102,31,102,36],[102,37,102,42],[89,27,89,30],[90,27,90,30],[91,27,91,30],[92,27,92,30],[93,27,93,30],[87,4,87,7],[111,121,111,122],[96,8,96,11],[99,37,99,42],[96,31,96,36],[96,37,96,42],[96,43,96,48],[97,31,97,36],[97,37,97,42],[97,43,97,48],[93,4,93,7],[93,8,93,11],[94,4,94,7],[94,8,94,11],[95,4,95,7],[95,8,95,11],[97,27,97,30],[98,27,98,30],[98,31,98,36],[101,131,101,132],[88,8,88,11],[85,27,86,30],[89,31,89,36],[89,37,89,42],[89,43,89,48],[90,31,90,36],[102,128,102,129],[102,131,102,132],[95,27,95,30],[96,27,96,30],[92,43,92,48],[93,31,93,36],[93,37,93,42],[93,43,93,48],[95,31,95,36],[95,37,95,42],[95,43,95,48],[100,107,100,118],[100,119,100,121],[100,128,100,129],[87,8,87,11],[101,128,101,129],[95,124,95,134],[84,4,84,7],[84,8,84,11],[98,107,98,118],[98,119,98,121],[85,4,85,7],[85,8,85,11],[99,107,99,118],[99,119,99,121],[85,31,85,36],[86,31,86,36],[87,31,87,36],[85,37,85,42],[85,43,85,48],[86,37,86,42],[86,43,86,48],[87,37,87,42],[97,107,97,118],[97,119,97,121],[95,107,95,118],[95,119,95,121],[92,4,92,7],[92,8,92,11],[87,27,87,30],[88,27,88,30],[95,135,95,137],[95,138,95,146],[95,147,95,153],[77,8,77,16],[92,113,92,114],[94,107,94,118],[94,119,94,121],[94,124,94,134],[94,135,94,137],[94,138,94,146],[94,147,94,153],[91,107,91,157],[83,115,83,117],[83,120,83,125],[83,126,83,128],[83,129,83,136],[83,137,83,142],[86,8,86,11],[82,10,82,12],[83,76,83,78],[84,153,84,154],[85,107,85,114],[85,115,85,117],[85,149,85,150],[97,135,97,137],[97,138,97,146],[97,147,97,153],[96,107,96,118],[96,119,96,121],[96,124,96,134],[96,135,96,137],[96,138,96,146],[96,147,96,153],[97,124,97,134],[85,153,85,154],[72,4,73,7],[72,8,72,16],[86,107,86,114],[86,115,86,117],[73,8,73,16],[83,149,83,150],[84,107,84,114],[84,115,84,117],[84,120,84,125],[84,126,84,128],[84,129,84,136],[84,137,84,142],[84,149,84,150],[83,107,83,114],[86,4,86,7],[83,27,83,48],[73,56,73,59],[73,60,73,63],[73,64,73,67],[75,113,75,114],[75,116,75,118],[81,113,81,114],[80,107,80,157],[58,4,59,7],[74,4,74,7],[74,8,74,16],[75,4,75,7],[75,8,75,16],[76,4,76,7],[76,8,76,16],[70,29,70,31],[59,108,61,133],[62,108,64,133],[63,76,63,79],[67,56,67,59],[67,60,67,63],[67,64,67,67],[67,68,67,71],[67,72,67,75],[67,76,67,79],[66,56,66,59],[66,60,66,63],[66,64,66,67],[66,68,66,71],[66,72,66,75],[68,8,68,34],[74,116,74,118],[58,134,58,137],[58,138,58,140],[58,141,58,146],[58,147,58,153],[64,141,64,146],[64,147,64,153],[66,4,66,7],[66,8,66,16],[66,17,66,25],[66,26,66,34],[66,35,66,38],[64,4,64,7],[64,8,64,16],[64,17,64,25],[64,26,64,34],[64,35,64,38],[65,4,65,7],[65,8,65,16],[65,17,65,25],[65,26,65,34],[65,35,65,38],[61,4,61,7],[61,8,61,16],[61,17,61,25],[69,138,69,140],[59,8,59,16],[59,17,59,25],[59,26,59,34],[73,113,73,114],[73,116,73,118],[67,8,67,16],[67,17,67,25],[67,26,67,34],[67,35,67,38],[72,113,72,114],[67,108,67,133],[67,134,67,137],[67,138,67,140],[70,107,70,115],[64,56,64,59],[64,60,64,63],[64,64,64,67],[64,68,64,71],[61,134,61,137],[61,138,61,140],[64,134,64,137],[64,138,64,140],[66,76,66,79],[61,26,61,34],[61,35,61,38],[60,4,60,7],[60,8,60,16],[60,17,60,25],[60,26,60,34],[60,35,60,38],[74,113,74,114],[72,116,72,118],[65,56,65,59],[65,60,65,63],[65,64,65,67],[65,68,65,71],[65,72,65,75],[65,76,65,79],[70,56,70,59],[70,60,70,63],[70,64,70,67],[70,68,70,71],[70,72,70,75],[69,68,69,71],[69,72,69,75],[69,76,69,79],[68,56,68,59],[56,28,56,30],[65,147,65,153],[52,8,52,10],[66,108,66,133],[66,134,66,137],[66,138,66,140],[66,141,66,146],[66,147,66,153],[55,138,55,140],[55,141,55,146],[55,147,55,153],[62,8,62,16],[62,17,62,25],[62,26,62,34],[62,35,62,38],[63,8,63,16],[63,17,63,25],[63,26,63,34],[63,35,63,38],[50,108,52,133],[53,108,55,133],[56,108,58,133],[55,134,55,137],[65,108,65,133],[60,134,60,137],[60,138,60,140],[60,141,60,146],[60,147,60,153],[57,134,57,137],[57,138,57,140],[57,141,57,146],[67,141,67,146],[52,134,52,137],[52,138,52,140],[52,141,52,146],[67,147,67,153],[65,134,65,137],[65,138,65,140],[65,141,65,146],[61,141,61,146],[61,147,61,153],[62,147,62,153],[59,134,59,137],[59,138,59,140],[59,141,59,146],[59,147,59,153],[54,134,54,137],[54,138,54,140],[50,4,50,7],[50,8,50,10],[63,134,63,137],[63,138,63,140],[63,141,63,146],[63,147,63,153],[49,4,49,7],[49,8,49,10],[62,134,62,137],[62,138,62,140],[62,141,62,146],[58,8,58,16],[58,17,58,25],[58,26,58,34],[58,35,59,38],[62,4,62,7],[63,4,63,7],[47,108,49,133],[56,134,56,137],[56,138,56,140],[56,141,56,146],[56,147,56,153],[48,4,48,7],[57,147,57,153],[49,134,49,137],[49,138,49,140],[49,141,49,146],[49,147,49,153],[52,147,52,153],[53,134,53,137],[53,138,53,140],[53,141,53,146],[53,147,53,153],[54,141,54,146],[54,147,54,153],[50,147,50,153],[51,147,51,153],[46,134,46,137],[46,138,46,140],[46,141,46,146],[46,147,46,153],[41,108,43,133],[43,134,43,137],[43,138,43,140],[43,141,43,146],[43,147,43,153],[50,134,50,137],[50,138,50,140],[50,141,50,146],[47,147,47,153],[44,108,46,133],[48,134,48,137],[48,138,48,140],[48,141,48,146],[48,147,48,153],[47,134,47,137],[47,138,47,140],[41,4,41,7],[42,4,42,7],[42,8,42,16],[42,17,42,25],[42,26,42,34],[42,35,42,38],[51,134,51,137],[51,138,51,140],[51,141,51,146],[41,8,41,16],[41,17,41,25],[41,26,41,34],[51,4,51,7],[51,8,51,10],[44,8,44,34],[44,98,44,100],[44,101,44,103],[45,56,45,58],[45,59,45,61],[45,68,45,70],[48,8,48,10],[42,56,42,58],[42,59,42,61],[42,65,42,67],[46,23,46,25],[42,134,42,137],[42,138,42,140],[42,141,42,146],[42,147,42,153],[39,138,39,140],[39,141,39,146],[39,147,39,153],[39,56,39,58],[39,59,39,61],[39,68,39,70],[45,134,45,137],[39,77,39,79],[39,86,39,88],[39,95,39,97],[39,98,39,100],[39,101,39,103],[42,68,42,70],[42,74,42,76],[42,77,42,79],[40,98,40,100],[40,101,40,103],[41,56,41,58],[41,59,41,61],[47,141,47,146],[44,134,44,137],[44,138,44,140],[44,141,44,146],[44,147,44,153],[41,35,41,38],[45,138,45,140],[45,141,45,146],[45,147,45,153],[41,147,41,153],[41,65,41,67],[41,68,41,70],[41,74,41,76],[41,77,41,79],[41,83,41,85],[41,86,41,88],[42,98,42,100],[42,101,42,103],[41,92,41,94],[41,95,41,97],[41,98,41,100],[41,101,41,103],[45,77,45,79],[45,86,45,88],[43,8,43,16],[43,17,43,25],[43,26,43,34],[43,35,43,38],[38,108,40,133],[40,134,40,137],[40,138,40,140],[40,141,40,146],[40,147,40,153],[38,8,38,16],[38,17,38,25],[38,26,38,34],[38,35,38,38],[38,98,38,100],[38,101,38,103],[43,83,43,85],[43,86,43,88],[43,92,43,94],[43,95,43,97],[43,98,43,100],[43,101,43,103],[40,56,40,58],[40,59,40,61],[40,68,40,70],[37,147,37,153],[34,4,35,7],[35,8,35,16],[35,17,35,25],[35,26,35,34],[41,134,41,137],[41,138,41,140],[41,141,41,146],[34,8,34,16],[34,17,34,25],[34,26,34,34],[34,35,35,38],[39,134,39,137],[36,147,36,153],[40,4,40,7],[40,8,40,16],[40,17,40,25],[40,26,40,34],[40,35,40,38],[38,134,38,137],[38,138,38,140],[38,141,38,146],[38,147,38,153],[38,4,38,7],[29,88,29,89],[34,59,34,67],[34,68,34,76],[34,77,34,85],[34,86,34,94],[34,95,34,103],[29,67,29,68],[29,74,29,75],[39,4,39,7],[39,8,39,16],[39,17,39,25],[39,26,39,34],[39,35,39,38],[29,80,29,81],[35,98,37,100],[35,101,37,103],[35,65,37,67],[35,68,37,70],[35,71,37,73],[32,108,34,133],[31,141,31,146],[34,134,34,137],[30,134,30,137],[32,21,32,23],[36,134,36,137],[36,138,36,140],[36,141,36,146],[30,138,30,140],[30,141,30,146],[36,17,36,25],[36,26,36,34],[36,35,36,38],[35,134,35,137],[35,138,35,140],[35,141,35,146],[35,108,37,133],[37,134,37,137],[37,138,37,140],[37,141,37,146],[27,18,27,20],[24,58,24,60],[24,72,24,74],[27,64,27,66],[37,4,37,7],[37,8,37,16],[37,17,37,25],[37,26,37,34],[37,35,37,38],[36,4,36,7],[36,8,36,16],[14,9,14,12],[21,108,22,133],[21,134,22,137],[21,138,22,140],[21,141,22,146],[21,147,22,153],[22,18,22,20],[23,141,23,146],[23,147,23,153],[22,34,22,37],[23,18,23,20],[35,147,35,153],[33,134,33,137],[33,138,33,140],[31,147,31,153],[34,138,34,140],[34,141,34,146],[34,147,34,153],[31,134,31,137],[31,138,31,140],[33,141,33,146],[33,147,33,153],[27,147,27,153],[25,134,25,137],[25,138,25,140],[25,141,25,146],[25,147,25,153],[23,108,25,133],[26,108,28,133],[29,134,29,137],[29,138,29,140],[29,141,29,146],[28,134,28,137],[28,138,28,140],[28,141,28,146],[27,134,27,137],[27,138,27,140],[27,141,27,146],[28,147,28,153],[24,134,24,137],[24,138,24,140],[24,141,24,146],[24,147,24,153],[29,108,31,133],[78,106,79,158],[89,106,90,158],[105,106,106,158],[114,106,115,158],[16,1,17,104],[23,134,23,137],[23,138,23,140],[26,134,26,137],[26,138,26,140],[26,141,26,146],[26,147,26,153],[26,18,26,20],[26,34,26,37],[19,2,19,10],[19,107,19,114],[23,34,23,37],[16,106,17,158],[27,34,27,37],[30,147,30,153],[32,134,32,137],[32,138,32,140],[32,141,32,146],[32,147,32,153],[29,147,29,153]]}
[]
[]
[]
[]
[]
[]
[]
[null,"Índice"]
[]
[null,null,null,null,"Recolha indiferenciada",null,null,null,null,null,null,null,null,null,null,null,null,null,"Viaturas de recolha",null,null,null,null,null,null,null,null,null,null,null,null,null,"Ecocentro",null,null,null,null,null,null,null,null,null,null,null,"Monitorização, tratamento de informação e fiscalização"]
[]
[null,null,null,null,"Recolha seletiva",null,null,null,null,null,null,null,null,null,null,null,null,null,"Pessoal afeto à recolha",null,null,null,null,null,null,null,null,null,null,null,null,null,"Transferência",null,null,null,null,null,null,null,null,null,null,null,"Comunicação e sensibilização"]
[]
[]
[null,"Ano de referência: ",null,null,null,null,null,null,null,null,null,null,null,null,"Escolher opção"]
[]
[null,"Solução de deposição",null,null,null,null,null,null,null,null,null,null,null,null,null,null,null,null,null,null,null,null,null,null,null,null,null,null,null,null,null,null,null,null,null,null,null,null,null,null,null,null,null,null,null,null,null,null,null,null,null,null,null,null,null,null,null,null,null,null,null,null,null,null,null,null,null,null,null,null,null,null,null,null,null,null,null,null,null,null,null,null,null,null,null,null,null,null,null,null,null,null,null,null,null,null,null,null,null,null,null,null,null,null,null,null,"Solução de recolha"]
[]
[]
[null,null,"Recolha indiferenciada",null,null,null,null,null,null,null,null,null,null,null,null,null,null,null,null,null,null,null,null,null,null,null,null,null,null,null,null,null,null,null,null,null,null,null,null,null,null,null,null,null,null,null,null,null,null,null,null,null,null,null,"Recolha seletiva",null,null,null,null,null,null,null,"[Preencher formulário apenas se Entidade/Município for responsável pela execução da recolha seletiva]",null,null,null,null,null,null,null,null,null,null,null,null,null,null,null,null,null,null,null,null,null,null,null,null,null,null,null,null,null,null,null,null,null,null,null,null,null,null,null,null,null,null,null,null,"Viaturas de recolha"]
[]
[null,null,"A. Sistemas com base na identificação do utilizador",null,null,null,null,null,null,null,null,null,null,null,null,null,null,null,null,null,null,null,null,null,null,null,null,null,null,null,null,null,null,null,null,null,null,null,null,null,null,null,null,null,null,null,null,null,null,null,null,null,null,null,"Fluxos recolhidos seletivamente",null,null,null,null,null,null,null,null,null,null,null,null,null,null,null,null,null,null,null,null,null,null,null,null,null,null,null,null,null,null,null,null,null,null,null,null,null,null,null,null,null,null,null,null,null,null,null,null,null,null,null,null,null,"Tipo de viatura",null,null,null,null,null,null,null,null,null,null,null,null,null,null,null,null,null,null,null,null,null,null,null,null,null,"Tipo de combustível",null,null,null,"nº",null,null,"Distância percorrida (km/ano)*",null,null,null,null,null,"Consumo*\n(L/100 km // kW/100 km)"]
[null,null,null,"A1. Sistema de medição por volume",null,null,null,null,null,null,null,null,null,null,null,null,null,null,null,null,null,null,"Escolher opção",null,null,null,null,{"$f":"+IF(AND(S22=\"Não\",S23=\"Sim\"),\"Atenção! Verificar valores\",\"\")","v":""},null,null,null,null,null,null,{"$f":"+IF(S23=\"Sim\",\"Preencher A1\",\"\")","v":""},null,null,null,null,null,null,null,null,null,null,null,null,null,null,null,null,null,null,null,"- Papel-cartão",null,null,null,null,null,null,null,"Escolher opção",null,null,null,null,null,"- Vidro",null,null,null,null,null,null,null,"Escolher opção",null,null,null,null,"- Outros fluxos",null,null,null,null,null,null,null,"Escolher opção"]
[null,null,null,"A2. Sistema de medição por peso",null,null,null,null,null,null,null,null,null,null,null,null,null,null,null,null,null,null,"Escolher opção",null,null,null,null,{"$f":"+IF(AND(S22=\"Não\",S24=\"Sim\"),\"Atenção! Verificar valores\",\"\")","v":""},null,null,null,null,null,null,{"$f":"+IF(S24=\"Sim\",\"Preencher A2\",\"\")","v":""},null,null,null,null,null,null,null,null,null,null,null,null,null,null,null,null,null,null,null,null,null,null,null,null,null,null,null,null,null,null,null,null,null,null,null,null,null,null,null,null,null,null,null,null,null,null,null,null,null,null,null,null,null,null,null,null,null,null,null,null,null,null,null,null,null,null,null,null,null,null,null,null,null,"5-9 m3 compactação placa - não instrumentadas",null,null,null,null,null,null,null,null,null,null,null,null,null,null,null,null,null,null,null,null,null,null,null,null,null,"gasóleo"]
[null,null,null,null,null,null,null,null,null,null,null,null,null,null,null,null,null,null,null,null,null,null,null,null,null,null,null,null,null,null,null,null,null,null,null,null,null,null,null,null,null,null,null,null,null,null,null,null,null,null,null,null,null,null,"- Plástico",null,null,null,null,null,null,null,"Escolher opção",null,null,null,null,null,"- Biorresíduos",null,null,null,null,null,null,null,"Escolher opção",null,null,null,null,null,null,null,null,null,null,null,null,null,null,null,null,null,null,null,null,null,null,null,null,null,null,null,null,null,null,null,null,null,null,null,null,null,null,null,null,null,null,null,null,null,null,null,null,null,null,null,null,null,null,null,null,null,"elétrica"]
[null,null,"B. Sistemas com base na identificação do contentor",null,null,null,null,null,null,null,null,null,null,null,null,null,null,null,null,null,null,null,null,null,null,null,null,null,null,null,null,null,null,null,null,null,null,null,null,null,null,null,null,null,null,null,null,null,null,null,null,null,null,null,null,null,null,null,null,null,null,null,null,null,null,null,null,null,null,null,null,null,null,null,null,null,null,null,null,null,null,null,null,null,null,null,null,null,null,null,null,null,null,null,null,null,null,null,null,null,null,null,null,null,null,null,null,null,null,null,null,null,null,null,null,null,null,null,null,null,null,null,null,null,null,null,null,null,null,null,null,null,null,null,"gás"]
[null,null,null,"B1. Sistema de medição por volume",null,null,null,null,null,null,null,null,null,null,null,null,null,null,null,null,null,null,"Escolher opção",null,null,null,null,{"$f":"+IF(AND(S26=\"Não\",S27=\"Sim\"),\"Atenção! Verificar valores\",\"\")","v":""},null,null,null,null,null,null,{"$f":"+IF(S27=\"Sim\",\"Preencher B1\",\"\")","v":""},null,null,null,null,null,null,null,null,null,null,null,null,null,null,null,null,null,null,null,"Esquema de deposição",null,null,null,null,null,null,null,null,null,null,null,null,null,null,null,null,null,null,null,null,null,null,null,null,null,null,null,null,null,null,null,null,null,null,null,null,null,null,null,null,null,null,null,null,null,null,null,null,null,null,null,null,null,"5-9 m3 compactação placa - instrumentadas com leitor chips",null,null,null,null,null,null,null,null,null,null,null,null,null,null,null,null,null,null,null,null,null,null,null,null,null,"gasóleo"]
[null,null,null,"B2. Sistema de medição por peso",null,null,null,null,null,null,null,null,null,null,null,null,null,null,null,null,null,null,"Escolher opção",null,null,null,null,{"$f":"+IF(AND(S26=\"Não\",S28=\"Sim\"),\"Atenção! Verificar valores\",\"\")","v":""},null,null,null,null,null,null,{"$f":"+IF(S28=\"Sim\",\"Preencher B2\",\"\")","v":""},null,null,null,null,null,null,null,null,null,null,null,null,null,null,null,null,null,null,null,"- Contentores coletivos na via pública",null,null,null,null,null,null,null,null,null,null,null,null,null,"Escolher opção",null,null,null,null,null,null,null,null,null,null,null,null,null,null,null,null,null,null,null,null,null,null,null,null,null,null,null,null,null,null,null,null,null,null,null,null,null,null,null,null,null,null,null,null,null,null,null,null,null,null,null,null,null,null,null,null,null,null,null,null,null,null,null,null,null,"elétrica"]
[null,null,null,null,null,null,null,null,null,null,null,null,null,null,null,null,null,null,null,null,null,null,null,null,null,null,null,null,null,null,null,null,null,null,null,null,null,null,null,null,null,null,null,null,null,null,null,null,null,null,null,null,null,null,null,null,null,null,null,null,null,null,null,null,null,null,null,null,null,null,null,null,null,null,null,null,null,null,null,null,null,null,null,null,null,null,null,null,null,null,null,null,null,null,null,null,null,null,null,null,null,null,null,null,null,null,null,null,null,null,null,null,null,null,null,null,null,null,null,null,null,null,null,null,null,null,null,null,null,null,null,null,null,null,"gás"]
[null,null,null,null,null,null,null,null,null,null,null,null,null,null,null,null,null,null,null,null,null,null,null,null,null,null,null,null,null,null,null,null,null,null,null,null,null,null,null,null,null,null,null,null,null,null,null,null,null,null,null,null,null,null,null,". Nº total de equipamentos:",null,null,null,null,null,null,null,"Papel-cartão",null,null,null,{"$f":"+SUM(BH53:BP53)","v":0},null,null,"Plástico",null,null,null,{"$f":"+SUM(BQ53:BY53)","v":0},null,null,null,"Vidro",null,{"$f":"+SUM(BZ53:CH53)","v":0},null,null,null,"Biorresíduos",null,null,null,{"$f":"+SUM(CI53:CQ53)","v":0},null,null,"[campos automáticos]",null,null,null,null,null,null,null,null,null,null,null,null,null,null,null,null,"5-9 m3  compactação placa - instrumentadas com leitor de chips+pesagem em elevador",null,null,null,null,null,null,null,null,null,null,null,null,null,null,null,null,null,null,null,null,null,null,null,null,null,"gasóleo"]
[null,null,"A. Sistemas com base na identificação do utilizador",null,null,null,null,null,null,null,null,null,null,null,null,null,null,null,null,null,null,null,null,null,null,null,null,null,null,null,null,null,null,null,null,null,null,null,null,null,null,null,null,null,null,null,null,null,null,null,null,null,null,null,null,null,null,null,null,null,null,null,null,null,null,null,null,null,null,null,null,null,null,null,null,null,null,null,null,null,null,null,null,null,null,null,null,null,null,null,null,null,null,null,null,null,null,null,null,null,null,null,null,null,null,null,null,null,null,null,null,null,null,null,null,null,null,null,null,null,null,null,null,null,null,null,null,null,null,null,null,null,null,null,"elétrica"]
[null,null,null,"A1. Sistema de medição por volume",null,null,null,null,null,null,null,null,null,null,null,null,null,null,null,null,null,null,null,null,null,null,null,null,null,null,null,null,null,null,null,null,null,null,null,null,null,null,null,null,null,null,null,null,null,null,null,null,null,null,null,null,null,null,null,null,null,null,null,null,null,null,null,null,null,null,null,null,null,null,null,null,null,null,null,null,null,null,null,null,null,null,null,null,null,null,null,null,null,null,null,null,null,null,null,null,null,null,null,null,null,null,null,null,null,null,null,null,null,null,null,null,null,null,null,null,null,null,null,null,null,null,null,null,null,null,null,null,null,null,"gás"]
[null,null,null,null,"- Contentores coletivos na via pública com controlo de acesso",null,null,null,null,null,null,null,null,null,null,null,null,null,null,null,null,null,null,null,null,"nº de fogos abrangidos",null,null,null,null,null,null,null,null,null,null,null,null,null,null,null,null,null,null,null,null,null,null,null,null,null,null,null,null,null,". Tipologia dos equipamentos:",null,null,null,null,null,null,null,null,null,null,null,null,null,null,null,null,null,null,null,null,null,null,null,null,null,null,null,null,null,null,null,null,null,null,null,null,null,null,null,null,null,null,null,null,null,null,null,null,null,null,null,null,"5-9 m3 compactação placa - instrumentadas com leitor de chips+pesagem em chassi",null,null,null,null,null,null,null,null,null,null,null,null,null,null,null,null,null,null,null,null,null,null,null,null,null,"gasóleo"]
[null,null,null,null,null,null,null,null,null,null,null,null,null,null,null,null,null,null,null,null,null,null,null,null,null,null,null,null,null,null,null,null,null,null,null,null,null,null,null,null,null,null,null,null,null,null,null,null,null,null,null,null,null,null,null,null,null,null,null,null,null,null,null,null,null,null,null,null,null,null,null,null,null,null,null,null,null,null,null,null,null,null,null,null,null,null,null,null,null,null,null,null,null,null,null,null,null,null,null,null,null,null,null,null,null,null,null,null,null,null,null,null,null,null,null,null,null,null,null,null,null,null,null,null,null,null,null,null,null,null,null,null,null,null,"elétrica"]
[null,null,null,null,"Capacidade",null,null,null,"Cont. de superfície ",null,null,null,null,null,null,null,null,"Cont. semi-enterrados",null,null,null,null,null,null,null,null,"Cont. enterrados",null,null,null,null,null,null,null,null,"Total",null,null,null,null,null,null,null,null,null,null,null,null,null,null,null,null,null,null,null,null,null,null,null,"Fluxo: Papel-cartão",null,null,null,null,null,null,null,null,"Fluxo: Plástico",null,null,null,null,null,null,null,null,"Fluxo: Vidro",null,null,null,null,null,null,null,null,"Fluxo: Biorresíduos",null,null,null,null,null,null,null,null,"Total",null,null,null,null,null,null,null,null,null,null,null,null,null,null,null,null,null,null,null,null,null,null,null,null,null,null,null,null,null,null,null,null,null,null,null,null,null,null,"gás"]
[null,null,null,null,null,null,null,null,"nº",null,null,null,null,null,null,null,null,"nº",null,null,null,null,null,null,null,null,"nº",null,null,null,null,null,null,null,null,null,null,null,null,null,null,null,null,null,null,null,null,null,null,null,null,null,null,null,null,null,"Capacidade",null,null,"Cont. de superfície ",null,null,"Cont. semi-enterrados",null,null,"Cont. enterrados",null,null,"Cont. de superfície ",null,null,"Cont. semi-enterrados",null,null,"Cont. enterrados",null,null,"Cont. de superfície ",null,null,"Cont. semi-enterrados",null,null,"Cont. enterrados",null,null,"Cont. de superfície ",null,null,"Cont. semi-enterrados",null,null,"Cont. enterrados",null,null,"Cont. de superfície ",null,null,"Cont. semi-enterrados",null,null,"Cont. enterrados",null,null,null,null,null,null,"15-20 m3 compactação placa - não instrumentadas",null,null,null,null,null,null,null,null,null,null,null,null,null,null,null,null,null,null,null,null,null,null,null,null,null,"gasóleo"]
[null,null,null,null,"800 L",null,null,null,null,null,null,null,null,null,null,null,null,null,null,null,null,null,null,null,null,null,null,null,null,null,null,null,null,null,null,{"$f":"+I37+R37+AA37","v":0},null,null,null,null,null,null,null,null,null,null,null,null,null,null,null,null,null,null,null,null,null,null,null,null,null,null,null,null,null,null,null,null,null,null,null,null,null,null,null,null,null,null,null,null,null,null,null,null,null,null,null,null,null,null,null,null,null,null,null,null,null,null,null,null,null,null,null,null,null,null,null,null,null,null,null,null,null,null,null,null,null,null,null,null,null,null,null,null,null,null,null,null,null,null,null,null,null,null,"elétrica"]
[null,null,null,null,"1 000 L",null,null,null,null,null,null,null,null,null,null,null,null,null,null,null,null,null,null,null,null,null,null,null,null,null,null,null,null,null,null,{"$f":"+I38+R38+AA38","v":0},null,null,null,null,null,null,null,null,null,null,null,null,null,null,null,null,null,null,null,null,null,null,null,null,null,null,null,null,null,null,null,null,null,null,null,null,null,null,null,null,null,null,null,null,null,null,null,null,null,null,null,null,null,null,null,null,null,null,null,null,null,null,null,null,null,null,null,null,null,null,null,null,null,null,null,null,null,null,null,null,null,null,null,null,null,null,null,null,null,null,null,null,null,null,null,null,null,null,"gás"]
[null,null,null,null,"1 100 L",null,null,null,null,null,null,null,null,null,null,null,null,null,null,null,null,null,null,null,null,null,null,null,null,null,null,null,null,null,null,0,null,null,null,null,null,null,null,null,null,null,null,null,null,null,null,null,null,null,null,null,"240 L",null,null,null,null,null,null,null,null,null,null,null,null,null,null,null,null,null,null,null,null,null,null,null,null,null,null,null,null,null,null,null,null,null,null,null,null,null,null,{"$f":"+BH39+BQ39+BZ39+CI39","v":0},null,null,null,null,null,null,null,null,null,null,null,null,"15-20 m3 compactação placa - instrumentadas com leitor chips",null,null,null,null,null,null,null,null,null,null,null,null,null,null,null,null,null,null,null,null,null,null,null,null,null,"gasóleo"]
[null,null,null,null,"3 000 L",null,null,null,null,null,null,null,null,null,null,null,null,null,null,null,null,null,null,null,null,null,null,null,null,null,null,null,null,null,null,0,null,null,null,null,null,null,null,null,null,null,null,null,null,null,null,null,null,null,null,null,"360 L",null,null,null,null,null,null,null,null,null,null,null,null,null,null,null,null,null,null,null,null,null,null,null,null,null,null,null,null,null,null,null,null,null,null,null,null,null,null,{"$f":"+BH40+BQ40+BZ40+CI40","v":0},null,null,null,null,null,null,null,null,null,null,null,null,null,null,null,null,null,null,null,null,null,null,null,null,null,null,null,null,null,null,null,null,null,null,null,null,null,null,"elétrica"]
[null,null,null,null,"3 200 L",null,null,null,null,null,null,null,null,null,null,null,null,null,null,null,null,null,null,null,null,null,null,null,null,null,null,null,null,null,null,0,null,null,null,null,null,null,null,null,null,null,null,null,null,null,null,null,null,null,null,null,"750 L",null,null,null,null,null,null,null,null,null,null,null,null,null,null,null,null,null,null,null,null,null,null,null,null,null,null,null,null,null,null,null,null,null,null,null,null,null,null,0,null,null,null,null,null,null,null,null,null,null,null,null,null,null,null,null,null,null,null,null,null,null,null,null,null,null,null,null,null,null,null,null,null,null,null,null,null,null,"gás"]
[null,null,null,null,"4 000 L",null,null,null,null,null,null,null,null,null,null,null,null,null,null,null,null,null,null,null,null,null,null,null,null,null,null,null,null,null,null,0,null,null,null,null,null,null,null,null,null,null,null,null,null,null,null,null,null,null,null,null,"800 L",null,null,null,null,null,null,null,null,null,null,null,null,null,null,null,null,null,null,null,null,null,null,null,null,null,null,null,null,null,null,null,null,null,null,null,null,null,null,0,null,null,null,null,null,{"$f":"+BN42+BW42+CF42+CO42","v":0},null,null,null,null,null,null,"15-20 m3 compactação placa - instrumentadas com leitor de chips+pesagem em elevador",null,null,null,null,null,null,null,null,null,null,null,null,null,null,null,null,null,null,null,null,null,null,null,null,null,"gasóleo"]
[null,null,null,null,"5 000 L",null,null,null,null,null,null,null,null,null,null,null,null,null,null,null,null,null,null,null,null,null,null,null,null,null,null,null,null,null,null,0,null,null,null,null,null,null,null,null,null,null,null,null,null,null,null,null,null,null,null,null,"1 000 L",null,null,null,null,null,null,null,null,null,null,null,null,null,null,null,null,null,null,null,null,null,null,null,null,null,null,null,null,null,null,null,null,null,null,null,null,null,null,0,null,null,null,null,null,0,null,null,null,null,null,null,null,null,null,null,null,null,null,null,null,null,null,null,null,null,null,null,null,null,null,null,null,null,null,null,null,null,"elétrica"]
[null,null,null,null,null,null,null,"sub-total",{"$f":"+SUM(I37:Q43)","v":0},null,null,null,null,null,null,null,null,{"$f":"+SUM(R37:Z43)","v":0},null,null,null,null,null,null,null,null,{"$f":"+SUM(AA37:AI43)","v":0},null,null,null,null,null,null,null,null,{"$f":"+I44+R44+AA44","v":0},null,null,null,null,null,null,null,null,null,null,null,null,null,null,null,null,null,null,null,null,"1 100 L",null,null,null,null,null,null,null,null,null,null,null,null,null,null,null,null,null,null,null,null,null,null,null,null,null,null,null,null,null,null,null,null,null,null,null,null,null,null,0,null,null,null,null,null,0,null,null,null,null,null,null,null,null,null,null,null,null,null,null,null,null,null,null,null,null,null,null,null,null,null,null,null,null,null,null,null,null,"gás"]
[null,null,null,null,null,null,null,"total",{"$f":"+SUM(I44:AI44)","v":0},null,null,null,null,null,null,null,null,null,null,null,null,null,null,null,null,null,null,null,null,null,null,null,null,null,null,null,null,null,null,null,null,null,null,null,null,null,null,null,null,null,null,null,null,null,null,null,"1 500 L",null,null,null,null,null,null,null,null,null,null,null,null,null,null,null,null,null,null,null,null,null,null,null,null,null,null,null,null,null,null,null,null,null,null,null,null,null,null,0,null,null,null,null,null,null,null,null,null,null,null,null,"15-20 m3 compactação placa - instrumentadas com leitor de chips+pesagem em chassi",null,null,null,null,null,null,null,null,null,null,null,null,null,null,null,null,null,null,null,null,null,null,null,null,null,"gasóleo"]
[null,null,null,null,null,null,null,null,null,null,null,null,null,null,null,null,null,null,null,null,null,null,null,null,null,null,null,null,null,null,null,null,null,null,null,null,null,null,null,null,null,null,null,null,null,null,null,null,null,null,null,null,null,null,null,null,"2 350 L",null,null,null,null,null,null,null,null,null,null,null,null,null,null,null,null,null,null,null,null,null,null,null,null,null,null,null,null,null,null,null,null,null,null,null,null,null,null,0,null,null,null,null,null,null,null,null,null,null,null,null,null,null,null,null,null,null,null,null,null,null,null,null,null,null,null,null,null,null,null,null,null,null,null,null,null,null,"elétrica"]
[null,null,null,null,"- Contentores coletivos com controlo de acesso em condomínios",null,null,null,null,null,null,null,null,null,null,null,null,null,null,null,null,null,null,null,null,null,null,"nº de fogos abrangidos",null,null,null,null,null,null,null,null,null,null,null,null,null,null,null,null,null,null,null,null,null,null,null,null,null,null,null,null,"2 500 L",null,null,null,null,null,null,null,null,null,null,null,null,null,null,null,null,null,null,null,null,null,null,null,null,null,null,null,null,null,null,null,null,null,null,null,null,null,null,0,null,null,null,null,null,null,null,null,null,null,null,null,null,null,null,null,null,null,null,null,null,null,null,null,null,null,null,null,null,null,null,null,null,null,null,null,null,null,"gás"]
[null,null,null,null,null,null,null,null,null,null,null,null,null,null,null,null,null,null,null,null,null,null,null,null,null,null,null,null,null,null,null,null,null,null,null,null,null,null,null,null,null,null,null,null,null,null,null,null,null,null,null,null,null,null,null,null,"2 700 L",null,null,null,null,null,null,null,null,null,null,null,null,null,null,null,null,null,null,null,null,null,null,null,null,null,null,null,null,null,null,null,null,null,null,null,null,null,null,0,null,null,null,null,null,null,null,null,null,null,null,null,"15-20 m3 compactação placa c/ grua - não instrumentadas",null,null,null,null,null,null,null,null,null,null,null,null,null,null,null,null,null,null,null,null,null,null,null,null,null,"gasóleo"]
[null,null,null,null,"Capacidade",null,null,null,"nº",null,null,null,null,null,null,null,null,null,null,null,null,null,null,null,null,null,null,null,null,null,null,null,null,null,null,null,null,null,null,null,null,null,null,null,null,null,null,null,null,null,null,null,null,null,null,null,"3 000 L",null,null,null,null,null,null,null,null,null,null,null,null,null,null,null,null,null,null,null,null,null,null,null,null,null,null,null,null,null,null,null,null,null,null,null,null,null,null,null,null,null,{"$f":"+BK49+BT49+CC49+CL49","v":0},null,null,0,null,null,null,null,null,null,null,null,null,null,null,null,null,null,null,null,null,null,null,null,null,null,null,null,null,null,null,null,null,null,null,null,"elétrica"]
[null,null,null,null,"800 L",null,null,null,null,null,null,null,null,null,null,null,null,null,null,null,null,null,null,null,null,null,null,null,null,null,null,null,null,null,null,null,null,null,null,null,null,null,null,null,null,null,null,null,null,null,null,null,null,null,null,null,"3 200 L",null,null,null,null,null,null,null,null,null,null,null,null,null,null,null,null,null,null,null,null,null,null,null,null,null,null,null,null,null,null,null,null,null,null,null,null,null,null,null,null,null,null,null,null,0,null,null,null,null,null,null,null,null,null,null,null,null,null,null,null,null,null,null,null,null,null,null,null,null,null,null,null,null,null,null,null,null,"gás"]
[null,null,null,null,"1 000 L",null,null,null,null,null,null,null,null,null,null,null,null,null,null,null,null,null,null,null,null,null,null,null,null,null,null,null,null,null,null,null,null,null,null,null,null,null,null,null,null,null,null,null,null,null,null,null,null,null,null,null,"4 000 L",null,null,null,null,null,null,null,null,null,null,null,null,null,null,null,null,null,null,null,null,null,null,null,null,null,null,null,null,null,null,null,null,null,null,null,null,null,null,null,null,null,null,null,null,0,null,null,null,null,null,null,"15-20 m3 compactação placa c/ grua - instrumentadas com sist. pesagem na grua",null,null,null,null,null,null,null,null,null,null,null,null,null,null,null,null,null,null,null,null,null,null,null,null,null,"gasóleo"]
[null,null,null,null,"1 100 L",null,null,null,null,null,null,null,null,null,null,null,null,null,null,null,null,null,null,null,null,null,null,null,null,null,null,null,null,null,null,null,null,null,null,null,null,null,null,null,null,null,null,null,null,null,null,null,null,null,null,null,"5 000 L",null,null,null,null,null,null,null,null,null,null,null,null,null,null,null,null,null,null,null,null,null,null,null,null,null,null,null,null,null,null,null,null,null,null,null,null,null,null,null,null,null,0,null,null,0,null,null,null,null,null,null,null,null,null,null,null,null,null,null,null,null,null,null,null,null,null,null,null,null,null,null,null,null,null,null,null,null,"elétrica"]
[null,null,null,null,null,null,null,"total",{"$f":"+SUM(I50:K52)","v":0},null,null,null,null,null,null,null,null,null,null,null,null,null,null,null,null,null,null,null,null,null,null,null,null,null,null,null,null,null,null,null,null,null,null,null,null,null,null,null,null,null,null,null,null,null,null,null,null,null,"sub-total",{"$f":"+SUM(BH39:BJ52)","v":0},null,null,{"$f":"+SUM(BK39:BM52)","v":0},null,null,{"$f":"+SUM(BN39:BP52)","v":0},null,null,{"$f":"+SUM(BQ39:BS52)","v":0},null,null,{"$f":"+SUM(BT39:BV52)","v":0},null,null,{"$f":"+SUM(BW39:BY52)","v":0},null,null,{"$f":"+SUM(BZ39:CB52)","v":0},null,null,{"$f":"+SUM(CC39:CE52)","v":0},null,null,{"$f":"+SUM(CF39:CH52)","v":0},null,null,{"$f":"+SUM(CI39:CK52)","v":0},null,null,{"$f":"+SUM(CL39:CN52)","v":0},null,null,{"$f":"+SUM(CO39:CQ52)","v":0},null,null,{"$f":"+SUM(CR39:CT52)","v":0},null,null,{"$f":"+SUM(CU39:CW52)","v":0},null,null,{"$f":"+SUM(CX39:CZ52)","v":0},null,null,null,null,null,null,null,null,null,null,null,null,null,null,null,null,null,null,null,null,null,null,null,null,null,null,null,null,null,null,null,null,"gás"]
[null,null,null,null,null,null,null,null,null,null,null,null,null,null,null,null,null,null,null,null,null,null,null,null,null,null,null,null,null,null,null,null,null,null,null,null,null,null,null,null,null,null,null,null,null,null,null,null,null,null,null,null,null,null,null,null,null,null,null,null,null,null,null,null,null,null,null,null,null,null,null,null,null,null,null,null,null,null,null,null,null,null,null,null,null,null,null,null,null,null,null,null,null,null,null,null,null,null,null,null,null,null,null,null,null,null,null,null,"15-23 m3 compactação placa carga lateral - não instrumentadas",null,null,null,null,null,null,null,null,null,null,null,null,null,null,null,null,null,null,null,null,null,null,null,null,null,"gasóleo"]
[null,null,null,"A2. Sistema de medição por peso",null,null,null,null,null,null,null,null,null,null,null,null,null,null,null,null,null,null,null,null,null,null,null,null,null,null,null,null,null,null,null,null,null,null,null,null,null,null,null,null,null,null,null,null,null,null,null,null,null,null,"- Contentores porta-a-porta",null,null,null,null,null,null,null,null,null,null,null,"Escolher opção",null,null,null,null,null,null,null,null,null,null,null,null,null,null,null,null,null,null,null,null,null,null,null,null,null,null,null,null,null,null,null,null,null,null,null,null,null,null,null,null,null,null,null,null,null,null,null,null,null,null,null,null,null,null,null,null,null,null,null,null,null,null,null,null,null,null,null,"elétrica"]
[null,null,null,null,null,null,null,null,null,null,null,null,null,null,null,null,null,null,null,null,null,null,null,null,null,null,null,null,null,null,null,null,null,null,null,null,null,null,null,null,null,null,null,null,null,null,null,null,null,null,null,null,null,null,null,null,null,null,null,null,null,null,null,null,null,null,null,null,null,null,null,null,null,null,null,null,null,null,null,null,null,null,null,null,null,null,null,null,null,null,null,null,null,null,null,null,null,null,null,null,null,null,null,null,null,null,null,null,null,null,null,null,null,null,null,null,null,null,null,null,null,null,null,null,null,null,null,null,null,null,null,null,null,null,"gás"]
[null,null,null,null,"- Contentores coletivos na via pública com controlo de acesso e sistema de pesagem",null,null,null,null,null,null,null,null,null,null,null,null,null,null,null,null,null,null,null,null,null,null,null,null,null,null,null,"nº de fogos abrangidos",null,null,null,null,null,null,null,null,null,null,null,null,null,null,null,null,null,null,null,null,null,null,". Nº total de equipamentos",null,null,null,null,null,null,"Papel-cartão",null,null,null,{"$f":"+BI75","v":0},null,null,null,"Plástico",null,null,null,{"$f":"+BM75","v":0},null,null,null,"Vidro",null,null,null,{"$f":"+BQ75","v":0},null,null,null,"Biorresíduos",null,null,null,{"$f":"+BU75","v":0},null,null,"[campos automáticos]",null,null,null,null,null,null,null,null,null,null,null,null,null,null,"15-23 m3 compactação placa carga lateral - instrumentadas com leitor chips",null,null,null,null,null,null,null,null,null,null,null,null,null,null,null,null,null,null,null,null,null,null,null,null,null,"gasóleo"]
[null,null,null,null,null,null,null,null,null,null,null,null,null,null,null,null,null,null,null,null,null,null,null,null,null,null,null,null,null,null,null,null,null,null,null,null,null,null,null,null,null,null,null,null,null,null,null,null,null,null,null,null,null,null,null,null,null,null,null,null,null,null,null,null,null,null,null,null,null,null,null,null,null,null,null,null,null,null,null,null,null,null,null,null,null,null,null,null,null,null,null,null,null,null,null,null,null,null,null,null,null,null,null,null,null,null,null,null,null,null,null,null,null,null,null,null,null,null,null,null,null,null,null,null,null,null,null,null,null,null,null,null,null,null,"elétrica"]
[null,null,null,null,"Capacidade",null,null,null,"Cont. de superfície ",null,null,null,null,null,null,null,null,"Cont. semi-enterrados",null,null,null,null,null,null,null,null,"Cont. enterrados",null,null,null,null,null,null,null,null,"Total",null,null,null,null,null,null,null,null,null,null,null,null,null,null,null,null,null,null,null,". Tipologia dos equipamentos",null,null,null,null,null,null,null,null,null,null,null,null,null,null,null,null,null,null,null,null,null,null,null,null,null,null,null,null,null,null,null,null,null,null,null,null,null,null,null,null,null,null,null,null,null,null,null,null,null,null,null,null,null,null,null,null,null,null,null,null,null,null,null,null,null,null,null,null,null,null,null,null,null,null,null,null,null,null,"gás"]
[null,null,null,null,null,null,null,null,"nº",null,null,null,null,null,null,null,null,"nº",null,null,null,null,null,null,null,null,"nº",null,null,null,null,null,null,null,null,null,null,null,null,null,null,null,null,null,null,null,null,null,null,null,null,null,null,null,null,null,null,null,null,null,null,null,null,null,null,null,null,null,null,null,null,null,null,null,null,null,null,null,null,null,null,null,null,null,null,null,null,null,null,null,null,null,null,null,null,null,null,null,null,null,null,null,null,null,null,null,null,null,"15-23 m3 compactação placa carga lateral - instrumentadas com leitor de chips+pesagem em elevador",null,null,null,null,null,null,null,null,null,null,null,null,null,null,null,null,null,null,null,null,null,null,null,null,null,"gasóleo"]
[null,null,null,null,"800 L",null,null,null,null,null,null,null,null,null,null,null,null,null,null,null,null,null,null,null,null,null,null,null,null,null,null,null,null,null,null,{"$f":"+I61+R61+AA61","v":0},null,null,null,null,null,null,null,null,null,null,null,null,null,null,null,null,null,null,null,null,"Capacidade",null,null,null,"Fluxo",null,null,null,null,null,null,null,null,null,null,null,null,null,null,null,"Total",null,null,null,null,null,null,null,null,null,null,null,null,null,null,null,null,null,null,null,null,null,null,null,null,null,null,null,null,null,null,null,null,null,null,null,null,null,null,null,null,null,null,null,null,null,null,null,null,null,null,null,null,null,null,null,null,null,"elétrica"]
[null,null,null,null,"1 000 L",null,null,null,null,null,null,null,null,null,null,null,null,null,null,null,null,null,null,null,null,null,null,null,null,null,null,null,null,null,null,{"$f":"+I62+R62+AA62","v":0},null,null,null,null,null,null,null,null,null,null,null,null,null,null,null,null,null,null,null,null,null,null,null,null,"Papel-cartão",null,null,null,"Plástico",null,null,null,"Vidro",null,null,null,"Biorresíduos",null,null,null,null,null,null,null,null,null,null,null,null,null,null,null,null,null,null,null,null,null,null,null,null,null,null,null,null,null,null,null,null,null,null,null,null,null,null,null,null,null,null,null,null,null,null,null,null,null,null,null,null,null,null,null,null,null,null,null,null,null,"gás"]
[null,null,null,null,"1 100 L",null,null,null,null,null,null,null,null,null,null,null,null,null,null,null,null,null,null,null,null,null,null,null,null,null,null,null,null,null,null,0,null,null,null,null,null,null,null,null,null,null,null,null,null,null,null,null,null,null,null,null,null,null,null,null,"nº",null,null,null,"nº",null,null,null,"nº",null,null,null,"nº",null,null,null,null,null,null,null,null,null,null,null,null,null,null,null,null,null,null,null,null,null,null,null,null,null,null,null,null,null,null,null,null,null,null,null,"15-23 m3 compactação placa carga lateral - instrumentadas com leitor de chips+pesagem em chassi",null,null,null,null,null,null,null,null,null,null,null,null,null,null,null,null,null,null,null,null,null,null,null,null,null,"gasóleo"]
[null,null,null,null,"3 000 L",null,null,null,null,null,null,null,null,null,null,null,null,null,null,null,null,null,null,null,null,null,null,null,null,null,null,null,null,null,null,0,null,null,null,null,null,null,null,null,null,null,null,null,null,null,null,null,null,null,null,null,"10 L",null,null,null,null,null,null,null,null,null,null,null,null,null,null,null,null,null,null,null,{"$f":"+BI64+BM64+BQ64+BU64","v":0},null,null,null,null,null,null,null,null,null,null,null,null,null,null,null,null,null,null,null,null,null,null,null,null,null,null,null,null,null,null,null,null,null,null,null,null,null,null,null,null,null,null,null,null,null,null,null,null,null,null,null,null,null,null,null,null,null,"elétrica"]
[null,null,null,null,"3 200 L",null,null,null,null,null,null,null,null,null,null,null,null,null,null,null,null,null,null,null,null,null,null,null,null,null,null,null,null,null,null,0,null,null,null,null,null,null,null,null,null,null,null,null,null,null,null,null,null,null,null,null,"40 L",null,null,null,null,null,null,null,null,null,null,null,null,null,null,null,null,null,null,null,{"$f":"+BI65+BM65+BQ65+BU65","v":0},null,null,null,null,null,null,null,null,null,null,null,null,null,null,null,null,null,null,null,null,null,null,null,null,null,null,null,null,null,null,null,null,null,null,null,null,null,null,null,null,null,null,null,null,null,null,null,null,null,null,null,null,null,null,null,null,null,"gás"]
[null,null,null,null,"4 000 L",null,null,null,null,null,null,null,null,null,null,null,null,null,null,null,null,null,null,null,null,null,null,null,null,null,null,null,null,null,null,0,null,null,null,null,null,null,null,null,null,null,null,null,null,null,null,null,null,null,null,null,"50 L",null,null,null,null,null,null,null,null,null,null,null,null,null,null,null,null,null,null,null,{"$f":"+BI66+BM66+BQ66+BU66","v":0},null,null,null,null,null,null,null,null,null,null,null,null,null,null,null,null,null,null,null,null,null,null,null,null,null,null,null,null,null,null,null,"Viatura de caixa aberta",null,null,null,null,null,null,null,null,null,null,null,null,null,null,null,null,null,null,null,null,null,null,null,null,null,"gasóleo"]
[null,null,null,null,"5 000 L",null,null,null,null,null,null,null,null,null,null,null,null,null,null,null,null,null,null,null,null,null,null,null,null,null,null,null,null,null,null,0,null,null,null,null,null,null,null,null,null,null,null,null,null,null,null,null,null,null,null,null,"60 L",null,null,null,null,null,null,null,null,null,null,null,null,null,null,null,null,null,null,null,0,null,null,null,null,null,null,null,null,null,null,null,null,null,null,null,null,null,null,null,null,null,null,null,null,null,null,null,null,null,null,null,"Viaturas de apoio",null,null,null,null,null,null,null,null,null,null,null,null,null,null,null,null,null,null,null,null,null,null,null,null,null,"gasóleo"]
[null,null,null,null,null,null,null,"sub-total",{"$f":"+SUM(I61:Q67)","v":0},null,null,null,null,null,null,null,null,{"$f":"+SUM(R61:Z67)","v":0},null,null,null,null,null,null,null,null,{"$f":"+SUM(AA61:AI67)","v":0},null,null,null,null,null,null,null,null,{"$f":"+I68+R68+AA68","v":0},null,null,null,null,null,null,null,null,null,null,null,null,null,null,null,null,null,null,null,null,"80 L",null,null,null,null,null,null,null,null,null,null,null,null,null,null,null,null,null,null,null,0,null,null,null,null,null,null,null,null,null,null,null,null,null,null,null,null,null,null,null,null,null,null,null,null,null,null,null,null,null,null,null,"Viatura de lavagem de contentores",null,null,null,null,null,null,null,null,null,null,null,null,null,null,null,null,null,null,null,null,null,null,null,null,null,"gasóleo"]
[null,null,null,null,null,null,null,"total",{"$f":"+SUM(I68:AI68)","v":0},null,null,null,null,null,null,null,null,null,null,null,null,null,null,null,null,null,null,null,null,null,null,null,null,null,null,null,null,null,null,null,null,null,null,null,null,null,null,null,null,null,null,null,null,null,null,null,"90 L",null,null,null,null,null,null,null,null,null,null,null,null,null,null,null,null,null,null,null,0,null,null,null,null,null,null,null,null,null,null,null,null,null,null,null,null,null,null,null,null,null,null,null,null,null,null,null,null,null,null,null,"* preenchimento obrigatório"]
[null,null,null,null,null,null,null,null,null,null,null,null,null,null,null,null,null,null,null,null,null,null,null,null,null,null,null,null,null,null,null,null,null,null,null,null,null,null,null,null,null,null,null,null,null,null,null,null,null,null,null,null,null,null,null,null,"120 L",null,null,null,null,null,null,null,null,null,null,null,null,null,null,null,null,null,null,null,0,null,null,null,null,null,null,null,null,null,null,null,null,null,null,null,null,null,null,null,null,null,null,null,null,null,null,null,null,null,null,null,null,null,null,null,null,null,null,null,null,null,null,null,null,null,null,null,null,null,null,null,null,"nº de viaturas instrumentadas",null,null,null,null,null,null,null,null,{"$f":"+SUM(EI57:EK65,EI51:EK53,EI39:EK47,EI27:EK35)","v":0},null,null,"[campo automático]"]
[null,null,null,null,"- Contentores coletivos com controlo de acesso e sistema de pesagem em condomínios",null,null,null,null,null,null,null,null,null,null,null,null,null,null,null,null,null,null,null,null,null,null,null,null,null,null,null,null,"nº de fogos abrangidos",null,null,null,null,null,null,null,null,null,null,null,null,null,null,null,null,null,null,null,null,null,null,"140 L",null,null,null,null,null,null,null,null,null,null,null,null,null,null,null,null,null,null,null,0,null,null,null,null,null,null,null,null,null,null,null,null,null,null,null,null,null,null,null,null,null,null,null,null,null,null,null,null,null,null,"Pessoal afeto à recolha"]
[null,null,null,null,null,null,null,null,null,null,null,null,null,null,null,null,null,null,null,null,null,null,null,null,null,null,null,null,null,null,null,null,null,null,null,null,null,null,null,null,null,null,null,null,null,null,null,null,null,null,null,null,null,null,null,null,"240 L",null,null,null,null,null,null,null,null,null,null,null,null,null,null,null,null,null,null,null,0]
[null,null,null,null,"Capacidade",null,null,null,"Cont. de superfície ",null,null,null,null,null,null,null,null,null,null,null,null,null,null,null,null,null,null,null,null,null,null,null,null,null,null,null,null,null,null,null,null,null,null,null,null,null,null,null,null,null,null,null,null,null,null,null,"360 L",null,null,null,null,null,null,null,null,null,null,null,null,null,null,null,null,null,null,null,0,null,null,null,null,null,null,null,null,null,null,null,null,null,null,null,null,null,null,null,null,null,null,null,null,null,null,null,null,null,null,null,null,null,null,null,null,"nº",null,null,"Afetação"]
[null,null,null,null,null,null,null,null,"nº",null,null,null,null,null,null,null,null,null,null,null,null,null,null,null,null,null,null,null,null,null,null,null,null,null,null,null,null,null,null,null,null,null,null,null,null,null,null,null,null,null,null,null,null,null,null,null,"800 L",null,null,null,null,null,null,null,null,null,null,null,null,null,null,null,null,null,null,null,0,null,null,null,null,null,null,null,null,null,null,null,null,null,null,null,null,null,null,null,null,null,null,null,null,null,null,null,null,null,null,null,"Encarregado",null,null,null,null,null,null,null,null,null,null,"[0%-100%]"]
[null,null,null,null,"800 L",null,null,null,null,null,null,null,null,null,null,null,null,null,null,null,null,null,null,null,null,null,null,null,null,null,null,null,null,null,null,null,null,null,null,null,null,null,null,null,null,null,null,null,null,null,null,null,null,null,null,null,null,null,null,"total",{"$f":"+SUM(BI64:BL74)","v":0},null,null,null,{"$f":"+SUM(BM64:BP74)","v":0},null,null,null,{"$f":"+SUM(BQ64:BT74)","v":0},null,null,null,{"$f":"+SUM(BU64:BX74)","v":0},null,null,null,{"$f":"+SUM(BY64:CB74)","v":0},null,null,null,null,null,null,null,null,null,null,null,null,null,null,null,null,null,null,null,null,null,null,null,null,null,null,null,null,null,null,null,"Motorista",null,null,null,null,null,null,null,null,null,null,"[0%-100%]"]
[null,null,null,null,"1 000 L",null,null,null,null,null,null,null,null,null,null,null,null,null,null,null,null,null,null,null,null,null,null,null,null,null,null,null,null,null,null,null,null,null,null,null,null,null,null,null,null,null,null,null,null,null,null,null,null,null,null,null,null,null,null,null,null,null,null,null,null,null,null,null,null,null,null,null,null,null,null,null,null,null,null,null,null,null,null,null,null,null,null,null,null,null,null,null,null,null,null,null,null,null,null,null,null,null,null,null,null,null,null,null,"Ajudante",null,null,null,null,null,null,null,null,null,null,"[0%-100%]"]
[null,null,null,null,"1 100 L"]
[null,null,null,null,null,null,null,"total",{"$f":"+SUM(I75:Q77)","v":0},null,null,null,null,null,null,null,null,null,null,null,null,null,null,null,null,null,null,null,null,null,null,null,null,null,null,null,null,null,null,null,null,null,null,null,null,null,null,null,null,null,null,null,null,null,"- Sacos padronizados porta-a-porta",null,null,null,null,null,null,null,null,null,null,null,null,null,"Escolher opção"]
[null,null,null,null,null,null,null,null,null,null,null,null,null,null,null,null,null,null,null,null,null,null,null,null,null,null,null,null,null,null,null,null,null,null,null,null,null,null,null,null,null,null,null,null,null,null,null,null,null,null,null,null,null,null,null,null,null,null,null,null,null,null,null,null,null,null,null,null,null,null,null,null,null,null,null,null,null,null,null,null,null,null,null,null,null,null,null,null,null,null,null,null,null,null,null,null,null,null,null,null,null,null,null,null,null,null,"Ecocentro"]
[null,null,"B. Sistemas com base na identificação do contentor",null,null,null,null,null,null,null,null,null,null,null,null,null,null,null,null,null,null,null,null,null,null,null,null,null,null,null,null,null,null,null,null,null,null,null,null,null,null,null,null,null,null,null,null,null,null,null,null,null,null,null,null,null,"Capacidade",null,null,null,"Fluxo",null,null,null,null,null,null,null,null,null,null,null,null,null,null,null,"Total"]
[null,null,null,null,null,null,null,null,null,null,null,null,null,null,null,null,null,null,null,null,null,null,null,null,null,null,null,null,null,null,null,null,null,null,null,null,null,null,null,null,null,null,null,null,null,null,null,null,null,null,null,null,null,null,null,null,null,null,null,null,"Papel-cartão",null,null,null,"Plástico",null,null,null,"Vidro",null,null,null,"Biorresíduos",null,null,null,null,null,null,null,null,null,null,null,null,null,null,null,null,null,null,null,null,null,null,null,null,null,null,null,null,null,null,null,null,null,null,"[Preencher formulário apenas se Entidade/Município for responsável pela gestão destas infraestruturas]"]
[null,null,null,"B1. Sistema de medição por volume",null,null,null,null,null,null,null,null,null,null,null,null,null,null,null,null,null,null,null,null,null,null,null,null,null,null,null,null,null,null,null,null,null,null,null,null,null,null,null,null,null,null,null,null,null,null,null,null,null,null,null,null,null,null,null,null,"nº (por ano)",null,null,null,"nº (por ano)",null,null,null,"nº (por ano)",null,null,null,"nº (por ano)",null,null,null,null,null,null,null,null,null,null,null,null,null,null,null,null,null,null,null,null,null,null,null,null,null,null,null,null,null,null,null,null,null,null,"Nº  de instalações"]
[null,null,null,null,"- Sacos pré-pagos",null,null,null,null,null,null,null,null,null,"nº de fogos abrangidos",null,null,null,null,null,null,null,null,null,null,null,null,null,null,null,null,null,null,null,null,null,null,null,null,null,null,null,null,null,null,null,null,null,null,null,null,null,null,null,null,null,"15 L",null,null,null,null,null,null,null,null,null,null,null,null,null,null,null,null,null,null,null,{"$f":"+BI83+BM83+BQ83+BU83","v":0},null,null,null,null,null,null,null,null,null,null,null,null,null,null,null,null,null,null,null,null,null,null,null,null,null,null,null,null,null,null,null,null,null,null,null,null,null,null,null,null,null,null,null,null,null,null,null,null,null,null,null,null,null,null,null,null,null,null,null,null,null,null,null,null,null,null,null,null,null,"Pessoal"]
[null,null,null,null,null,null,null,null,null,null,null,null,null,null,null,null,null,null,null,null,null,null,null,null,null,null,null,"Contentores não instrumentados para apoio à solução PAYT através de sacos",null,null,null,null,null,null,null,null,null,null,null,null,null,null,null,null,null,null,null,null,null,null,null,null,null,null,null,null,"30 L",null,null,null,null,null,null,null,null,null,null,null,null,null,null,null,null,null,null,null,{"$f":"+BI84+BM84+BQ84+BU84","v":0},null,null,null,null,null,null,null,null,null,null,null,null,null,null,null,null,null,null,null,null,null,null,null,null,null,null,null,null,null,null,"Contentores",null,null,null,null,null,null,null,"nº",null,null,null,null,"Viaturas",null,null,null,null,null,"nº",null,null,"Distância percorrida (km/ano)",null,null,null,null,null,null,null,"Consumo (L/100 km)",null,null,null,null,null,null,null,null,null,null,null,"nº",null,null,null,"Afetação"]
[null,null,null,null,"Capacidade",null,null,null,"nº (por ano)",null,null,null,null,null,null,null,null,null,null,null,null,null,null,null,null,null,null,null,null,null,null,null,null,null,null,null,null,null,null,null,null,null,null,null,null,null,null,null,null,null,null,null,null,null,null,null,"50 L",null,null,null,null,null,null,null,null,null,null,null,null,null,null,null,null,null,null,null,0,null,null,null,null,null,null,null,null,null,null,null,null,null,null,null,null,null,null,null,null,null,null,null,null,null,null,null,null,null,null,"Contentores metálicos 15 m3",null,null,null,null,null,null,null,null,null,null,null,null,"Viatura de transporte",null,null,null,null,null,null,null,null,null,null,null,null,null,null,null,null,null,null,null,null,null,null,null,null,null,"Motorista",null,null,null,null,null,null,null,null,"[0%-100%]"]
[null,null,null,null,"15 L",null,null,null,null,null,null,null,null,null,null,null,null,null,null,null,null,null,null,null,null,null,null,"Capacidade",null,null,null,"Cont. de superfície ",null,null,null,null,null,"Cont. semi-enterrados",null,null,null,null,null,"Cont. enterrados",null,null,null,null,null,null,null,null,null,null,null,null,null,null,null,null,null,null,null,null,null,null,null,null,null,null,null,null,null,null,null,null,null,null,null,null,null,null,null,null,null,null,null,null,null,null,null,null,null,null,null,null,null,null,null,null,null,null,null,null,null,null,null,"Contentores metálicos 30 m3",null,null,null,null,null,null,null,null,null,null,null,null,null,null,null,null,null,null,null,null,null,null,null,null,null,null,null,null,null,null,null,null,null,null,null,null,null,null,"Operador",null,null,null,null,null,null,null,null,"[0%-100%]"]
[null,null,null,null,"30 L",null,null,null,null,null,null,null,null,null,null,null,null,null,null,null,null,null,null,null,null,null,null,null,null,null,null,"nº",null,null,null,null,null,"nº",null,null,null,null,null,"nº",null,null,null,null,null,null,null,null,null,null,null,null,null,null,null,null,null,null,null,null,null,null,null,null,null,null,null,null,null,null,null,null,null,null,null,null,null,null,null,null,null,null,null,null,null,null,null,null,null,null,null,null,null,null,null,null,null,null,null,null,null,null,null,"Autocompactadores 20 m3"]
[null,null,null,null,"50 L",null,null,null,null,null,null,null,null,null,null,null,null,null,null,null,null,null,null,null,null,null,null,"40 L"]
[null,null,null,null,null,null,null,"total",{"$f":"+SUM(I86:L88)","v":0},null,null,null,null,null,null,null,null,null,null,null,null,null,null,null,null,null,null,"50 L"]
[null,null,null,null,null,null,null,null,null,null,null,null,null,null,null,null,null,null,null,null,null,null,null,null,null,null,null,"60 L",null,null,null,null,null,null,null,null,null,null,null,null,null,null,null,null,null,null,null,null,null,null,null,null,null,null,null,null,null,null,null,null,null,null,null,null,null,null,null,null,null,null,null,null,null,null,null,null,null,null,null,null,null,null,null,null,null,null,null,null,null,null,null,null,null,null,null,null,null,null,null,null,null,null,null,null,null,null,"Transferência"]
[null,null,null,null,"- Sacos com etiquetas RFID",null,null,null,null,null,null,null,null,null,null,null,"nº de fogos abrangidos",null,null,null,null,null,null,null,null,null,null,"80 L"]
[null,null,null,null,null,null,null,null,null,null,null,null,null,null,null,null,null,null,null,null,null,null,null,null,null,null,null,"90 L",null,null,null,null,null,null,null,null,null,null,null,null,null,null,null,null,null,null,null,null,null,null,null,null,null,null,null,null,null,null,null,null,null,null,null,null,null,null,null,null,null,null,null,null,null,null,null,null,null,null,null,null,null,null,null,null,null,null,null,null,null,null,null,null,null,null,null,null,null,null,null,null,null,null,null,null,null,null,null,"[Preencher formulário apenas se Entidade/Município for responsável pela gestão destas infraestruturas]"]
[null,null,null,null,"Capacidade",null,null,null,"nº (por ano)",null,null,null,null,null,null,null,null,null,null,null,null,null,null,null,null,null,null,"110 L",null,null,null,null,null,null,null,null,null,null,null,null,null,null,null,null,null,null,null,null,null,null,null,null,null,null,null,null,null,null,null,null,null,null,null,null,null,null,null,null,null,null,null,null,null,null,null,null,null,null,null,null,null,null,null,null,null,null,null,null,null,null,null,null,null,null,null,null,null,null,null,null,null,null,null,null,null,null,null,"Nº  de instalações"]
[null,null,null,null,"15 L",null,null,null,null,null,null,null,null,null,null,null,null,null,null,null,null,null,null,null,null,null,null,"120 L"]
[null,null,null,null,"30 L",null,null,null,null,null,null,null,null,null,null,null,null,null,null,null,null,null,null,null,null,null,null,"140 L",null,null,null,null,null,null,null,null,null,null,null,null,null,null,null,null,null,null,null,null,null,null,null,null,null,null,null,null,null,null,null,null,null,null,null,null,null,null,null,null,null,null,null,null,null,null,null,null,null,null,null,null,null,null,null,null,null,null,null,null,null,null,null,null,null,null,null,null,null,null,null,null,null,null,null,null,null,null,null,"Contentores / Equipamento",null,null,null,null,null,null,null,null,null,null,null,"nº",null,null,null,null,"Viaturas",null,null,null,null,null,null,null,null,null,null,"nº",null,null,"Distância percorrida (km/ano)",null,null,null,null,null,null,null,null,"Consumo (L/100 km)"]
[null,null,null,null,"50 L",null,null,null,null,null,null,null,null,null,null,null,null,null,null,null,null,null,null,null,null,null,null,"240 L",null,null,null,null,null,null,null,null,null,null,null,null,null,null,null,null,null,null,null,null,null,null,null,null,null,null,null,null,null,null,null,null,null,null,null,null,null,null,null,null,null,null,null,null,null,null,null,null,null,null,null,null,null,null,null,null,null,null,null,null,null,null,null,null,null,null,null,null,null,null,null,null,null,null,null,null,null,null,null,"Contentores metálicos 30 m3 aberto",null,null,null,null,null,null,null,null,null,null,null,null,null,null,null,null,"Semi-reboque 90 m3 com piso móvel"]
[null,null,null,null,null,null,null,"total",{"$f":"+SUM(I94:L96)","v":0},null,null,null,null,null,null,null,null,null,null,null,null,null,null,null,null,null,null,"360 L",null,null,null,null,null,null,null,null,null,null,null,null,null,null,null,null,null,null,null,null,null,null,null,null,null,null,null,null,null,null,null,null,null,null,null,null,null,null,null,null,null,null,null,null,null,null,null,null,null,null,null,null,null,null,null,null,null,null,null,null,null,null,null,null,null,null,null,null,null,null,null,null,null,null,null,null,null,null,null,"Contentores metálicos 40 m3 aberto",null,null,null,null,null,null,null,null,null,null,null,null,null,null,null,null,"Trator para semi-reboque piso móvel"]
[null,null,null,null,null,null,null,null,null,null,null,null,null,null,null,null,null,null,null,null,null,null,null,null,null,null,null,"800 L",null,null,null,null,null,null,null,null,null,null,null,null,null,null,null,null,null,null,null,null,null,null,null,null,null,null,null,null,null,null,null,null,null,null,null,null,null,null,null,null,null,null,null,null,null,null,null,null,null,null,null,null,null,null,null,null,null,null,null,null,null,null,null,null,null,null,null,null,null,null,null,null,null,null,null,null,null,null,null,"Contentores metálicos 30 m3 fechado",null,null,null,null,null,null,null,null,null,null,null,null,null,null,null,null,"Chassis cabina para veículo de transferência"]
[null,null,null,null,"- Sacos com RFID incorporados",null,null,null,null,null,null,null,null,null,null,null,null,"nº de fogos abrangidos",null,null,null,null,null,null,null,null,null,"1 000 L",null,null,null,null,null,null,null,null,null,null,null,null,null,null,null,null,null,null,null,null,null,null,null,null,null,null,null,null,null,null,null,null,null,null,null,null,null,null,null,null,null,null,null,null,null,null,null,null,null,null,null,null,null,null,null,null,null,null,null,null,null,null,null,null,null,null,null,null,null,null,null,null,null,null,null,null,null,null,null,"Contentores metálicos 40 m3 fechado"]
[null,null,null,null,null,null,null,null,null,null,null,null,null,null,null,null,null,null,null,null,null,null,null,null,null,null,null,"1 100 L",null,null,null,null,null,null,null,null,null,null,null,null,null,null,null,null,null,null,null,null,null,null,null,null,null,null,null,null,null,null,null,null,null,null,null,null,null,null,null,null,null,null,null,null,null,null,null,null,null,null,null,null,null,null,null,null,null,null,null,null,null,null,null,null,null,null,null,null,null,null,null,null,null,null,null,null,null,null,null,"Compactador estacionário c/ tremonha de carga",null,null,null,null,null,null,null,null,null,null,null,null,null,null,null,null,"Pessoal"]
[null,null,null,null,"Capacidade",null,null,null,"nº (por ano)",null,null,null,null,null,null,null,null,null,null,null,null,null,null,null,null,null,null,"3 000 L",null,null,null,null,null,null,null,null,null,null,null,null,null,null,null,null,null,null,null,null,null,null,null,null,null,null,null,null,null,null,null,null,null,null,null,null,null,null,null,null,null,null,null,null,null,null,null,null,null,null,null,null,null,null,null,null,null,null,null,null,null,null,null,null,null,null,null,null,null,null,null,null,null,null,null,null,null,null,null,"Mesa de translação",null,null,null,null,null,null,null,null,null,null,null,null,null,null,null,null,null,null,null,null,"nº",null,null,"Afetação"]
[null,null,null,null,"15 L",null,null,null,null,null,null,null,null,null,null,null,null,null,null,null,null,null,null,null,null,null,null,"3 200 L",null,null,null,null,null,null,null,null,null,null,null,null,null,null,null,null,null,null,null,null,null,null,null,null,null,null,null,null,null,null,null,null,null,null,null,null,null,null,null,null,null,null,null,null,null,null,null,null,null,null,null,null,null,null,null,null,null,null,null,null,null,null,null,null,null,null,null,null,null,null,null,null,null,null,null,null,null,null,null,null,null,null,null,null,null,null,null,null,null,null,null,null,null,null,null,null,null,"Motorista",null,null,null,null,null,null,null,"[0%-100%]"]
[null,null,null,null,"30 L",null,null,null,null,null,null,null,null,null,null,null,null,null,null,null,null,null,null,null,null,null,null,"4 000 L",null,null,null,null,null,null,null,null,null,null,null,null,null,null,null,null,null,null,null,null,null,null,null,null,null,null,null,null,null,null,null,null,null,null,null,null,null,null,null,null,null,null,null,null,null,null,null,null,null,null,null,null,null,null,null,null,null,null,null,null,null,null,null,null,null,null,null,null,null,null,null,null,null,null,null,null,null,null,null,null,null,null,null,null,null,null,null,null,null,null,null,null,null,null,null,null,null,"Operador",null,null,null,null,null,null,null,"[0%-100%]"]
[null,null,null,null,"50 L",null,null,null,null,null,null,null,null,null,null,null,null,null,null,null,null,null,null,null,null,null,null,"5 000 L"]
[null,null,null,null,null,null,null,"total",{"$f":"+SUM(I102:L104)","v":0},null,null,null,null,null,null,null,null,null,null,null,null,null,null,null,null,null,null,"total",null,null,null,{"$f":"+SUM(AF88:AK104)","v":0},null,null,null,null,null,{"$f":"+SUM(AL88:AQ104)","v":0},null,null,null,null,null,{"$f":"+SUM(AR88:AW104)","v":0}]
[null,null,null,null,null,null,null,null,null,null,null,null,null,null,null,null,null,null,null,null,null,null,null,null,null,null,null,null,null,null,null,null,null,null,null,null,null,null,null,null,null,null,null,null,null,null,null,null,null,null,null,null,null,null,null,null,null,null,null,null,null,null,null,null,null,null,null,null,null,null,null,null,null,null,null,null,null,null,null,null,null,null,null,null,null,null,null,null,null,null,null,null,null,null,null,null,null,null,null,null,null,null,null,null,null,null,"Monitorização, tratamento de informação e fiscalização"]
[null,null,null,null,"- Contentores individuais com RFID",null,null,null,null,null,null,null,null,null,null,null,null,null,"nº de fogos abrangidos"]
[]
[null,null,null,null,"Capacidade",null,null,null,"nº",null,null,null,null,null,null,null,null,null,null,null,null,null,null,null,null,null,null,null,null,null,null,null,null,null,null,null,null,null,null,null,null,null,null,null,null,null,null,null,null,null,null,null,null,null,null,null,null,null,null,null,null,null,null,null,null,null,null,null,null,null,null,null,null,null,null,null,null,null,null,null,null,null,null,null,null,null,null,null,null,null,null,null,null,null,null,null,null,null,null,null,null,null,null,null,null,null,null,null,null,null,null,null,null,null,null,null,null,null,"nº",null,null,"Afetação"]
[null,null,null,null,"40 L",null,null,null,null,null,null,null,null,null,null,null,null,null,null,null,null,null,null,null,null,null,null,null,null,null,null,null,null,null,null,null,null,null,null,null,null,null,null,null,null,null,null,null,null,null,null,null,null,null,null,null,null,null,null,null,null,null,null,null,null,null,null,null,null,null,null,null,null,null,null,null,null,null,null,null,null,null,null,null,null,null,null,null,null,null,null,null,null,null,null,null,null,null,null,null,null,null,null,null,null,null,null,"Utilizadores com licença de edição",null,null,null,null,null,null,null,null,null,null,null,null,null,null,null,"[0%-100%]"]
[null,null,null,null,"50 L",null,null,null,null,null,null,null,null,null,null,null,null,null,null,null,null,null,null,null,null,null,null,null,null,null,null,null,null,null,null,null,null,null,null,null,null,null,null,null,null,null,null,null,null,null,null,null,null,null,null,null,null,null,null,null,null,null,null,null,null,null,null,null,null,null,null,null,null,null,null,null,null,null,null,null,null,null,null,null,null,null,null,null,null,null,null,null,null,null,null,null,null,null,null,null,null,null,null,null,null,null,null,"Utilizadores com permissões de consulta",null,null,null,null,null,null,null,null,null,null,null,null,null,null,null,"[0%-100%]"]
[null,null,null,null,"60 L",null,null,null,null,null,null,null,null,null,null,null,null,null,null,null,null,null,null,null,null,null,null,null,null,null,null,null,null,null,null,null,null,null,null,null,null,null,null,null,null,null,null,null,null,null,null,null,null,null,null,null,null,null,null,null,null,null,null,null,null,null,null,null,null,null,null,null,null,null,null,null,null,null,null,null,null,null,null,null,null,null,null,null,null,null,null,null,null,null,null,null,null,null,null,null,null,null,null,null,null,null,null,"Fiscais",null,null,null,null,null,null,null,null,null,null,null,null,null,null,null,"[0%-100%]"]
[null,null,null,null,"80 L"]
[null,null,null,null,"90 L"]
[null,null,null,null,"120 L",null,null,null,null,null,null,null,null,null,null,null,null,null,null,null,null,null,null,null,null,null,null,null,null,null,null,null,null,null,null,null,null,null,null,null,null,null,null,null,null,null,null,null,null,null,null,null,null,null,null,null,null,null,null,null,null,null,null,null,null,null,null,null,null,null,null,null,null,null,null,null,null,null,null,null,null,null,null,null,null,null,null,null,null,null,null,null,null,null,null,null,null,null,null,null,null,null,null,null,null,null,"Comunicação e sensibilização"]
[null,null,null,null,"140 L"]
[null,null,null,null,"240 L"]
[null,null,null,null,"360 L",null,null,null,null,null,null,null,null,null,null,null,null,null,null,null,null,null,null,null,null,null,null,null,null,null,null,null,null,null,null,null,null,null,null,null,null,null,null,null,null,null,null,null,null,null,null,null,null,null,null,null,null,null,null,null,null,null,null,null,null,null,null,null,null,null,null,null,null,null,null,null,null,null,null,null,null,null,null,null,null,null,null,null,null,null,null,null,null,null,null,null,null,null,null,null,null,null,null,null,null,null,null,null,"Ano de análise",null,null,null,null,{"$f":"+J15","v":0},null,null,"[campo automático]"]
[null,null,null,null,null,null,null,"total",{"$f":"+SUM(I110:L118)","v":0},null,null,null,null,null,null,null,null,null,null,null,null,null,null,null,null,null,null,null,null,null,null,null,null,null,null,null,null,null,null,null,null,null,null,null,null,null,null,null,null,null,null,null,null,null,null,null,null,null,null,null,null,null,null,null,null,null,null,null,null,null,null,null,null,null,null,null,null,null,null,null,null,null,null,null,null,null,null,null,null,null,null,null,null,null,null,null,null,null,null,null,null,null,null,null,null,null,null,null,"nº habitantes abrangidos",null,null,null,null,null,null,null,null,null,null,null,null,null,"[campo automático]",{"$f":"IFERROR(HLOOKUP(DJ118,Prod_RU!H35:N38,3,0),0)","v":0}]
[null,null,null,null,null,null,null,null,null,null,null,null,null,null,null,null,null,null,null,null,null,null,null,null,null,null,null,null,null,null,null,null,null,null,null,null,null,null,null,null,null,null,null,null,null,null,null,null,null,null,null,null,null,null,null,null,null,null,null,null,null,null,null,null,null,null,null,null,null,null,null,null,null,null,null,null,null,null,null,null,null,null,null,null,null,null,null,null,null,null,null,null,null,null,null,null,null,null,null,null,null,null,null,null,null,null,null,null,"Conceção das campanhas"]
[null,null,null,null,"- Contentores coletivos em condomínios",null,null,null,null,null,null,null,null,null,null,null,null,null,"nº de fogos abrangidos",null,null,null,null,null,null,null,null,null,null,null,null,null,null,null,null,null,null,null,null,null,null,null,null,null,null,null,null,null,null,null,null,null,null,null,null,null,null,null,null,null,null,null,null,null,null,null,null,null,null,null,null,null,null,null,null,null,null,null,null,null,null,null,null,null,null,null,null,null,null,null,null,null,null,null,null,null,null,null,null,null,null,null,null,null,null,null,null,null,null,"indicador horas/habitante",null,null,null,null,null,null,null,null,null,null,null,null,null,null,null,null,"valor de referência ",null,null,null,null,null,"[0,06 - 0,18]"]
[null,null,null,null,null,null,null,null,null,null,null,null,null,null,null,null,null,null,null,null,null,null,null,null,null,null,null,null,null,null,null,null,null,null,null,null,null,null,null,null,null,null,null,null,null,null,null,null,null,null,null,null,null,null,null,null,null,null,null,null,null,null,null,null,null,null,null,null,null,null,null,null,null,null,null,null,null,null,null,null,null,null,null,null,null,null,null,null,null,null,null,null,null,null,null,null,null,null,null,null,null,null,null,null,null,null,null,null,null,"nº estimado horas (h)",null,null,null,null,null,null,null,null,null,null,null,null,"[campo automático]",{"$f":"IFERROR(DT121*DT119,0)","v":0}]
[null,null,null,null,"Capacidade",null,null,null,"nº",null,null,null,null,null,null,null,null,null,null,null,null,null,null,null,null,null,null,null,null,null,null,null,null,null,null,null,null,null,null,null,null,null,null,null,null,null,null,null,null,null,null,null,null,null,null,null,null,null,null,null,null,null,null,null,null,null,null,null,null,null,null,null,null,null,null,null,null,null,null,null,null,null,null,null,null,null,null,null,null,null,null,null,null,null,null,null,null,null,null,null,null,null,null,null,null,null,null,null,"Folhetos",null,null,null,null,null,null,null,null,null,null,null,null,null,null,null,null,null,"nº de unidades"]
[null,null,null,null,"240 L",null,null,null,null,null,null,null,null,null,null,null,null,null,null,null,null,null,null,null,null,null,null,null,null,null,null,null,null,null,null,null,null,null,null,null,null,null,null,null,null,null,null,null,null,null,null,null,null,null,null,null,null,null,null,null,null,null,null,null,null,null,null,null,null,null,null,null,null,null,null,null,null,null,null,null,null,null,null,null,null,null,null,null,null,null,null,null,null,null,null,null,null,null,null,null,null,null,null,null,null,null,null,null,"Posters",null,null,null,null,null,null,null,null,null,null,null,null,null,null,null,null,null,"nº de unidades"]
[null,null,null,null,"360 L",null,null,null,null,null,null,null,null,null,null,null,null,null,null,null,null,null,null,null,null,null,null,null,null,null,null,null,null,null,null,null,null,null,null,null,null,null,null,null,null,null,null,null,null,null,null,null,null,null,null,null,null,null,null,null,null,null,null,null,null,null,null,null,null,null,null,null,null,null,null,null,null,null,null,null,null,null,null,null,null,null,null,null,null,null,null,null,null,null,null,null,null,null,null,null,null,null,null,null,null,null,null,null,"Placards",null,null,null,null,null,null,null,null,null,null,null,null,null,null,null,null,null,"nº de unidades"]
[null,null,null,null,"800 L",null,null,null,null,null,null,null,null,null,null,null,null,null,null,null,null,null,null,null,null,null,null,null,null,null,null,null,null,null,null,null,null,null,null,null,null,null,null,null,null,null,null,null,null,null,null,null,null,null,null,null,null,null,null,null,null,null,null,null,null,null,null,null,null,null,null,null,null,null,null,null,null,null,null,null,null,null,null,null,null,null,null,null,null,null,null,null,null,null,null,null,null,null,null,null,null,null,null,null,null,null,null,null,"Outdoors",null,null,null,null,null,null,null,null,null,null,null,null,null,null,null,null,null,"nº de unidades"]
[null,null,null,null,"1 000 L",null,null,null,null,null,null,null,null,null,null,null,null,null,null,null,null,null,null,null,null,null,null,null,null,null,null,null,null,null,null,null,null,null,null,null,null,null,null,null,null,null,null,null,null,null,null,null,null,null,null,null,null,null,null,null,null,null,null,null,null,null,null,null,null,null,null,null,null,null,null,null,null,null,null,null,null,null,null,null,null,null,null,null,null,null,null,null,null,null,null,null,null,null,null,null,null,null,null,null,null,null,null,null,"Jornais locais/regionais",null,null,null,null,null,null,null,null,null,null,null,null,null,null,null,null,null,"nº de unidades"]
[null,null,null,null,"1 100 L"]
[null,null,null,null,null,null,null,"total",{"$f":"+SUM(I124:K128)","v":0}]
[]
[null,null,null,"B2. Sistema de medição por peso"]
[null,null,null,null,"- Sacos com etiquetas RFID",null,null,null,null,null,null,null,null,null,null,null,"nº de fogos abrangidos",null,null,null,null,null,null,null,null,null,null,null,"Contentores não instrumentados para apoio à solução PAYT através de sacos"]
[]
[null,null,null,null,"Capacidade",null,null,null,"nº (por ano)",null,null,null,null,null,null,null,null,null,null,null,null,null,null,null,null,null,null,"Capacidade",null,null,null,"Cont. de superfície ",null,null,null,null,null,"Cont. semi-enterrados",null,null,null,null,null,"Cont. enterrados"]
[null,null,null,null,"15 L",null,null,null,null,null,null,null,null,null,null,null,null,null,null,null,null,null,null,null,null,null,null,null,null,null,null,"nº",null,null,null,null,null,"nº",null,null,null,null,null,"nº"]
[null,null,null,null,"30 L",null,null,null,null,null,null,null,null,null,null,null,null,null,null,null,null,null,null,null,null,null,null,"40 L"]
[null,null,null,null,"50 L",null,null,null,null,null,null,null,null,null,null,null,null,null,null,null,null,null,null,null,null,null,null,"50 L"]
[null,null,null,null,null,null,null,"total",{"$f":"+SUM(I135:L137)","v":0},null,null,null,null,null,null,null,null,null,null,null,null,null,null,null,null,null,null,"60 L"]
[null,null,null,null,null,null,null,null,null,null,null,null,null,null,null,null,null,null,null,null,null,null,null,null,null,null,null,"80 L"]
[null,null,null,null,"- Sacos com RFID incorporados",null,null,null,null,null,null,null,null,null,null,null,null,"nº de fogos abrangidos",null,null,null,null,null,null,null,null,null,"90 L"]
[null,null,null,null,null,null,null,null,null,null,null,null,null,null,null,null,null,null,null,null,null,null,null,null,null,null,null,"110 L"]
[null,null,null,null,"Capacidade",null,null,null,"nº (por ano)",null,null,null,null,null,null,null,null,null,null,null,null,null,null,null,null,null,null,"120 L"]
[null,null,null,null,"15 L",null,null,null,null,null,null,null,null,null,null,null,null,null,null,null,null,null,null,null,null,null,null,"140 L"]
[null,null,null,null,"30 L",null,null,null,null,null,null,null,null,null,null,null,null,null,null,null,null,null,null,null,null,null,null,"240 L"]
[null,null,null,null,"50 L",null,null,null,null,null,null,null,null,null,null,null,null,null,null,null,null,null,null,null,null,null,null,"360 L"]
[null,null,null,null,null,null,null,"total",{"$f":"+SUM(I143:L145)","v":0},null,null,null,null,null,null,null,null,null,null,null,null,null,null,null,null,null,null,"800 L"]
[null,null,null,null,null,null,null,null,null,null,null,null,null,null,null,null,null,null,null,null,null,null,null,null,null,null,null,"1 000 L"]
[null,null,null,null,null,null,null,null,null,null,null,null,null,null,null,null,null,null,null,null,null,null,null,null,null,null,null,"1 100 L"]
[null,null,null,null,null,null,null,null,null,null,null,null,null,null,null,null,null,null,null,null,null,null,null,null,null,null,null,"3 000 L"]
[null,null,null,null,null,null,null,null,null,null,null,null,null,null,null,null,null,null,null,null,null,null,null,null,null,null,null,"3 200 L"]
[null,null,null,null,null,null,null,null,null,null,null,null,null,null,null,null,null,null,null,null,null,null,null,null,null,null,null,"4 000 L"]
[null,null,null,null,null,null,null,null,null,null,null,null,null,null,null,null,null,null,null,null,null,null,null,null,null,null,null,"5 000 L"]
[null,null,null,null,null,null,null,null,null,null,null,null,null,null,null,null,null,null,null,null,null,null,null,null,null,null,null,"total",null,null,null,{"$f":"+SUM(AF136:AK152)","v":0},null,null,null,null,null,{"$f":"+SUM(AL136:AQ152)","v":0},null,null,null,null,null,{"$f":"+SUM(AR136:AW152)","v":0}]
[]
[null,null,null,null,"- Contentores individuais com RFID",null,null,null,null,null,null,null,null,null,null,null,null,"nº de fogos abrangidos"]
[]
[null,null,null,null,"Capacidade",null,null,null,"nº"]
[null,null,null,null,"40 L"]
[null,null,null,null,"50 L"]
[null,null,null,null,"60 L"]
[null,null,null,null,"80 L"]
[null,null,null,null,"90 L"]
[null,null,null,null,"120 L"]
[null,null,null,null,"140 L"]
[null,null,null,null,"240 L"]
[null,null,null,null,"360 L"]
[null,null,null,null,null,null,null,"total",{"$f":"+SUM(I158:L166)","v":0}]
[]
[null,null,null,null,"- Contentores coletivos em condomínios",null,null,null,null,null,null,null,null,null,null,null,null,null,"nº de fogos abrangidos"]
[]
[null,null,null,null,"Capacidade",null,null,null,"nº"]
[null,null,null,null,"800 L"]
[null,null,null,null,"1 000 L"]
[null,null,null,null,"1 100 L"]
[null,null,null,null,null,null,null,"total",{"$f":"+SUM(I172:K174)","v":0}]

{"sheet":"Modelação de custos PAYT","index":6,"n_rows":35,"n_cols":12,"rows_kept":35,"cut":false,"hidden":false,"merged":[[7,1,8,5],[7,8,8,12]]}
[]
[]
[]
[]
[]
[]
[]
[null,"Custos",null,null,null,null,null,null,"Receitas"]
[]
[]
[null,null,"Rendas de edifícios",null,"€/ano",null,null,null,null,"Receitas com serviços auxiliares",null,"€/ano"]
[null,null,"Aluguer de edifícios",null,"€/ano",null,null,null,null,"Receitas (p.ex. prestações de serviços a outras EG)",null,"€/ano"]
[null,null,"Comunicações",null,"€/ano",null,null,null,null,"Subsídios ",null,"€/ano"]
[null,null,"Comunicações associadas aos sistemas de instrumentação",null,"€/ano"]
[null,null,"Seguros gerais",null,"€/ano"]
[null,null,"Seguros de frota",null,"€/ano"]
[null,null,"Honorários",null,"€/ano"]
[null,null,"Conservação e reparação"]
[null,null,"Contentores",null,"[2-5%]"]
[null,null,"Viaturas",null,"[4-6%]"]
[null,null,"Construção civil",null,"[1-2%]"]
[null,null,"Custos com serviços auxiliares",null,"€/ano"]
[null,null,"Custos com pessoal"]
[null,null,"Encarregado",null,"[€/pessoa.ano]"]
[null,null,"Motorista",null,"[€/pessoa.ano]"]
[null,null,"Ajudante",null,"[€/pessoa.ano]"]
[null,null,"Técnico especializado",null,"[€/pessoa.ano]"]
[null,null,"Fiscal",null,"[€/pessoa.ano]"]
[null,null,"Pessoal de enquadramento",null,"[10% dos custos com pessoal direto]"]
[null,null,"Custos com subcontratos",null,"€/ano"]
[null,null,"Custos com trabalhos especializados",null,"€/ano"]
[null,null,"Custos com publicidade e propaganda",null,"€/ano"]
[null,null,"Custos financeiros",null,"€/ano"]
[null,null,"Outros (eletricidade, água,limpeza, utilização de inst comuns, etc.)",null,"[3% - 5% dos custos totais]"]
[null,null,"Custo anual com a entidade gestora em alta",null,"€/ano"]

{"sheet":"Modelação do sist SAYT_RAYT","index":7,"n_rows":146,"n_cols":105,"rows_kept":146,"cut":false,"hidden":false,"merged":[[131,16,131,19],[131,20,131,23],[130,4,132,7],[130,8,130,23],[130,24,132,26],[131,8,131,11],[131,12,131,15],[122,20,122,23],[123,8,123,11],[123,12,123,15],[123,16,123,19],[123,20,123,23],[124,8,124,11],[124,12,124,15],[124,16,124,19],[124,20,124,23],[125,8,125,11],[126,8,126,11],[125,4,125,7],[132,8,132,11],[132,12,132,15],[132,16,132,19],[132,20,132,23],[126,12,126,15],[107,24,107,27],[108,12,108,15],[108,16,108,19],[108,20,108,23],[108,24,108,27],[114,20,114,23],[114,24,114,27],[111,12,111,15],[111,16,111,19],[111,20,111,23],[111,24,111,27],[112,12,112,15],[112,16,112,19],[112,20,112,23],[112,24,112,27],[113,12,113,15],[113,16,113,19],[113,20,113,23],[113,24,113,27],[114,12,114,15],[114,16,114,19],[73,49,73,51],[70,40,70,42],[70,43,70,45],[70,46,70,48],[70,49,70,51],[68,46,68,48],[68,49,68,51],[66,49,66,51],[64,46,64,48],[64,49,64,51],[74,7,74,9],[74,10,74,12],[74,13,74,15],[74,16,74,18],[74,19,74,21],[74,22,74,24],[73,31,73,33],[73,37,73,39],[73,40,73,42],[74,25,74,27],[74,28,74,30],[74,31,74,33],[74,34,74,36],[74,37,74,39],[74,40,74,42],[73,4,73,6],[73,10,73,12],[73,13,73,15],[73,19,73,21],[73,22,73,24],[73,28,73,30],[71,46,71,48],[71,49,71,51],[72,4,72,6],[72,13,72,15],[72,22,72,24],[72,31,72,33],[72,40,72,42],[72,43,72,45],[72,46,72,48],[72,49,72,51],[71,4,71,6],[71,13,71,15],[71,22,71,24],[71,31,71,33],[71,40,71,42],[71,43,71,45],[73,43,73,45],[73,46,73,48],[69,4,69,6],[69,7,69,9],[69,16,69,18],[69,25,69,27],[69,34,69,36],[69,43,69,45],[69,46,69,48],[69,49,69,51],[68,4,68,6],[68,7,68,9],[68,16,68,18],[68,25,68,27],[68,34,68,36],[68,43,68,45],[67,4,67,6],[67,7,67,9],[67,16,67,18],[67,25,67,27],[67,34,67,36],[67,43,67,45],[67,46,67,48],[67,49,67,51],[65,40,65,42],[65,43,65,45],[65,46,65,48],[65,49,65,51],[66,4,66,6],[66,7,66,9],[66,16,66,18],[66,25,66,27],[66,34,66,36],[66,43,66,45],[65,4,65,6],[65,7,65,9],[65,13,65,15],[65,16,65,18],[65,22,65,24],[65,25,65,27],[63,4,63,6],[63,7,63,9],[63,13,63,15],[63,16,63,18],[63,22,63,24],[63,25,63,27],[60,43,62,45],[64,34,64,36],[64,13,64,15],[64,16,64,18],[55,36,55,37],[59,7,59,15],[59,16,59,24],[59,25,59,33],[59,34,59,42],[59,43,59,51],[7,1,7,3],[16,1,17,52],[51,46,51,48],[51,49,51,51],[51,7,51,9],[51,10,51,12],[51,13,51,15],[51,16,51,18],[51,19,51,21],[50,22,50,24],[50,28,50,30],[50,31,50,33],[50,37,50,39],[50,40,50,42],[50,43,50,45],[48,49,48,51],[53,23,53,25],[53,34,53,36],[76,15,76,17],[27,17,27,19],[55,15,55,16],[55,22,55,23],[55,28,55,29],[60,4,62,6],[60,7,62,9],[63,31,63,33],[63,34,63,36],[60,10,62,12],[60,13,62,15],[60,16,62,18],[70,4,70,6],[70,10,70,12],[70,13,70,15],[70,19,70,21],[70,22,70,24],[70,28,70,30],[70,31,70,33],[64,4,64,6],[64,7,64,9],[64,22,64,24],[64,25,64,27],[64,31,64,33],[116,4,116,7],[115,4,115,7],[114,4,114,7],[104,4,106,7],[110,8,110,11],[109,8,109,11],[116,8,116,11],[115,8,115,11],[114,8,114,11],[111,4,111,7],[111,8,111,11],[112,4,112,7],[112,8,112,11],[113,4,113,7],[113,8,113,11],[135,4,135,7],[135,8,135,11],[134,4,134,7],[134,8,134,11],[133,12,133,15],[133,16,133,19],[133,20,133,23],[133,24,133,26],[133,4,133,7],[133,8,133,11],[134,12,134,15],[134,16,134,19],[134,20,134,23],[134,24,134,26],[135,12,135,15],[135,16,135,19],[135,20,135,23],[135,24,135,26],[125,71,125,73],[126,4,126,7],[126,71,126,73],[125,12,125,15],[125,16,125,19],[125,20,125,23],[125,24,125,26],[123,71,123,73],[124,4,124,7],[124,71,124,73],[124,24,124,26],[121,4,123,7],[121,8,121,23],[121,24,123,26],[122,8,122,11],[122,12,122,15],[122,16,122,19],[126,24,126,26],[126,16,126,19],[126,20,126,23],[117,8,117,11],[118,71,118,73],[120,71,120,73],[121,71,121,73],[122,71,122,73],[117,12,117,15],[117,16,117,19],[114,54,115,107],[117,61,117,63],[117,20,117,23],[117,24,117,27],[115,12,115,15],[115,16,115,19],[115,20,115,23],[115,24,115,27],[116,12,116,15],[116,16,116,19],[116,20,116,23],[116,24,116,27],[109,69,109,70],[110,66,110,67],[110,69,110,70],[111,66,111,67],[111,69,111,70],[107,4,107,7],[107,8,107,11],[108,66,108,67],[108,4,108,7],[108,8,108,11],[109,66,109,67],[110,4,110,7],[109,4,109,7],[109,12,109,15],[109,16,109,19],[109,20,109,23],[109,24,109,27],[110,12,110,15],[110,16,110,19],[110,20,110,23],[110,24,110,27],[107,12,107,15],[107,16,107,19],[107,20,107,23],[105,54,106,107],[104,8,104,23],[104,24,106,27],[105,8,105,11],[101,79,101,81],[102,76,102,77],[102,79,102,81],[100,55,100,66],[100,67,100,69],[100,76,100,77],[101,76,101,77],[100,14,100,15],[100,22,100,23],[100,30,100,31],[100,38,100,39],[106,20,106,23],[95,96,95,102],[98,55,98,66],[98,67,98,69],[99,55,99,66],[99,67,99,69],[97,67,97,69],[97,72,97,83],[97,84,97,86],[97,87,97,95],[97,96,97,102],[145,4,145,7],[145,8,145,11],[145,12,145,15],[145,16,145,19],[145,20,145,23],[145,24,145,26],[84,55,84,62],[83,55,83,62],[83,63,83,65],[143,24,143,26],[144,4,144,7],[144,8,144,11],[144,12,144,15],[144,16,144,19],[144,20,144,23],[144,24,144,26],[143,4,143,7],[143,8,143,11],[143,12,143,15],[86,55,86,62],[86,63,86,65],[85,55,85,62],[85,63,85,65],[84,63,84,65],[143,16,143,19],[143,20,143,23],[105,12,105,15],[105,16,105,19],[105,20,105,23],[106,8,106,11],[141,16,141,19],[141,20,141,23],[80,55,80,106],[142,8,142,11],[142,12,142,15],[142,16,142,19],[142,20,142,23],[81,61,81,62],[106,12,106,15],[106,16,106,19],[83,98,83,99],[83,68,83,73],[83,74,83,76],[83,77,83,85],[83,86,83,91],[85,102,85,103],[84,102,84,103],[85,98,85,99],[140,4,142,7],[140,8,140,23],[140,24,142,26],[141,8,141,11],[141,12,141,15],[74,61,74,62],[74,64,74,66],[75,61,75,62],[75,64,75,66],[95,24,95,27],[94,55,94,66],[92,61,92,62],[91,55,91,106],[89,54,90,107],[96,67,96,69],[96,72,96,83],[96,84,96,86],[96,87,96,95],[96,96,96,102],[97,55,97,66],[96,55,96,66],[95,55,95,66],[95,67,95,69],[95,72,95,83],[83,8,83,11],[83,12,83,15],[73,61,73,62],[73,64,73,66],[96,8,96,11],[96,12,96,15],[96,16,96,19],[96,20,96,23],[96,24,96,27],[94,20,94,23],[94,24,94,27],[78,54,79,107],[84,68,84,73],[84,74,84,76],[84,77,84,85],[84,86,84,91],[84,98,84,99],[94,67,94,69],[94,72,94,83],[94,84,94,86],[94,87,94,95],[94,96,94,102],[95,84,95,86],[95,87,95,95],[87,20,87,23],[87,24,87,27],[87,4,87,7],[87,8,87,11],[87,12,87,15],[86,12,86,15],[86,16,86,19],[86,20,86,23],[86,24,86,27],[86,4,86,7],[86,8,86,11],[95,4,95,7],[95,8,95,11],[95,12,95,15],[95,16,95,19],[95,20,95,23],[94,4,94,7],[94,8,94,11],[94,12,94,15],[94,16,94,19],[89,4,89,7],[89,8,89,11],[70,37,70,39],[93,4,93,7],[93,8,93,11],[93,12,93,15],[93,16,93,19],[93,20,93,23],[93,24,93,27],[92,4,92,7],[92,8,92,11],[92,12,92,15],[92,16,92,19],[92,20,92,23],[92,24,92,27],[89,12,89,15],[89,16,89,19],[88,16,88,19],[88,20,88,23],[88,24,88,27],[88,4,88,7],[88,8,88,11],[88,12,88,15],[87,16,87,19],[63,90,63,95],[63,96,63,102],[66,46,66,48],[91,4,91,7],[91,8,91,11],[91,12,91,15],[91,16,91,19],[91,20,91,23],[91,24,91,27],[67,96,67,102],[90,4,90,7],[90,8,90,11],[90,12,90,15],[90,16,90,19],[90,20,90,23],[90,24,90,27],[89,20,89,23],[89,24,89,27],[67,56,67,82],[67,83,67,86],[67,87,67,89],[67,90,67,95],[66,90,66,95],[66,96,66,102],[65,90,65,95],[65,96,65,102],[65,56,65,82],[65,83,65,86],[65,87,65,89],[64,90,64,95],[64,96,64,102],[64,83,64,86],[64,87,64,89],[83,20,83,23],[61,83,61,86],[61,87,61,89],[66,56,66,82],[66,83,66,86],[66,87,66,89],[63,40,63,42],[63,43,63,45],[63,46,63,48],[63,49,63,51],[64,40,64,42],[64,43,64,45],[63,87,63,89],[69,87,69,89],[70,55,70,63],[72,61,72,62],[72,64,72,66],[60,46,62,48],[60,49,62,51],[65,31,65,33],[65,34,65,36],[74,43,74,45],[74,46,74,48],[74,49,74,51],[60,87,60,89],[60,90,60,95],[60,96,60,102],[62,90,62,95],[62,96,62,102],[85,4,85,7],[85,8,85,11],[85,12,85,15],[84,12,84,15],[84,16,84,19],[84,20,84,23],[62,56,64,82],[62,83,62,86],[62,87,62,89],[85,16,85,19],[85,20,85,23],[85,24,85,27],[63,83,63,86],[84,8,84,11],[60,19,62,21],[60,22,62,24],[60,25,62,27],[60,28,62,30],[83,16,83,19],[59,96,59,102],[82,4,84,7],[82,8,82,23],[82,24,84,27],[60,83,60,86],[58,87,58,89],[58,90,58,95],[58,96,58,102],[59,56,61,82],[59,83,59,86],[59,87,59,89],[59,90,59,95],[58,83,58,86],[78,14,78,15],[78,22,78,23],[78,30,78,31],[78,38,78,39],[56,56,58,82],[61,90,61,95],[61,96,61,102],[60,31,62,33],[60,34,62,36],[60,37,62,39],[60,40,62,42],[56,83,56,86],[56,87,56,89],[56,90,56,95],[56,96,56,102],[57,83,57,86],[57,87,57,89],[57,90,57,95],[57,96,57,102],[55,83,55,86],[55,87,55,89],[55,90,55,95],[55,96,55,102],[53,56,55,82],[53,83,53,86],[53,87,53,89],[53,90,53,95],[53,96,53,102],[54,83,54,86],[54,87,54,89],[54,90,54,95],[54,96,54,102],[51,40,51,42],[51,43,51,45],[49,83,49,86],[49,87,49,89],[49,90,49,95],[49,96,49,102],[49,4,49,6],[49,13,49,15],[52,83,52,86],[52,87,52,89],[52,90,52,95],[52,96,52,102],[51,22,51,24],[51,25,51,27],[51,28,51,30],[51,31,51,33],[51,34,51,36],[51,37,51,39],[51,83,51,86],[51,87,51,89],[51,90,51,95],[51,96,51,102],[48,96,48,102],[48,4,48,6],[48,13,48,15],[48,22,48,24],[48,31,48,33],[48,40,48,42],[48,43,48,45],[48,46,48,48],[50,83,50,86],[50,87,50,89],[50,90,50,95],[50,96,50,102],[50,4,50,6],[50,10,50,12],[50,13,50,15],[50,19,50,21],[49,31,49,33],[49,40,49,42],[49,43,49,45],[49,46,49,48],[49,49,49,51],[50,56,52,82],[50,46,50,48],[50,49,50,51],[48,83,48,86],[48,87,48,89],[48,90,48,95],[47,19,47,21],[47,22,47,24],[47,28,47,30],[47,31,47,33],[47,37,47,39],[47,40,47,42],[47,56,49,82],[47,83,47,86],[47,87,47,89],[47,90,47,95],[49,22,49,24],[45,25,45,27],[45,34,45,36],[45,43,45,45],[45,46,45,48],[45,49,45,51],[45,83,45,86],[47,96,47,102],[47,4,47,6],[47,10,47,12],[47,13,47,15],[46,90,46,95],[46,96,46,102],[46,4,46,6],[46,7,46,9],[46,16,46,18],[46,25,46,27],[46,34,46,36],[46,43,46,45],[46,46,46,48],[46,49,46,51],[47,43,47,45],[47,46,47,48],[47,49,47,51],[42,90,42,95],[42,96,42,102],[42,4,42,6],[44,96,44,102],[44,4,44,6],[44,7,44,9],[44,16,44,18],[44,25,44,27],[44,34,44,36],[44,43,44,45],[44,46,44,48],[44,49,44,51],[44,56,46,82],[44,83,44,86],[44,87,44,89],[44,90,44,95],[45,87,45,89],[45,90,45,95],[46,83,46,86],[46,87,46,89],[45,96,45,102],[45,4,45,6],[45,7,45,9],[45,16,45,18],[43,87,43,89],[43,90,43,95],[43,96,43,102],[43,4,43,6],[43,7,43,9],[43,16,43,18],[43,25,43,27],[43,34,43,36],[43,43,43,45],[43,83,43,86],[41,96,41,102],[41,4,41,6],[42,34,42,36],[42,40,42,42],[42,43,42,45],[42,46,42,48],[42,49,42,51],[42,7,42,9],[42,13,42,15],[42,16,42,18],[42,22,42,24],[41,7,41,9],[41,13,41,15],[41,16,41,18],[41,22,41,24],[41,25,41,27],[41,31,41,33],[41,83,41,86],[41,87,41,89],[41,90,41,95],[42,25,42,27],[42,31,42,33],[42,83,42,86],[42,87,42,89],[40,43,40,45],[40,46,40,48],[40,49,40,51],[41,56,43,82],[41,34,41,36],[41,40,41,42],[41,43,41,45],[41,46,41,48],[41,49,41,51],[43,46,43,48],[43,49,43,51],[40,96,40,102],[40,4,40,6],[39,7,39,9],[39,16,39,18],[39,25,39,27],[39,34,39,36],[39,43,39,45],[39,46,39,48],[39,83,39,86],[39,87,39,89],[39,90,39,95],[39,96,39,102],[39,4,39,6],[40,7,40,9],[40,13,40,15],[40,16,40,18],[40,22,40,24],[40,25,40,27],[40,31,40,33],[40,83,40,86],[40,87,40,89],[40,90,40,95],[40,34,40,36],[40,40,40,42],[38,96,38,102],[38,4,38,6],[37,25,37,27],[37,34,37,36],[37,43,37,45],[37,46,37,48],[37,49,37,51],[38,56,40,82],[38,49,38,51],[39,49,39,51],[37,90,37,95],[37,96,37,102],[37,4,37,6],[37,7,37,9],[37,16,37,18],[38,7,38,9],[38,16,38,18],[38,25,38,27],[38,34,38,36],[38,43,38,45],[38,46,38,48],[38,83,38,86],[38,87,38,89],[38,90,38,95],[36,87,36,89],[36,90,36,95],[36,96,36,102],[37,83,37,86],[37,87,37,89],[35,83,35,86],[35,87,35,89],[35,90,35,95],[35,96,35,102],[36,83,36,86],[34,37,36,39],[34,40,36,42],[34,43,36,45],[34,46,36,48],[34,49,36,51],[35,56,37,82],[34,19,36,21],[34,22,36,24],[34,25,36,27],[34,28,36,30],[34,31,36,33],[34,34,36,36],[31,96,31,102],[32,56,34,82],[32,83,32,86],[32,87,32,89],[32,90,32,95],[32,96,32,102],[34,90,34,95],[34,96,34,102],[34,4,36,6],[34,7,36,9],[34,10,36,12],[34,13,36,15],[34,16,36,18],[33,16,33,24],[33,25,33,33],[33,34,33,42],[33,43,33,51],[34,83,34,86],[34,87,34,89],[33,83,33,86],[33,87,33,89],[33,90,33,95],[33,96,33,102],[33,7,33,15],[29,96,29,102],[30,83,30,86],[30,87,30,89],[30,90,30,95],[30,96,30,102],[28,83,28,86],[28,87,28,89],[28,90,28,95],[28,96,28,102],[29,15,29,16],[29,22,29,23],[29,28,29,29],[29,36,29,37],[29,56,31,82],[29,83,29,86],[27,83,27,86],[27,87,27,89],[27,90,27,95],[29,87,29,89],[29,90,29,95],[31,83,31,86],[31,87,31,89],[31,90,31,95],[21,90,22,95],[21,96,22,102],[22,6,22,8],[22,20,22,22],[27,96,27,102],[25,90,25,95],[25,96,25,102],[26,56,28,82],[26,83,26,86],[26,87,26,89],[26,90,26,95],[26,96,26,102],[23,90,23,95],[23,96,23,102],[14,9,14,12],[16,54,17,107],[19,2,19,8],[19,55,19,62],[98,18,98,20],[119,26,119,28],[128,26,128,28],[138,26,138,28],[100,79,100,81],[24,6,24,8],[24,20,24,22],[24,83,24,86],[24,87,24,89],[24,90,24,95],[24,96,24,102],[22,33,22,35],[23,56,25,82],[23,83,23,86],[23,87,23,89],[25,83,25,86],[25,87,25,89],[21,56,22,82],[21,83,22,86],[21,87,22,89]]}
[]
[]
[]
[]
[]
[]
[]
[null,"Índice"]
[]
[null,null,null,null,"Recolha seletiva",null,null,null,null,null,null,null,null,null,null,null,null,null,"Viaturas de recolha",null,null,null,null,null,null,null,null,null,null,null,null,null,"Ecocentro",null,null,null,null,null,null,null,null,null,null,null,"Monitorização, tratamento de informação e fiscalização"]
[]
[null,null,null,null,"Pessoal afeto à recolha",null,null,null,null,null,null,null,null,null,null,null,null,null,"Transferência",null,null,null,null,null,null,null,null,null,null,null,null,null,"Comunicação e sensibilização"]
[]
[]
[null,"Ano de referência: ",null,null,null,null,null,null,null,null,null,null,null,null,"Escolher opção"]
[]
[null,"Solução de deposição",null,null,null,null,null,null,null,null,null,null,null,null,null,null,null,null,null,null,null,null,null,null,null,null,null,null,null,null,null,null,null,null,null,null,null,null,null,null,null,null,null,null,null,null,null,null,null,null,null,null,null,null,"Solução de recolha"]
[]
[]
[null,null,"Recolha seletiva",null,null,null,null,null,null,null,null,null,null,null,null,null,null,null,null,null,null,null,null,null,null,null,null,null,null,null,null,null,null,null,null,null,null,null,null,null,null,null,null,null,null,null,null,null,null,null,null,null,null,null,null,"Viaturas de recolha"]
[]
[null,null,"Fluxos recolhidos seletivamente",null,null,null,null,null,null,null,null,null,null,null,null,null,null,null,null,null,null,null,null,null,null,null,null,null,null,null,null,null,null,null,null,null,null,null,null,null,null,null,null,null,null,null,null,null,null,null,null,null,null,null,null,null,"Tipo de viatura",null,null,null,null,null,null,null,null,null,null,null,null,null,null,null,null,null,null,null,null,null,null,null,null,null,null,"Tipo de combustível",null,null,null,"nº",null,null,"Distância percorrida (km/ano)*",null,null,null,null,null,"Consumo*\n(L/100 km // kW/100 km)"]
[null,null,"- Papel-cartão",null,null,null,null,null,null,null,"Escolher opção",null,null,null,null,null,"- Vidro",null,null,null,null,null,null,null,"Escolher opção",null,null,null,null,"- Outros fluxos",null,null,null,null,null,null,null,"Escolher opção"]
[null,null,null,null,null,null,null,null,null,null,null,null,null,null,null,null,null,null,null,null,null,null,null,null,null,null,null,null,null,null,null,null,null,null,null,null,null,null,null,null,null,null,null,null,null,null,null,null,null,null,null,null,null,null,null,null,"5-9 m3 compactação placa - não instrumentadas",null,null,null,null,null,null,null,null,null,null,null,null,null,null,null,null,null,null,null,null,null,null,null,null,null,null,"gasóleo"]
[null,null,"- Plástico",null,null,null,null,null,null,null,"Escolher opção",null,null,null,null,null,"- Biorresíduos",null,null,null,null,null,null,null,"Escolher opção",null,null,null,null,null,null,null,null,null,null,null,null,null,null,null,null,null,null,null,null,null,null,null,null,null,null,null,null,null,null,null,null,null,null,null,null,null,null,null,null,null,null,null,null,null,null,null,null,null,null,null,null,null,null,null,null,null,null,"elétrica"]
[null,null,null,null,null,null,null,null,null,null,null,null,null,null,null,null,null,null,null,null,null,null,null,null,null,null,null,null,null,null,null,null,null,null,null,null,null,null,null,null,null,null,null,null,null,null,null,null,null,null,null,null,null,null,null,null,null,null,null,null,null,null,null,null,null,null,null,null,null,null,null,null,null,null,null,null,null,null,null,null,null,null,null,"gás"]
[null,null,"Esquema de deposição",null,null,null,null,null,null,null,null,null,null,null,null,null,null,null,null,null,null,null,null,null,null,null,null,null,null,null,null,null,null,null,null,null,null,null,null,null,null,null,null,null,null,null,null,null,null,null,null,null,null,null,null,null,"5-9 m3 compactação placa - instrumentadas com leitor chips",null,null,null,null,null,null,null,null,null,null,null,null,null,null,null,null,null,null,null,null,null,null,null,null,null,null,"gasóleo"]
[null,null,"- Contentores coletivos na via pública sem instrumentação",null,null,null,null,null,null,null,null,null,null,null,null,null,null,null,null,null,null,"Escolher opção",null,null,null,null,null,null,null,null,null,null,null,null,null,null,null,null,null,null,null,null,null,null,null,null,null,null,null,null,null,null,null,null,null,null,null,null,null,null,null,null,null,null,null,null,null,null,null,null,null,null,null,null,null,null,null,null,null,null,null,null,null,"elétrica"]
[null,null,null,null,null,null,null,null,null,null,null,null,null,null,null,null,null,null,null,null,null,null,null,null,null,null,null,null,null,null,null,null,null,null,null,null,null,null,null,null,null,null,null,null,null,null,null,null,null,null,null,null,null,null,null,null,null,null,null,null,null,null,null,null,null,null,null,null,null,null,null,null,null,null,null,null,null,null,null,null,null,null,null,"gás"]
[null,null,null,". Nº total de equipamentos:",null,null,null,null,null,null,null,"Papel-cartão",null,null,null,{"$f":"+SUM(H52:P52)","v":0},null,null,"Plástico",null,null,null,{"$f":"+SUM(Q52:Y52)","v":0},null,null,null,"Vidro",null,{"$f":"+SUM(Z52:AH52)","v":0},null,null,null,"Biorresíduos",null,null,null,{"$f":"+SUM(AI52:AQ52)","v":0},null,null,"[campos automáticos]",null,null,null,null,null,null,null,null,null,null,null,null,null,null,null,null,"5-9 m3  compactação placa - instrumentadas com leitor de chips+pesagem em elevador",null,null,null,null,null,null,null,null,null,null,null,null,null,null,null,null,null,null,null,null,null,null,null,null,null,null,"gasóleo"]
[null,null,null,null,null,null,null,null,null,null,null,null,null,null,null,null,null,null,null,null,null,null,null,null,null,null,null,null,null,null,null,null,null,null,null,null,null,null,null,null,null,null,null,null,null,null,null,null,null,null,null,null,null,null,null,null,null,null,null,null,null,null,null,null,null,null,null,null,null,null,null,null,null,null,null,null,null,null,null,null,null,null,null,"elétrica"]
[null,null,null,". Tipologia dos equipamentos:",null,null,null,null,null,null,null,null,null,null,null,null,null,null,null,null,null,null,null,null,null,null,null,null,null,null,null,null,null,null,null,null,null,null,null,null,null,null,null,null,null,null,null,null,null,null,null,null,null,null,null,null,null,null,null,null,null,null,null,null,null,null,null,null,null,null,null,null,null,null,null,null,null,null,null,null,null,null,null,"gás"]
[null,null,null,null,null,null,null,null,null,null,null,null,null,null,null,null,null,null,null,null,null,null,null,null,null,null,null,null,null,null,null,null,null,null,null,null,null,null,null,null,null,null,null,null,null,null,null,null,null,null,null,null,null,null,null,null,"5-9 m3 compactação placa - instrumentadas com leitor de chips+pesagem em chassi",null,null,null,null,null,null,null,null,null,null,null,null,null,null,null,null,null,null,null,null,null,null,null,null,null,null,"gasóleo"]
[null,null,null,null,null,null,null,"Fluxo: Papel-cartão",null,null,null,null,null,null,null,null,"Fluxo: Plástico",null,null,null,null,null,null,null,null,"Fluxo: Vidro",null,null,null,null,null,null,null,null,"Fluxo: Biorresíduos",null,null,null,null,null,null,null,null,"Total",null,null,null,null,null,null,null,null,null,null,null,null,null,null,null,null,null,null,null,null,null,null,null,null,null,null,null,null,null,null,null,null,null,null,null,null,null,null,null,"elétrica"]
[null,null,null,null,"Capacidade",null,null,"Cont. de superfície ",null,null,"Cont. semi-enterrados",null,null,"Cont. enterrados",null,null,"Cont. de superfície ",null,null,"Cont. semi-enterrados",null,null,"Cont. enterrados",null,null,"Cont. de superfície ",null,null,"Cont. semi-enterrados",null,null,"Cont. enterrados",null,null,"Cont. de superfície ",null,null,"Cont. semi-enterrados",null,null,"Cont. enterrados",null,null,"Cont. de superfície ",null,null,"Cont. semi-enterrados",null,null,"Cont. enterrados",null,null,null,null,null,null,null,null,null,null,null,null,null,null,null,null,null,null,null,null,null,null,null,null,null,null,null,null,null,null,null,null,null,"gás"]
[null,null,null,null,null,null,null,null,null,null,null,null,null,null,null,null,null,null,null,null,null,null,null,null,null,null,null,null,null,null,null,null,null,null,null,null,null,null,null,null,null,null,null,null,null,null,null,null,null,null,null,null,null,null,null,null,"15-20 m3 compactação placa - não instrumentadas",null,null,null,null,null,null,null,null,null,null,null,null,null,null,null,null,null,null,null,null,null,null,null,null,null,null,"gasóleo"]
[null,null,null,null,null,null,null,null,null,null,null,null,null,null,null,null,null,null,null,null,null,null,null,null,null,null,null,null,null,null,null,null,null,null,null,null,null,null,null,null,null,null,null,null,null,null,null,null,null,null,null,null,null,null,null,null,null,null,null,null,null,null,null,null,null,null,null,null,null,null,null,null,null,null,null,null,null,null,null,null,null,null,null,"elétrica"]
[null,null,null,null,"240 L",null,null,null,null,null,null,null,null,null,null,null,null,null,null,null,null,null,null,null,null,null,null,null,null,null,null,null,null,null,null,null,null,null,null,null,null,null,null,{"$f":"+H38+Q38+Z38+AI38","v":0},null,null,null,null,null,null,null,null,null,null,null,null,null,null,null,null,null,null,null,null,null,null,null,null,null,null,null,null,null,null,null,null,null,null,null,null,null,null,null,"gás"]
[null,null,null,null,"360 L",null,null,null,null,null,null,null,null,null,null,null,null,null,null,null,null,null,null,null,null,null,null,null,null,null,null,null,null,null,null,null,null,null,null,null,null,null,null,{"$f":"+H39+Q39+Z39+AI39","v":0},null,null,null,null,null,null,null,null,null,null,null,null,"15-20 m3 compactação placa - instrumentadas com leitor chips",null,null,null,null,null,null,null,null,null,null,null,null,null,null,null,null,null,null,null,null,null,null,null,null,null,null,"gasóleo"]
[null,null,null,null,"750 L",null,null,null,null,null,null,null,null,null,null,null,null,null,null,null,null,null,null,null,null,null,null,null,null,null,null,null,null,null,null,null,null,null,null,null,null,null,null,0,null,null,null,null,null,null,null,null,null,null,null,null,null,null,null,null,null,null,null,null,null,null,null,null,null,null,null,null,null,null,null,null,null,null,null,null,null,null,null,"elétrica"]
[null,null,null,null,"800 L",null,null,null,null,null,null,null,null,null,null,null,null,null,null,null,null,null,null,null,null,null,null,null,null,null,null,null,null,null,null,null,null,null,null,null,null,null,null,0,null,null,null,null,null,{"$f":"+N41+W41+AF41+AO41","v":0},null,null,null,null,null,null,null,null,null,null,null,null,null,null,null,null,null,null,null,null,null,null,null,null,null,null,null,null,null,null,null,null,null,"gás"]
[null,null,null,null,"1 000 L",null,null,null,null,null,null,null,null,null,null,null,null,null,null,null,null,null,null,null,null,null,null,null,null,null,null,null,null,null,null,null,null,null,null,null,null,null,null,0,null,null,null,null,null,0,null,null,null,null,null,null,"15-20 m3 compactação placa - instrumentadas com leitor de chips+pesagem em elevador",null,null,null,null,null,null,null,null,null,null,null,null,null,null,null,null,null,null,null,null,null,null,null,null,null,null,"gasóleo"]
[null,null,null,null,"1 100 L",null,null,null,null,null,null,null,null,null,null,null,null,null,null,null,null,null,null,null,null,null,null,null,null,null,null,null,null,null,null,null,null,null,null,null,null,null,null,0,null,null,null,null,null,0,null,null,null,null,null,null,null,null,null,null,null,null,null,null,null,null,null,null,null,null,null,null,null,null,null,null,null,null,null,null,null,null,null,"elétrica"]
[null,null,null,null,"1 500 L",null,null,null,null,null,null,null,null,null,null,null,null,null,null,null,null,null,null,null,null,null,null,null,null,null,null,null,null,null,null,null,null,null,null,null,null,null,null,0,null,null,null,null,null,null,null,null,null,null,null,null,null,null,null,null,null,null,null,null,null,null,null,null,null,null,null,null,null,null,null,null,null,null,null,null,null,null,null,"gás"]
[null,null,null,null,"2 350 L",null,null,null,null,null,null,null,null,null,null,null,null,null,null,null,null,null,null,null,null,null,null,null,null,null,null,null,null,null,null,null,null,null,null,null,null,null,null,0,null,null,null,null,null,null,null,null,null,null,null,null,"15-20 m3 compactação placa - instrumentadas com leitor de chips+pesagem em chassi",null,null,null,null,null,null,null,null,null,null,null,null,null,null,null,null,null,null,null,null,null,null,null,null,null,null,"gasóleo"]
[null,null,null,null,"2 500 L",null,null,null,null,null,null,null,null,null,null,null,null,null,null,null,null,null,null,null,null,null,null,null,null,null,null,null,null,null,null,null,null,null,null,null,null,null,null,0,null,null,null,null,null,null,null,null,null,null,null,null,null,null,null,null,null,null,null,null,null,null,null,null,null,null,null,null,null,null,null,null,null,null,null,null,null,null,null,"elétrica"]
[null,null,null,null,"2 700 L",null,null,null,null,null,null,null,null,null,null,null,null,null,null,null,null,null,null,null,null,null,null,null,null,null,null,null,null,null,null,null,null,null,null,null,null,null,null,0,null,null,null,null,null,null,null,null,null,null,null,null,null,null,null,null,null,null,null,null,null,null,null,null,null,null,null,null,null,null,null,null,null,null,null,null,null,null,null,"gás"]
[null,null,null,null,"3 000 L",null,null,null,null,null,null,null,null,null,null,null,null,null,null,null,null,null,null,null,null,null,null,null,null,null,null,null,null,null,null,null,null,null,null,null,null,null,null,null,null,null,{"$f":"+K48+T48+AC48+AL48","v":0},null,null,0,null,null,null,null,null,null,"15-20 m3 compactação placa c/ grua - não instrumentadas",null,null,null,null,null,null,null,null,null,null,null,null,null,null,null,null,null,null,null,null,null,null,null,null,null,null,"gasóleo"]
[null,null,null,null,"3 200 L",null,null,null,null,null,null,null,null,null,null,null,null,null,null,null,null,null,null,null,null,null,null,null,null,null,null,null,null,null,null,null,null,null,null,null,null,null,null,null,null,null,null,null,null,0,null,null,null,null,null,null,null,null,null,null,null,null,null,null,null,null,null,null,null,null,null,null,null,null,null,null,null,null,null,null,null,null,null,"elétrica"]
[null,null,null,null,"4 000 L",null,null,null,null,null,null,null,null,null,null,null,null,null,null,null,null,null,null,null,null,null,null,null,null,null,null,null,null,null,null,null,null,null,null,null,null,null,null,null,null,null,null,null,null,0,null,null,null,null,null,null,null,null,null,null,null,null,null,null,null,null,null,null,null,null,null,null,null,null,null,null,null,null,null,null,null,null,null,"gás"]
[null,null,null,null,"5 000 L",null,null,null,null,null,null,null,null,null,null,null,null,null,null,null,null,null,null,null,null,null,null,null,null,null,null,null,null,null,null,null,null,null,null,null,null,null,null,null,null,null,0,null,null,0,null,null,null,null,null,null,"15-20 m3 compactação placa c/ grua - instrumentadas com sist. pesagem na grua",null,null,null,null,null,null,null,null,null,null,null,null,null,null,null,null,null,null,null,null,null,null,null,null,null,null,"gasóleo"]
[null,null,null,null,null,null,"sub-total",{"$f":"+SUM(H38:J51)","v":0},null,null,{"$f":"+SUM(K38:M51)","v":0},null,null,{"$f":"+SUM(N38:P51)","v":0},null,null,{"$f":"+SUM(Q38:S51)","v":0},null,null,{"$f":"+SUM(T38:V51)","v":0},null,null,{"$f":"+SUM(W38:Y51)","v":0},null,null,{"$f":"+SUM(Z38:AB51)","v":0},null,null,{"$f":"+SUM(AC38:AE51)","v":0},null,null,{"$f":"+SUM(AF38:AH51)","v":0},null,null,{"$f":"+SUM(AI38:AK51)","v":0},null,null,{"$f":"+SUM(AL38:AN51)","v":0},null,null,{"$f":"+SUM(AO38:AQ51)","v":0},null,null,{"$f":"+SUM(AR38:AT51)","v":0},null,null,{"$f":"+SUM(AU38:AW51)","v":0},null,null,{"$f":"+SUM(AX38:AZ51)","v":0},null,null,null,null,null,null,null,null,null,null,null,null,null,null,null,null,null,null,null,null,null,null,null,null,null,null,null,null,null,null,null,null,null,"elétrica"]
[null,null,null,null,null,null,null,null,null,null,null,null,null,null,null,null,null,null,null,null,null,null,null,null,null,null,null,null,null,null,null,null,null,null,null,null,null,null,null,null,null,null,null,null,null,null,null,null,null,null,null,null,null,null,null,null,null,null,null,null,null,null,null,null,null,null,null,null,null,null,null,null,null,null,null,null,null,null,null,null,null,null,null,"gás"]
[null,null,"- Contentores coletivos na via pública com instrumentação (controlo de acesso)",null,null,null,null,null,null,null,null,null,null,null,null,null,null,null,null,null,null,null,null,null,null,null,null,"Escolher opção",null,null,null,null,null,null,null,null,null,null,"nº de fogos abrangidos",null,null,null,null,null,null,null,null,null,null,null,null,null,null,null,null,null,"15-23 m3 compactação placa carga lateral - não instrumentadas",null,null,null,null,null,null,null,null,null,null,null,null,null,null,null,null,null,null,null,null,null,null,null,null,null,null,"gasóleo"]
[null,null,null,null,null,null,null,null,null,null,null,null,null,null,null,null,null,null,null,null,null,null,null,null,null,null,null,null,null,null,null,null,null,null,null,null,null,null,null,null,null,null,null,null,null,null,null,null,null,null,null,null,null,null,null,null,null,null,null,null,null,null,null,null,null,null,null,null,null,null,null,null,null,null,null,null,null,null,null,null,null,null,null,"elétrica"]
[null,null,null,". Nº total de equipamentos:",null,null,null,null,null,null,null,"Papel-cartão",null,null,null,{"$f":"+SUM(H75:P75)","v":0},null,null,"Plástico",null,null,null,{"$f":"+SUM(Q75:Y75)","v":0},null,null,null,"Vidro",null,{"$f":"+SUM(Z75:AH75)","v":0},null,null,null,"Biorresíduos",null,null,null,{"$f":"+SUM(AI75:AQ75)","v":0},null,null,"[campos automáticos]",null,null,null,null,null,null,null,null,null,null,null,null,null,null,null,null,null,null,null,null,null,null,null,null,null,null,null,null,null,null,null,null,null,null,null,null,null,null,null,null,null,null,null,"gás"]
[null,null,null,null,null,null,null,null,null,null,null,null,null,null,null,null,null,null,null,null,null,null,null,null,null,null,null,null,null,null,null,null,null,null,null,null,null,null,null,null,null,null,null,null,null,null,null,null,null,null,null,null,null,null,null,null,"15-23 m3 compactação placa carga lateral - instrumentadas com leitor chips",null,null,null,null,null,null,null,null,null,null,null,null,null,null,null,null,null,null,null,null,null,null,null,null,null,null,"gasóleo"]
[null,null,null,". Tipologia dos equipamentos:",null,null,null,null,null,null,null,null,null,null,null,null,null,null,null,null,null,null,null,null,null,null,null,null,null,null,null,null,null,null,null,null,null,null,null,null,null,null,null,null,null,null,null,null,null,null,null,null,null,null,null,null,null,null,null,null,null,null,null,null,null,null,null,null,null,null,null,null,null,null,null,null,null,null,null,null,null,null,null,"elétrica"]
[null,null,null,null,null,null,null,null,null,null,null,null,null,null,null,null,null,null,null,null,null,null,null,null,null,null,null,null,null,null,null,null,null,null,null,null,null,null,null,null,null,null,null,null,null,null,null,null,null,null,null,null,null,null,null,null,null,null,null,null,null,null,null,null,null,null,null,null,null,null,null,null,null,null,null,null,null,null,null,null,null,null,null,"gás"]
[null,null,null,null,null,null,null,"Fluxo: Papel-cartão",null,null,null,null,null,null,null,null,"Fluxo: Plástico",null,null,null,null,null,null,null,null,"Fluxo: Vidro",null,null,null,null,null,null,null,null,"Fluxo: Biorresíduos",null,null,null,null,null,null,null,null,"Total",null,null,null,null,null,null,null,null,null,null,null,null,"15-23 m3 compactação placa carga lateral - instrumentadas com leitor de chips+pesagem em elevador",null,null,null,null,null,null,null,null,null,null,null,null,null,null,null,null,null,null,null,null,null,null,null,null,null,null,"gasóleo"]
[null,null,null,null,"Capacidade",null,null,"Cont. de superfície ",null,null,"Cont. semi-enterrados",null,null,"Cont. enterrados",null,null,"Cont. de superfície ",null,null,"Cont. semi-enterrados",null,null,"Cont. enterrados",null,null,"Cont. de superfície ",null,null,"Cont. semi-enterrados",null,null,"Cont. enterrados",null,null,"Cont. de superfície ",null,null,"Cont. semi-enterrados",null,null,"Cont. enterrados",null,null,"Cont. de superfície ",null,null,"Cont. semi-enterrados",null,null,"Cont. enterrados",null,null,null,null,null,null,null,null,null,null,null,null,null,null,null,null,null,null,null,null,null,null,null,null,null,null,null,null,null,null,null,null,null,"elétrica"]
[null,null,null,null,null,null,null,null,null,null,null,null,null,null,null,null,null,null,null,null,null,null,null,null,null,null,null,null,null,null,null,null,null,null,null,null,null,null,null,null,null,null,null,null,null,null,null,null,null,null,null,null,null,null,null,null,null,null,null,null,null,null,null,null,null,null,null,null,null,null,null,null,null,null,null,null,null,null,null,null,null,null,null,"gás"]
[null,null,null,null,null,null,null,null,null,null,null,null,null,null,null,null,null,null,null,null,null,null,null,null,null,null,null,null,null,null,null,null,null,null,null,null,null,null,null,null,null,null,null,null,null,null,null,null,null,null,null,null,null,null,null,null,"15-23 m3 compactação placa carga lateral - instrumentadas com leitor de chips+pesagem em chassi",null,null,null,null,null,null,null,null,null,null,null,null,null,null,null,null,null,null,null,null,null,null,null,null,null,null,"gasóleo"]
[null,null,null,null,"800 L",null,null,null,null,null,null,null,null,null,null,null,null,null,null,null,null,null,null,null,null,null,null,null,null,null,null,null,null,null,null,null,null,null,null,null,null,null,null,{"$f":"+H64+Q64+Z64+AI64","v":0},null,null,null,null,null,{"$f":"+N64+W64+AF64+AO64","v":0},null,null,null,null,null,null,null,null,null,null,null,null,null,null,null,null,null,null,null,null,null,null,null,null,null,null,null,null,null,null,null,null,null,"elétrica"]
[null,null,null,null,"1 000 L",null,null,null,null,null,null,null,null,null,null,null,null,null,null,null,null,null,null,null,null,null,null,null,null,null,null,null,null,null,null,null,null,null,null,null,null,null,null,0,null,null,null,null,null,0,null,null,null,null,null,null,null,null,null,null,null,null,null,null,null,null,null,null,null,null,null,null,null,null,null,null,null,null,null,null,null,null,null,"gás"]
[null,null,null,null,"1 100 L",null,null,null,null,null,null,null,null,null,null,null,null,null,null,null,null,null,null,null,null,null,null,null,null,null,null,null,null,null,null,null,null,null,null,null,null,null,null,0,null,null,null,null,null,0,null,null,null,null,null,null,"Viatura de caixa aberta",null,null,null,null,null,null,null,null,null,null,null,null,null,null,null,null,null,null,null,null,null,null,null,null,null,null,"gasóleo"]
[null,null,null,null,"1 500 L",null,null,null,null,null,null,null,null,null,null,null,null,null,null,null,null,null,null,null,null,null,null,null,null,null,null,null,null,null,null,null,null,null,null,null,null,null,null,0,null,null,null,null,null,null,null,null,null,null,null,null,"Viaturas de apoio",null,null,null,null,null,null,null,null,null,null,null,null,null,null,null,null,null,null,null,null,null,null,null,null,null,null,"gasóleo"]
[null,null,null,null,"2 350 L",null,null,null,null,null,null,null,null,null,null,null,null,null,null,null,null,null,null,null,null,null,null,null,null,null,null,null,null,null,null,null,null,null,null,null,null,null,null,0,null,null,null,null,null,null,null,null,null,null,null,null,"Viatura de lavagem de contentores",null,null,null,null,null,null,null,null,null,null,null,null,null,null,null,null,null,null,null,null,null,null,null,null,null,null,"gasóleo"]
[null,null,null,null,"2 500 L",null,null,null,null,null,null,null,null,null,null,null,null,null,null,null,null,null,null,null,null,null,null,null,null,null,null,null,null,null,null,null,null,null,null,null,null,null,null,0,null,null,null,null,null,null,null,null,null,null,null,null,"* preenchimento obrigatório"]
[null,null,null,null,"2 700 L",null,null,null,null,null,null,null,null,null,null,null,null,null,null,null,null,null,null,null,null,null,null,null,null,null,null,null,null,null,null,null,null,null,null,null,null,null,null,0,null,null,null,null,null,null,null,null,null,null,null,null,null,null,null,null,null,null,null,null,null,null,null,null,null,null,null,null,null,null,null,null,null,"nº de viaturas instrumentadas",null,null,null,null,null,null,null,null,null,{"$f":"+SUM(CJ57:CL65,CJ51:CL53,CJ39:CL47,CJ27:CL35)","v":0},null,null,"[campo automático]"]
[null,null,null,null,"3 000 L",null,null,null,null,null,null,null,null,null,null,null,null,null,null,null,null,null,null,null,null,null,null,null,null,null,null,null,null,null,null,null,null,null,null,null,null,null,null,null,null,null,{"$f":"+K71+T71+AC71+AL71","v":0},null,null,{"$f":"+N71+W71+AF71+AO71","v":0},null,null,null,null,null,"Pessoal afeto à recolha"]
[null,null,null,null,"3 200 L",null,null,null,null,null,null,null,null,null,null,null,null,null,null,null,null,null,null,null,null,null,null,null,null,null,null,null,null,null,null,null,null,null,null,null,null,null,null,null,null,null,null,null,null,0]
[null,null,null,null,"4 000 L",null,null,null,null,null,null,null,null,null,null,null,null,null,null,null,null,null,null,null,null,null,null,null,null,null,null,null,null,null,null,null,null,null,null,null,null,null,null,null,null,null,null,null,null,0,null,null,null,null,null,null,null,null,null,null,null,"nº",null,null,"Afetação"]
[null,null,null,null,"5 000 L",null,null,null,null,null,null,null,null,null,null,null,null,null,null,null,null,null,null,null,null,null,null,null,null,null,null,null,null,null,null,null,null,null,null,null,null,null,null,null,null,null,{"$f":"+K74+T74+AC74+AL74","v":0},null,null,0,null,null,null,null,null,null,"Encarregado",null,null,null,null,null,null,null,null,null,null,"[0%-100%]"]
[null,null,null,null,null,null,"sub-total",{"$f":"+SUM(H64:J74)","v":0},null,null,{"$f":"+SUM(K64:M74)","v":0},null,null,{"$f":"+SUM(N64:P74)","v":0},null,null,{"$f":"+SUM(Q64:S74)","v":0},null,null,{"$f":"+SUM(T64:V74)","v":0},null,null,{"$f":"+SUM(W64:Y74)","v":0},null,null,{"$f":"+SUM(Z64:AB74)","v":0},null,null,{"$f":"+SUM(AC64:AE74)","v":0},null,null,{"$f":"+SUM(AF64:AH74)","v":0},null,null,{"$f":"+SUM(AI64:AK74)","v":0},null,null,{"$f":"+SUM(AL64:AN74)","v":0},null,null,{"$f":"+SUM(AO64:AQ74)","v":0},null,null,{"$f":"+SUM(AR64:AT74)","v":0},null,null,{"$f":"+SUM(AU64:AW74)","v":0},null,null,{"$f":"+SUM(AX64:AZ74)","v":0},null,null,null,null,null,null,"Motorista",null,null,null,null,null,null,null,null,null,null,"[0%-100%]"]
[null,null,null,null,null,null,null,null,null,null,null,null,null,null,null,null,null,null,null,null,null,null,null,null,null,null,null,null,null,null,null,null,null,null,null,null,null,null,null,null,null,null,null,null,null,null,null,null,null,null,null,null,null,null,null,null,"Ajudante",null,null,null,null,null,null,null,null,null,null,"[0%-100%]"]
[null,null,"- Contentores porta-a-porta sem instrumentação",null,null,null,null,null,null,null,null,null,null,null,null,null,null,null,null,"Escolher opção"]
[]
[null,null,null,". Nº total de equipamentos",null,null,null,null,null,null,"Papel-cartão",null,null,null,{"$f":"+I97","v":0},null,null,null,"Plástico",null,null,null,{"$f":"+M97","v":0},null,null,null,"Vidro",null,null,null,{"$f":"+Q97","v":0},null,null,null,"Biorresíduos",null,null,null,{"$f":"+U97","v":0},null,null,"[campos automáticos]",null,null,null,null,null,null,null,null,null,null,null,null,"Ecocentro"]
[]
[null,null,null,". Tipologia dos equipamentos",null,null,null,null,null,null,null,null,null,null,null,null,null,null,null,null,null,null,null,null,null,null,null,null,null,null,null,null,null,null,null,null,null,null,null,null,null,null,null,null,null,null,null,null,null,null,null,null,null,null,null,"[Preencher formulário apenas se Entidade/Município for responsável pela gestão destas infraestruturas]"]
[null,null,null,null,null,null,null,null,null,null,null,null,null,null,null,null,null,null,null,null,null,null,null,null,null,null,null,null,null,null,null,null,null,null,null,null,null,null,null,null,null,null,null,null,null,null,null,null,null,null,null,null,null,null,null,"Nº  de instalações"]
[null,null,null,null,"Capacidade",null,null,null,"Fluxo",null,null,null,null,null,null,null,null,null,null,null,null,null,null,null,"Total",null,null,null,null,null,null,null,null,null,null,null,null,null,null,null,null,null,null,null,null,null,null,null,null,null,null,null,null,null,null,null,null,null,null,null,null,null,null,null,null,null,null,null,null,null,null,null,null,null,null,null,null,null,null,null,null,null,null,null,null,null,null,null,null,null,null,null,null,null,null,"Pessoal"]
[null,null,null,null,null,null,null,null,"Papel-cartão",null,null,null,"Plástico",null,null,null,"Vidro",null,null,null,"Biorresíduos",null,null,null,null,null,null,null,null,null,null,null,null,null,null,null,null,null,null,null,null,null,null,null,null,null,null,null,null,null,null,null,null,null,null,"Contentores",null,null,null,null,null,null,null,"nº",null,null,null,null,"Viaturas",null,null,null,null,null,"nº",null,null,"Distância percorrida (km/ano)",null,null,null,null,null,null,null,null,"Consumo (L/100 km)",null,null,null,null,null,null,null,null,null,null,null,"nº",null,null,null,"Afetação"]
[null,null,null,null,null,null,null,null,"nº",null,null,null,"nº",null,null,null,"nº",null,null,null,"nº",null,null,null,null,null,null,null,null,null,null,null,null,null,null,null,null,null,null,null,null,null,null,null,null,null,null,null,null,null,null,null,null,null,null,"Contentores metálicos 15 m3",null,null,null,null,null,null,null,null,null,null,null,null,"Viatura de transporte",null,null,null,null,null,null,null,null,null,null,null,null,null,null,null,null,null,null,null,null,null,null,null,null,null,null,"Motorista",null,null,null,null,null,null,null,null,"[0%-100%]"]
[null,null,null,null,"10 L",null,null,null,null,null,null,null,null,null,null,null,null,null,null,null,null,null,null,null,{"$f":"+I86+M86+Q86+U86","v":0},null,null,null,null,null,null,null,null,null,null,null,null,null,null,null,null,null,null,null,null,null,null,null,null,null,null,null,null,null,null,"Contentores metálicos 30 m3",null,null,null,null,null,null,null,null,null,null,null,null,null,null,null,null,null,null,null,null,null,null,null,null,null,null,null,null,null,null,null,null,null,null,null,null,null,null,null,"Operador",null,null,null,null,null,null,null,null,"[0%-100%]"]
[null,null,null,null,"40 L",null,null,null,null,null,null,null,null,null,null,null,null,null,null,null,null,null,null,null,{"$f":"+I87+M87+Q87+U87","v":0},null,null,null,null,null,null,null,null,null,null,null,null,null,null,null,null,null,null,null,null,null,null,null,null,null,null,null,null,null,null,"Autocompactadores 20 m3"]
[null,null,null,null,"50 L",null,null,null,null,null,null,null,null,null,null,null,null,null,null,null,null,null,null,null,{"$f":"+I88+M88+Q88+U88","v":0}]
[null,null,null,null,"60 L",null,null,null,null,null,null,null,null,null,null,null,null,null,null,null,null,null,null,null,0]
[null,null,null,null,"80 L",null,null,null,null,null,null,null,null,null,null,null,null,null,null,null,null,null,null,null,0,null,null,null,null,null,null,null,null,null,null,null,null,null,null,null,null,null,null,null,null,null,null,null,null,null,null,null,null,null,"Transferência"]
[null,null,null,null,"90 L",null,null,null,null,null,null,null,null,null,null,null,null,null,null,null,null,null,null,null,0]
[null,null,null,null,"120 L",null,null,null,null,null,null,null,null,null,null,null,null,null,null,null,null,null,null,null,0,null,null,null,null,null,null,null,null,null,null,null,null,null,null,null,null,null,null,null,null,null,null,null,null,null,null,null,null,null,null,"[Preencher formulário apenas se Entidade/Município for responsável pela gestão destas infraestruturas]"]
[null,null,null,null,"140 L",null,null,null,null,null,null,null,null,null,null,null,null,null,null,null,null,null,null,null,0,null,null,null,null,null,null,null,null,null,null,null,null,null,null,null,null,null,null,null,null,null,null,null,null,null,null,null,null,null,null,"Nº  de instalações"]
[null,null,null,null,"240 L",null,null,null,null,null,null,null,null,null,null,null,null,null,null,null,null,null,null,null,0]
[null,null,null,null,"360 L",null,null,null,null,null,null,null,null,null,null,null,null,null,null,null,null,null,null,null,0,null,null,null,null,null,null,null,null,null,null,null,null,null,null,null,null,null,null,null,null,null,null,null,null,null,null,null,null,null,null,"Contentores / Equipamento",null,null,null,null,null,null,null,null,null,null,null,"nº",null,null,null,null,"Viaturas",null,null,null,null,null,null,null,null,null,null,null,"nº",null,null,"Distância percorrida (km/ano)",null,null,null,null,null,null,null,null,"Consumo (L/100 km)"]
[null,null,null,null,"800 L",null,null,null,null,null,null,null,null,null,null,null,null,null,null,null,null,null,null,null,0,null,null,null,null,null,null,null,null,null,null,null,null,null,null,null,null,null,null,null,null,null,null,null,null,null,null,null,null,null,null,"Contentores metálicos 30 m3 aberto",null,null,null,null,null,null,null,null,null,null,null,null,null,null,null,null,"Semi-reboque 90 m3 com piso móvel"]
[null,null,null,null,null,null,null,"total",{"$f":"+SUM(I86:L96)","v":0},null,null,null,{"$f":"+SUM(M86:P96)","v":0},null,null,null,{"$f":"+SUM(Q86:T96)","v":0},null,null,null,{"$f":"+SUM(U86:X96)","v":0},null,null,null,{"$f":"+SUM(Y86:AB96)","v":0},null,null,null,null,null,null,null,null,null,null,null,null,null,null,null,null,null,null,null,null,null,null,null,null,null,null,null,null,null,null,"Contentores metálicos 40 m3 aberto",null,null,null,null,null,null,null,null,null,null,null,null,null,null,null,null,"Trator para semi-reboque piso móvel"]
[null,null,null,null,null,null,null,null,null,null,null,null,null,null,null,null,null,null,null,null,null,null,null,null,null,null,null,null,null,null,null,null,null,null,null,null,null,null,null,null,null,null,null,null,null,null,null,null,null,null,null,null,null,null,null,"Contentores metálicos 30 m3 fechado",null,null,null,null,null,null,null,null,null,null,null,null,null,null,null,null,"Chassis cabina para veículo de transferência"]
[null,null,"- Contentores porta-a-porta com instrumentação (TAG RFID)",null,null,null,null,null,null,null,null,null,null,null,null,null,null,null,null,null,null,null,"Escolher opção",null,null,null,null,null,null,null,null,null,null,null,null,null,null,null,null,null,null,null,null,null,null,null,null,null,null,null,null,null,null,null,null,"Contentores metálicos 40 m3 fechado"]
[null,null,null,null,null,null,null,null,null,null,null,null,null,null,null,null,null,null,null,null,null,null,null,null,null,null,null,null,null,null,null,null,null,null,null,null,null,null,null,null,null,null,null,null,null,null,null,null,null,null,null,null,null,null,null,"Compactador estacionário c/ tremonha de carga",null,null,null,null,null,null,null,null,null,null,null,null,null,null,null,null,"Pessoal"]
[null,null,null,". Nº total de equipamentos",null,null,null,null,null,null,"Papel-cartão",null,null,null,{"$f":"+I118","v":0},null,null,null,"Plástico",null,null,null,{"$f":"+M118","v":0},null,null,null,"Vidro",null,null,null,{"$f":"+Q118","v":0},null,null,null,"Biorresíduos",null,null,null,{"$f":"+U118","v":0},null,null,"[campos automáticos]",null,null,null,null,null,null,null,null,null,null,null,null,null,"Mesa de translação",null,null,null,null,null,null,null,null,null,null,null,null,null,null,null,null,null,null,null,null,"nº",null,null,"Afetação"]
[null,null,null,null,null,null,null,null,null,null,null,null,null,null,null,null,null,null,null,null,null,null,null,null,null,null,null,null,null,null,null,null,null,null,null,null,null,null,null,null,null,null,null,null,null,null,null,null,null,null,null,null,null,null,null,null,null,null,null,null,null,null,null,null,null,null,null,null,null,null,null,null,null,"Motorista",null,null,null,null,null,null,null,null,"[0%-100%]"]
[null,null,null,". Tipologia dos equipamentos",null,null,null,null,null,null,null,null,null,null,null,null,null,null,null,null,null,null,null,null,null,null,null,null,null,null,null,null,null,null,null,null,null,null,null,null,null,null,null,null,null,null,null,null,null,null,null,null,null,null,null,null,null,null,null,null,null,null,null,null,null,null,null,null,null,null,null,null,null,"Operador",null,null,null,null,null,null,null,null,"[0%-100%]"]
[]
[null,null,null,null,"Capacidade",null,null,null,"Fluxo",null,null,null,null,null,null,null,null,null,null,null,null,null,null,null,"Total"]
[null,null,null,null,null,null,null,null,"Papel-cartão",null,null,null,"Plástico",null,null,null,"Vidro",null,null,null,"Biorresíduos",null,null,null,null,null,null,null,null,null,null,null,null,null,null,null,null,null,null,null,null,null,null,null,null,null,null,null,null,null,null,null,null,null,"Monitorização, tratamento de informação e fiscalização"]
[null,null,null,null,null,null,null,null,"nº",null,null,null,"nº",null,null,null,"nº",null,null,null,"nº"]
[null,null,null,null,"40 L",null,null,null,null,null,null,null,null,null,null,null,null,null,null,null,null,null,null,null,{"$f":"+I108+M108+Q108+U108","v":0}]
[null,null,null,null,"50 L",null,null,null,null,null,null,null,null,null,null,null,null,null,null,null,null,null,null,null,{"$f":"+I109+M109+Q109+U109","v":0},null,null,null,null,null,null,null,null,null,null,null,null,null,null,null,null,null,null,null,null,null,null,null,null,null,null,null,null,null,null,null,null,null,null,null,null,null,null,null,null,null,"nº",null,null,"Afetação"]
[null,null,null,null,"60 L",null,null,null,null,null,null,null,null,null,null,null,null,null,null,null,null,null,null,null,0,null,null,null,null,null,null,null,null,null,null,null,null,null,null,null,null,null,null,null,null,null,null,null,null,null,null,null,null,null,null,"Utilizadores com licença de edição",null,null,null,null,null,null,null,null,null,null,null,null,null,null,null,"[0%-100%]"]
[null,null,null,null,"80 L",null,null,null,null,null,null,null,null,null,null,null,null,null,null,null,null,null,null,null,0,null,null,null,null,null,null,null,null,null,null,null,null,null,null,null,null,null,null,null,null,null,null,null,null,null,null,null,null,null,null,"Utilizadores com permissões de consulta",null,null,null,null,null,null,null,null,null,null,null,null,null,null,null,"[0%-100%]"]
[null,null,null,null,"90 L",null,null,null,null,null,null,null,null,null,null,null,null,null,null,null,null,null,null,null,0,null,null,null,null,null,null,null,null,null,null,null,null,null,null,null,null,null,null,null,null,null,null,null,null,null,null,null,null,null,null,"Fiscais",null,null,null,null,null,null,null,null,null,null,null,null,null,null,null,"[0%-100%]"]
[null,null,null,null,"120 L",null,null,null,null,null,null,null,null,null,null,null,null,null,null,null,null,null,null,null,0]
[null,null,null,null,"140 L",null,null,null,null,null,null,null,null,null,null,null,null,null,null,null,null,null,null,null,0]
[null,null,null,null,"240 L",null,null,null,null,null,null,null,null,null,null,null,null,null,null,null,null,null,null,null,0,null,null,null,null,null,null,null,null,null,null,null,null,null,null,null,null,null,null,null,null,null,null,null,null,null,null,null,null,null,"Comunicação e sensibilização"]
[null,null,null,null,"360 L",null,null,null,null,null,null,null,null,null,null,null,null,null,null,null,null,null,null,null,0]
[null,null,null,null,"800 L",null,null,null,null,null,null,null,null,null,null,null,null,null,null,null,null,null,null,null,0]
[null,null,null,null,null,null,null,"total",{"$f":"+SUM(I108:L117)","v":0},null,null,null,{"$f":"+SUM(M108:P117)","v":0},null,null,null,{"$f":"+SUM(Q108:T117)","v":0},null,null,null,{"$f":"+SUM(U108:X117)","v":0},null,null,null,{"$f":"+SUM(Y108:AB117)","v":0},null,null,null,null,null,null,null,null,null,null,null,null,null,null,null,null,null,null,null,null,null,null,null,null,null,null,null,null,null,null,null,"Ano de análise",null,null,null,null,{"$f":"+J15","v":0},null,null,"[campo automático]"]
[null,null,null,null,null,null,null,null,null,null,null,null,null,null,null,null,null,null,null,null,null,null,null,null,null,null,null,null,null,null,null,null,null,null,null,null,null,null,null,null,null,null,null,null,null,null,null,null,null,null,null,null,null,null,null,null,"nº habitantes abrangidos",null,null,null,null,null,null,null,null,null,null,null,null,null,"[campo automático]",{"$f":"IFERROR(HLOOKUP(BJ118,Prod_RU!H35:N38,3,0),0)","v":0}]
[null,null,"- Sacos padronizados para uso em contentores coletivos ou individuais (sem instrumentação)",null,null,null,null,null,null,null,null,null,null,null,null,null,null,null,null,null,null,null,null,null,null,null,null,null,null,null,"Escolher opção",null,null,null,null,null,null,null,null,null,null,null,null,null,null,null,null,null,null,null,null,null,null,null,null,null,"Conceção das campanhas"]
[null,null,null,null,null,null,null,null,null,null,null,null,null,null,null,null,null,null,null,null,null,null,null,null,null,null,null,null,null,null,null,null,null,null,null,null,null,null,null,null,null,null,null,null,null,null,null,null,null,null,null,null,null,null,null,null,null,"indicador horas/habitante",null,null,null,null,null,null,null,null,null,null,null,null,null,null,null,null,"valor de referência ",null,null,null,null,null,"[0,06 - 0,18]"]
[null,null,null,null,"Capacidade",null,null,null,"Fluxo",null,null,null,null,null,null,null,null,null,null,null,null,null,null,null,"Total",null,null,null,null,null,null,null,null,null,null,null,null,null,null,null,null,null,null,null,null,null,null,null,null,null,null,null,null,null,null,null,null,"nº estimado horas (h)",null,null,null,null,null,null,null,null,null,null,null,null,"[campo automático]",{"$f":"IFERROR(BT121*BT119,0)","v":0}]
[null,null,null,null,null,null,null,null,"Papel-cartão",null,null,null,"Plástico",null,null,null,"Vidro",null,null,null,"Biorresíduos",null,null,null,null,null,null,null,null,null,null,null,null,null,null,null,null,null,null,null,null,null,null,null,null,null,null,null,null,null,null,null,null,null,null,null,"Folhetos",null,null,null,null,null,null,null,null,null,null,null,null,null,null,null,null,null,"nº de unidades"]
[null,null,null,null,null,null,null,null,"nº (por ano)",null,null,null,"nº (por ano)",null,null,null,"nº (por ano)",null,null,null,"nº (por ano)",null,null,null,null,null,null,null,null,null,null,null,null,null,null,null,null,null,null,null,null,null,null,null,null,null,null,null,null,null,null,null,null,null,null,null,"Posters",null,null,null,null,null,null,null,null,null,null,null,null,null,null,null,null,null,"nº de unidades"]
[null,null,null,null,"15 L",null,null,null,null,null,null,null,null,null,null,null,null,null,null,null,null,null,null,null,{"$f":"+I125+M125+Q125+U125","v":0},null,null,null,null,null,null,null,null,null,null,null,null,null,null,null,null,null,null,null,null,null,null,null,null,null,null,null,null,null,null,null,"Placards",null,null,null,null,null,null,null,null,null,null,null,null,null,null,null,null,null,"nº de unidades"]
[null,null,null,null,"30 L",null,null,null,null,null,null,null,null,null,null,null,null,null,null,null,null,null,null,null,{"$f":"+I126+M126+Q126+U126","v":0},null,null,null,null,null,null,null,null,null,null,null,null,null,null,null,null,null,null,null,null,null,null,null,null,null,null,null,null,null,null,null,"Outdoors",null,null,null,null,null,null,null,null,null,null,null,null,null,null,null,null,null,"nº de unidades"]
[null,null,null,null,"50 L",null,null,null,null,null,null,null,null,null,null,null,null,null,null,null,null,null,null,null,0,null,null,null,null,null,null,null,null,null,null,null,null,null,null,null,null,null,null,null,null,null,null,null,null,null,null,null,null,null,null,null,"Jornais locais/regionais",null,null,null,null,null,null,null,null,null,null,null,null,null,null,null,null,null,"nº de unidades"]
[]
[null,null,"- Sacos padronizados para uso em contentores coletivos ou individuais (com etiquetas RFID)",null,null,null,null,null,null,null,null,null,null,null,null,null,null,null,null,null,null,null,null,null,null,null,null,null,null,null,"Escolher opção"]
[]
[null,null,null,null,"Capacidade",null,null,null,"Fluxo",null,null,null,null,null,null,null,null,null,null,null,null,null,null,null,"Total"]
[null,null,null,null,null,null,null,null,"Papel-cartão",null,null,null,"Plástico",null,null,null,"Vidro",null,null,null,"Biorresíduos"]
[null,null,null,null,null,null,null,null,"nº (por ano)",null,null,null,"nº (por ano)",null,null,null,"nº (por ano)",null,null,null,"nº (por ano)"]
[null,null,null,null,"15 L",null,null,null,null,null,null,null,null,null,null,null,null,null,null,null,null,null,null,null,{"$f":"+I134+M134+Q134+U134","v":0}]
[null,null,null,null,"30 L",null,null,null,null,null,null,null,null,null,null,null,null,null,null,null,null,null,null,null,{"$f":"+I135+M135+Q135+U135","v":0}]
[null,null,null,null,"50 L",null,null,null,null,null,null,null,null,null,null,null,null,null,null,null,null,null,null,null,0]
[]
[]
[null,null,"- Sacos padronizados para uso em contentores coletivos ou individuais (RFID incorporados)",null,null,null,null,null,null,null,null,null,null,null,null,null,null,null,null,null,null,null,null,null,null,null,null,null,null,null,"Escolher opção"]
[]
[null,null,null,null,"Capacidade",null,null,null,"Fluxo",null,null,null,null,null,null,null,null,null,null,null,null,null,null,null,"Total"]
[null,null,null,null,null,null,null,null,"Papel-cartão",null,null,null,"Plástico",null,null,null,"Vidro",null,null,null,"Biorresíduos"]
[null,null,null,null,null,null,null,null,"nº (por ano)",null,null,null,"nº (por ano)",null,null,null,"nº (por ano)",null,null,null,"nº (por ano)"]
[null,null,null,null,"15 L",null,null,null,null,null,null,null,null,null,null,null,null,null,null,null,null,null,null,null,{"$f":"+I144+M144+Q144+U144","v":0}]
[null,null,null,null,"30 L",null,null,null,null,null,null,null,null,null,null,null,null,null,null,null,null,null,null,null,{"$f":"+I145+M145+Q145+U145","v":0}]
[null,null,null,null,"50 L",null,null,null,null,null,null,null,null,null,null,null,null,null,null,null,null,null,null,null,0]

{"sheet":"Modelação de custos SAYT_RAYT","index":8,"n_rows":35,"n_cols":12,"rows_kept":35,"cut":false,"hidden":false,"merged":[[7,1,8,5],[7,8,8,12]]}
[]
[]
[]
[]
[]
[]
[]
[null,"Custos",null,null,null,null,null,null,"Receitas"]
[]
[]
[null,null,"Rendas de edifícios",null,"€/ano",null,null,null,null,"Receitas provenientes da entrega de recicláveis",null,"€/ano"]
[null,null,"Aluguer de edifícios",null,"€/ano",null,null,null,null,"Receitas (p.ex. prestações de serviços de recolha seletiva a outras entidades)",null,"€/ano"]
[null,null,"Comunicações",null,"€/ano",null,null,null,null,"Subsídios ",null,"€/ano"]
[null,null,"Comunicações associadas aos sistemas de instrumentação",null,"€/ano"]
[null,null,"Seguros gerais",null,"€/ano"]
[null,null,"Seguros de frota",null,"€/ano"]
[null,null,"Honorários",null,"€/ano"]
[null,null,"Conservação e reparação"]
[null,null,"Contentores",null,"[2-5%]"]
[null,null,"Viaturas",null,"[4-6%]"]
[null,null,"Construção civil",null,"[1-2%]"]
[null,null,"Custos com serviços auxiliares",null,"€/ano"]
[null,null,"Custos com pessoal"]
[null,null,"Encarregado",null,"[€/pessoa.ano]"]
[null,null,"Motorista",null,"[€/pessoa.ano]"]
[null,null,"Ajudante",null,"[€/pessoa.ano]"]
[null,null,"Técnico especializado",null,"[€/pessoa.ano]"]
[null,null,"Fiscal",null,"[€/pessoa.ano]"]
[null,null,"Pessoal de enquadramento",null,"% dos custos totais com pessoal direto"]
[null,null,"Custos com subcontratos",null,"€/ano"]
[null,null,"Custos com trabalhos especializados",null,"€/ano"]
[null,null,"Custos com publicidade e propaganda",null,"€/ano"]
[null,null,"Custos financeiros",null,"€/ano"]
[null,null,"Outros (eletricidade, água,limpeza, utilização de inst comuns, etc.)",null,"% dos custos totais"]
[null,null,"Custo anual com a entidade gestora em alta",null,"€/ano"]

{"sheet":"Preços unitários","index":9,"n_rows":78,"n_cols":21,"rows_kept":78,"cut":false,"hidden":false,"merged":[[62,12,63,12],[46,12,47,12],[59,8,60,13],[50,19,51,19],[52,17,52,18],[54,17,54,18],[47,15,48,20],[43,8,44,13],[14,1,15,6],[14,8,15,13],[14,15,15,20],[30,19,31,19],[17,5,18,5],[17,12,18,12],[17,19,18,19],[23,19,24,19],[27,15,28,20],[23,18,24,18]]}
[]
[]
[]
[]
[]
[]
[]
[null,"Índice"]
[]
[null,null,null,null,"Meios de deposição","Ecocentro",null,null,null,null,null,"Software de gestão",{"$f":"+P48","v":"Comunicação e sensibilização"}]
[]
[null,null,null,null,"Meios de recolha","Transferência",null,null,null,null,null,"Combustíveis e pneus"]
[]
[]
[null,"Meios de deposição",null,null,null,null,null,null,"Meios de recolha",null,null,null,null,null,null,"Software de gestão"]
[]
[]
[null,null,null,null,null,"Valor unitário a considerar",null,null,null,null,null,null,"Valor unitário a considerar",null,null,null,null,null,null,"Valor unitário a considerar"]
[]
[null,null,null,"Sacos",null,null,null,null,null,null,"Viaturas"]
[null,null,{"$f":"+IF('Modelação do sist SAYT_RAYT'!Y125>0,\">>>\",\"\")","v":""},{"$f":"+IF(OR('Modelação do sist PAYT'!I86>0,'Modelação do sist PAYT'!BI83>0,'Modelação do sist PAYT'!BM83>0,'Modelação do sist PAYT'!BQ83>0,'Modelação do sist PAYT'!BU83>0),\">>>\",\"\")","v":""},"15 L normal",null,"€",null,{"$f":"+IF(OR(AND(Esq_Atual!$M$127=\"5-9 m3 compactação placa\",Esq_Atual!$W$127=\"gasóleo\"),\nAND(Esq_Atual!$M$128=\"5-9 m3 compactação placa\",Esq_Atual!$W$128=\"gasóleo\"),\nAND(Esq_Atual!$M$129=\"5-9 m3 compactação placa\",Esq_Atual!$W$129=\"gasóleo\"),\nAND(Esq_Atual!$M$130=\"5-9 m3 compactação placa\",Esq_Atual!$W$130=\"gasóleo\"),\nAND(Esq_Atual!$M$131=\"5-9 m3 compactação placa\",Esq_Atual!$W$131=\"gasóleo\"),\nAND(Esq_Atual!$M$132=\"5-9 m3 compactação placa\",Esq_Atual!$W$132=\"gasóleo\"),\nAND(Esq_Atual!$M$133=\"5-9 m3 compactação placa\",Esq_Atual!$W$133=\"gasóleo\"),\nAND(Esq_Atual!$M$134=\"5-9 m3 compactação placa\",Esq_Atual!$W$134=\"gasóleo\"),\nAND(Esq_Atual!$M$135=\"5-9 m3 compactação placa\",Esq_Atual!$W$135=\"gasóleo\"),\nAND(Esq_Atual!$M$136=\"5-9 m3 compactação placa\",Esq_Atual!$W$136=\"gasóleo\"),\nAND(Esq_Atual!$M$137=\"5-9 m3 compactação placa\",Esq_Atual!$W$137=\"gasóleo\"),\nAND(Esq_Atual!$M$138=\"5-9 m3 compactação placa\",Esq_Atual!$W$138=\"gasóleo\"),\nAND(Esq_Atual!$M$139=\"5-9 m3 compactação placa\",Esq_Atual!$W$139=\"gasóleo\"),\nAND(Esq_Atual!$M$140=\"5-9 m3 compactação placa\",Esq_Atual!$W$140=\"gasóleo\"),\nAND(Esq_Atual!$M$141=\"5-9 m3 compactação placa\",Esq_Atual!$W$141=\"gasóleo\"),\nAND(Esq_Atual!$BF$149=\"5-9 m3 compactação placa\",Esq_Atual!$BP$149=\"gasóleo\"),\nAND(Esq_Atual!$BF$150=\"5-9 m3 compactação placa\",Esq_Atual!$BP$150=\"gasóleo\"),\nAND(Esq_Atual!$BF$151=\"5-9 m3 compactação placa\",Esq_Atual!$BP$151=\"gasóleo\"),\nAND(Esq_Atual!$BF$152=\"5-9 m3 compactação placa\",Esq_Atual!$BP$152=\"gasóleo\"),\nAND(Esq_Atual!$BF$153=\"5-9 m3 compactação placa\",Esq_Atual!$BP$153=\"gasóleo\"),\nAND(Esq_Atual!$BF$154=\"5-9 m3 compactação placa\",Esq_Atual!$BP$154=\"gasóleo\"),\nAND(Esq_Atual!$BF$155=\"5-9 m3 compactação placa\",Esq_Atual!$BP$155=\"gasóleo\"),\nAND(Esq_Atual!$BF$156=\"5-9 m3 compactação placa\",Esq_Atual!$BP$156=\"gasóleo\"),\nAND(Esq_Atual!$BF$157=\"5-9 m3 compactação placa\",Esq_Atual!$BP$157=\"gasóleo\"),\nAND(Esq_Atual!$BF$158=\"5-9 m3 compactação placa\",Esq_Atual!$BP$158=\"gasóleo\"),\nAND(Esq_Atual!$BF$159=\"5-9 m3 compactação placa\",Esq_Atual!$BP$159=\"gasóleo\"),\nAND(Esq_Atual!$BF$160=\"5-9 m3 compactação placa\",Esq_Atual!$BP$160=\"gasóleo\"),\nAND(Esq_Atual!$BF$161=\"5-9 m3 compactação placa\",Esq_Atual!$BP$161=\"gasóleo\"),\nAND(Esq_Atual!$BF$162=\"5-9 m3 compactação placa\",Esq_Atual!$BP$162=\"gasóleo\"),\nAND(Esq_Atual!$BF$163=\"5-9 m3 compactação placa\",Esq_Atual!$BP$163=\"gasóleo\"),\nAND(Esq_Atual!$AS$193=\"5-9 m3 compactação placa\",Esq_Atual!$BC$193=\"gasóleo\"),\nAND(Esq_Atual!$AS$194=\"5-9 m3 compactação placa\",Esq_Atual!$BC$194=\"gasóleo\"),\nAND(Esq_Atual!$AS$195=\"5-9 m3 compactação placa\",Esq_Atual!$BC$195=\"gasóleo\")),\">>>\",\"\")","v":""},{"$f":"+IF(OR('Modelação do sist SAYT_RAYT'!CJ24>0,'Modelação do sist SAYT_RAYT'!CJ27>0,'Modelação do sist SAYT_RAYT'!CJ30>0,'Modelação do sist SAYT_RAYT'!CJ33>0),\">>>\",\"\")","v":""},{"$f":"+IF(OR('Modelação do sist PAYT'!EI24>0,'Modelação do sist PAYT'!EI27>0,'Modelação do sist PAYT'!EI30>0,'Modelação do sist PAYT'!EI33>0),\">>>\",\"\")","v":""},"5-9 m3 compactação placa (gasóleo)",null,"€",null,null,{"$f":"+IF('Modelação do sist SAYT_RAYT'!CJ70>0,\">>>\",\"\")","v":""},{"$f":"+IF('Modelação do sist PAYT'!EI70,\">>>\",\"\")","v":""},"Quota anual por viatura recolha",null,"€"]
[null,null,{"$f":"+IF('Modelação do sist SAYT_RAYT'!Y144>0,\">>>\",\"\")","v":""},{"$f":"+IF(OR('Modelação do sist PAYT'!I102>0,'Modelação do sist PAYT'!I143>0),\">>>\",\"\")","v":""},"15 L com chip",null,"€",null,{"$f":"+IF(OR(AND(Esq_Atual!$M$127=\"5-9 m3 compactação placa\",Esq_Atual!$W$127=\"elétrica\"),\nAND(Esq_Atual!$M$128=\"5-9 m3 compactação placa\",Esq_Atual!$W$128=\"elétrica\"),\nAND(Esq_Atual!$M$129=\"5-9 m3 compactação placa\",Esq_Atual!$W$129=\"elétrica\"),\nAND(Esq_Atual!$M$130=\"5-9 m3 compactação placa\",Esq_Atual!$W$130=\"elétrica\"),\nAND(Esq_Atual!$M$131=\"5-9 m3 compactação placa\",Esq_Atual!$W$131=\"elétrica\"),\nAND(Esq_Atual!$M$132=\"5-9 m3 compactação placa\",Esq_Atual!$W$132=\"elétrica\"),\nAND(Esq_Atual!$M$133=\"5-9 m3 compactação placa\",Esq_Atual!$W$133=\"elétrica\"),\nAND(Esq_Atual!$M$134=\"5-9 m3 compactação placa\",Esq_Atual!$W$134=\"elétrica\"),\nAND(Esq_Atual!$M$135=\"5-9 m3 compactação placa\",Esq_Atual!$W$135=\"elétrica\"),\nAND(Esq_Atual!$M$136=\"5-9 m3 compactação placa\",Esq_Atual!$W$136=\"elétrica\"),\nAND(Esq_Atual!$M$137=\"5-9 m3 compactação placa\",Esq_Atual!$W$137=\"elétrica\"),\nAND(Esq_Atual!$M$138=\"5-9 m3 compactação placa\",Esq_Atual!$W$138=\"elétrica\"),\nAND(Esq_Atual!$M$139=\"5-9 m3 compactação placa\",Esq_Atual!$W$139=\"elétrica\"),\nAND(Esq_Atual!$M$140=\"5-9 m3 compactação placa\",Esq_Atual!$W$140=\"elétrica\"),\nAND(Esq_Atual!$M$141=\"5-9 m3 compactação placa\",Esq_Atual!$W$141=\"elétrica\"),\nAND(Esq_Atual!$BF$149=\"5-9 m3 compactação placa\",Esq_Atual!$BP$149=\"elétrica\"),\nAND(Esq_Atual!$BF$150=\"5-9 m3 compactação placa\",Esq_Atual!$BP$150=\"elétrica\"),\nAND(Esq_Atual!$BF$151=\"5-9 m3 compactação placa\",Esq_Atual!$BP$151=\"elétrica\"),\nAND(Esq_Atual!$BF$152=\"5-9 m3 compactação placa\",Esq_Atual!$BP$152=\"elétrica\"),\nAND(Esq_Atual!$BF$153=\"5-9 m3 compactação placa\",Esq_Atual!$BP$153=\"elétrica\"),\nAND(Esq_Atual!$BF$154=\"5-9 m3 compactação placa\",Esq_Atual!$BP$154=\"elétrica\"),\nAND(Esq_Atual!$BF$155=\"5-9 m3 compactação placa\",Esq_Atual!$BP$155=\"elétrica\"),\nAND(Esq_Atual!$BF$156=\"5-9 m3 compactação placa\",Esq_Atual!$BP$156=\"elétrica\"),\nAND(Esq_Atual!$BF$157=\"5-9 m3 compactação placa\",Esq_Atual!$BP$157=\"elétrica\"),\nAND(Esq_Atual!$BF$158=\"5-9 m3 compactação placa\",Esq_Atual!$BP$158=\"elétrica\"),\nAND(Esq_Atual!$BF$159=\"5-9 m3 compactação placa\",Esq_Atual!$BP$159=\"elétrica\"),\nAND(Esq_Atual!$BF$160=\"5-9 m3 compactação placa\",Esq_Atual!$BP$160=\"elétrica\"),\nAND(Esq_Atual!$BF$161=\"5-9 m3 compactação placa\",Esq_Atual!$BP$161=\"elétrica\"),\nAND(Esq_Atual!$BF$162=\"5-9 m3 compactação placa\",Esq_Atual!$BP$162=\"elétrica\"),\nAND(Esq_Atual!$BF$163=\"5-9 m3 compactação placa\",Esq_Atual!$BP$163=\"elétrica\"),\nAND(Esq_Atual!$AS$193=\"5-9 m3 compactação placa\",Esq_Atual!$BC$193=\"elétrica\"),\nAND(Esq_Atual!$AS$194=\"5-9 m3 compactação placa\",Esq_Atual!$BC$194=\"elétrica\"),\nAND(Esq_Atual!$AS$195=\"5-9 m3 compactação placa\",Esq_Atual!$BC$195=\"elétrica\")),\">>>\",\"\")","v":""},{"$f":"+IF(OR('Modelação do sist SAYT_RAYT'!CJ25>0,'Modelação do sist SAYT_RAYT'!CJ28>0,'Modelação do sist SAYT_RAYT'!CJ31>0,'Modelação do sist SAYT_RAYT'!CJ34>0),\">>>\",\"\")","v":""},{"$f":"+IF(OR('Modelação do sist PAYT'!EI25>0,'Modelação do sist PAYT'!EI28>0,'Modelação do sist PAYT'!EI31>0,'Modelação do sist PAYT'!EI34>0),\">>>\",\"\")","v":""},"5-9 m3 compactação placa (elétrica)",null,"€",null,{"$f":"+IF(OR(Esq_Atual!S203>0,Esq_Atual!S204>0),\">>>\",\"\")","v":""},{"$f":"+IF('Modelação do sist SAYT_RAYT'!BO110>0,\">>>\",\"\")","v":""},{"$f":"+IF('Modelação do sist PAYT'!DO110>0,\">>>\",\"\")","v":""},"Quota anual por utilizador com licença de edição",null,"€"]
[null,null,{"$f":"+IF('Modelação do sist SAYT_RAYT'!Y134>0,\">>>\",\"\")","v":""},{"$f":"+IF(OR('Modelação do sist PAYT'!I94>0,'Modelação do sist PAYT'!I135>0),\">>>\",\"\")","v":""},"15 L com etiqueta",null,"€",null,{"$f":"+IF(OR(AND(Esq_Atual!$M$127=\"5-9 m3 compactação placa\",Esq_Atual!$W$127=\"gás\"),\nAND(Esq_Atual!$M$128=\"5-9 m3 compactação placa\",Esq_Atual!$W$128=\"gás\"),\nAND(Esq_Atual!$M$129=\"5-9 m3 compactação placa\",Esq_Atual!$W$129=\"gás\"),\nAND(Esq_Atual!$M$130=\"5-9 m3 compactação placa\",Esq_Atual!$W$130=\"gás\"),\nAND(Esq_Atual!$M$131=\"5-9 m3 compactação placa\",Esq_Atual!$W$131=\"gás\"),\nAND(Esq_Atual!$M$132=\"5-9 m3 compactação placa\",Esq_Atual!$W$132=\"gás\"),\nAND(Esq_Atual!$M$133=\"5-9 m3 compactação placa\",Esq_Atual!$W$133=\"gás\"),\nAND(Esq_Atual!$M$134=\"5-9 m3 compactação placa\",Esq_Atual!$W$134=\"gás\"),\nAND(Esq_Atual!$M$135=\"5-9 m3 compactação placa\",Esq_Atual!$W$135=\"gás\"),\nAND(Esq_Atual!$M$136=\"5-9 m3 compactação placa\",Esq_Atual!$W$136=\"gás\"),\nAND(Esq_Atual!$M$137=\"5-9 m3 compactação placa\",Esq_Atual!$W$137=\"gás\"),\nAND(Esq_Atual!$M$138=\"5-9 m3 compactação placa\",Esq_Atual!$W$138=\"gás\"),\nAND(Esq_Atual!$M$139=\"5-9 m3 compactação placa\",Esq_Atual!$W$139=\"gás\"),\nAND(Esq_Atual!$M$140=\"5-9 m3 compactação placa\",Esq_Atual!$W$140=\"gás\"),\nAND(Esq_Atual!$M$141=\"5-9 m3 compactação placa\",Esq_Atual!$W$141=\"gás\"),\nAND(Esq_Atual!$BF$149=\"5-9 m3 compactação placa\",Esq_Atual!$BP$149=\"gás\"),\nAND(Esq_Atual!$BF$150=\"5-9 m3 compactação placa\",Esq_Atual!$BP$150=\"gás\"),\nAND(Esq_Atual!$BF$151=\"5-9 m3 compactação placa\",Esq_Atual!$BP$151=\"gás\"),\nAND(Esq_Atual!$BF$152=\"5-9 m3 compactação placa\",Esq_Atual!$BP$152=\"gás\"),\nAND(Esq_Atual!$BF$153=\"5-9 m3 compactação placa\",Esq_Atual!$BP$153=\"gás\"),\nAND(Esq_Atual!$BF$154=\"5-9 m3 compactação placa\",Esq_Atual!$BP$154=\"gás\"),\nAND(Esq_Atual!$BF$155=\"5-9 m3 compactação placa\",Esq_Atual!$BP$155=\"gás\"),\nAND(Esq_Atual!$BF$156=\"5-9 m3 compactação placa\",Esq_Atual!$BP$156=\"gás\"),\nAND(Esq_Atual!$BF$157=\"5-9 m3 compactação placa\",Esq_Atual!$BP$157=\"gás\"),\nAND(Esq_Atual!$BF$158=\"5-9 m3 compactação placa\",Esq_Atual!$BP$158=\"gás\"),\nAND(Esq_Atual!$BF$159=\"5-9 m3 compactação placa\",Esq_Atual!$BP$159=\"gás\"),\nAND(Esq_Atual!$BF$160=\"5-9 m3 compactação placa\",Esq_Atual!$BP$160=\"gás\"),\nAND(Esq_Atual!$BF$161=\"5-9 m3 compactação placa\",Esq_Atual!$BP$161=\"gás\"),\nAND(Esq_Atual!$BF$162=\"5-9 m3 compactação placa\",Esq_Atual!$BP$162=\"gás\"),\nAND(Esq_Atual!$BF$163=\"5-9 m3 compactação placa\",Esq_Atual!$BP$163=\"gás\"),\nAND(Esq_Atual!$AS$193=\"5-9 m3 compactação placa\",Esq_Atual!$BC$193=\"gás\"),\nAND(Esq_Atual!$AS$194=\"5-9 m3 compactação placa\",Esq_Atual!$BC$194=\"gás\"),\nAND(Esq_Atual!$AS$195=\"5-9 m3 compactação placa\",Esq_Atual!$BC$195=\"gás\")),\">>>\",\"\")","v":""},{"$f":"+IF(OR('Modelação do sist SAYT_RAYT'!CJ26>0,'Modelação do sist SAYT_RAYT'!CJ29>0,'Modelação do sist SAYT_RAYT'!CJ32>0,'Modelação do sist SAYT_RAYT'!CJ35>0),\">>>\",\"\")","v":""},{"$f":"+IF(OR('Modelação do sist PAYT'!EI26>0,'Modelação do sist PAYT'!EI29>0,'Modelação do sist PAYT'!EI32>0,'Modelação do sist PAYT'!EI35>0),\">>>\",\"\")","v":""},"5-9 m3 compactação placa (gás)",null,"€",null,null,{"$f":"+IF('Modelação do sist SAYT_RAYT'!AR75>0,\">>>\",\"\")","v":""},{"$f":"+IF(OR('Modelação do sist PAYT'!I44>0,'Modelação do sist PAYT'!I53>0,'Modelação do sist PAYT'!I68>0,'Modelação do sist PAYT'!I78>0),\">>>\",\"\")","v":""},"Quota anual por sist. de controlo de acesso por contentor de superfície",null,"€"]
[null,null,{"$f":"+IF('Modelação do sist SAYT_RAYT'!Y126>0,\">>>\",\"\")","v":""},{"$f":"+IF(OR('Modelação do sist PAYT'!I87>0,'Modelação do sist PAYT'!BI84>0,'Modelação do sist PAYT'!BM84>0,'Modelação do sist PAYT'!BQ84>0,'Modelação do sist PAYT'!BU84>0),\">>>\",\"\")","v":""},"30 L normal",null,"€",null,{"$f":"+IF(OR(AND(Esq_Atual!$M$127=\"15-20 m3 compactação placa\",Esq_Atual!$W$127=\"gasóleo\"),\nAND(Esq_Atual!$M$128=\"15-20 m3 compactação placa\",Esq_Atual!$W$128=\"gasóleo\"),\nAND(Esq_Atual!$M$129=\"15-20 m3 compactação placa\",Esq_Atual!$W$129=\"gasóleo\"),\nAND(Esq_Atual!$M$130=\"15-20 m3 compactação placa\",Esq_Atual!$W$130=\"gasóleo\"),\nAND(Esq_Atual!$M$131=\"15-20 m3 compactação placa\",Esq_Atual!$W$131=\"gasóleo\"),\nAND(Esq_Atual!$M$132=\"15-20 m3 compactação placa\",Esq_Atual!$W$132=\"gasóleo\"),\nAND(Esq_Atual!$M$133=\"15-20 m3 compactação placa\",Esq_Atual!$W$133=\"gasóleo\"),\nAND(Esq_Atual!$M$134=\"15-20 m3 compactação placa\",Esq_Atual!$W$134=\"gasóleo\"),\nAND(Esq_Atual!$M$135=\"15-20 m3 compactação placa\",Esq_Atual!$W$135=\"gasóleo\"),\nAND(Esq_Atual!$M$136=\"15-20 m3 compactação placa\",Esq_Atual!$W$136=\"gasóleo\"),\nAND(Esq_Atual!$M$137=\"15-20 m3 compactação placa\",Esq_Atual!$W$137=\"gasóleo\"),\nAND(Esq_Atual!$M$138=\"15-20 m3 compactação placa\",Esq_Atual!$W$138=\"gasóleo\"),\nAND(Esq_Atual!$M$139=\"15-20 m3 compactação placa\",Esq_Atual!$W$139=\"gasóleo\"),\nAND(Esq_Atual!$M$140=\"15-20 m3 compactação placa\",Esq_Atual!$W$140=\"gasóleo\"),\nAND(Esq_Atual!$M$141=\"15-20 m3 compactação placa\",Esq_Atual!$W$141=\"gasóleo\"),\nAND(Esq_Atual!$BF$149=\"15-20 m3 compactação placa\",Esq_Atual!$BP$149=\"gasóleo\"),\nAND(Esq_Atual!$BF$150=\"15-20 m3 compactação placa\",Esq_Atual!$BP$150=\"gasóleo\"),\nAND(Esq_Atual!$BF$151=\"15-20 m3 compactação placa\",Esq_Atual!$BP$151=\"gasóleo\"),\nAND(Esq_Atual!$BF$152=\"15-20 m3 compactação placa\",Esq_Atual!$BP$152=\"gasóleo\"),\nAND(Esq_Atual!$BF$153=\"15-20 m3 compactação placa\",Esq_Atual!$BP$153=\"gasóleo\"),\nAND(Esq_Atual!$BF$154=\"15-20 m3 compactação placa\",Esq_Atual!$BP$154=\"gasóleo\"),\nAND(Esq_Atual!$BF$155=\"15-20 m3 compactação placa\",Esq_Atual!$BP$155=\"gasóleo\"),\nAND(Esq_Atual!$BF$156=\"15-20 m3 compactação placa\",Esq_Atual!$BP$156=\"gasóleo\"),\nAND(Esq_Atual!$BF$157=\"15-20 m3 compactação placa\",Esq_Atual!$BP$157=\"gasóleo\"),\nAND(Esq_Atual!$BF$158=\"15-20 m3 compactação placa\",Esq_Atual!$BP$158=\"gasóleo\"),\nAND(Esq_Atual!$BF$159=\"15-20 m3 compactação placa\",Esq_Atual!$BP$159=\"gasóleo\"),\nAND(Esq_Atual!$BF$160=\"15-20 m3 compactação placa\",Esq_Atual!$BP$160=\"gasóleo\"),\nAND(Esq_Atual!$BF$161=\"15-20 m3 compactação placa\",Esq_Atual!$BP$161=\"gasóleo\"),\nAND(Esq_Atual!$BF$162=\"15-20 m3 compactação placa\",Esq_Atual!$BP$162=\"gasóleo\"),\nAND(Esq_Atual!$BF$163=\"15-20 m3 compactação placa\",Esq_Atual!$BP$163=\"gasóleo\"),\nAND(Esq_Atual!$AS$193=\"15-20 m3 compactação placa\",Esq_Atual!$BC$193=\"gasóleo\"),\nAND(Esq_Atual!$AS$194=\"15-20 m3 compactação placa\",Esq_Atual!$BC$194=\"gasóleo\"),\nAND(Esq_Atual!$AS$195=\"15-20 m3 compactação placa\",Esq_Atual!$BC$195=\"gasóleo\")),\">>>\",\"\")","v":""},{"$f":"+IF(OR('Modelação do sist SAYT_RAYT'!CJ36>0,'Modelação do sist SAYT_RAYT'!CJ39>0,'Modelação do sist SAYT_RAYT'!CJ42>0,'Modelação do sist SAYT_RAYT'!CJ45>0),\">>>\",\"\")","v":""},{"$f":"+IF(OR('Modelação do sist PAYT'!EI36>0,'Modelação do sist PAYT'!EI39>0,'Modelação do sist PAYT'!EI42>0,'Modelação do sist PAYT'!EI45>0),\">>>\",\"\")","v":""},"15-20 m3 compactação placa (gasóleo)",null,"€",null,null,{"$f":"+IF(OR('Modelação do sist SAYT_RAYT'!AU75>0,'Modelação do sist SAYT_RAYT'!AX75>0),\">>>\",\"\")","v":""},{"$f":"+IF(OR('Modelação do sist PAYT'!R44>0,'Modelação do sist PAYT'!AA44>0,'Modelação do sist PAYT'!R68>0,'Modelação do sist PAYT'!AA68>0),\">>>\",\"\")","v":""},"Quota anual por sist. de controlo de acesso por contentor semi-enterrado / enterrado",null,"€"]
[null,null,{"$f":"+IF('Modelação do sist SAYT_RAYT'!Y145>0,\">>>\",\"\")","v":""},{"$f":"+IF(OR('Modelação do sist PAYT'!I103>0,'Modelação do sist PAYT'!I144>0),\">>>\",\"\")","v":""},"30 L com chip",null,"€",null,{"$f":"+IF(OR(AND(Esq_Atual!$M$127=\"15-20 m3 compactação placa\",Esq_Atual!$W$127=\"elétrica\"),\nAND(Esq_Atual!$M$128=\"15-20 m3 compactação placa\",Esq_Atual!$W$128=\"elétrica\"),\nAND(Esq_Atual!$M$129=\"15-20 m3 compactação placa\",Esq_Atual!$W$129=\"elétrica\"),\nAND(Esq_Atual!$M$130=\"15-20 m3 compactação placa\",Esq_Atual!$W$130=\"elétrica\"),\nAND(Esq_Atual!$M$131=\"15-20 m3 compactação placa\",Esq_Atual!$W$131=\"elétrica\"),\nAND(Esq_Atual!$M$132=\"15-20 m3 compactação placa\",Esq_Atual!$W$132=\"elétrica\"),\nAND(Esq_Atual!$M$133=\"15-20 m3 compactação placa\",Esq_Atual!$W$133=\"elétrica\"),\nAND(Esq_Atual!$M$134=\"15-20 m3 compactação placa\",Esq_Atual!$W$134=\"elétrica\"),\nAND(Esq_Atual!$M$135=\"15-20 m3 compactação placa\",Esq_Atual!$W$135=\"elétrica\"),\nAND(Esq_Atual!$M$136=\"15-20 m3 compactação placa\",Esq_Atual!$W$136=\"elétrica\"),\nAND(Esq_Atual!$M$137=\"15-20 m3 compactação placa\",Esq_Atual!$W$137=\"elétrica\"),\nAND(Esq_Atual!$M$138=\"15-20 m3 compactação placa\",Esq_Atual!$W$138=\"elétrica\"),\nAND(Esq_Atual!$M$139=\"15-20 m3 compactação placa\",Esq_Atual!$W$139=\"elétrica\"),\nAND(Esq_Atual!$M$140=\"15-20 m3 compactação placa\",Esq_Atual!$W$140=\"elétrica\"),\nAND(Esq_Atual!$M$141=\"15-20 m3 compactação placa\",Esq_Atual!$W$141=\"elétrica\"),\nAND(Esq_Atual!$BF$149=\"15-20 m3 compactação placa\",Esq_Atual!$BP$149=\"elétrica\"),\nAND(Esq_Atual!$BF$150=\"15-20 m3 compactação placa\",Esq_Atual!$BP$150=\"elétrica\"),\nAND(Esq_Atual!$BF$151=\"15-20 m3 compactação placa\",Esq_Atual!$BP$151=\"elétrica\"),\nAND(Esq_Atual!$BF$152=\"15-20 m3 compactação placa\",Esq_Atual!$BP$152=\"elétrica\"),\nAND(Esq_Atual!$BF$153=\"15-20 m3 compactação placa\",Esq_Atual!$BP$153=\"elétrica\"),\nAND(Esq_Atual!$BF$154=\"15-20 m3 compactação placa\",Esq_Atual!$BP$154=\"elétrica\"),\nAND(Esq_Atual!$BF$155=\"15-20 m3 compactação placa\",Esq_Atual!$BP$155=\"elétrica\"),\nAND(Esq_Atual!$BF$156=\"15-20 m3 compactação placa\",Esq_Atual!$BP$156=\"elétrica\"),\nAND(Esq_Atual!$BF$157=\"15-20 m3 compactação placa\",Esq_Atual!$BP$157=\"elétrica\"),\nAND(Esq_Atual!$BF$158=\"15-20 m3 compactação placa\",Esq_Atual!$BP$158=\"elétrica\"),\nAND(Esq_Atual!$BF$159=\"15-20 m3 compactação placa\",Esq_Atual!$BP$159=\"elétrica\"),\nAND(Esq_Atual!$BF$160=\"15-20 m3 compactação placa\",Esq_Atual!$BP$160=\"elétrica\"),\nAND(Esq_Atual!$BF$161=\"15-20 m3 compactação placa\",Esq_Atual!$BP$161=\"elétrica\"),\nAND(Esq_Atual!$BF$162=\"15-20 m3 compactação placa\",Esq_Atual!$BP$162=\"elétrica\"),\nAND(Esq_Atual!$BF$163=\"15-20 m3 compactação placa\",Esq_Atual!$BP$163=\"elétrica\"),\nAND(Esq_Atual!$AS$193=\"15-20 m3 compactação placa\",Esq_Atual!$BC$193=\"elétrica\"),\nAND(Esq_Atual!$AS$194=\"15-20 m3 compactação placa\",Esq_Atual!$BC$194=\"elétrica\"),\nAND(Esq_Atual!$AS$195=\"15-20 m3 compactação placa\",Esq_Atual!$BC$195=\"elétrica\")),\">>>\",\"\")","v":""},{"$f":"+IF(OR('Modelação do sist SAYT_RAYT'!CJ37>0,'Modelação do sist SAYT_RAYT'!CJ40>0,'Modelação do sist SAYT_RAYT'!CJ43>0,'Modelação do sist SAYT_RAYT'!CJ46>0),\">>>\",\"\")","v":""},{"$f":"+IF(OR('Modelação do sist PAYT'!EI37>0,'Modelação do sist PAYT'!EI40>0,'Modelação do sist PAYT'!EI43>0,'Modelação do sist PAYT'!EI46>0),\">>>\",\"\")","v":""},"15-20 m3 compactação placa (elétrica)",null,"€",null,null,null,null,null,null,"€"]
[null,null,{"$f":"+IF('Modelação do sist SAYT_RAYT'!Y135>0,\">>>\",\"\")","v":""},{"$f":"+IF(OR('Modelação do sist PAYT'!I95>0,'Modelação do sist PAYT'!I136>0),\">>>\",\"\")","v":""},"30 L com etiqueta",null,"€",null,{"$f":"+IF(OR(AND(Esq_Atual!$M$127=\"15-20 m3 compactação placa\",Esq_Atual!$W$127=\"gás\"),\nAND(Esq_Atual!$M$128=\"15-20 m3 compactação placa\",Esq_Atual!$W$128=\"gás\"),\nAND(Esq_Atual!$M$129=\"15-20 m3 compactação placa\",Esq_Atual!$W$129=\"gás\"),\nAND(Esq_Atual!$M$130=\"15-20 m3 compactação placa\",Esq_Atual!$W$130=\"gás\"),\nAND(Esq_Atual!$M$131=\"15-20 m3 compactação placa\",Esq_Atual!$W$131=\"gás\"),\nAND(Esq_Atual!$M$132=\"15-20 m3 compactação placa\",Esq_Atual!$W$132=\"gás\"),\nAND(Esq_Atual!$M$133=\"15-20 m3 compactação placa\",Esq_Atual!$W$133=\"gás\"),\nAND(Esq_Atual!$M$134=\"15-20 m3 compactação placa\",Esq_Atual!$W$134=\"gás\"),\nAND(Esq_Atual!$M$135=\"15-20 m3 compactação placa\",Esq_Atual!$W$135=\"gás\"),\nAND(Esq_Atual!$M$136=\"15-20 m3 compactação placa\",Esq_Atual!$W$136=\"gás\"),\nAND(Esq_Atual!$M$137=\"15-20 m3 compactação placa\",Esq_Atual!$W$137=\"gás\"),\nAND(Esq_Atual!$M$138=\"15-20 m3 compactação placa\",Esq_Atual!$W$138=\"gás\"),\nAND(Esq_Atual!$M$139=\"15-20 m3 compactação placa\",Esq_Atual!$W$139=\"gás\"),\nAND(Esq_Atual!$M$140=\"15-20 m3 compactação placa\",Esq_Atual!$W$140=\"gás\"),\nAND(Esq_Atual!$M$141=\"15-20 m3 compactação placa\",Esq_Atual!$W$141=\"gás\"),\nAND(Esq_Atual!$BF$149=\"15-20 m3 compactação placa\",Esq_Atual!$BP$149=\"gás\"),\nAND(Esq_Atual!$BF$150=\"15-20 m3 compactação placa\",Esq_Atual!$BP$150=\"gás\"),\nAND(Esq_Atual!$BF$151=\"15-20 m3 compactação placa\",Esq_Atual!$BP$151=\"gás\"),\nAND(Esq_Atual!$BF$152=\"15-20 m3 compactação placa\",Esq_Atual!$BP$152=\"gás\"),\nAND(Esq_Atual!$BF$153=\"15-20 m3 compactação placa\",Esq_Atual!$BP$153=\"gás\"),\nAND(Esq_Atual!$BF$154=\"15-20 m3 compactação placa\",Esq_Atual!$BP$154=\"gás\"),\nAND(Esq_Atual!$BF$155=\"15-20 m3 compactação placa\",Esq_Atual!$BP$155=\"gás\"),\nAND(Esq_Atual!$BF$156=\"15-20 m3 compactação placa\",Esq_Atual!$BP$156=\"gás\"),\nAND(Esq_Atual!$BF$157=\"15-20 m3 compactação placa\",Esq_Atual!$BP$157=\"gás\"),\nAND(Esq_Atual!$BF$158=\"15-20 m3 compactação placa\",Esq_Atual!$BP$158=\"gás\"),\nAND(Esq_Atual!$BF$159=\"15-20 m3 compactação placa\",Esq_Atual!$BP$159=\"gás\"),\nAND(Esq_Atual!$BF$160=\"15-20 m3 compactação placa\",Esq_Atual!$BP$160=\"gás\"),\nAND(Esq_Atual!$BF$161=\"15-20 m3 compactação placa\",Esq_Atual!$BP$161=\"gás\"),\nAND(Esq_Atual!$BF$162=\"15-20 m3 compactação placa\",Esq_Atual!$BP$162=\"gás\"),\nAND(Esq_Atual!$BF$163=\"15-20 m3 compactação placa\",Esq_Atual!$BP$163=\"gás\"),\nAND(Esq_Atual!$AS$193=\"15-20 m3 compactação placa\",Esq_Atual!$BC$193=\"gás\"),\nAND(Esq_Atual!$AS$194=\"15-20 m3 compactação placa\",Esq_Atual!$BC$194=\"gás\"),\nAND(Esq_Atual!$AS$195=\"15-20 m3 compactação placa\",Esq_Atual!$BC$195=\"gás\")),\">>>\",\"\")","v":""},{"$f":"+IF(OR('Modelação do sist SAYT_RAYT'!CJ38>0,'Modelação do sist SAYT_RAYT'!CJ41>0,'Modelação do sist SAYT_RAYT'!CJ44>0,'Modelação do sist SAYT_RAYT'!CJ47>0),\">>>\",\"\")","v":""},{"$f":"+IF(OR('Modelação do sist PAYT'!EI38>0,'Modelação do sist PAYT'!EI41>0,'Modelação do sist PAYT'!EI44>0,'Modelação do sist PAYT'!EI47>0),\">>>\",\"\")","v":""},"15-20 m3 compactação placa (gás)",null,"€"]
[null,null,{"$f":"+IF('Modelação do sist SAYT_RAYT'!Y127>0,\">>>\",\"\")","v":""},{"$f":"+IF(OR('Modelação do sist PAYT'!I88>0,'Modelação do sist PAYT'!BI85>0,'Modelação do sist PAYT'!BM85>0,'Modelação do sist PAYT'!BQ85>0,'Modelação do sist PAYT'!BU85>0),\">>>\",\"\")","v":""},"50 L normal",null,"€",null,{"$f":"+IF(OR(AND(Esq_Atual!$M$127=\"15-20 m3 compactação placa c/ grua\",Esq_Atual!$W$127=\"gasóleo\"),\nAND(Esq_Atual!$M$128=\"15-20 m3 compactação placa c/ grua\",Esq_Atual!$W$128=\"gasóleo\"),\nAND(Esq_Atual!$M$129=\"15-20 m3 compactação placa c/ grua\",Esq_Atual!$W$129=\"gasóleo\"),\nAND(Esq_Atual!$M$130=\"15-20 m3 compactação placa c/ grua\",Esq_Atual!$W$130=\"gasóleo\"),\nAND(Esq_Atual!$M$131=\"15-20 m3 compactação placa c/ grua\",Esq_Atual!$W$131=\"gasóleo\"),\nAND(Esq_Atual!$M$132=\"15-20 m3 compactação placa c/ grua\",Esq_Atual!$W$132=\"gasóleo\"),\nAND(Esq_Atual!$M$133=\"15-20 m3 compactação placa c/ grua\",Esq_Atual!$W$133=\"gasóleo\"),\nAND(Esq_Atual!$M$134=\"15-20 m3 compactação placa c/ grua\",Esq_Atual!$W$134=\"gasóleo\"),\nAND(Esq_Atual!$M$135=\"15-20 m3 compactação placa c/ grua\",Esq_Atual!$W$135=\"gasóleo\"),\nAND(Esq_Atual!$M$136=\"15-20 m3 compactação placa c/ grua\",Esq_Atual!$W$136=\"gasóleo\"),\nAND(Esq_Atual!$M$137=\"15-20 m3 compactação placa c/ grua\",Esq_Atual!$W$137=\"gasóleo\"),\nAND(Esq_Atual!$M$138=\"15-20 m3 compactação placa c/ grua\",Esq_Atual!$W$138=\"gasóleo\"),\nAND(Esq_Atual!$M$139=\"15-20 m3 compactação placa c/ grua\",Esq_Atual!$W$139=\"gasóleo\"),\nAND(Esq_Atual!$M$140=\"15-20 m3 compactação placa c/ grua\",Esq_Atual!$W$140=\"gasóleo\"),\nAND(Esq_Atual!$M$141=\"15-20 m3 compactação placa c/ grua\",Esq_Atual!$W$141=\"gasóleo\"),\nAND(Esq_Atual!$BF$149=\"15-20 m3 compactação placa c/ grua\",Esq_Atual!$BP$149=\"gasóleo\"),\nAND(Esq_Atual!$BF$150=\"15-20 m3 compactação placa c/ grua\",Esq_Atual!$BP$150=\"gasóleo\"),\nAND(Esq_Atual!$BF$151=\"15-20 m3 compactação placa c/ grua\",Esq_Atual!$BP$151=\"gasóleo\"),\nAND(Esq_Atual!$BF$152=\"15-20 m3 compactação placa c/ grua\",Esq_Atual!$BP$152=\"gasóleo\"),\nAND(Esq_Atual!$BF$153=\"15-20 m3 compactação placa c/ grua\",Esq_Atual!$BP$153=\"gasóleo\"),\nAND(Esq_Atual!$BF$154=\"15-20 m3 compactação placa c/ grua\",Esq_Atual!$BP$154=\"gasóleo\"),\nAND(Esq_Atual!$BF$155=\"15-20 m3 compactação placa c/ grua\",Esq_Atual!$BP$155=\"gasóleo\"),\nAND(Esq_Atual!$BF$156=\"15-20 m3 compactação placa c/ grua\",Esq_Atual!$BP$156=\"gasóleo\"),\nAND(Esq_Atual!$BF$157=\"15-20 m3 compactação placa c/ grua\",Esq_Atual!$BP$157=\"gasóleo\"),\nAND(Esq_Atual!$BF$158=\"15-20 m3 compactação placa c/ grua\",Esq_Atual!$BP$158=\"gasóleo\"),\nAND(Esq_Atual!$BF$159=\"15-20 m3 compactação placa c/ grua\",Esq_Atual!$BP$159=\"gasóleo\"),\nAND(Esq_Atual!$BF$160=\"15-20 m3 compactação placa c/ grua\",Esq_Atual!$BP$160=\"gasóleo\"),\nAND(Esq_Atual!$BF$161=\"15-20 m3 compactação placa c/ grua\",Esq_Atual!$BP$161=\"gasóleo\"),\nAND(Esq_Atual!$BF$162=\"15-20 m3 compactação placa c/ grua\",Esq_Atual!$BP$162=\"gasóleo\"),\nAND(Esq_Atual!$BF$163=\"15-20 m3 compactação placa c/ grua\",Esq_Atual!$BP$163=\"gasóleo\"),\nAND(Esq_Atual!$AS$193=\"15-20 m3 compactação placa c/ grua\",Esq_Atual!$BC$193=\"gasóleo\"),\nAND(Esq_Atual!$AS$194=\"15-20 m3 compactação placa c/ grua\",Esq_Atual!$BC$194=\"gasóleo\"),\nAND(Esq_Atual!$AS$195=\"15-20 m3 compactação placa c/ grua\",Esq_Atual!$BC$195=\"gasóleo\")),\">>>\",\"\")","v":""},{"$f":"+IF(OR('Modelação do sist SAYT_RAYT'!CJ48>0,'Modelação do sist SAYT_RAYT'!CJ51>0),\">>>\",\"\")","v":""},{"$f":"+IF(OR('Modelação do sist PAYT'!EI48>0,'Modelação do sist PAYT'!EI51>0),\">>>\",\"\")","v":""},"15-20 m3 compactação placa c/ grua (gasóleo)",null,"€"]
[null,null,{"$f":"+IF('Modelação do sist SAYT_RAYT'!Y146>0,\">>>\",\"\")","v":""},{"$f":"+IF(OR('Modelação do sist PAYT'!I104>0,'Modelação do sist PAYT'!I145>0),\">>>\",\"\")","v":""},"50 L com chip",null,"€",null,{"$f":"+IF(OR(AND(Esq_Atual!$M$127=\"15-20 m3 compactação placa c/ grua\",Esq_Atual!$W$127=\"elétrica\"),\nAND(Esq_Atual!$M$128=\"15-20 m3 compactação placa c/ grua\",Esq_Atual!$W$128=\"elétrica\"),\nAND(Esq_Atual!$M$129=\"15-20 m3 compactação placa c/ grua\",Esq_Atual!$W$129=\"elétrica\"),\nAND(Esq_Atual!$M$130=\"15-20 m3 compactação placa c/ grua\",Esq_Atual!$W$130=\"elétrica\"),\nAND(Esq_Atual!$M$131=\"15-20 m3 compactação placa c/ grua\",Esq_Atual!$W$131=\"elétrica\"),\nAND(Esq_Atual!$M$132=\"15-20 m3 compactação placa c/ grua\",Esq_Atual!$W$132=\"elétrica\"),\nAND(Esq_Atual!$M$133=\"15-20 m3 compactação placa c/ grua\",Esq_Atual!$W$133=\"elétrica\"),\nAND(Esq_Atual!$M$134=\"15-20 m3 compactação placa c/ grua\",Esq_Atual!$W$134=\"elétrica\"),\nAND(Esq_Atual!$M$135=\"15-20 m3 compactação placa c/ grua\",Esq_Atual!$W$135=\"elétrica\"),\nAND(Esq_Atual!$M$136=\"15-20 m3 compactação placa c/ grua\",Esq_Atual!$W$136=\"elétrica\"),\nAND(Esq_Atual!$M$137=\"15-20 m3 compactação placa c/ grua\",Esq_Atual!$W$137=\"elétrica\"),\nAND(Esq_Atual!$M$138=\"15-20 m3 compactação placa c/ grua\",Esq_Atual!$W$138=\"elétrica\"),\nAND(Esq_Atual!$M$139=\"15-20 m3 compactação placa c/ grua\",Esq_Atual!$W$139=\"elétrica\"),\nAND(Esq_Atual!$M$140=\"15-20 m3 compactação placa c/ grua\",Esq_Atual!$W$140=\"elétrica\"),\nAND(Esq_Atual!$M$141=\"15-20 m3 compactação placa c/ grua\",Esq_Atual!$W$141=\"elétrica\"),\nAND(Esq_Atual!$BF$149=\"15-20 m3 compactação placa c/ grua\",Esq_Atual!$BP$149=\"elétrica\"),\nAND(Esq_Atual!$BF$150=\"15-20 m3 compactação placa c/ grua\",Esq_Atual!$BP$150=\"elétrica\"),\nAND(Esq_Atual!$BF$151=\"15-20 m3 compactação placa c/ grua\",Esq_Atual!$BP$151=\"elétrica\"),\nAND(Esq_Atual!$BF$152=\"15-20 m3 compactação placa c/ grua\",Esq_Atual!$BP$152=\"elétrica\"),\nAND(Esq_Atual!$BF$153=\"15-20 m3 compactação placa c/ grua\",Esq_Atual!$BP$153=\"elétrica\"),\nAND(Esq_Atual!$BF$154=\"15-20 m3 compactação placa c/ grua\",Esq_Atual!$BP$154=\"elétrica\"),\nAND(Esq_Atual!$BF$155=\"15-20 m3 compactação placa c/ grua\",Esq_Atual!$BP$155=\"elétrica\"),\nAND(Esq_Atual!$BF$156=\"15-20 m3 compactação placa c/ grua\",Esq_Atual!$BP$156=\"elétrica\"),\nAND(Esq_Atual!$BF$157=\"15-20 m3 compactação placa c/ grua\",Esq_Atual!$BP$157=\"elétrica\"),\nAND(Esq_Atual!$BF$158=\"15-20 m3 compactação placa c/ grua\",Esq_Atual!$BP$158=\"elétrica\"),\nAND(Esq_Atual!$BF$159=\"15-20 m3 compactação placa c/ grua\",Esq_Atual!$BP$159=\"elétrica\"),\nAND(Esq_Atual!$BF$160=\"15-20 m3 compactação placa c/ grua\",Esq_Atual!$BP$160=\"elétrica\"),\nAND(Esq_Atual!$BF$161=\"15-20 m3 compactação placa c/ grua\",Esq_Atual!$BP$161=\"elétrica\"),\nAND(Esq_Atual!$BF$162=\"15-20 m3 compactação placa c/ grua\",Esq_Atual!$BP$162=\"elétrica\"),\nAND(Esq_Atual!$BF$163=\"15-20 m3 compactação placa c/ grua\",Esq_Atual!$BP$163=\"elétrica\"),\nAND(Esq_Atual!$AS$193=\"15-20 m3 compactação placa c/ grua\",Esq_Atual!$BC$193=\"elétrica\"),\nAND(Esq_Atual!$AS$194=\"15-20 m3 compactação placa c/ grua\",Esq_Atual!$BC$194=\"elétrica\"),\nAND(Esq_Atual!$AS$195=\"15-20 m3 compactação placa c/ grua\",Esq_Atual!$BC$195=\"elétrica\")),\">>>\",\"\")","v":""},{"$f":"+IF(OR('Modelação do sist SAYT_RAYT'!CJ49>0,'Modelação do sist SAYT_RAYT'!CJ52>0),\">>>\",\"\")","v":""},{"$f":"+IF(OR('Modelação do sist PAYT'!EI49>0,'Modelação do sist PAYT'!EI52>0),\">>>\",\"\")","v":""},"15-20 m3 compactação placa c/ grua (elétrica)",null,"€",null,"Combustíveis e pneus"]
[null,null,{"$f":"+IF('Modelação do sist SAYT_RAYT'!Y136>0,\">>>\",\"\")","v":""},{"$f":"+IF(OR('Modelação do sist PAYT'!I96>0,'Modelação do sist PAYT'!I137>0),\">>>\",\"\")","v":""},"50 L com etiqueta",null,"€",null,{"$f":"+IF(OR(AND(Esq_Atual!$M$127=\"15-20 m3 compactação placa c/ grua\",Esq_Atual!$W$127=\"gás\"),\nAND(Esq_Atual!$M$128=\"15-20 m3 compactação placa c/ grua\",Esq_Atual!$W$128=\"gás\"),\nAND(Esq_Atual!$M$129=\"15-20 m3 compactação placa c/ grua\",Esq_Atual!$W$129=\"gás\"),\nAND(Esq_Atual!$M$130=\"15-20 m3 compactação placa c/ grua\",Esq_Atual!$W$130=\"gás\"),\nAND(Esq_Atual!$M$131=\"15-20 m3 compactação placa c/ grua\",Esq_Atual!$W$131=\"gás\"),\nAND(Esq_Atual!$M$132=\"15-20 m3 compactação placa c/ grua\",Esq_Atual!$W$132=\"gás\"),\nAND(Esq_Atual!$M$133=\"15-20 m3 compactação placa c/ grua\",Esq_Atual!$W$133=\"gás\"),\nAND(Esq_Atual!$M$134=\"15-20 m3 compactação placa c/ grua\",Esq_Atual!$W$134=\"gás\"),\nAND(Esq_Atual!$M$135=\"15-20 m3 compactação placa c/ grua\",Esq_Atual!$W$135=\"gás\"),\nAND(Esq_Atual!$M$136=\"15-20 m3 compactação placa c/ grua\",Esq_Atual!$W$136=\"gás\"),\nAND(Esq_Atual!$M$137=\"15-20 m3 compactação placa c/ grua\",Esq_Atual!$W$137=\"gás\"),\nAND(Esq_Atual!$M$138=\"15-20 m3 compactação placa c/ grua\",Esq_Atual!$W$138=\"gás\"),\nAND(Esq_Atual!$M$139=\"15-20 m3 compactação placa c/ grua\",Esq_Atual!$W$139=\"gás\"),\nAND(Esq_Atual!$M$140=\"15-20 m3 compactação placa c/ grua\",Esq_Atual!$W$140=\"gás\"),\nAND(Esq_Atual!$M$141=\"15-20 m3 compactação placa c/ grua\",Esq_Atual!$W$141=\"gás\"),\nAND(Esq_Atual!$BF$149=\"15-20 m3 compactação placa c/ grua\",Esq_Atual!$BP$149=\"gás\"),\nAND(Esq_Atual!$BF$150=\"15-20 m3 compactação placa c/ grua\",Esq_Atual!$BP$150=\"gás\"),\nAND(Esq_Atual!$BF$151=\"15-20 m3 compactação placa c/ grua\",Esq_Atual!$BP$151=\"gás\"),\nAND(Esq_Atual!$BF$152=\"15-20 m3 compactação placa c/ grua\",Esq_Atual!$BP$152=\"gás\"),\nAND(Esq_Atual!$BF$153=\"15-20 m3 compactação placa c/ grua\",Esq_Atual!$BP$153=\"gás\"),\nAND(Esq_Atual!$BF$154=\"15-20 m3 compactação placa c/ grua\",Esq_Atual!$BP$154=\"gás\"),\nAND(Esq_Atual!$BF$155=\"15-20 m3 compactação placa c/ grua\",Esq_Atual!$BP$155=\"gás\"),\nAND(Esq_Atual!$BF$156=\"15-20 m3 compactação placa c/ grua\",Esq_Atual!$BP$156=\"gás\"),\nAND(Esq_Atual!$BF$157=\"15-20 m3 compactação placa c/ grua\",Esq_Atual!$BP$157=\"gás\"),\nAND(Esq_Atual!$BF$158=\"15-20 m3 compactação placa c/ grua\",Esq_Atual!$BP$158=\"gás\"),\nAND(Esq_Atual!$BF$159=\"15-20 m3 compactação placa c/ grua\",Esq_Atual!$BP$159=\"gás\"),\nAND(Esq_Atual!$BF$160=\"15-20 m3 compactação placa c/ grua\",Esq_Atual!$BP$160=\"gás\"),\nAND(Esq_Atual!$BF$161=\"15-20 m3 compactação placa c/ grua\",Esq_Atual!$BP$161=\"gás\"),\nAND(Esq_Atual!$BF$162=\"15-20 m3 compactação placa c/ grua\",Esq_Atual!$BP$162=\"gás\"),\nAND(Esq_Atual!$BF$163=\"15-20 m3 compactação placa c/ grua\",Esq_Atual!$BP$163=\"gás\"),\nAND(Esq_Atual!$AS$193=\"15-20 m3 compactação placa c/ grua\",Esq_Atual!$BC$193=\"gás\"),\nAND(Esq_Atual!$AS$194=\"15-20 m3 compactação placa c/ grua\",Esq_Atual!$BC$194=\"gás\"),\nAND(Esq_Atual!$AS$195=\"15-20 m3 compactação placa c/ grua\",Esq_Atual!$BC$195=\"gás\")),\">>>\",\"\")","v":""},{"$f":"+IF(OR('Modelação do sist SAYT_RAYT'!CJ50>0,'Modelação do sist SAYT_RAYT'!CJ53>0),\">>>\",\"\")","v":""},{"$f":"+IF(OR('Modelação do sist PAYT'!EI50>0,'Modelação do sist PAYT'!EI53>0),\">>>\",\"\")","v":""},"15-20 m3 compactação placa c/ grua (gás)",null,"€"]
[null,null,null,null,null,null,null,null,{"$f":"+IF(OR(AND(Esq_Atual!$M$127=\"15-23 m3 compactação placa carga lateral\",Esq_Atual!$W$127=\"gasóleo\"),\nAND(Esq_Atual!$M$128=\"15-23 m3 compactação placa carga lateral\",Esq_Atual!$W$128=\"gasóleo\"),\nAND(Esq_Atual!$M$129=\"15-23 m3 compactação placa carga lateral\",Esq_Atual!$W$129=\"gasóleo\"),\nAND(Esq_Atual!$M$130=\"15-23 m3 compactação placa carga lateral\",Esq_Atual!$W$130=\"gasóleo\"),\nAND(Esq_Atual!$M$131=\"15-23 m3 compactação placa carga lateral\",Esq_Atual!$W$131=\"gasóleo\"),\nAND(Esq_Atual!$M$132=\"15-23 m3 compactação placa carga lateral\",Esq_Atual!$W$132=\"gasóleo\"),\nAND(Esq_Atual!$M$133=\"15-23 m3 compactação placa carga lateral\",Esq_Atual!$W$133=\"gasóleo\"),\nAND(Esq_Atual!$M$134=\"15-23 m3 compactação placa carga lateral\",Esq_Atual!$W$134=\"gasóleo\"),\nAND(Esq_Atual!$M$135=\"15-23 m3 compactação placa carga lateral\",Esq_Atual!$W$135=\"gasóleo\"),\nAND(Esq_Atual!$M$136=\"15-23 m3 compactação placa carga lateral\",Esq_Atual!$W$136=\"gasóleo\"),\nAND(Esq_Atual!$M$137=\"15-23 m3 compactação placa carga lateral\",Esq_Atual!$W$137=\"gasóleo\"),\nAND(Esq_Atual!$M$138=\"15-23 m3 compactação placa carga lateral\",Esq_Atual!$W$138=\"gasóleo\"),\nAND(Esq_Atual!$M$139=\"15-23 m3 compactação placa carga lateral\",Esq_Atual!$W$139=\"gasóleo\"),\nAND(Esq_Atual!$M$140=\"15-23 m3 compactação placa carga lateral\",Esq_Atual!$W$140=\"gasóleo\"),\nAND(Esq_Atual!$M$141=\"15-23 m3 compactação placa carga lateral\",Esq_Atual!$W$141=\"gasóleo\"),\nAND(Esq_Atual!$BF$149=\"15-23 m3 compactação placa carga lateral\",Esq_Atual!$BP$149=\"gasóleo\"),\nAND(Esq_Atual!$BF$150=\"15-23 m3 compactação placa carga lateral\",Esq_Atual!$BP$150=\"gasóleo\"),\nAND(Esq_Atual!$BF$151=\"15-23 m3 compactação placa carga lateral\",Esq_Atual!$BP$151=\"gasóleo\"),\nAND(Esq_Atual!$BF$152=\"15-23 m3 compactação placa carga lateral\",Esq_Atual!$BP$152=\"gasóleo\"),\nAND(Esq_Atual!$BF$153=\"15-23 m3 compactação placa carga lateral\",Esq_Atual!$BP$153=\"gasóleo\"),\nAND(Esq_Atual!$BF$154=\"15-23 m3 compactação placa carga lateral\",Esq_Atual!$BP$154=\"gasóleo\"),\nAND(Esq_Atual!$BF$155=\"15-23 m3 compactação placa carga lateral\",Esq_Atual!$BP$155=\"gasóleo\"),\nAND(Esq_Atual!$BF$156=\"15-23 m3 compactação placa carga lateral\",Esq_Atual!$BP$156=\"gasóleo\"),\nAND(Esq_Atual!$BF$157=\"15-23 m3 compactação placa carga lateral\",Esq_Atual!$BP$157=\"gasóleo\"),\nAND(Esq_Atual!$BF$158=\"15-23 m3 compactação placa carga lateral\",Esq_Atual!$BP$158=\"gasóleo\"),\nAND(Esq_Atual!$BF$159=\"15-23 m3 compactação placa carga lateral\",Esq_Atual!$BP$159=\"gasóleo\"),\nAND(Esq_Atual!$BF$160=\"15-23 m3 compactação placa carga lateral\",Esq_Atual!$BP$160=\"gasóleo\"),\nAND(Esq_Atual!$BF$161=\"15-23 m3 compactação placa carga lateral\",Esq_Atual!$BP$161=\"gasóleo\"),\nAND(Esq_Atual!$BF$162=\"15-23 m3 compactação placa carga lateral\",Esq_Atual!$BP$162=\"gasóleo\"),\nAND(Esq_Atual!$BF$163=\"15-23 m3 compactação placa carga lateral\",Esq_Atual!$BP$163=\"gasóleo\"),\nAND(Esq_Atual!$AS$193=\"15-23 m3 compactação placa carga lateral\",Esq_Atual!$BC$193=\"gasóleo\"),\nAND(Esq_Atual!$AS$194=\"15-23 m3 compactação placa carga lateral\",Esq_Atual!$BC$194=\"gasóleo\"),\nAND(Esq_Atual!$AS$195=\"15-23 m3 compactação placa carga lateral\",Esq_Atual!$BC$195=\"gasóleo\")),\">>>\",\"\")","v":""},{"$f":"+IF(OR('Modelação do sist SAYT_RAYT'!CJ54>0,'Modelação do sist SAYT_RAYT'!CJ57>0,'Modelação do sist SAYT_RAYT'!CJ60>0,'Modelação do sist SAYT_RAYT'!CJ63>0),\">>>\",\"\")","v":""},{"$f":"+IF(OR('Modelação do sist PAYT'!EI54>0,'Modelação do sist PAYT'!EI57>0,'Modelação do sist PAYT'!EI60>0,'Modelação do sist PAYT'!EI63>0),\">>>\",\"\")","v":""},"15-23 m3 compactação placa carga lateral (gasóleo)",null,"€"]
[null,null,null,"Contentores",null,null,null,null,{"$f":"+IF(OR(AND(Esq_Atual!$M$127=\"15-23 m3 compactação placa carga lateral\",Esq_Atual!$W$127=\"elétrica\"),\nAND(Esq_Atual!$M$128=\"15-23 m3 compactação placa carga lateral\",Esq_Atual!$W$128=\"elétrica\"),\nAND(Esq_Atual!$M$129=\"15-23 m3 compactação placa carga lateral\",Esq_Atual!$W$129=\"elétrica\"),\nAND(Esq_Atual!$M$130=\"15-23 m3 compactação placa carga lateral\",Esq_Atual!$W$130=\"elétrica\"),\nAND(Esq_Atual!$M$131=\"15-23 m3 compactação placa carga lateral\",Esq_Atual!$W$131=\"elétrica\"),\nAND(Esq_Atual!$M$132=\"15-23 m3 compactação placa carga lateral\",Esq_Atual!$W$132=\"elétrica\"),\nAND(Esq_Atual!$M$133=\"15-23 m3 compactação placa carga lateral\",Esq_Atual!$W$133=\"elétrica\"),\nAND(Esq_Atual!$M$134=\"15-23 m3 compactação placa carga lateral\",Esq_Atual!$W$134=\"elétrica\"),\nAND(Esq_Atual!$M$135=\"15-23 m3 compactação placa carga lateral\",Esq_Atual!$W$135=\"elétrica\"),\nAND(Esq_Atual!$M$136=\"15-23 m3 compactação placa carga lateral\",Esq_Atual!$W$136=\"elétrica\"),\nAND(Esq_Atual!$M$137=\"15-23 m3 compactação placa carga lateral\",Esq_Atual!$W$137=\"elétrica\"),\nAND(Esq_Atual!$M$138=\"15-23 m3 compactação placa carga lateral\",Esq_Atual!$W$138=\"elétrica\"),\nAND(Esq_Atual!$M$139=\"15-23 m3 compactação placa carga lateral\",Esq_Atual!$W$139=\"elétrica\"),\nAND(Esq_Atual!$M$140=\"15-23 m3 compactação placa carga lateral\",Esq_Atual!$W$140=\"elétrica\"),\nAND(Esq_Atual!$M$141=\"15-23 m3 compactação placa carga lateral\",Esq_Atual!$W$141=\"elétrica\"),\nAND(Esq_Atual!$BF$149=\"15-23 m3 compactação placa carga lateral\",Esq_Atual!$BP$149=\"elétrica\"),\nAND(Esq_Atual!$BF$150=\"15-23 m3 compactação placa carga lateral\",Esq_Atual!$BP$150=\"elétrica\"),\nAND(Esq_Atual!$BF$151=\"15-23 m3 compactação placa carga lateral\",Esq_Atual!$BP$151=\"elétrica\"),\nAND(Esq_Atual!$BF$152=\"15-23 m3 compactação placa carga lateral\",Esq_Atual!$BP$152=\"elétrica\"),\nAND(Esq_Atual!$BF$153=\"15-23 m3 compactação placa carga lateral\",Esq_Atual!$BP$153=\"elétrica\"),\nAND(Esq_Atual!$BF$154=\"15-23 m3 compactação placa carga lateral\",Esq_Atual!$BP$154=\"elétrica\"),\nAND(Esq_Atual!$BF$155=\"15-23 m3 compactação placa carga lateral\",Esq_Atual!$BP$155=\"elétrica\"),\nAND(Esq_Atual!$BF$156=\"15-23 m3 compactação placa carga lateral\",Esq_Atual!$BP$156=\"elétrica\"),\nAND(Esq_Atual!$BF$157=\"15-23 m3 compactação placa carga lateral\",Esq_Atual!$BP$157=\"elétrica\"),\nAND(Esq_Atual!$BF$158=\"15-23 m3 compactação placa carga lateral\",Esq_Atual!$BP$158=\"elétrica\"),\nAND(Esq_Atual!$BF$159=\"15-23 m3 compactação placa carga lateral\",Esq_Atual!$BP$159=\"elétrica\"),\nAND(Esq_Atual!$BF$160=\"15-23 m3 compactação placa carga lateral\",Esq_Atual!$BP$160=\"elétrica\"),\nAND(Esq_Atual!$BF$161=\"15-23 m3 compactação placa carga lateral\",Esq_Atual!$BP$161=\"elétrica\"),\nAND(Esq_Atual!$BF$162=\"15-23 m3 compactação placa carga lateral\",Esq_Atual!$BP$162=\"elétrica\"),\nAND(Esq_Atual!$BF$163=\"15-23 m3 compactação placa carga lateral\",Esq_Atual!$BP$163=\"elétrica\"),\nAND(Esq_Atual!$AS$193=\"15-23 m3 compactação placa carga lateral\",Esq_Atual!$BC$193=\"elétrica\"),\nAND(Esq_Atual!$AS$194=\"15-23 m3 compactação placa carga lateral\",Esq_Atual!$BC$194=\"elétrica\"),\nAND(Esq_Atual!$AS$195=\"15-23 m3 compactação placa carga lateral\",Esq_Atual!$BC$195=\"elétrica\")),\">>>\",\"\")","v":""},{"$f":"+IF(OR('Modelação do sist SAYT_RAYT'!CJ55>0,'Modelação do sist SAYT_RAYT'!CJ58>0,'Modelação do sist SAYT_RAYT'!CJ61>0,'Modelação do sist SAYT_RAYT'!CJ64>0),\">>>\",\"\")","v":""},{"$f":"+IF(OR('Modelação do sist PAYT'!EI55>0,'Modelação do sist PAYT'!EI58>0,'Modelação do sist PAYT'!EI61>0,'Modelação do sist PAYT'!EI64>0),\">>>\",\"\")","v":""},"15-23 m3 compactação placa carga lateral (elétrica)",null,"€",null,null,null,null,null,"Valor unitário a considerar"]
[null,null,null,null,"Superfície",null,null,null,{"$f":"+IF(OR(AND(Esq_Atual!$M$127=\"15-23 m3 compactação placa carga lateral\",Esq_Atual!$W$127=\"gás\"),\nAND(Esq_Atual!$M$128=\"15-23 m3 compactação placa carga lateral\",Esq_Atual!$W$128=\"gás\"),\nAND(Esq_Atual!$M$129=\"15-23 m3 compactação placa carga lateral\",Esq_Atual!$W$129=\"gás\"),\nAND(Esq_Atual!$M$130=\"15-23 m3 compactação placa carga lateral\",Esq_Atual!$W$130=\"gás\"),\nAND(Esq_Atual!$M$131=\"15-23 m3 compactação placa carga lateral\",Esq_Atual!$W$131=\"gás\"),\nAND(Esq_Atual!$M$132=\"15-23 m3 compactação placa carga lateral\",Esq_Atual!$W$132=\"gás\"),\nAND(Esq_Atual!$M$133=\"15-23 m3 compactação placa carga lateral\",Esq_Atual!$W$133=\"gás\"),\nAND(Esq_Atual!$M$134=\"15-23 m3 compactação placa carga lateral\",Esq_Atual!$W$134=\"gás\"),\nAND(Esq_Atual!$M$135=\"15-23 m3 compactação placa carga lateral\",Esq_Atual!$W$135=\"gás\"),\nAND(Esq_Atual!$M$136=\"15-23 m3 compactação placa carga lateral\",Esq_Atual!$W$136=\"gás\"),\nAND(Esq_Atual!$M$137=\"15-23 m3 compactação placa carga lateral\",Esq_Atual!$W$137=\"gás\"),\nAND(Esq_Atual!$M$138=\"15-23 m3 compactação placa carga lateral\",Esq_Atual!$W$138=\"gás\"),\nAND(Esq_Atual!$M$139=\"15-23 m3 compactação placa carga lateral\",Esq_Atual!$W$139=\"gás\"),\nAND(Esq_Atual!$M$140=\"15-23 m3 compactação placa carga lateral\",Esq_Atual!$W$140=\"gás\"),\nAND(Esq_Atual!$M$141=\"15-23 m3 compactação placa carga lateral\",Esq_Atual!$W$141=\"gás\"),\nAND(Esq_Atual!$BF$149=\"15-23 m3 compactação placa carga lateral\",Esq_Atual!$BP$149=\"gás\"),\nAND(Esq_Atual!$BF$150=\"15-23 m3 compactação placa carga lateral\",Esq_Atual!$BP$150=\"gás\"),\nAND(Esq_Atual!$BF$151=\"15-23 m3 compactação placa carga lateral\",Esq_Atual!$BP$151=\"gás\"),\nAND(Esq_Atual!$BF$152=\"15-23 m3 compactação placa carga lateral\",Esq_Atual!$BP$152=\"gás\"),\nAND(Esq_Atual!$BF$153=\"15-23 m3 compactação placa carga lateral\",Esq_Atual!$BP$153=\"gás\"),\nAND(Esq_Atual!$BF$154=\"15-23 m3 compactação placa carga lateral\",Esq_Atual!$BP$154=\"gás\"),\nAND(Esq_Atual!$BF$155=\"15-23 m3 compactação placa carga lateral\",Esq_Atual!$BP$155=\"gás\"),\nAND(Esq_Atual!$BF$156=\"15-23 m3 compactação placa carga lateral\",Esq_Atual!$BP$156=\"gás\"),\nAND(Esq_Atual!$BF$157=\"15-23 m3 compactação placa carga lateral\",Esq_Atual!$BP$157=\"gás\"),\nAND(Esq_Atual!$BF$158=\"15-23 m3 compactação placa carga lateral\",Esq_Atual!$BP$158=\"gás\"),\nAND(Esq_Atual!$BF$159=\"15-23 m3 compactação placa carga lateral\",Esq_Atual!$BP$159=\"gás\"),\nAND(Esq_Atual!$BF$160=\"15-23 m3 compactação placa carga lateral\",Esq_Atual!$BP$160=\"gás\"),\nAND(Esq_Atual!$BF$161=\"15-23 m3 compactação placa carga lateral\",Esq_Atual!$BP$161=\"gás\"),\nAND(Esq_Atual!$BF$162=\"15-23 m3 compactação placa carga lateral\",Esq_Atual!$BP$162=\"gás\"),\nAND(Esq_Atual!$BF$163=\"15-23 m3 compactação placa carga lateral\",Esq_Atual!$BP$163=\"gás\"),\nAND(Esq_Atual!$AS$193=\"15-23 m3 compactação placa carga lateral\",Esq_Atual!$BC$193=\"gás\"),\nAND(Esq_Atual!$AS$194=\"15-23 m3 compactação placa carga lateral\",Esq_Atual!$BC$194=\"gás\"),\nAND(Esq_Atual!$AS$195=\"15-23 m3 compactação placa carga lateral\",Esq_Atual!$BC$195=\"gás\")),\">>>\",\"\")","v":""},{"$f":"+IF(OR('Modelação do sist SAYT_RAYT'!CJ56>0,'Modelação do sist SAYT_RAYT'!CJ59>0,'Modelação do sist SAYT_RAYT'!CJ62>0,'Modelação do sist SAYT_RAYT'!CJ65>0),\">>>\",\"\")","v":""},{"$f":"+IF(OR('Modelação do sist PAYT'!EI56>0,'Modelação do sist PAYT'!EI59>0,'Modelação do sist PAYT'!EI62>0,'Modelação do sist PAYT'!EI65>0),\">>>\",\"\")","v":""},"15-23 m3 compactação placa carga lateral (gás)",null,"€"]
[null,null,{"$f":"+IF('Modelação do sist SAYT_RAYT'!Y86>0,\">>>\",\"\")","v":""},{"$f":"+IF(OR('Modelação do sist PAYT'!BI64>0,'Modelação do sist PAYT'!BM64>0,'Modelação do sist PAYT'!BQ64>0,'Modelação do sist PAYT'!BU64>0),\">>>\",\"\")","v":""},"10 L",null,"€",null,{"$f":"+IF(OR(Esq_Atual!$M$127=\"Viatura de caixa aberta\",Esq_Atual!$M$128=\"Viatura de caixa aberta\",Esq_Atual!$M$129=\"Viatura de caixa aberta\",Esq_Atual!$M$130=\"Viatura de caixa aberta\",Esq_Atual!$M$131=\"Viatura de caixa aberta\",Esq_Atual!$M$132=\"Viatura de caixa aberta\",Esq_Atual!$M$133=\"Viatura de caixa aberta\",Esq_Atual!$M$134=\"Viatura de caixa aberta\",Esq_Atual!$M$135=\"Viatura de caixa aberta\",Esq_Atual!$M$136=\"Viatura de caixa aberta\",Esq_Atual!$M$137=\"Viatura de caixa aberta\",Esq_Atual!$M$138=\"Viatura de caixa aberta\",Esq_Atual!$M$139=\"Viatura de caixa aberta\",Esq_Atual!$M$140=\"Viatura de caixa aberta\",Esq_Atual!$M$141=\"Viatura de caixa aberta\",Esq_Atual!$BF$149=\"Viatura de caixa aberta\",Esq_Atual!$BF$150=\"Viatura de caixa aberta\",Esq_Atual!$BF$151=\"Viatura de caixa aberta\",Esq_Atual!$BF$152=\"Viatura de caixa aberta\",Esq_Atual!$BF$153=\"Viatura de caixa aberta\",Esq_Atual!$BF$154=\"Viatura de caixa aberta\",Esq_Atual!$BF$155=\"Viatura de caixa aberta\",Esq_Atual!$BF$156=\"Viatura de caixa aberta\",Esq_Atual!$BF$157=\"Viatura de caixa aberta\",Esq_Atual!$BF$158=\"Viatura de caixa aberta\",Esq_Atual!$BF$159=\"Viatura de caixa aberta\",Esq_Atual!$BF$160=\"Viatura de caixa aberta\",Esq_Atual!$BF$161=\"Viatura de caixa aberta\",Esq_Atual!$BF$162=\"Viatura de caixa aberta\",Esq_Atual!$BF$163=\"Viatura de caixa aberta\",Esq_Atual!$AS$193=\"Viatura de caixa aberta\",Esq_Atual!$AS$194=\"Viatura de caixa aberta\",Esq_Atual!$AS$195=\"Viatura de caixa aberta\"),\">>>\",\"\")","v":""},{"$f":"+IF('Modelação do sist SAYT_RAYT'!CJ66>0,\">>>\",\"\")","v":""},{"$f":"+IF('Modelação do sist PAYT'!EI66>0,\">>>\",\"\")","v":""},"Viatura de caixa aberta",null,"€",null,null,null,"Combustível"]
[null,null,{"$f":"+IF(OR('Modelação do sist SAYT_RAYT'!Y87>0,'Modelação do sist SAYT_RAYT'!Y108>0),\">>>\",\"\")","v":""},{"$f":"+IF(OR('Modelação do sist PAYT'!I110>0,'Modelação do sist PAYT'!I158>0,'Modelação do sist PAYT'!BI65>0,'Modelação do sist PAYT'!BM65>0,'Modelação do sist PAYT'!BQ65>0,'Modelação do sist PAYT'!BU65>0),\">>>\",\"\")","v":""},"40 L",null,"€",null,{"$f":"+IF(OR(Esq_Atual!$M$127=\"Viatura de apoio\",Esq_Atual!$M$128=\"Viatura de apoio\",Esq_Atual!$M$129=\"Viatura de apoio\",Esq_Atual!$M$130=\"Viatura de apoio\",Esq_Atual!$M$131=\"Viatura de apoio\",Esq_Atual!$M$132=\"Viatura de apoio\",Esq_Atual!$M$133=\"Viatura de apoio\",Esq_Atual!$M$134=\"Viatura de apoio\",Esq_Atual!$M$135=\"Viatura de apoio\",Esq_Atual!$M$136=\"Viatura de apoio\",Esq_Atual!$M$137=\"Viatura de apoio\",Esq_Atual!$M$138=\"Viatura de apoio\",Esq_Atual!$M$139=\"Viatura de apoio\",Esq_Atual!$M$140=\"Viatura de apoio\",Esq_Atual!$M$141=\"Viatura de apoio\",Esq_Atual!$BF$149=\"Viatura de apoio\",Esq_Atual!$BF$150=\"Viatura de apoio\",Esq_Atual!$BF$151=\"Viatura de apoio\",Esq_Atual!$BF$152=\"Viatura de apoio\",Esq_Atual!$BF$153=\"Viatura de apoio\",Esq_Atual!$BF$154=\"Viatura de apoio\",Esq_Atual!$BF$155=\"Viatura de apoio\",Esq_Atual!$BF$156=\"Viatura de apoio\",Esq_Atual!$BF$157=\"Viatura de apoio\",Esq_Atual!$BF$158=\"Viatura de apoio\",Esq_Atual!$BF$159=\"Viatura de apoio\",Esq_Atual!$BF$160=\"Viatura de apoio\",Esq_Atual!$BF$161=\"Viatura de apoio\",Esq_Atual!$BF$162=\"Viatura de apoio\",Esq_Atual!$BF$163=\"Viatura de apoio\",Esq_Atual!$AS$193=\"Viatura de apoio\",Esq_Atual!$AS$194=\"Viatura de apoio\",Esq_Atual!$AS$195=\"Viatura de apoio\"),\">>>\",\"\")","v":""},{"$f":"+IF('Modelação do sist SAYT_RAYT'!CJ67>0,\">>>\",\"\")","v":""},{"$f":"+IF('Modelação do sist PAYT'!EI67>0,\">>>\",\"\")","v":""},"Viatura de apoio",null,"€",null,{"$f":"+IF(OR('Apoio_cálculo custos_sit_atual'!J38>0,'Apoio_cálculo custos_sit_atual'!J41>0,'Apoio_cálculo custos_sit_atual'!J44>0,'Apoio_cálculo custos_sit_atual'!J47>0,'Apoio_cálculo custos_sit_atual'!J54>0,'Apoio_cálculo custos_sit_atual'!J57>0,'Apoio_cálculo custos_sit_atual'!J60>0,'Apoio_cálculo custos_sit_atual'!J67>0,'Apoio_cálculo custos_sit_atual'!J76>0,'Apoio_cálculo custos_sit_atual'!J77>0),\">>>\",\"\")","v":""},{"$f":"+IF(OR('Apoio_cálculo custos_SAYT_RAYT'!J70>0,'Apoio_cálculo custos_SAYT_RAYT'!J73>0,'Apoio_cálculo custos_SAYT_RAYT'!J76>0,'Apoio_cálculo custos_SAYT_RAYT'!J79>0,'Apoio_cálculo custos_SAYT_RAYT'!J82>0,'Apoio_cálculo custos_SAYT_RAYT'!J85>9,'Apoio_cálculo custos_SAYT_RAYT'!J88>0,'Apoio_cálculo custos_SAYT_RAYT'!J91>0,'Apoio_cálculo custos_SAYT_RAYT'!J94>0,'Apoio_cálculo custos_SAYT_RAYT'!J97>0,'Apoio_cálculo custos_SAYT_RAYT'!J100>0,'Apoio_cálculo custos_SAYT_RAYT'!J103>0,'Apoio_cálculo custos_SAYT_RAYT'!J106>0,'Apoio_cálculo custos_SAYT_RAYT'!J109>0,'Apoio_cálculo custos_SAYT_RAYT'!J112>0,'Apoio_cálculo custos_SAYT_RAYT'!J113>0,'Apoio_cálculo custos_SAYT_RAYT'!J114>0,'Apoio_cálculo custos_SAYT_RAYT'!J119>0,'Apoio_cálculo custos_SAYT_RAYT'!J128>0,'Apoio_cálculo custos_SAYT_RAYT'!J129>0),\">>>\",\"\")","v":""},{"$f":"+IF(OR('Apoio_cálculo custos_PAYT'!J70>0,'Apoio_cálculo custos_PAYT'!J73>0,'Apoio_cálculo custos_PAYT'!J76>0,'Apoio_cálculo custos_PAYT'!J79>0,'Apoio_cálculo custos_PAYT'!J82>0,'Apoio_cálculo custos_PAYT'!J85>9,'Apoio_cálculo custos_PAYT'!J88>0,'Apoio_cálculo custos_PAYT'!J91>0,'Apoio_cálculo custos_PAYT'!J94>0,'Apoio_cálculo custos_PAYT'!J97>0,'Apoio_cálculo custos_PAYT'!J100>0,'Apoio_cálculo custos_PAYT'!J103>0,'Apoio_cálculo custos_PAYT'!J106>0,'Apoio_cálculo custos_PAYT'!J109>0,'Apoio_cálculo custos_PAYT'!J112>0,'Apoio_cálculo custos_PAYT'!J113>0,'Apoio_cálculo custos_PAYT'!J114>0,'Apoio_cálculo custos_PAYT'!J119>0,'Apoio_cálculo custos_PAYT'!J128>0,'Apoio_cálculo custos_PAYT'!J129>0),\">>>\",\"\")","v":""},"Gasóleo",null,"€/L"]
[null,null,{"$f":"+IF(OR('Modelação do sist SAYT_RAYT'!Y88>0,'Modelação do sist SAYT_RAYT'!Y109>0),\">>>\",\"\")","v":""},{"$f":"+IF(OR('Modelação do sist PAYT'!I111>0,'Modelação do sist PAYT'!I159>0,'Modelação do sist PAYT'!BI66>0,'Modelação do sist PAYT'!BM66>0,'Modelação do sist PAYT'!BQ66>0,'Modelação do sist PAYT'!BU66>0),\">>>\",\"\")","v":""},"50 L",null,"€",null,{"$f":"+IF(OR(Esq_Atual!$M$127=\"Viatura de lavagem de contentores\",Esq_Atual!$M$128=\"Viatura de lavagem de contentores\",Esq_Atual!$M$129=\"Viatura de lavagem de contentores\",Esq_Atual!$M$130=\"Viatura de lavagem de contentores\",Esq_Atual!$M$131=\"Viatura de lavagem de contentores\",Esq_Atual!$M$132=\"Viatura de lavagem de contentores\",Esq_Atual!$M$133=\"Viatura de lavagem de contentores\",Esq_Atual!$M$134=\"Viatura de lavagem de contentores\",Esq_Atual!$M$135=\"Viatura de lavagem de contentores\",Esq_Atual!$M$136=\"Viatura de lavagem de contentores\",Esq_Atual!$M$137=\"Viatura de lavagem de contentores\",Esq_Atual!$M$138=\"Viatura de lavagem de contentores\",Esq_Atual!$M$139=\"Viatura de lavagem de contentores\",Esq_Atual!$M$140=\"Viatura de lavagem de contentores\",Esq_Atual!$M$141=\"Viatura de lavagem de contentores\",Esq_Atual!$BF$149=\"Viatura de lavagem de contentores\",Esq_Atual!$BF$150=\"Viatura de lavagem de contentores\",Esq_Atual!$BF$151=\"Viatura de lavagem de contentores\",Esq_Atual!$BF$152=\"Viatura de lavagem de contentores\",Esq_Atual!$BF$153=\"Viatura de lavagem de contentores\",Esq_Atual!$BF$154=\"Viatura de lavagem de contentores\",Esq_Atual!$BF$155=\"Viatura de lavagem de contentores\",Esq_Atual!$BF$156=\"Viatura de lavagem de contentores\",Esq_Atual!$BF$157=\"Viatura de lavagem de contentores\",Esq_Atual!$BF$158=\"Viatura de lavagem de contentores\",Esq_Atual!$BF$159=\"Viatura de lavagem de contentores\",Esq_Atual!$BF$160=\"Viatura de lavagem de contentores\",Esq_Atual!$BF$161=\"Viatura de lavagem de contentores\",Esq_Atual!$BF$162=\"Viatura de lavagem de contentores\",Esq_Atual!$BF$163=\"Viatura de lavagem de contentores\",Esq_Atual!$AS$193=\"Viatura de lavagem de contentores\",Esq_Atual!$AS$194=\"Viatura de lavagem de contentores\",Esq_Atual!$AS$195=\"Viatura de lavagem de contentores\"),\">>>\",\"\")","v":""},{"$f":"+IF('Modelação do sist SAYT_RAYT'!CJ68>0,\">>>\",\"\")","v":""},{"$f":"+IF('Modelação do sist PAYT'!EI68>0,\">>>\",\"\")","v":""},"Viatura de lavagem de contentores",null,"€",null,{"$f":"+IF(OR('Apoio_cálculo custos_sit_atual'!J39>0,'Apoio_cálculo custos_sit_atual'!J42>0,'Apoio_cálculo custos_sit_atual'!J45>0,'Apoio_cálculo custos_sit_atual'!J48>0,'Apoio_cálculo custos_sit_atual'!J55>0,'Apoio_cálculo custos_sit_atual'!J58>0,'Apoio_cálculo custos_sit_atual'!J61>0),\">>>\",\"\")","v":""},{"$f":"+IF(OR('Apoio_cálculo custos_SAYT_RAYT'!J71>0,'Apoio_cálculo custos_SAYT_RAYT'!J74>0,'Apoio_cálculo custos_SAYT_RAYT'!J77>0,'Apoio_cálculo custos_SAYT_RAYT'!J80>0,'Apoio_cálculo custos_SAYT_RAYT'!J83>0,'Apoio_cálculo custos_SAYT_RAYT'!J86>0,'Apoio_cálculo custos_SAYT_RAYT'!J89>0,'Apoio_cálculo custos_SAYT_RAYT'!J92>0,'Apoio_cálculo custos_SAYT_RAYT'!J95>0,'Apoio_cálculo custos_SAYT_RAYT'!J98>0,'Apoio_cálculo custos_SAYT_RAYT'!J101>0,'Apoio_cálculo custos_SAYT_RAYT'!J104>0,'Apoio_cálculo custos_SAYT_RAYT'!J107>0,'Apoio_cálculo custos_SAYT_RAYT'!J110>0),\">>>\",\"\")","v":""},{"$f":"+IF(OR('Apoio_cálculo custos_PAYT'!J71>0,'Apoio_cálculo custos_PAYT'!J74>0,'Apoio_cálculo custos_PAYT'!J77>0,'Apoio_cálculo custos_PAYT'!J80>0,'Apoio_cálculo custos_PAYT'!J83>0,'Apoio_cálculo custos_PAYT'!J86>0,'Apoio_cálculo custos_PAYT'!J89>0,'Apoio_cálculo custos_PAYT'!J92>0,'Apoio_cálculo custos_PAYT'!J95>0,'Apoio_cálculo custos_PAYT'!J98>0,'Apoio_cálculo custos_PAYT'!J101>0,'Apoio_cálculo custos_PAYT'!J104>0,'Apoio_cálculo custos_PAYT'!J107>0,'Apoio_cálculo custos_PAYT'!J110>0),\">>>\",\"\")","v":""},"Energia elétrica",null,"€/kW"]
[null,null,{"$f":"+IF(OR('Modelação do sist SAYT_RAYT'!Y89>0,'Modelação do sist SAYT_RAYT'!Y110>0),\">>>\",\"\")","v":""},{"$f":"+IF(OR('Modelação do sist PAYT'!I112>0,'Modelação do sist PAYT'!I160>0,'Modelação do sist PAYT'!BI67>0,'Modelação do sist PAYT'!BM67>0,'Modelação do sist PAYT'!BQ67>0,'Modelação do sist PAYT'!BU67>0),\">>>\",\"\")","v":""},"60 L",null,"€",null,null,null,null,null,null,null,null,{"$f":"+IF(OR('Apoio_cálculo custos_sit_atual'!J40>0,'Apoio_cálculo custos_sit_atual'!J43>0,'Apoio_cálculo custos_sit_atual'!J46>0,'Apoio_cálculo custos_sit_atual'!J49>0,'Apoio_cálculo custos_sit_atual'!J56>0,'Apoio_cálculo custos_sit_atual'!J59>0,'Apoio_cálculo custos_sit_atual'!J62>0),\">>>\",\"\")","v":""},{"$f":"+IF(OR('Apoio_cálculo custos_SAYT_RAYT'!J72>0,'Apoio_cálculo custos_SAYT_RAYT'!J75>0,'Apoio_cálculo custos_SAYT_RAYT'!J78>0,'Apoio_cálculo custos_SAYT_RAYT'!J81>0,'Apoio_cálculo custos_SAYT_RAYT'!J84>0,'Apoio_cálculo custos_SAYT_RAYT'!J87>0,'Apoio_cálculo custos_SAYT_RAYT'!J90>0,'Apoio_cálculo custos_SAYT_RAYT'!J93>0,'Apoio_cálculo custos_SAYT_RAYT'!J96>0,'Apoio_cálculo custos_SAYT_RAYT'!J99>0,'Apoio_cálculo custos_SAYT_RAYT'!J102>0,'Apoio_cálculo custos_SAYT_RAYT'!J105>0,'Apoio_cálculo custos_SAYT_RAYT'!J108>0,'Apoio_cálculo custos_SAYT_RAYT'!J111>0),\">>>\",\"\")","v":""},{"$f":"+IF(OR('Apoio_cálculo custos_PAYT'!J72>0,'Apoio_cálculo custos_PAYT'!J75>0,'Apoio_cálculo custos_PAYT'!J78>0,'Apoio_cálculo custos_PAYT'!J81>0,'Apoio_cálculo custos_PAYT'!J84>0,'Apoio_cálculo custos_PAYT'!J87>0,'Apoio_cálculo custos_PAYT'!J90>0,'Apoio_cálculo custos_PAYT'!J93>0,'Apoio_cálculo custos_PAYT'!J96>0,'Apoio_cálculo custos_PAYT'!J99>0,'Apoio_cálculo custos_PAYT'!J102>0,'Apoio_cálculo custos_PAYT'!J105>0,'Apoio_cálculo custos_PAYT'!J108>0,'Apoio_cálculo custos_PAYT'!J111>0),\">>>\",\"\")","v":""},"Gás",null,"€/kW"]
[null,null,{"$f":"+IF(OR('Modelação do sist SAYT_RAYT'!Y90>0,'Modelação do sist SAYT_RAYT'!Y111>0),\">>>\",\"\")","v":""},{"$f":"+IF(OR('Modelação do sist PAYT'!I113>0,'Modelação do sist PAYT'!I161>0,'Modelação do sist PAYT'!BI68>0,'Modelação do sist PAYT'!BM68>0,'Modelação do sist PAYT'!BQ68>0,'Modelação do sist PAYT'!BU68>0),\">>>\",\"\")","v":""},"80 L",null,"€",null,null,null,"Instrumentação de viaturas",null,null,null,null,null,null,"Pneus"]
[null,null,{"$f":"+IF(OR('Modelação do sist SAYT_RAYT'!Y91>0,'Modelação do sist SAYT_RAYT'!Y112>0),\">>>\",\"\")","v":""},{"$f":"+IF(OR('Modelação do sist PAYT'!I114>0,'Modelação do sist PAYT'!I162>0,'Modelação do sist PAYT'!BI69>0,'Modelação do sist PAYT'!BM69>0,'Modelação do sist PAYT'!BQ69>0,'Modelação do sist PAYT'!BU69>0,'Modelação do sist PAYT'!BN97>0,'Modelação do sist PAYT'!BR97>0,'Modelação do sist PAYT'!BV97>0),\">>>\",\"\")","v":""},"90 L",null,"€",null,null,{"$f":"+IF(OR('Modelação do sist SAYT_RAYT'!CJ27>0,'Modelação do sist SAYT_RAYT'!CJ28>0,'Modelação do sist SAYT_RAYT'!CJ29>0,'Modelação do sist SAYT_RAYT'!CJ30>0,'Modelação do sist SAYT_RAYT'!CJ31>0,'Modelação do sist SAYT_RAYT'!CJ32>0,'Modelação do sist SAYT_RAYT'!CJ33>0,'Modelação do sist SAYT_RAYT'!CJ34>0,'Modelação do sist SAYT_RAYT'!CJ35>0,'Modelação do sist SAYT_RAYT'!CJ39>0,'Modelação do sist SAYT_RAYT'!CJ40>0,'Modelação do sist SAYT_RAYT'!CJ41>0,'Modelação do sist SAYT_RAYT'!CJ42>0,'Modelação do sist SAYT_RAYT'!CJ43>0,'Modelação do sist SAYT_RAYT'!CJ44>0,'Modelação do sist SAYT_RAYT'!CJ45>0,'Modelação do sist SAYT_RAYT'!CJ46>0,'Modelação do sist SAYT_RAYT'!CJ47>0,'Modelação do sist SAYT_RAYT'!CJ57>0,'Modelação do sist SAYT_RAYT'!CJ58>0,'Modelação do sist SAYT_RAYT'!CJ59>0,'Modelação do sist SAYT_RAYT'!CJ60>0,'Modelação do sist SAYT_RAYT'!CJ61>0,'Modelação do sist SAYT_RAYT'!CJ62>0,'Modelação do sist SAYT_RAYT'!CJ63>0,'Modelação do sist SAYT_RAYT'!CJ64>0,'Modelação do sist SAYT_RAYT'!CJ65>0),\">>>\",\"\")","v":""},{"$f":"+IF(OR('Modelação do sist PAYT'!EI27>0,'Modelação do sist PAYT'!EI28>0,'Modelação do sist PAYT'!EI29>0,'Modelação do sist PAYT'!EI30>0,'Modelação do sist PAYT'!EI31>0,'Modelação do sist PAYT'!EI32>0,'Modelação do sist PAYT'!EI33>0,'Modelação do sist PAYT'!EI34>0,'Modelação do sist PAYT'!EI35>0,'Modelação do sist PAYT'!EI39>0,'Modelação do sist PAYT'!EI40>0,'Modelação do sist PAYT'!EI41>0,'Modelação do sist PAYT'!EI42>0,'Modelação do sist PAYT'!EI43>0,'Modelação do sist PAYT'!EI44>0,'Modelação do sist PAYT'!EI45>0,'Modelação do sist PAYT'!EI46>0,'Modelação do sist PAYT'!EI47>0,'Modelação do sist PAYT'!EI57>0,'Modelação do sist PAYT'!EI58>0,'Modelação do sist PAYT'!EI59>0,'Modelação do sist PAYT'!EI60>0,'Modelação do sist PAYT'!EI61>0,'Modelação do sist PAYT'!EI62>0,'Modelação do sist PAYT'!EI63>0,'Modelação do sist PAYT'!EI64>0),\">>>\",\"\")","v":""},"Sistema Identificação RFID ",null,"€",null,{"$f":"+IF(OR('Apoio_cálculo custos_sit_atual'!AA60>0,'Apoio_cálculo custos_sit_atual'!AA61>0,'Apoio_cálculo custos_sit_atual'!AA62>0),\">>>\",\"\")","v":""},{"$f":"+IF('Apoio_cálculo custos_SAYT_RAYT'!AA114>0,\">>>\",\"\")","v":""},{"$f":"+IF('Apoio_cálculo custos_PAYT'!AA114>0,\">>>\",\"\")","v":""},"Viaturas de apoio",null,"€/jogo"]
[null,{"$f":"+IF(Esq_Atual!J29>0,\">>>\",\"\")","v":""},null,null,"110 L",null,"€",null,null,{"$f":"+IF(OR('Modelação do sist SAYT_RAYT'!CJ30>0,'Modelação do sist SAYT_RAYT'!CJ31>0,'Modelação do sist SAYT_RAYT'!CJ32>0,'Modelação do sist SAYT_RAYT'!CJ42>0,'Modelação do sist SAYT_RAYT'!CJ43>0,'Modelação do sist SAYT_RAYT'!CJ44>0,'Modelação do sist SAYT_RAYT'!CJ60>0,'Modelação do sist SAYT_RAYT'!CJ61>0,'Modelação do sist SAYT_RAYT'!CJ62>0),\">>>\",\"\")","v":""},{"$f":"+IF(OR('Modelação do sist PAYT'!EI30>0,'Modelação do sist PAYT'!EI31>0,'Modelação do sist PAYT'!EI32>0,'Modelação do sist PAYT'!EI42>0,'Modelação do sist PAYT'!EI43>0,'Modelação do sist PAYT'!EI44>0,'Modelação do sist PAYT'!EI60>0,'Modelação do sist PAYT'!EI61>0,'Modelação do sist PAYT'!EI62>0),\">>>\",\"\")","v":""},"Sistema de Pesagem em Elevador",null,"€",null,{"$f":"+IF(OR('Apoio_cálculo custos_sit_atual'!AA57>0,'Apoio_cálculo custos_sit_atual'!AA58>0,'Apoio_cálculo custos_sit_atual'!AA59>0),\">>>\",\"\")","v":""},{"$f":"+IF('Apoio_cálculo custos_SAYT_RAYT'!AA113>0,\">>>\",\"\")","v":""},{"$f":"+IF('Apoio_cálculo custos_PAYT'!AA113>0,\">>>\",\"\")","v":""},"Viaturas de caixa aberta",null,"€/jogo"]
[null,{"$f":"+IF(OR(Esq_Atual!J30>0,Esq_Atual!J57>0,Esq_Atual!J78>0,Esq_Atual!AZ68>0,Esq_Atual!BD68>0,Esq_Atual!BH68>0,Esq_Atual!BL68>0,Esq_Atual!AZ97>0,Esq_Atual!BD97>0,Esq_Atual!BH97>0,Esq_Atual!BL97>0),\">>>\",\"\")","v":""},{"$f":"+IF(OR('Modelação do sist SAYT_RAYT'!Y92>0,'Modelação do sist SAYT_RAYT'!Y113>0),\">>>\",\"\")","v":""},{"$f":"+IF(OR('Modelação do sist PAYT'!I115>0,'Modelação do sist PAYT'!I163>0,'Modelação do sist PAYT'!BI70>0,'Modelação do sist PAYT'!BM70>0,'Modelação do sist PAYT'!BQ70>0,'Modelação do sist PAYT'!BU70>0,'Modelação do sist PAYT'!BJ98>0,'Modelação do sist PAYT'!BN98>0,'Modelação do sist PAYT'!BR98>0,'Modelação do sist PAYT'!BV98>0),\">>>\",\"\")","v":""},"120 L",null,"€",null,null,{"$f":"+IF(OR('Modelação do sist SAYT_RAYT'!CJ51>0,'Modelação do sist SAYT_RAYT'!CJ52>0,'Modelação do sist SAYT_RAYT'!CJ53>0),\">>>\",\"\")","v":""},{"$f":"+IF(OR('Modelação do sist PAYT'!EI51>0,'Modelação do sist PAYT'!EI52>0,'Modelação do sist PAYT'!EI53>0),\">>>\",\"\")","v":""},"Sistema de Pesagem na Grua",null,"€",null,{"$f":"+IF(OR('Apoio_cálculo custos_sit_atual'!AA38>0,'Apoio_cálculo custos_sit_atual'!AA39>0,'Apoio_cálculo custos_sit_atual'!AA40>0,'Apoio_cálculo custos_sit_atual'!AA41>0,'Apoio_cálculo custos_sit_atual'!AA42>0,'Apoio_cálculo custos_sit_atual'!AA43>0,'Apoio_cálculo custos_sit_atual'!AA44>0,'Apoio_cálculo custos_sit_atual'!AA45>0,'Apoio_cálculo custos_sit_atual'!AA46>0,'Apoio_cálculo custos_sit_atual'!AA47>0,'Apoio_cálculo custos_sit_atual'!AA48>0,'Apoio_cálculo custos_sit_atual'!AA49),\">>>\",\"\")","v":""},{"$f":"+IF(OR('Apoio_cálculo custos_SAYT_RAYT'!AA70>0,'Apoio_cálculo custos_SAYT_RAYT'!AA71>0,'Apoio_cálculo custos_SAYT_RAYT'!AA72>0,'Apoio_cálculo custos_SAYT_RAYT'!AA73>0,'Apoio_cálculo custos_SAYT_RAYT'!AA74>0,'Apoio_cálculo custos_SAYT_RAYT'!AA75>0,'Apoio_cálculo custos_SAYT_RAYT'!AA76>0,'Apoio_cálculo custos_SAYT_RAYT'!AA77>0,'Apoio_cálculo custos_SAYT_RAYT'!AA78>0,'Apoio_cálculo custos_SAYT_RAYT'!AA79>0,'Apoio_cálculo custos_SAYT_RAYT'!AA80>0,'Apoio_cálculo custos_SAYT_RAYT'!AA81>0,'Apoio_cálculo custos_SAYT_RAYT'!AA82>0,'Apoio_cálculo custos_SAYT_RAYT'!AA83>0,'Apoio_cálculo custos_SAYT_RAYT'!AA84>0,'Apoio_cálculo custos_SAYT_RAYT'!AA85>0,'Apoio_cálculo custos_SAYT_RAYT'!AA86>0,'Apoio_cálculo custos_SAYT_RAYT'!AA87>0,'Apoio_cálculo custos_SAYT_RAYT'!AA88>0,'Apoio_cálculo custos_SAYT_RAYT'!AA89>0,'Apoio_cálculo custos_SAYT_RAYT'!AA90>0,'Apoio_cálculo custos_SAYT_RAYT'!AA91>0,'Apoio_cálculo custos_SAYT_RAYT'!AA92>0,'Apoio_cálculo custos_SAYT_RAYT'!AA93>0,'Apoio_cálculo custos_SAYT_RAYT'!AA94>0,'Apoio_cálculo custos_SAYT_RAYT'!AA95>0,'Apoio_cálculo custos_SAYT_RAYT'!AA96>0,'Apoio_cálculo custos_SAYT_RAYT'!AA97>0,'Apoio_cálculo custos_SAYT_RAYT'!AA98>0,'Apoio_cálculo custos_SAYT_RAYT'!AA99>0,'Apoio_cálculo custos_SAYT_RAYT'!AA100>0,'Apoio_cálculo custos_SAYT_RAYT'!AA101>0,'Apoio_cálculo custos_SAYT_RAYT'!AA102>0,'Apoio_cálculo custos_SAYT_RAYT'!AA103>0,'Apoio_cálculo custos_SAYT_RAYT'!AA104>0,'Apoio_cálculo custos_SAYT_RAYT'!AA105>0,'Apoio_cálculo custos_SAYT_RAYT'!AA106>0,'Apoio_cálculo custos_SAYT_RAYT'!AA107>0,'Apoio_cálculo custos_SAYT_RAYT'!AA108>0,'Apoio_cálculo custos_SAYT_RAYT'!AA109>0,'Apoio_cálculo custos_SAYT_RAYT'!AA110>0,'Apoio_cálculo custos_SAYT_RAYT'!AA111>0),\">>>\",\"\")","v":""},{"$f":"+IF(OR('Apoio_cálculo custos_PAYT'!AA70>0,'Apoio_cálculo custos_PAYT'!AA71>0,'Apoio_cálculo custos_PAYT'!AA72>0,'Apoio_cálculo custos_PAYT'!AA73>0,'Apoio_cálculo custos_PAYT'!AA74>0,'Apoio_cálculo custos_PAYT'!AA75>0,'Apoio_cálculo custos_PAYT'!AA76>0,'Apoio_cálculo custos_PAYT'!AA77>0,'Apoio_cálculo custos_PAYT'!AA78>0,'Apoio_cálculo custos_PAYT'!AA79>0,'Apoio_cálculo custos_PAYT'!AA90>0,'Apoio_cálculo custos_PAYT'!AA91>0,'Apoio_cálculo custos_PAYT'!AA92>0,'Apoio_cálculo custos_PAYT'!AA93>0,'Apoio_cálculo custos_PAYT'!AA94>0,'Apoio_cálculo custos_PAYT'!AA95>0,'Apoio_cálculo custos_PAYT'!AA96>0,'Apoio_cálculo custos_PAYT'!AA97>0,'Apoio_cálculo custos_PAYT'!AA98>0,'Apoio_cálculo custos_PAYT'!AA99>0,'Apoio_cálculo custos_PAYT'!AA100>0,'Apoio_cálculo custos_PAYT'!AA101>0,'Apoio_cálculo custos_PAYT'!AA102>0,'Apoio_cálculo custos_PAYT'!AA103>0,'Apoio_cálculo custos_PAYT'!AA104>0,'Apoio_cálculo custos_PAYT'!AA105>0,'Apoio_cálculo custos_PAYT'!AA106>0,'Apoio_cálculo custos_PAYT'!AA107>0,'Apoio_cálculo custos_PAYT'!AA108>0,'Apoio_cálculo custos_PAYT'!AA109>0,'Apoio_cálculo custos_PAYT'!AA110>0,'Apoio_cálculo custos_PAYT'!AA111>0),\">>>\",\"\")","v":""},"Viaturas de recolha",null,"€/jogo"]
[null,{"$f":"+IF(OR(Esq_Atual!J58>0,Esq_Atual!J79>0,Esq_Atual!AZ69>0,Esq_Atual!BD69>0,Esq_Atual!BH69>0,Esq_Atual!BL69>0,Esq_Atual!AZ98>0,Esq_Atual!BD98>0,Esq_Atual!BH98>0,Esq_Atual!BL98>0),\">>>\",\"\")","v":""},{"$f":"+IF(OR('Modelação do sist SAYT_RAYT'!Y93>0,'Modelação do sist SAYT_RAYT'!Y114>0),\">>>\",\"\")","v":""},{"$f":"+IF(OR('Modelação do sist PAYT'!I116>0,'Modelação do sist PAYT'!I164>0,'Modelação do sist PAYT'!BI71>0,'Modelação do sist PAYT'!BM71>0,'Modelação do sist PAYT'!BQ71>0,'Modelação do sist PAYT'!BU71>0,'Modelação do sist PAYT'!BJ99>0,'Modelação do sist PAYT'!BN99>0,'Modelação do sist PAYT'!BR99>0,'Modelação do sist PAYT'!BV99>0,),\">>>\",\"\")","v":""},"140 L",null,"€",null,null,{"$f":"+IF(OR('Modelação do sist SAYT_RAYT'!CJ33>0,'Modelação do sist SAYT_RAYT'!CJ34>0,'Modelação do sist SAYT_RAYT'!CJ35>0,'Modelação do sist SAYT_RAYT'!CJ45>0,'Modelação do sist SAYT_RAYT'!CJ46>0,'Modelação do sist SAYT_RAYT'!CJ47>0,'Modelação do sist SAYT_RAYT'!CJ63>0,'Modelação do sist SAYT_RAYT'!CJ64>0,'Modelação do sist SAYT_RAYT'!CJ65>0),\">>>\",\"\")","v":""},{"$f":"+IF(OR('Modelação do sist PAYT'!EI33>0,'Modelação do sist PAYT'!EI34>0,'Modelação do sist PAYT'!EI35>0,'Modelação do sist PAYT'!EI45>0,'Modelação do sist PAYT'!EI46>0,'Modelação do sist PAYT'!EI47>0,'Modelação do sist PAYT'!EI63>0,'Modelação do sist PAYT'!EI64>0,'Modelação do sist PAYT'!EI65>0),\">>>\",\"\")","v":""},"Sistema de Pesagem em Chassis",null,"€",null,{"$f":"+IF(OR('Apoio_cálculo custos_sit_atual'!AA54>0,'Apoio_cálculo custos_sit_atual'!AA55>0,'Apoio_cálculo custos_sit_atual'!AA56>0),\">>>\",\"\")","v":""},{"$f":"+IF('Apoio_cálculo custos_SAYT_RAYT'!AA112>0,\">>>\",\"\")","v":""},{"$f":"+IF('Apoio_cálculo custos_PAYT'!AA112>0,\">>>\",\"\")","v":""},"Viaturas de lavagem de contentores",null,"€/jogo"]
[null,{"$f":"+IF(OR(Esq_Atual!J31>0,Esq_Atual!J59>0,Esq_Atual!J80>0,Esq_Atual!AY35>0,Esq_Atual!BQ35>0,Esq_Atual!CI35>0,Esq_Atual!DA35>0,Esq_Atual!AZ70>0,Esq_Atual!BD70>0,Esq_Atual!BH70>0,Esq_Atual!BL70>0,Esq_Atual!AZ99>0,Esq_Atual!BD99>0,Esq_Atual!BH99>0,Esq_Atual!BL99>0),\">>>\",\"\")","v":""},{"$f":"+IF(OR('Modelação do sist SAYT_RAYT'!Y94>0,'Modelação do sist SAYT_RAYT'!Y115>0,'Modelação do sist SAYT_RAYT'!AR38>0,),\">>>\",\"\")","v":""},{"$f":"+IF(OR('Modelação do sist PAYT'!I117>0,'Modelação do sist PAYT'!I124>0,'Modelação do sist PAYT'!I165>0,'Modelação do sist PAYT'!BH39>0,'Modelação do sist PAYT'!BQ39>0,'Modelação do sist PAYT'!BZ39>0,'Modelação do sist PAYT'!CI39>0,'Modelação do sist PAYT'!BI72>0,'Modelação do sist PAYT'!BM72>0,'Modelação do sist PAYT'!BQ72>0,'Modelação do sist PAYT'!BU72>0,'Modelação do sist PAYT'!BJ100>0,'Modelação do sist PAYT'!BN100>0,'Modelação do sist PAYT'!BR100>0,'Modelação do sist PAYT'!BV100>0),\">>>\",\"\")","v":""},"240 L",null,"€",null,null,null,null,null,null,null,null,{"$f":"+IF('Apoio_cálculo custos_sit_atual'!AA67>0,\">>>\",\"\")","v":""},{"$f":"+IF('Apoio_cálculo custos_SAYT_RAYT'!AA119>0,\">>>\",\"\")","v":""},{"$f":"+IF('Apoio_cálculo custos_PAYT'!AA119>0,\">>>\",\"\")","v":""},"Viaturas de transporte ecocentro",null,"€/jogo"]
[null,{"$f":"+IF(OR(Esq_Atual!J32>0,Esq_Atual!J60>0,Esq_Atual!J81>0,Esq_Atual!AY36>0,Esq_Atual!BQ36>0,Esq_Atual!CI36>0,Esq_Atual!DA36>0,Esq_Atual!AZ71>0,Esq_Atual!BD71>0,Esq_Atual!BH71>0,Esq_Atual!BL71>0,Esq_Atual!AZ100>0,Esq_Atual!BD100>0,Esq_Atual!BH100>0,Esq_Atual!BL100>0),\">>>\",\"\")","v":""},{"$f":"+IF(OR('Modelação do sist SAYT_RAYT'!Y95>0,'Modelação do sist SAYT_RAYT'!Y116>0,'Modelação do sist SAYT_RAYT'!AR39>0),\">>>\",\"\")","v":""},{"$f":"+IF(OR('Modelação do sist PAYT'!I118>0,'Modelação do sist PAYT'!I125>0,'Modelação do sist PAYT'!I166>0,'Modelação do sist PAYT'!BH40>0,'Modelação do sist PAYT'!BQ40>0,'Modelação do sist PAYT'!BZ40>0,'Modelação do sist PAYT'!CI40>0,'Modelação do sist PAYT'!BI73>0,'Modelação do sist PAYT'!BM73>0,'Modelação do sist PAYT'!BQ73>0,'Modelação do sist PAYT'!BU73>0,'Modelação do sist PAYT'!BN101>0,'Modelação do sist PAYT'!BR101>0,'Modelação do sist PAYT'!BV101>0),\">>>\",\"\")","v":""},"360 L",null,"€",null,null,null,null,null,null,null,null,{"$f":"+IF('Apoio_cálculo custos_sit_atual'!AA75>0,\">>>\",\"\")","v":""},{"$f":"+IF('Apoio_cálculo custos_SAYT_RAYT'!AA127>0,\">>>\",\"\")","v":""},{"$f":"+IF('Apoio_cálculo custos_PAYT'!AA127>0,\">>>\",\"\")","v":""},"Semi-reboque 90 m3 com piso móvel",null,"€/jogo"]
[null,{"$f":"+IF(OR(Esq_Atual!AY37>0,Esq_Atual!BQ37>0,Esq_Atual!CI37>0,Esq_Atual!DA37>0),\">>>\",\"\")","v":""},{"$f":"+IF('Modelação do sist SAYT_RAYT'!AR40>0,\">>>\",\"\")","v":""},{"$f":"+IF(OR('Modelação do sist PAYT'!BH41>0,'Modelação do sist PAYT'!BQ41>0,'Modelação do sist PAYT'!BZ41>0,'Modelação do sist PAYT'!CI41>0),\">>>\",\"\")","v":""},"750 L",null,"€",null,"Ecocentro",null,null,null,null,null,null,{"$f":"+IF('Apoio_cálculo custos_sit_atual'!AA76>0,\">>>\",\"\")","v":""},{"$f":"+IF('Apoio_cálculo custos_SAYT_RAYT'!AA128>0,\">>>\",\"\")","v":""},{"$f":"+IF('Apoio_cálculo custos_PAYT'!AA128>0,\">>>\",\"\")","v":""},"Trator para semi-reboque piso móvel",null,"€/jogo"]
[null,{"$f":"+IF(OR(Esq_Atual!J33>0,Esq_Atual!J61>0,Esq_Atual!J82>0,Esq_Atual!AY38>0,Esq_Atual!BQ38>0,Esq_Atual!CI38>0,Esq_Atual!DA38>0,Esq_Atual!AZ72>0,Esq_Atual!BD72>0,Esq_Atual!BH72>0,Esq_Atual!BL72>0,Esq_Atual!AZ101>0,Esq_Atual!BD101>0,Esq_Atual!BH101>0,Esq_Atual!BL101>0),\">>>\",\"\")","v":""},{"$f":"+IF(OR('Modelação do sist SAYT_RAYT'!AR41>0,'Modelação do sist SAYT_RAYT'!AR64,'Modelação do sist SAYT_RAYT'!Y96>0,'Modelação do sist SAYT_RAYT'!Y117>0),\">>>\",\"\")","v":""},{"$f":"+IF(OR('Modelação do sist PAYT'!I37>0,'Modelação do sist PAYT'!I50>0,'Modelação do sist PAYT'!I61>0,'Modelação do sist PAYT'!I75>0,'Modelação do sist PAYT'!I126>0,'Modelação do sist PAYT'!I172>0,'Modelação do sist PAYT'!BH42>0,'Modelação do sist PAYT'!BQ42>0,'Modelação do sist PAYT'!BZ42>0,'Modelação do sist PAYT'!CI42>0,'Modelação do sist PAYT'!BI74>0,'Modelação do sist PAYT'!BM74>0,'Modelação do sist PAYT'!BQ74>0,'Modelação do sist PAYT'!BU74>0,'Modelação do sist PAYT'!BN102>0,'Modelação do sist PAYT'!BR102>0,'Modelação do sist PAYT'!BV102>0,),\">>>\",\"\")","v":""},"800 L",null,"€",null,null,null,null,null,null,null,null,{"$f":"+IF('Apoio_cálculo custos_sit_atual'!AA77>0,\">>>\",\"\")","v":""},{"$f":"+IF('Apoio_cálculo custos_SAYT_RAYT'!AA129>0,\">>>\",\"\")","v":""},{"$f":"+IF('Apoio_cálculo custos_PAYT'!AA129>0,\">>>\",\"\")","v":""},"Chassi cabina para veículo de transferência",null,"€/jogo"]
[null,{"$f":"+IF(OR(Esq_Atual!J34>0,Esq_Atual!AY39>0,Esq_Atual!BQ39>0,Esq_Atual!CI39>0,Esq_Atual!DA39>0),\">>>\",\"\")","v":""},{"$f":"+IF(OR('Modelação do sist SAYT_RAYT'!AR65>0,'Modelação do sist SAYT_RAYT'!AR42>0),\">>>\",\"\")","v":""},{"$f":"+IF(OR('Modelação do sist PAYT'!I38>0,'Modelação do sist PAYT'!I51>0,'Modelação do sist PAYT'!I62>0,'Modelação do sist PAYT'!I76>0,'Modelação do sist PAYT'!I127>0,'Modelação do sist PAYT'!I173>0,'Modelação do sist PAYT'!BH43>0,'Modelação do sist PAYT'!BQ43>0,'Modelação do sist PAYT'!BZ43>0,'Modelação do sist PAYT'!CI43>0),\">>>\",\"\")","v":""},"1 000 L",null,"€"]
[null,{"$f":"+IF(OR(Esq_Atual!J35>0,Esq_Atual!AY40>0,Esq_Atual!BQ40>0,Esq_Atual!CI40>0,Esq_Atual!DA40>0),\">>>\",\"\")","v":""},{"$f":"+IF(OR('Modelação do sist SAYT_RAYT'!AR43>0,'Modelação do sist SAYT_RAYT'!AR66>0),\">>>\",\"\")","v":""},{"$f":"+IF(OR('Modelação do sist PAYT'!I39>0,'Modelação do sist PAYT'!I52>0,'Modelação do sist PAYT'!I63>0,'Modelação do sist PAYT'!I77>0,'Modelação do sist PAYT'!I128>0,'Modelação do sist PAYT'!I174>0,'Modelação do sist PAYT'!BH44>0,'Modelação do sist PAYT'!BQ44>0,'Modelação do sist PAYT'!BZ44>0,'Modelação do sist PAYT'!CI44>0),\">>>\",\"\")","v":""},"1 100 L",null,"€",null,null,null,null,null,"Valor unitário a considerar"]
[null,{"$f":"+IF(OR(Esq_Atual!AY41>0,Esq_Atual!BQ41>0,Esq_Atual!CI41>0,Esq_Atual!DA41>0),\">>>\",\"\")","v":""},{"$f":"+IF(OR('Modelação do sist SAYT_RAYT'!AR44>0,'Modelação do sist SAYT_RAYT'!AR67>0),\">>>\",\"\")","v":""},{"$f":"+IF(OR('Modelação do sist PAYT'!BH45>0,'Modelação do sist PAYT'!BQ45>0,'Modelação do sist PAYT'!BZ45>0,'Modelação do sist PAYT'!CI45>0),\">>>\",\"\")","v":""},"1 500 L",null,"€",null,null,null,null,null,null,null,null,"Comunicação e sensibilização"]
[null,{"$f":"+IF(OR(Esq_Atual!AY42>0,Esq_Atual!BQ42>0,Esq_Atual!CI42>0,Esq_Atual!DA42>0),\">>>\",\"\")","v":""},{"$f":"+IF(OR('Modelação do sist SAYT_RAYT'!AR45>0,'Modelação do sist SAYT_RAYT'!AR68>0),\">>>\",\"\")","v":""},{"$f":"+IF(OR('Modelação do sist PAYT'!BH46>0,'Modelação do sist PAYT'!BQ46>0,'Modelação do sist PAYT'!BZ46>0,'Modelação do sist PAYT'!CI46>0),\">>>\",\"\")","v":""},"2 350 L",null,"€",null,null,null,"Construção civil",null,null,"€"]
[null,{"$f":"+IF(OR(Esq_Atual!AY43>0,Esq_Atual!BQ43>0,Esq_Atual!CI43>0,Esq_Atual!DA43>0),\">>>\",\"\")","v":""},{"$f":"+IF(OR('Modelação do sist SAYT_RAYT'!AR46>0,'Modelação do sist SAYT_RAYT'!AR69>0),\">>>\",\"\")","v":""},{"$f":"+IF(OR('Modelação do sist PAYT'!BH47>0,'Modelação do sist PAYT'!BQ47>0,'Modelação do sist PAYT'!BZ47>0,'Modelação do sist PAYT'!CI47>0),\">>>\",\"\")","v":""},"2 500 L",null,"€",null,{"$f":"+IF(Esq_Atual!AV201>0,\">>>\",\"\")","v":""},{"$f":"+IF('Modelação do sist SAYT_RAYT'!BJ82>0,\">>>\",\"\")","v":""},{"$f":"+IF('Modelação do sist PAYT'!DJ82>0,\">>>\",\"\")","v":""}]
[null,{"$f":"+IF(OR(Esq_Atual!AY44>0,Esq_Atual!BQ44>0,Esq_Atual!CI44>0,Esq_Atual!DA44>0),\">>>\",\"\")","v":""},{"$f":"+IF(OR('Modelação do sist SAYT_RAYT'!AR47>0,'Modelação do sist SAYT_RAYT'!AR70>0),\">>>\",\"\")","v":""},{"$f":"+IF(OR('Modelação do sist PAYT'!BH48>0,'Modelação do sist PAYT'!BQ48>0,'Modelação do sist PAYT'!BZ48>0,'Modelação do sist PAYT'!CI48>0),\">>>\",\"\")","v":""},"2 700 L",null,"€",null,null,null,"Contentores",null,null,null,null,null,null,null,null,"Valor unitário a considerar"]
[null,null,null,null,"Semi-enterrados",null,null,null,{"$f":"+IF(Esq_Atual!AX204>0,\">>>\",\"\")","v":""},{"$f":"+IF('Modelação do sist SAYT_RAYT'!BL85>0,\">>>\",\"\")","v":""},{"$f":"+IF('Modelação do sist PAYT'!DL85>0,\">>>\",\"\")","v":""},"Contentores metálicos 15 m3",null,"€"]
[null,{"$f":"+IF(OR(Esq_Atual!S36>0,Esq_Atual!BE45>0,Esq_Atual!BW45>0,Esq_Atual!CO45>0,Esq_Atual!DG45>0),\">>>\",\"\")","v":""},{"$f":"+IF(OR('Modelação do sist SAYT_RAYT'!AU48>0,'Modelação do sist SAYT_RAYT'!AU71>0),\">>>\",\"\")","v":""},{"$f":"+IF(OR('Modelação do sist PAYT'!R40>0,'Modelação do sist PAYT'!R64>0,'Modelação do sist PAYT'!BK49>0,'Modelação do sist PAYT'!BT49>0,'Modelação do sist PAYT'!CC49>0,'Modelação do sist PAYT'!CL49>0),\">>>\",\"\")","v":""},"3 000 L",null,"€",null,{"$f":"+IF(Esq_Atual!AX205>0,\">>>\",\"\")","v":""},{"$f":"+IF('Modelação do sist SAYT_RAYT'!BL86>0,\">>>\",\"\")","v":""},{"$f":"+IF('Modelação do sist PAYT'!DL86>0,\">>>\",\"\")","v":""},"Contentores metálicos 30 m3",null,"€",null,null,null,"Conceção"]
[null,{"$f":"+IF(OR(Esq_Atual!S39>0,Esq_Atual!BE48>0,Esq_Atual!BW48>0,Esq_Atual!CO48>0,Esq_Atual!DG48>0),\">>>\",\"\")","v":""},{"$f":"+IF(OR('Modelação do sist SAYT_RAYT'!AU51>0,'Modelação do sist SAYT_RAYT'!AU74>0),\">>>\",\"\")","v":""},{"$f":"+IF(OR('Modelação do sist PAYT'!R43>0,'Modelação do sist PAYT'!R67>0,'Modelação do sist PAYT'!BK52>0,'Modelação do sist PAYT'!BT52>0,'Modelação do sist PAYT'!CC52>0,'Modelação do sist PAYT'!CL52>0),\">>>\",\"\")","v":""},"5 000 L",null,"€",null,{"$f":"+IF(Esq_Atual!AX206>0,\">>>\",\"\")","v":""},{"$f":"+IF('Modelação do sist SAYT_RAYT'!BL87>0,\">>>\",\"\")","v":""},{"$f":"+IF('Modelação do sist PAYT'!DL87>0,\">>>\",\"\")","v":""},"Autocompactadores 20 m3",null,"€",null,null,{"$f":"+IF('Modelação do sist SAYT_RAYT'!$BT$122>0,\">>>\",\"\")","v":""},{"$f":"+IF('Modelação do sist PAYT'!$DT$122>0,\">>>\",\"\")","v":""},"Conceção das campanhas",null,"€/h"]
[null,null,null,null,"Enterrados",null,null,null,null,null,null,null,null,null,null,null,null,"Suportes publicitários","Formatos"]
[null,{"$f":"+IF(OR(Esq_Atual!AB33>0,Esq_Atual!BK38>0,Esq_Atual!CC38>0,Esq_Atual!CU38>0,Esq_Atual!DM38>0),\">>>\",\"\")","v":""},{"$f":"+IF(OR('Modelação do sist SAYT_RAYT'!AX41>0,'Modelação do sist SAYT_RAYT'!AX64>0),\">>>\",\"\")","v":""},{"$f":"+IF(OR('Modelação do sist PAYT'!AA37>0,'Modelação do sist PAYT'!AA61>0,'Modelação do sist PAYT'!BN42>0,'Modelação do sist PAYT'!BW42>0,'Modelação do sist PAYT'!CF42>0,'Modelação do sist PAYT'!CO42>0),\">>>\",\"\")","v":""},"800 L",null,"€",null,null,null,"Viaturas",null,null,null,null,null,{"$f":"+IF('Modelação do sist SAYT_RAYT'!BT123>0,\">>>\",\"\")","v":""},{"$f":"+IF('Modelação do sist PAYT'!DT123>0,\">>>\",\"\")","v":""},"Folhetos",null,"€"]
[null,{"$f":"+IF(OR(Esq_Atual!AB34>0,Esq_Atual!BK39>0,Esq_Atual!CC39>0,Esq_Atual!CU39>0,Esq_Atual!DM39>0),\">>>\",\"\")","v":""},{"$f":"+IF(OR('Modelação do sist SAYT_RAYT'!AX42>0,'Modelação do sist SAYT_RAYT'!AX65>0),\">>>\",\"\")","v":""},{"$f":"+IF(OR('Modelação do sist PAYT'!AA38>0,'Modelação do sist PAYT'!AA62>0,'Modelação do sist PAYT'!BN43>0,'Modelação do sist PAYT'!BW43>0,'Modelação do sist PAYT'!CF43>0,'Modelação do sist PAYT'!CO43>0),\">>>\",\"\")","v":""},"1 000 L",null,"€",null,{"$f":"+IF(Esq_Atual!BI204>0,\">>>\",\"\")","v":""},{"$f":"+IF('Modelação do sist SAYT_RAYT'!BW85>0,\">>>\",\"\")","v":""},{"$f":"+IF('Modelação do sist PAYT'!DW85>0,\">>>\",\"\")","v":""},"Viatura de transporte",null,"€",null,null,{"$f":"+IF('Modelação do sist SAYT_RAYT'!BT124>0,\">>>\",\"\")","v":""},{"$f":"+IF('Modelação do sist PAYT'!DT124>0,\">>>\",\"\")","v":""},"Posters",null,"€"]
[null,{"$f":"+IF(OR(Esq_Atual!AB35>0,Esq_Atual!BK40>0,Esq_Atual!CC40>0,Esq_Atual!CU40>0,Esq_Atual!DM40>0),\">>>\",\"\")","v":""},{"$f":"+IF(OR('Modelação do sist SAYT_RAYT'!AX43>0,'Modelação do sist SAYT_RAYT'!AX66>0),\">>>\",\"\")","v":""},{"$f":"+IF(OR('Modelação do sist PAYT'!AA39>0,'Modelação do sist PAYT'!AA63>0,'Modelação do sist PAYT'!BN44>0,'Modelação do sist PAYT'!BW44>0,'Modelação do sist PAYT'!CF44>0,'Modelação do sist PAYT'!CO44>0),\">>>\",\"\")","v":""},"1 100 L",null,"€",null,null,null,null,null,null,null,null,null,{"$f":"+IF('Modelação do sist SAYT_RAYT'!BT125>0,\">>>\",\"\")","v":""},{"$f":"+IF('Modelação do sist PAYT'!DT125>0,\">>>\",\"\")","v":""},"Placards",null,"€"]
[null,{"$f":"+IF(OR(Esq_Atual!AB36>0,Esq_Atual!BK45>0,Esq_Atual!CC45>0,Esq_Atual!CU45>0,Esq_Atual!DM45>0),\">>>\",\"\")","v":""},{"$f":"+IF(OR('Modelação do sist SAYT_RAYT'!AX48>0,'Modelação do sist SAYT_RAYT'!AX71>0),\">>>\",\"\")","v":""},{"$f":"+IF(OR('Modelação do sist PAYT'!AA40>0,'Modelação do sist PAYT'!AA64>0,'Modelação do sist PAYT'!BN49>0,'Modelação do sist PAYT'!BW49>0,'Modelação do sist PAYT'!CF49>0,'Modelação do sist PAYT'!CO49>0),\">>>\",\"\")","v":""},"3 000 L",null,"€",null,null,null,null,null,null,null,null,null,{"$f":"+IF('Modelação do sist SAYT_RAYT'!BT126>0,\">>>\",\"\")","v":""},{"$f":"+IF('Modelação do sist PAYT'!DT126>0,\">>>\",\"\")","v":""},"Outdoors",null,"€"]
[null,{"$f":"+IF(OR(Esq_Atual!AB37>0,Esq_Atual!BK46>0,Esq_Atual!CC46>0,Esq_Atual!CU46>0,Esq_Atual!DM46>0),\">>>\",\"\")","v":""},{"$f":"+IF(OR('Modelação do sist SAYT_RAYT'!AX49>0,'Modelação do sist SAYT_RAYT'!AX72>0),\">>>\",\"\")","v":""},{"$f":"+IF(OR('Modelação do sist PAYT'!AA41>0,'Modelação do sist PAYT'!AA65>0,'Modelação do sist PAYT'!BN50>0,'Modelação do sist PAYT'!BW50>0,'Modelação do sist PAYT'!CF50>0,'Modelação do sist PAYT'!CO50>0),\">>>\",\"\")","v":""},"3 200 L",null,"€",null,"Transferência",null,null,null,null,null,null,null,{"$f":"+IF('Modelação do sist SAYT_RAYT'!BT127>0,\">>>\",\"\")","v":""},{"$f":"+IF('Modelação do sist PAYT'!DT127>0,\">>>\",\"\")","v":""},"Jornais locais/regionais",null,"€"]
[null,{"$f":"+IF(OR(Esq_Atual!AB38>0,Esq_Atual!BK47>0,Esq_Atual!CC47>0,Esq_Atual!CU47>0,Esq_Atual!DM47>0),\">>>\",\"\")","v":""},{"$f":"+IF(OR('Modelação do sist SAYT_RAYT'!AX50>0,'Modelação do sist SAYT_RAYT'!AX73>0),\">>>\",\"\")","v":""},{"$f":"+IF(OR('Modelação do sist PAYT'!AA42>0,'Modelação do sist PAYT'!AA66>0,'Modelação do sist PAYT'!BN51>0,'Modelação do sist PAYT'!BW51>0,'Modelação do sist PAYT'!CF51>0,'Modelação do sist PAYT'!CO51>0),\">>>\",\"\")","v":""},"4 000 L",null,"€"]
[null,{"$f":"+IF(OR(Esq_Atual!AB39>0,Esq_Atual!BK48>0,Esq_Atual!CC48>0,Esq_Atual!CU48>0,Esq_Atual!DM48>0),\">>>\",\"\")","v":""},{"$f":"+IF(OR('Modelação do sist SAYT_RAYT'!AX51>0,'Modelação do sist SAYT_RAYT'!AX74>0),\">>>\",\"\")","v":""},{"$f":"+IF(OR('Modelação do sist PAYT'!AA43>0,'Modelação do sist PAYT'!AA67>0,'Modelação do sist PAYT'!BN52>0,'Modelação do sist PAYT'!BW52>0,'Modelação do sist PAYT'!CF52>0,'Modelação do sist PAYT'!CO52>0),\">>>\",\"\")","v":""},"5 000 L",null,"€"]
[null,null,null,null,null,null,null,null,null,null,null,null,"Valor unitário a considerar"]
[null,null,null,"Instrumentação de contentores"]
[null,null,{"$f":"+IF('Modelação do sist SAYT_RAYT'!Y118>0,\">>>\",\"\")","v":""},{"$f":"+IF(OR('Modelação do sist PAYT'!I110>0,'Modelação do sist PAYT'!I111>0,'Modelação do sist PAYT'!I112>0,'Modelação do sist PAYT'!I113>0,'Modelação do sist PAYT'!I114>0,'Modelação do sist PAYT'!I115>0,'Modelação do sist PAYT'!I116>0,'Modelação do sist PAYT'!I117>0,'Modelação do sist PAYT'!I118>0,'Modelação do sist PAYT'!I124>0,'Modelação do sist PAYT'!I125>0,'Modelação do sist PAYT'!I126>0,'Modelação do sist PAYT'!I127>0,'Modelação do sist PAYT'!I128>0,'Modelação do sist PAYT'!I158>0,'Modelação do sist PAYT'!I159>0,'Modelação do sist PAYT'!I160>0,'Modelação do sist PAYT'!I161>0,'Modelação do sist PAYT'!I162>0,'Modelação do sist PAYT'!I163>0,'Modelação do sist PAYT'!I164>0,'Modelação do sist PAYT'!I165>0,'Modelação do sist PAYT'!I166>0,'Modelação do sist PAYT'!I172>0,'Modelação do sist PAYT'!I173>0,'Modelação do sist PAYT'!I174>0,'Modelação do sist PAYT'!BI64>0,'Modelação do sist PAYT'!BM64>0,'Modelação do sist PAYT'!BQ64>0,'Modelação do sist PAYT'!BU64>0,'Modelação do sist PAYT'!BI65>0,'Modelação do sist PAYT'!BM65>0,'Modelação do sist PAYT'!BQ65>0,'Modelação do sist PAYT'!BU65>0,'Modelação do sist PAYT'!BI66>0,'Modelação do sist PAYT'!BM66>0,'Modelação do sist PAYT'!BQ66>0,'Modelação do sist PAYT'!BU66>0,'Modelação do sist PAYT'!BI67>0,'Modelação do sist PAYT'!BM67>0,'Modelação do sist PAYT'!BQ67>0,'Modelação do sist PAYT'!BU67>0,'Modelação do sist PAYT'!BI68>0,'Modelação do sist PAYT'!BM68>0,'Modelação do sist PAYT'!BQ68>0,'Modelação do sist PAYT'!BU68>0,'Modelação do sist PAYT'!BI69>0,'Modelação do sist PAYT'!BM69>0,'Modelação do sist PAYT'!BQ69>0,'Modelação do sist PAYT'!BU69>0,'Modelação do sist PAYT'!BI70>0,'Modelação do sist PAYT'!BM70>0,'Modelação do sist PAYT'!BQ70>0,'Modelação do sist PAYT'!BU70>0,'Modelação do sist PAYT'!BI71>0,'Modelação do sist PAYT'!BM71>0,'Modelação do sist PAYT'!BQ71>0,'Modelação do sist PAYT'!BU71>0,'Modelação do sist PAYT'!BI72>0,'Modelação do sist PAYT'!BM72>0,'Modelação do sist PAYT'!BQ72>0,'Modelação do sist PAYT'!BU72>0,'Modelação do sist PAYT'!BI73>0,'Modelação do sist PAYT'!BM73>0,'Modelação do sist PAYT'!BQ73>0,'Modelação do sist PAYT'!BU73>0,'Modelação do sist PAYT'!BI74>0,'Modelação do sist PAYT'!BM74>0,'Modelação do sist PAYT'!BQ74>0,'Modelação do sist PAYT'!BU74>0,'Modelação do sist PAYT'!BN97>0,'Modelação do sist PAYT'!BR97>0,'Modelação do sist PAYT'!BV97>0,'Modelação do sist PAYT'!BJ98>0,'Modelação do sist PAYT'!BN98>0,'Modelação do sist PAYT'!BR98>0,'Modelação do sist PAYT'!BV98>0,'Modelação do sist PAYT'!BJ99>0,'Modelação do sist PAYT'!BN99>0,'Modelação do sist PAYT'!BR99>0,'Modelação do sist PAYT'!BV99>0,'Modelação do sist PAYT'!BJ100>0,'Modelação do sist PAYT'!BN100>0,'Modelação do sist PAYT'!BR100>0,'Modelação do sist PAYT'!BV100>0,'Modelação do sist PAYT'!BN101>0,'Modelação do sist PAYT'!BR101>0,'Modelação do sist PAYT'!BV101>0,'Modelação do sist PAYT'!BN102>0,'Modelação do sist PAYT'!BR102>0,'Modelação do sist PAYT'!BV102>0),\">>>\",\"\")","v":""},"TAG RFID",null,"€",null,null,null,"Construção civil",null,null,"€"]
[null,null,{"$f":"+IF('Modelação do sist SAYT_RAYT'!AR75>0,\">>>\",\"\")","v":""},{"$f":"+IF(OR('Modelação do sist PAYT'!I37>0,'Modelação do sist PAYT'!I38>0,'Modelação do sist PAYT'!I39>0,'Modelação do sist PAYT'!I50>0,'Modelação do sist PAYT'!I51>0,'Modelação do sist PAYT'!I52>0),\">>>\",\"\")","v":""},"Contentores de superfície - medição volume",null,"€",null,{"$f":"+IF(Esq_Atual!AV213>0,\">>>\",\"\")","v":""},{"$f":"+IF('Modelação do sist SAYT_RAYT'!BJ93>0,\">>>\",\"\")","v":""},{"$f":"+IF('Modelação do sist PAYT'!DJ93>0,\">>>\",\"\")","v":""}]
[null,null,{"$f":"+IF(OR('Modelação do sist SAYT_RAYT'!AU75>0,'Modelação do sist SAYT_RAYT'!AX75>0),\">>>\",\"\")","v":""},{"$f":"+IF(OR('Modelação do sist PAYT'!R40>0,'Modelação do sist PAYT'!R43>0,'Modelação do sist PAYT'!AA37>0,'Modelação do sist PAYT'!AA38>0,'Modelação do sist PAYT'!AA39>0,'Modelação do sist PAYT'!AA40>0,'Modelação do sist PAYT'!AA41>0,'Modelação do sist PAYT'!AA42>0,'Modelação do sist PAYT'!AA43>0),\">>>\",\"\")","v":""},"Contentores semi-enterrados / enterrados - medição volume",null,"€",null,null,null,"Contentores / Equipamento"]
[null,null,null,{"$f":"+IF(OR('Modelação do sist PAYT'!I61>0,'Modelação do sist PAYT'!I62>0,'Modelação do sist PAYT'!I63>0,'Modelação do sist PAYT'!I75>0,'Modelação do sist PAYT'!I76>0,'Modelação do sist PAYT'!I77>0),\">>>\",\"\")","v":""},"Contentores de superfície - medição peso",null,"€",null,{"$f":"+IF(Esq_Atual!BB216>0,\">>>\",\"\")","v":""},{"$f":"+IF('Modelação do sist SAYT_RAYT'!BP96>0,\">>>\",\"\")","v":""},{"$f":"+IF('Modelação do sist PAYT'!DP96>0,\">>>\",\"\")","v":""},"Contentores metálicos 30 m3 aberto",null,"€"]
[null,null,null,{"$f":"+IF(OR('Modelação do sist PAYT'!R64>0,'Modelação do sist PAYT'!R67>0,'Modelação do sist PAYT'!AA61>0,'Modelação do sist PAYT'!AA62>0,'Modelação do sist PAYT'!AA63>0,'Modelação do sist PAYT'!AA64>0,'Modelação do sist PAYT'!AA65>0,'Modelação do sist PAYT'!AA66>0,'Modelação do sist PAYT'!AA67>0),\">>>\",\"\")","v":""},"Contentores semi-enterrados / enterrados - medição peso",null,"€",null,{"$f":"+IF(Esq_Atual!BB217>0,\">>>\",\"\")","v":""},{"$f":"+IF('Modelação do sist SAYT_RAYT'!BP97>0,\">>>\",\"\")","v":""},{"$f":"+IF('Modelação do sist PAYT'!DP97>0,\">>>\",\"\")","v":""},"Contentores metálicos 40 m3 aberto",null,"€"]
[null,null,{"$f":"+IF('Modelação do sist SAYT_RAYT'!AI54>0,\">>>\",\"\")","v":""},{"$f":"+IF(OR(D66=\">>>\",D67=\">>>\",D68=\">>>\",D69=\">>>\"),\">>>\",\"\")","v":""},"Cartões / chave de acesso",null,"€",null,{"$f":"+IF(Esq_Atual!BB218>0,\">>>\",\"\")","v":""},{"$f":"+IF('Modelação do sist SAYT_RAYT'!BP98>0,\">>>\",\"\")","v":""},{"$f":"+IF('Modelação do sist PAYT'!DP98>0,\">>>\",\"\")","v":""},"Contentores metálicos 30 m3 fechado",null,"€"]
[null,null,null,null,null,null,null,null,{"$f":"+IF(Esq_Atual!BB219>0,\">>>\",\"\")","v":""},{"$f":"+IF('Modelação do sist SAYT_RAYT'!BP99>0,\">>>\",\"\")","v":""},{"$f":"+IF('Modelação do sist PAYT'!DP99>0,\">>>\",\"\")","v":""},"Contentores metálicos 40 m3 fechado",null,"€"]
[null,null,null,null,null,null,null,null,{"$f":"+IF(Esq_Atual!BB220>0,\">>>\",\"\")","v":""},{"$f":"+IF('Modelação do sist SAYT_RAYT'!BP100>0,\">>>\",\"\")","v":""},{"$f":"+IF('Modelação do sist PAYT'!DP100>0,\">>>\",\"\")","v":""},"Compactador estacionário c/ tremonha de carga",null,"€"]
[null,null,null,null,null,null,null,null,{"$f":"+IF(Esq_Atual!BB221>0,\">>>\",\"\")","v":""},{"$f":"+IF('Modelação do sist SAYT_RAYT'!BP101>0,\">>>\",\"\")","v":""},{"$f":"+IF('Modelação do sist PAYT'!DP101>0,\">>>\",\"\")","v":""},"Mesa de translação",null,"€"]
[]
[null,null,null,null,null,null,null,null,null,null,"Viaturas"]
[null,null,null,null,null,null,null,null,{"$f":"+IF(Esq_Atual!BR216>0,\">>>\",\"\")","v":""},{"$f":"+IF('Modelação do sist SAYT_RAYT'!CG96>0,\">>>\",\"\")","v":""},{"$f":"+IF('Modelação do sist PAYT'!EF96>0,\">>>\",\"\")","v":""},"Semi-reboque 90 m3 com piso móvel",null,"€"]
[null,null,null,null,null,null,null,null,{"$f":"+IF(Esq_Atual!BR217>0,\">>>\",\"\")","v":""},{"$f":"+IF('Modelação do sist SAYT_RAYT'!CG97>0,\">>>\",\"\")","v":""},{"$f":"+IF('Modelação do sist PAYT'!EF97>0,\">>>\",\"\")","v":""},"Trator para semi-reboque piso móvel",null,"€"]
[null,null,null,null,null,null,null,null,{"$f":"+IF(Esq_Atual!BR218>0,\">>>\",\"\")","v":""},{"$f":"+IF('Modelação do sist SAYT_RAYT'!CG98>0,\">>>\",\"\")","v":""},{"$f":"+IF('Modelação do sist PAYT'!EF98>0,\">>>\",\"\")","v":""},"Chassis cabina para veículo de transferência",null,"€"]

{"sheet":"Sit atual vs PAYT vs SAYT_RAYT","index":10,"n_rows":63,"n_cols":68,"rows_kept":63,"cut":false,"hidden":false,"merged":[[23,43,23,47],[24,43,24,47],[12,43,12,47],[13,43,13,47],[14,43,14,47],[14,19,14,23],[29,19,29,23],[25,43,25,47],[26,43,26,47],[27,43,27,47],[28,19,28,23],[22,19,22,23],[23,19,23,23],[28,43,28,47],[29,43,29,47],[24,19,24,23],[25,19,25,23],[26,19,26,23],[27,19,27,23],[10,2,10,23],[10,26,10,47],[12,19,12,23],[13,19,13,23],[15,19,15,23],[15,43,15,47],[20,2,20,23],[20,26,20,47],[22,43,22,47],[31,67,31,71],[32,67,32,71],[33,67,33,71],[34,67,34,71],[35,67,35,71],[30,19,30,23],[32,19,32,23],[33,19,33,23],[34,19,34,23],[31,19,31,23],[31,43,31,47],[35,43,35,47],[36,43,36,47],[34,43,34,47],[32,43,32,47],[33,43,33,47],[35,19,35,23],[36,19,36,23],[30,43,30,47],[61,2,61,23],[61,26,61,47],[49,2,49,23],[49,26,49,47],[50,2,50,23],[50,26,50,47],[38,19,38,23],[40,19,40,23],[39,19,39,23],[44,19,44,23],[44,43,44,47],[43,43,43,47],[40,43,40,47],[39,43,39,47],[42,43,42,47],[41,43,41,47],[62,2,62,23],[62,26,62,47],[55,2,55,23],[55,26,55,47],[56,2,56,23],[56,26,56,47],[55,50,55,71],[56,50,56,71],[61,50,61,71],[62,50,62,71],[58,1,59,72],[7,1,8,72],[17,1,18,72],[46,1,47,72],[52,1,53,72],[20,50,20,71],[22,67,22,71],[23,67,23,71],[24,67,24,71],[25,67,25,71],[26,67,26,71],[27,67,27,71],[28,67,28,71],[10,50,10,71],[12,67,12,71],[13,67,13,71],[14,67,14,71],[15,67,15,71],[29,67,29,71],[30,67,30,71],[49,50,49,71],[50,50,50,71],[36,67,36,71],[37,67,37,71],[38,67,38,71],[39,67,39,71],[40,67,40,71],[41,67,41,71],[42,67,42,71],[43,67,43,71],[44,67,44,71],[41,19,41,23],[43,19,43,23],[37,19,37,23],[42,19,42,23],[37,43,37,47],[38,43,38,47]]}
[]
[]
[]
[]
[]
[]
[]
[null,"RECEITAS"]
[]
[]
[null,null,"Situação atual",null,null,null,null,null,null,null,null,null,null,null,null,null,null,null,null,null,null,null,null,null,null,null,"PAYT",null,null,null,null,null,null,null,null,null,null,null,null,null,null,null,null,null,null,null,null,null,null,null,"SAYT / RAYT"]
[]
[null,null,"Receitas com serviços auxiliares",null,null,null,null,null,null,null,null,null,null,null,null,null,null,null,null,{"$f":"+'Modelação de custos atual'!K11","v":0},null,null,null,null,null,null,"Receitas com serviços auxiliares",null,null,null,null,null,null,null,null,null,null,null,null,null,null,null,null,{"$f":"+'Modelação de custos PAYT'!K11","v":0},null,null,null,null,null,null,"Receitas provenientes da entrega de recicláveis",null,null,null,null,null,null,null,null,null,null,null,null,null,null,null,null,{"$f":"+'Modelação de custos SAYT_RAYT'!K11","v":0}]
[null,null,"Receitas (p.ex. prestações de serviços a outras EG)",null,null,null,null,null,null,null,null,null,null,null,null,null,null,null,null,{"$f":"+'Modelação de custos atual'!K12","v":0},null,null,null,null,null,null,"Receitas (p.ex. prestações de serviços a outras EG)",null,null,null,null,null,null,null,null,null,null,null,null,null,null,null,null,{"$f":"+'Modelação de custos PAYT'!K12","v":0},null,null,null,null,null,null,"Receitas (p.ex. prestações de serviços de RS a outras entidades)",null,null,null,null,null,null,null,null,null,null,null,null,null,null,null,null,{"$f":"+'Modelação de custos SAYT_RAYT'!K12","v":0}]
[null,null,"Subsídios ",null,null,null,null,null,null,null,null,null,null,null,null,null,null,null,null,{"$f":"+'Modelação de custos atual'!K13","v":0},null,null,null,null,null,null,"Subsídios ",null,null,null,null,null,null,null,null,null,null,null,null,null,null,null,null,{"$f":"+'Modelação de custos PAYT'!K13","v":0},null,null,null,null,null,null,"Subsídios ",null,null,null,null,null,null,null,null,null,null,null,null,null,null,null,null,{"$f":"+'Modelação de custos SAYT_RAYT'!K13","v":0}]
[null,null,null,null,null,null,null,null,null,null,null,null,null,null,null,null,null,null,null,{"$f":"+SUM(T13:X15)","v":0},null,null,null,null,null,null,null,null,null,null,null,null,null,null,null,null,null,null,null,null,null,null,null,{"$f":"+SUM(AR13:AV15)","v":0},null,null,null,null,null,null,null,null,null,null,null,null,null,null,null,null,null,null,null,null,null,null,null,{"$f":"+SUM(BP13:BT15)","v":0}]
[]
[null,"CUSTOS"]
[]
[]
[null,null,"Situação atual",null,null,null,null,null,null,null,null,null,null,null,null,null,null,null,null,null,null,null,null,null,null,null,"PAYT",null,null,null,null,null,null,null,null,null,null,null,null,null,null,null,null,null,null,null,null,null,null,null,"SAYT / RAYT"]
[]
[null,null,"Sacos",null,null,null,null,null,null,null,null,null,null,null,null,null,null,null,null,{"$f":"'Apoio_cálculo custos_sit_atual'!$Q$105","v":0},null,null,null,null,null,null,"Sacos",null,null,null,null,null,null,null,null,null,null,null,null,null,null,null,null,{"$f":"'Apoio_cálculo custos_PAYT'!$Q$170","v":0},null,null,null,null,null,null,"Sacos",null,null,null,null,null,null,null,null,null,null,null,null,null,null,null,null,{"$f":"'Apoio_cálculo custos_SAYT_RAYT'!$Q$170","v":0}]
[null,null,"Contentores - conservação / reparação",null,null,null,null,null,null,null,null,null,null,null,null,null,null,null,null,{"$f":"'Apoio_cálculo custos_sit_atual'!$P$105","v":0},null,null,null,null,null,null,"Contentores - conservação / reparação",null,null,null,null,null,null,null,null,null,null,null,null,null,null,null,null,{"$f":"'Apoio_cálculo custos_PAYT'!$P$170","v":0},null,null,null,null,null,null,"Contentores - conservação / reparação",null,null,null,null,null,null,null,null,null,null,null,null,null,null,null,null,{"$f":"'Apoio_cálculo custos_SAYT_RAYT'!$P$170","v":0}]
[null,null,"Viaturas - combustível",null,null,null,null,null,null,null,null,null,null,null,null,null,null,null,null,{"$f":"'Apoio_cálculo custos_sit_atual'!$W$105","v":0},null,null,null,null,null,null,"Viaturas - combustível",null,null,null,null,null,null,null,null,null,null,null,null,null,null,null,null,{"$f":"'Apoio_cálculo custos_PAYT'!$W$170","v":0},null,null,null,null,null,null,"Viaturas - combustível",null,null,null,null,null,null,null,null,null,null,null,null,null,null,null,null,{"$f":"'Apoio_cálculo custos_SAYT_RAYT'!$W$170","v":0}]
[null,null,"Viaturas - conservação /reparação",null,null,null,null,null,null,null,null,null,null,null,null,null,null,null,null,{"$f":"+'Apoio_cálculo custos_sit_atual'!$Y$105","v":0},null,null,null,null,null,null,"Viaturas - conservação /reparação",null,null,null,null,null,null,null,null,null,null,null,null,null,null,null,null,{"$f":"+'Apoio_cálculo custos_PAYT'!$Y$170","v":0},null,null,null,null,null,null,"Viaturas - conservação /reparação",null,null,null,null,null,null,null,null,null,null,null,null,null,null,null,null,{"$f":"+'Apoio_cálculo custos_SAYT_RAYT'!$Y$170","v":0}]
[null,null,"Viaturas - pneus",null,null,null,null,null,null,null,null,null,null,null,null,null,null,null,null,{"$f":"'Apoio_cálculo custos_sit_atual'!$AC$105","v":0},null,null,null,null,null,null,"Viaturas - pneus",null,null,null,null,null,null,null,null,null,null,null,null,null,null,null,null,{"$f":"'Apoio_cálculo custos_PAYT'!$AC$170","v":0},null,null,null,null,null,null,"Viaturas - pneus",null,null,null,null,null,null,null,null,null,null,null,null,null,null,null,null,{"$f":"'Apoio_cálculo custos_SAYT_RAYT'!$AC$170","v":0}]
[null,null,"Construção civil - conservação / reparação",null,null,null,null,null,null,null,null,null,null,null,null,null,null,null,null,{"$f":"'Apoio_cálculo custos_sit_atual'!$AE$105","v":0},null,null,null,null,null,null,"Construção civil - conservação / reparação",null,null,null,null,null,null,null,null,null,null,null,null,null,null,null,null,{"$f":"'Apoio_cálculo custos_PAYT'!$AE$170","v":0},null,null,null,null,null,null,"Construção civil - conservação / reparação",null,null,null,null,null,null,null,null,null,null,null,null,null,null,null,null,{"$f":"'Apoio_cálculo custos_SAYT_RAYT'!$AE$170","v":0}]
[null,null,"Rendas de edifícios",null,null,null,null,null,null,null,null,null,null,null,null,null,null,null,null,{"$f":"'Apoio_cálculo custos_sit_atual'!$AF$105","v":0},null,null,null,null,null,null,"Rendas de edifícios",null,null,null,null,null,null,null,null,null,null,null,null,null,null,null,null,{"$f":"'Apoio_cálculo custos_PAYT'!$AF$170","v":0},null,null,null,null,null,null,"Rendas de edifícios",null,null,null,null,null,null,null,null,null,null,null,null,null,null,null,null,{"$f":"'Apoio_cálculo custos_SAYT_RAYT'!$AF$170","v":0}]
[null,null,"Aluguer de edifícios",null,null,null,null,null,null,null,null,null,null,null,null,null,null,null,null,{"$f":"'Apoio_cálculo custos_sit_atual'!$AG$105","v":0},null,null,null,null,null,null,"Aluguer de edifícios",null,null,null,null,null,null,null,null,null,null,null,null,null,null,null,null,{"$f":"'Apoio_cálculo custos_PAYT'!$AG$170","v":0},null,null,null,null,null,null,"Aluguer de edifícios",null,null,null,null,null,null,null,null,null,null,null,null,null,null,null,null,{"$f":"'Apoio_cálculo custos_SAYT_RAYT'!$AG$170","v":0}]
[null,null,"Comunicações",null,null,null,null,null,null,null,null,null,null,null,null,null,null,null,null,{"$f":"+'Apoio_cálculo custos_sit_atual'!$AH$105","v":0},null,null,null,null,null,null,"Comunicações",null,null,null,null,null,null,null,null,null,null,null,null,null,null,null,null,{"$f":"+'Apoio_cálculo custos_PAYT'!$AH$170","v":0},null,null,null,null,null,null,"Comunicações",null,null,null,null,null,null,null,null,null,null,null,null,null,null,null,null,{"$f":"+'Apoio_cálculo custos_SAYT_RAYT'!$AH$170","v":0}]
[null,null,"Comunicações associadas aos sistemas de instrumentação",null,null,null,null,null,null,null,null,null,null,null,null,null,null,null,null,{"$f":"+'Apoio_cálculo custos_sit_atual'!$AI$105","v":0},null,null,null,null,null,null,"Comunicações associadas aos sistemas de instrumentação",null,null,null,null,null,null,null,null,null,null,null,null,null,null,null,null,{"$f":"+'Apoio_cálculo custos_PAYT'!$AI$170","v":0},null,null,null,null,null,null,"Comunicações associadas aos sistemas de instrumentação",null,null,null,null,null,null,null,null,null,null,null,null,null,null,null,null,{"$f":"+'Apoio_cálculo custos_SAYT_RAYT'!$AI$170","v":0}]
[null,null,"Seguros gerais",null,null,null,null,null,null,null,null,null,null,null,null,null,null,null,null,{"$f":"+'Apoio_cálculo custos_sit_atual'!$AJ$105","v":0},null,null,null,null,null,null,"Seguros gerais",null,null,null,null,null,null,null,null,null,null,null,null,null,null,null,null,{"$f":"+'Apoio_cálculo custos_PAYT'!$AJ$170","v":0},null,null,null,null,null,null,"Seguros gerais",null,null,null,null,null,null,null,null,null,null,null,null,null,null,null,null,{"$f":"+'Apoio_cálculo custos_SAYT_RAYT'!$AJ$170","v":0}]
[null,null,"Seguros de frota",null,null,null,null,null,null,null,null,null,null,null,null,null,null,null,null,{"$f":"+'Apoio_cálculo custos_sit_atual'!$AK$105","v":0},null,null,null,null,null,null,"Seguros de frota",null,null,null,null,null,null,null,null,null,null,null,null,null,null,null,null,{"$f":"+'Apoio_cálculo custos_PAYT'!$AK$170","v":0},null,null,null,null,null,null,"Seguros de frota",null,null,null,null,null,null,null,null,null,null,null,null,null,null,null,null,{"$f":"+'Apoio_cálculo custos_SAYT_RAYT'!$AK$170","v":0}]
[null,null,"Honorários",null,null,null,null,null,null,null,null,null,null,null,null,null,null,null,null,{"$f":"+'Apoio_cálculo custos_sit_atual'!$AL$105","v":0},null,null,null,null,null,null,"Honorários",null,null,null,null,null,null,null,null,null,null,null,null,null,null,null,null,{"$f":"+'Apoio_cálculo custos_PAYT'!$AL$170","v":0},null,null,null,null,null,null,"Honorários",null,null,null,null,null,null,null,null,null,null,null,null,null,null,null,null,{"$f":"+'Apoio_cálculo custos_SAYT_RAYT'!$AL$170","v":0}]
[null,null,"Monitorização, tratamento de informação e fiscalização",null,null,null,null,null,null,null,null,null,null,null,null,null,null,null,null,{"$f":"+'Apoio_cálculo custos_sit_atual'!$AM$105","v":0},null,null,null,null,null,null,"Monitorização, tratamento de informação e fiscalização",null,null,null,null,null,null,null,null,null,null,null,null,null,null,null,null,{"$f":"+'Apoio_cálculo custos_PAYT'!$AM$170","v":0},null,null,null,null,null,null,"Monitorização, tratamento de informação e fiscalização",null,null,null,null,null,null,null,null,null,null,null,null,null,null,null,null,{"$f":"+'Apoio_cálculo custos_SAYT_RAYT'!$AM$170","v":0}]
[null,null,"Pessoal",null,null,null,null,null,null,null,null,null,null,null,null,null,null,null,null,{"$f":"+'Apoio_cálculo custos_sit_atual'!$AQ$105","v":0},null,null,null,null,null,null,"Pessoal",null,null,null,null,null,null,null,null,null,null,null,null,null,null,null,null,{"$f":"+'Apoio_cálculo custos_PAYT'!$AQ$170","v":0},null,null,null,null,null,null,"Pessoal",null,null,null,null,null,null,null,null,null,null,null,null,null,null,null,null,{"$f":"+'Apoio_cálculo custos_SAYT_RAYT'!$AQ$170","v":0}]
[null,null,"Custos com subcontratos",null,null,null,null,null,null,null,null,null,null,null,null,null,null,null,null,{"$f":"'Apoio_cálculo custos_sit_atual'!$AS$105","v":0},null,null,null,null,null,null,"Custos com subcontratos",null,null,null,null,null,null,null,null,null,null,null,null,null,null,null,null,{"$f":"'Apoio_cálculo custos_PAYT'!$AS$170","v":0},null,null,null,null,null,null,"Custos com subcontratos",null,null,null,null,null,null,null,null,null,null,null,null,null,null,null,null,{"$f":"'Apoio_cálculo custos_SAYT_RAYT'!$AS$170","v":0}]
[null,null,"Custos com trabalhos especializados",null,null,null,null,null,null,null,null,null,null,null,null,null,null,null,null,{"$f":"'Apoio_cálculo custos_sit_atual'!$AT$105","v":0},null,null,null,null,null,null,"Custos com trabalhos especializados",null,null,null,null,null,null,null,null,null,null,null,null,null,null,null,null,{"$f":"'Apoio_cálculo custos_PAYT'!$AT$170","v":0},null,null,null,null,null,null,"Custos com trabalhos especializados",null,null,null,null,null,null,null,null,null,null,null,null,null,null,null,null,{"$f":"'Apoio_cálculo custos_SAYT_RAYT'!$AT$170","v":0}]
[null,null,"Custos com publicidade e propaganda",null,null,null,null,null,null,null,null,null,null,null,null,null,null,null,null,{"$f":"+'Apoio_cálculo custos_sit_atual'!$AO$105","v":0},null,null,null,null,null,null,"Custos com publicidade e propaganda",null,null,null,null,null,null,null,null,null,null,null,null,null,null,null,null,{"$f":"+'Apoio_cálculo custos_PAYT'!$AO$170","v":0},null,null,null,null,null,null,"Custos com publicidade e propaganda",null,null,null,null,null,null,null,null,null,null,null,null,null,null,null,null,{"$f":"+'Apoio_cálculo custos_SAYT_RAYT'!$AO$170","v":0}]
[null,null,"Custos financeiros",null,null,null,null,null,null,null,null,null,null,null,null,null,null,null,null,{"$f":"'Apoio_cálculo custos_sit_atual'!$AU$105","v":0},null,null,null,null,null,null,"Custos financeiros",null,null,null,null,null,null,null,null,null,null,null,null,null,null,null,null,{"$f":"'Apoio_cálculo custos_PAYT'!$AU$170","v":0},null,null,null,null,null,null,"Custos financeiros",null,null,null,null,null,null,null,null,null,null,null,null,null,null,null,null,{"$f":"'Apoio_cálculo custos_SAYT_RAYT'!$AU$170","v":0}]
[null,null,"Custos com serviços auxiliares",null,null,null,null,null,null,null,null,null,null,null,null,null,null,null,null,{"$f":"+'Apoio_cálculo custos_sit_atual'!$AR$105","v":0},null,null,null,null,null,null,"Custos com serviços auxiliares",null,null,null,null,null,null,null,null,null,null,null,null,null,null,null,null,{"$f":"+'Apoio_cálculo custos_PAYT'!$AR$170","v":0},null,null,null,null,null,null,"Custos com serviços auxiliares",null,null,null,null,null,null,null,null,null,null,null,null,null,null,null,null,{"$f":"+'Apoio_cálculo custos_SAYT_RAYT'!$AR$170","v":0}]
[null,null,"Outros (água,limpeza, utilização de inst comuns, etc.)",null,null,null,null,null,null,null,null,null,null,null,null,null,null,null,null,{"$f":"+'Apoio_cálculo custos_sit_atual'!$AX$105","v":0},null,null,null,null,null,null,"Outros (água,limpeza, utilização de inst comuns, etc.)",null,null,null,null,null,null,null,null,null,null,null,null,null,null,null,null,{"$f":"+'Apoio_cálculo custos_PAYT'!$AX$170","v":0},null,null,null,null,null,null,"Outros (água,limpeza, utilização de inst comuns, etc.)",null,null,null,null,null,null,null,null,null,null,null,null,null,null,null,null,{"$f":"+'Apoio_cálculo custos_SAYT_RAYT'!$AX$170","v":0}]
[null,null,"Custo anual com a entidade gestora em alta",null,null,null,null,null,null,null,null,null,null,null,null,null,null,null,null,{"$f":"+'Apoio_cálculo custos_sit_atual'!$AY$105","v":0},null,null,null,null,null,null,"Custo anual com a entidade gestora em alta",null,null,null,null,null,null,null,null,null,null,null,null,null,null,null,null,{"$f":"+'Apoio_cálculo custos_PAYT'!$AY$170","v":0},null,null,null,null,null,null,"Custo anual com a entidade gestora em alta",null,null,null,null,null,null,null,null,null,null,null,null,null,null,null,null,{"$f":"+'Apoio_cálculo custos_SAYT_RAYT'!$AY$170","v":0}]
[null,null,null,null,null,null,null,null,null,null,null,null,null,null,null,null,null,null,null,{"$f":"+SUM(T23:X44)","v":0},null,null,null,null,null,null,null,null,null,null,null,null,null,null,null,null,null,null,null,null,null,null,null,{"$f":"+SUM(AR23:AV44)","v":0},null,null,null,null,null,null,null,null,null,null,null,null,null,null,null,null,null,null,null,null,null,null,null,{"$f":"+SUM(BP23:BT44)","v":0}]
[]
[null,"LUCROS ANTES DE JUROS, IMPOSTOS, DEPRECIAÇÃO E AMORTIZAÇÃO"]
[]
[]
[null,null,"Situação atual",null,null,null,null,null,null,null,null,null,null,null,null,null,null,null,null,null,null,null,null,null,null,null,"PAYT",null,null,null,null,null,null,null,null,null,null,null,null,null,null,null,null,null,null,null,null,null,null,null,"SAYT / RAYT"]
[null,null,{"$f":"+T16-T45","v":0},null,null,null,null,null,null,null,null,null,null,null,null,null,null,null,null,null,null,null,null,null,null,null,{"$f":"+AR16-AR45","v":0},null,null,null,null,null,null,null,null,null,null,null,null,null,null,null,null,null,null,null,null,null,null,null,{"$f":"+BP16-BP45","v":0}]
[]
[null,"AMORTIZAÇÕES"]
[]
[]
[null,null,"Situação atual",null,null,null,null,null,null,null,null,null,null,null,null,null,null,null,null,null,null,null,null,null,null,null,"PAYT",null,null,null,null,null,null,null,null,null,null,null,null,null,null,null,null,null,null,null,null,null,null,null,"SAYT / RAYT"]
[null,null,{"$f":"+'Apoio_cálculo custos_sit_atual'!N105","v":0},null,null,null,null,null,null,null,null,null,null,null,null,null,null,null,null,null,null,null,null,null,null,null,{"$f":"+'Apoio_cálculo custos_PAYT'!N170","v":0},null,null,null,null,null,null,null,null,null,null,null,null,null,null,null,null,null,null,null,null,null,null,null,{"$f":"+'Apoio_cálculo custos_SAYT_RAYT'!N170","v":0}]
[]
[null,"RESULTADOS"]
[]
[]
[null,null,"Situação atual",null,null,null,null,null,null,null,null,null,null,null,null,null,null,null,null,null,null,null,null,null,null,null,"PAYT",null,null,null,null,null,null,null,null,null,null,null,null,null,null,null,null,null,null,null,null,null,null,null,"SAYT / RAYT"]
[null,null,{"$f":"+T16-T45-C57","v":0},null,null,null,null,null,null,null,null,null,null,null,null,null,null,null,null,null,null,null,null,null,null,null,{"$f":"+AR16-AR45-AA57","v":0},null,null,null,null,null,null,null,null,null,null,null,null,null,null,null,null,null,null,null,null,null,null,null,{"$f":"+BP16-BP45-AY57","v":0}]

{"sheet":"Tarifário PAYT","index":11,"n_rows":57,"n_cols":47,"rows_kept":57,"cut":false,"hidden":false,"merged":[[26,17,26,21],[28,17,28,21],[34,17,34,21],[31,17,31,21],[32,17,32,21],[33,17,33,21],[29,17,29,21],[30,17,30,21],[23,17,23,21],[22,17,22,21],[7,9,7,12],[14,17,14,21],[12,26,14,31],[15,17,15,21],[16,17,16,21],[17,17,17,21],[21,29,21,34],[20,17,20,21],[21,17,21,21],[18,17,18,21],[19,17,19,21],[12,32,14,37],[9,1,10,22],[9,25,10,50],[12,17,12,21],[12,38,14,43],[12,44,14,49],[15,38,15,43],[15,44,15,49],[15,26,15,31],[15,32,15,37],[21,35,21,40],[21,41,21,46],[37,25,37,50],[18,35,20,40],[18,29,20,34],[23,29,24,46],[30,29,33,34],[30,35,33,46],[28,29,29,46],[25,29,25,46],[18,41,20,46],[46,38,46,43],[46,44,46,49],[36,17,36,21],[54,29,55,46],[43,26,45,31],[43,32,45,37],[43,38,45,43],[43,44,45,49],[40,42,40,45],[39,35,39,36],[24,17,24,21],[56,29,59,34],[46,26,46,31],[46,32,46,37],[27,17,27,21],[25,17,25,21],[35,17,35,21],[37,17,37,21],[56,35,59,46],[49,41,50,46],[51,29,51,34],[51,35,51,40],[51,41,51,46],[49,29,50,34],[49,35,50,40],[40,39,40,40]]}
[]
[]
[]
[]
[]
[]
[]
[null,"Ano de referência:",null,null,null,null,null,null,null,{"$f":"IF('Modelação do sist PAYT'!J15=\"\",\"\",'Modelação do sist PAYT'!J15)","v":""},null,null,null,"[campo automático]"]
[]
[null,"Resumo dos custos",null,null,null,null,null,null,null,null,null,null,null,null,null,null,null,null,null,null,null,null,null,null,null,"Tarifa"]
[]
[]
[null,null,"Custo anual total",null,null,null,null,null,null,null,null,null,null,null,null,null,null,{"$f":"SUM(R15:V37)","v":0},null,null,null,null,null,null,null,null,"Receitas Previsionais dos serviços prestados a utilizadores finais",null,null,null,null,null,"Receitas previsionais devidas a tarifas de disponibilidade",null,null,null,null,null,"Receitas previsionais devidas a tarifas variáveis",null,null,null,null,null,"Componente de disponibilidade da tarifa (em %)"]
[]
[null,null,"Sacos",null,null,null,null,null,null,null,null,null,null,null,null,null,null,{"$f":"+'Apoio_cálculo custos_PAYT'!Q170","v":0}]
[null,null,"Contentores - conservação / reparação",null,null,null,null,null,null,null,null,null,null,null,null,null,null,{"$f":"+'Apoio_cálculo custos_PAYT'!P170","v":0},null,null,null,null,null,null,null,null,{"$f":"+R13-'Modelação de custos PAYT'!$K$11-'Modelação de custos PAYT'!$K$12-'Modelação de custos PAYT'!$K$13","v":0},null,null,null,null,null,{"$f":"+AA16*AS16","v":0},null,null,null,null,null,{"$f":"+AA16*(1-AS16)","v":0}]
[null,null,"Viaturas - combustível",null,null,null,null,null,null,null,null,null,null,null,null,null,null,{"$f":"+'Apoio_cálculo custos_PAYT'!W170","v":0}]
[null,null,"Viaturas - conservação /reparação",null,null,null,null,null,null,null,null,null,null,null,null,null,null,{"$f":"+'Apoio_cálculo custos_PAYT'!Y170","v":0}]
[null,null,"Viaturas - pneus",null,null,null,null,null,null,null,null,null,null,null,null,null,null,{"$f":"+'Apoio_cálculo custos_PAYT'!AC170","v":0},null,null,null,null,null,null,null,null,null,null,null,"Tarifa média",null,null,null,null,null,"Tarifa disponibilidade\n(€/30 dias)",null,null,null,null,null,"Tarifa variável \n(€/kg R. indiferenciados)"]
[null,null,"Construção civil - conservação / reparação",null,null,null,null,null,null,null,null,null,null,null,null,null,null,{"$f":"+'Apoio_cálculo custos_PAYT'!AE170","v":0}]
[null,null,"Rendas de edifícios",null,null,null,null,null,null,null,null,null,null,null,null,null,null,{"$f":"+'Apoio_cálculo custos_PAYT'!AF170","v":0}]
[null,null,"Aluguer de edifícios",null,null,null,null,null,null,null,null,null,null,null,null,null,null,{"$f":"+'Apoio_cálculo custos_PAYT'!AG170","v":0},null,null,null,null,null,null,null,null,null,null,null,{"$f":"+AJ22+AP22","v":0},null,null,null,null,null,{"$f":"IFERROR(AG16/('Modelação do sist PAYT'!$V$33+'Modelação do sist PAYT'!$X$47+'Modelação do sist PAYT'!$AC$57+'Modelação do sist PAYT'!$AD$71+'Modelação do sist PAYT'!$K$83+'Modelação do sist PAYT'!$M$91+'Modelação do sist PAYT'!$N$99+'Modelação do sist PAYT'!$O$107+'Modelação do sist PAYT'!$O$121+'Modelação do sist PAYT'!$M$132+'Modelação do sist PAYT'!$N$140+'Modelação do sist PAYT'!$N$155+'Modelação do sist PAYT'!$O$169)/365*30,0)","v":0},null,null,null,null,null,{"$f":"IFERROR(AM16/HLOOKUP('Modelação do sist PAYT'!$J$15,Prod_RU!$H$35:$N$79,35,0)/1000,0)","v":0}]
[null,null,"Comunicações",null,null,null,null,null,null,null,null,null,null,null,null,null,null,{"$f":"+'Apoio_cálculo custos_PAYT'!AH170","v":0}]
[null,null,"Comunicações associadas aos sistemas de instrumentação",null,null,null,null,null,null,null,null,null,null,null,null,null,null,{"$f":"+'Apoio_cálculo custos_PAYT'!AI170","v":0},null,null,null,null,null,null,null,null,null,null,null,"Rendimento médio das famílias"]
[null,null,"Seguros gerais",null,null,null,null,null,null,null,null,null,null,null,null,null,null,{"$f":"+'Apoio_cálculo custos_PAYT'!AJ170","v":0}]
[null,null,"Seguros de frota",null,null,null,null,null,null,null,null,null,null,null,null,null,null,{"$f":"+'Apoio_cálculo custos_PAYT'!AK170","v":0}]
[null,null,"Honorários",null,null,null,null,null,null,null,null,null,null,null,null,null,null,{"$f":"+'Apoio_cálculo custos_PAYT'!AL170","v":0}]
[null,null,"Monitorização, tratamento de informação e fiscalização",null,null,null,null,null,null,null,null,null,null,null,null,null,null,{"$f":"+'Apoio_cálculo custos_PAYT'!AM170","v":0}]
[null,null,"Publicidade e propaganda",null,null,null,null,null,null,null,null,null,null,null,null,null,null,{"$f":"+'Apoio_cálculo custos_PAYT'!AO170","v":0},null,null,null,null,null,null,null,null,null,null,null,"Acessibilidade económica ao serviço"]
[null,null,"Pessoal",null,null,null,null,null,null,null,null,null,null,null,null,null,null,{"$f":"+'Apoio_cálculo custos_PAYT'!AQ170","v":0}]
[null,null,"Custos com serviços auxiliares",null,null,null,null,null,null,null,null,null,null,null,null,null,null,{"$f":"+'Apoio_cálculo custos_PAYT'!AR170","v":0},null,null,null,null,null,null,null,null,null,null,null,{"$f":"IFERROR(AD22/AD26,0)","v":0},null,null,null,null,null,{"$f":"IFERROR(IF(AD22>0,IF(AD31>0.01,Apoio!$C$37,IF(AD31>0.005,Apoio!$C$36,Apoio!$C$35)),\"\"),0)","v":""}]
[null,null,"Custos com subcontratos",null,null,null,null,null,null,null,null,null,null,null,null,null,null,{"$f":"+'Apoio_cálculo custos_PAYT'!AS170","v":0}]
[null,null,"Custos com trabalhos especializados",null,null,null,null,null,null,null,null,null,null,null,null,null,null,{"$f":"+'Apoio_cálculo custos_PAYT'!AT170","v":0}]
[null,null,"Custos financeiros",null,null,null,null,null,null,null,null,null,null,null,null,null,null,{"$f":"+'Apoio_cálculo custos_PAYT'!AU170","v":0}]
[null,null,"Outros (água,limpeza, utilização de inst comuns, etc.)",null,null,null,null,null,null,null,null,null,null,null,null,null,null,{"$f":"+'Apoio_cálculo custos_PAYT'!AX172","v":0}]
[null,null,"Custo anual com a entidade gestora em alta",null,null,null,null,null,null,null,null,null,null,null,null,null,null,{"$f":"+'Apoio_cálculo custos_PAYT'!AY173","v":0}]
[null,null,"Amortizações",null,null,null,null,null,null,null,null,null,null,null,null,null,null,{"$f":"+'Apoio_cálculo custos_PAYT'!N170","v":0}]
[null,null,null,null,null,null,null,null,null,null,null,null,null,null,null,null,null,{"$f":"+R13-'Apoio_cálculo custos_PAYT'!AZ175","v":0},null,null,null,null,null,null,null,"Recálculo da tarifa"]
[]
[null,null,null,null,null,null,null,null,null,null,null,null,null,null,null,null,null,null,null,null,null,null,null,null,null,null,null,null,null,"Subsídio à exploração",null,null,null,null,null,null,null,null,"Escolher opção"]
[null,null,null,null,null,null,null,null,null,null,null,null,null,null,null,null,null,null,null,null,null,null,null,null,null,null,null,null,null,"Percentagem face ao custo anual total",null,null,null,null,null,null,null,null,null,null,null,null,{"$f":"+AN41*R13","v":0},null,null,null,"[campo automático]"]
[]
[]
[null,null,null,null,null,null,null,null,null,null,null,null,null,null,null,null,null,null,null,null,null,null,null,null,null,null,"Receitas Previsionais dos serviços prestados a utilizadores finais",null,null,null,null,null,"Receitas previsionais devidas a tarifas de disponibilidade",null,null,null,null,null,"Receitas previsionais devidas a tarifas variáveis",null,null,null,null,null,"Componente de disponibilidade da tarifa (em %)"]
[]
[]
[null,null,null,null,null,null,null,null,null,null,null,null,null,null,null,null,null,null,null,null,null,null,null,null,null,null,{"$f":"+R13-(R13*AN41)-'Modelação de custos PAYT'!$K$11-'Modelação de custos PAYT'!$K$12-'Modelação de custos PAYT'!$K$13","v":0},null,null,null,null,null,{"$f":"+AA47*AS47","v":0},null,null,null,null,null,{"$f":"+AA47*(1-AS47)","v":0},null,null,null,null,null,{"$f":"+AS16","v":0}]
[]
[]
[null,null,null,null,null,null,null,null,null,null,null,null,null,null,null,null,null,null,null,null,null,null,null,null,null,null,null,null,null,"Tarifa média",null,null,null,null,null,"Tarifa disponibilidade\n(€/30 dias)",null,null,null,null,null,"Tarifa variável\n(€/kg R. indiferenciados)"]
[]
[null,null,null,null,null,null,null,null,null,null,null,null,null,null,null,null,null,null,null,null,null,null,null,null,null,null,null,null,null,{"$f":"+AJ52+AP52","v":0},null,null,null,null,null,{"$f":"IFERROR(AG47/('Modelação do sist PAYT'!$V$33+'Modelação do sist PAYT'!$X$47+'Modelação do sist PAYT'!$AC$57+'Modelação do sist PAYT'!$AD$71+'Modelação do sist PAYT'!$K$83+'Modelação do sist PAYT'!$M$91+'Modelação do sist PAYT'!$N$99+'Modelação do sist PAYT'!$O$107+'Modelação do sist PAYT'!$O$121+'Modelação do sist PAYT'!$M$132+'Modelação do sist PAYT'!$N$140+'Modelação do sist PAYT'!$N$155+'Modelação do sist PAYT'!$O$169)/365*30,0)","v":0},null,null,null,null,null,{"$f":"IFERROR(AM47/HLOOKUP('Modelação do sist PAYT'!$J$15,Prod_RU!$H$35:$N$79,35,0)/1000,0)","v":0}]
[]
[]
[null,null,null,null,null,null,null,null,null,null,null,null,null,null,null,null,null,null,null,null,null,null,null,null,null,null,null,null,null,"Acessibilidade económica ao serviço"]
[]
[null,null,null,null,null,null,null,null,null,null,null,null,null,null,null,null,null,null,null,null,null,null,null,null,null,null,null,null,null,{"$f":"IFERROR(AD52/AD26,0)","v":0},null,null,null,null,null,{"$f":"IFERROR(IF(AD52>0,IF(AD57>=0.01,Apoio!$C$37,IF(AD57>=0.005,Apoio!$C$36,Apoio!$C$35)),\"\"),0)","v":""}]

{"sheet":"Apoio","index":12,"n_rows":51,"n_cols":15,"rows_kept":51,"cut":false,"hidden":true,"merged":[]}
[]
[]
[null,null,"[1]","[2]","[3]","[4]","[5]","[6]","[7]","[8]","[9]","[10]","[11]","[12]","[13]"]
[null,null,"Município","população 2021","Tipologia da zona","Alojamentos 2021","Prod. RU","RI","RS PC","RS emb","RS vidro","RS organicos","RS outros reciclaveis","outros"]
[null,null,"Selecionar Entidade/Município","-","-","-","-","-","-","-","-","-","-","-","-"]
["Sta Maria",1,"CM Vila do Porto",5414,"Área predominantemente rural",3625,2270.2359999999999,1719.47,153.41800000000001,85.37,98.47,14.26,113.15900000000001,86.088999999999999]
["S. Miguel",2,"CM Lagoa",14194,"Área mediamente urbana",5287,8724.5480000000007,5956.8,2.34,607.94000000000005,270.5,1614.1,19.108000000000001,253.76]
["S. Miguel",3,"CM Nordeste",4373,"Área predominantemente rural",2609,1860.0909999999999,1235.26,73.13,82.43,125.76,96.81,41.750999999999998,204.95]
["S. Miguel",4,"CM Ponta Delgada",67287,"Área mediamente urbana",28924,39415.892000000007,29523.66,1494,1263.3599999999999,966.6,3874.1200000000003,139.97199999999998,2154.1799999999998]
["S. Miguel",5,"CM Povoação",5796,"Área predominantemente rural",3566,3628.6515000000009,3375.26,18.78,41.78,145.28,0.32,34.331499999999998,12.9]
["S. Miguel",6,"CM Ribeira Grande",31414,"Área mediamente urbana",11673,14656.211000000001,11437.38,166.32,954.52,408.94,1514.04,53.010999999999996,122]
["S. Miguel",7,"CM de Vila Franca do Campo",10326,"Área mediamente urbana",4254,8462.3540000000012,4846.1400000000003,0.02,432.32,181.06,1727.3,13.734,1261.78]
["Terceira",8,"CM Angra do Heroísmo",33829,"Área mediamente urbana",15574,19147.394199999999,14885.89,762.53200000000004,366.76799999999997,693.34,1151.3699999999999,79.004199999999997,1208.49]
["Terceira",9,"CM Praia da Vitória",19482,"Área mediamente urbana",9904,9762.0000000000018,8098.46,492.4,252.78,541.20000000000005,52.22,51.519999999999996,273.42]
["Graciosa",10,"CM Santa Cruz da Graciosa",4095,"Área predominantemente rural",2880,1947.3804399999999,1398.24,132.52000000000001,131.58663999999999,61.73,85.24,71.453800000000001,66.61]
["S. Jorge",12,"CM Calheta",3441,"Área predominantemente rural",2414,1495.6200000000003,1068.3800000000001,102.4,159.36000000000001,84.26,35.64,29.98,15.6]
["S. Jorge",11,"CM Velas",4940,"Área predominantemente rural",3249,2128.9799999999996,1559,184,144.22,187.86,1.72,40.6,11.58]
["Pico",13,"CM Lajes do Pico",4342,"Área predominantemente rural",3221,1634.5315999999998,1346.327,70.105000000000004,27.257000000000001,50.292000000000002,23.417000000000002,55.988599999999998,61.145000000000003]
["Pico",14,"CM Madalena",6332,"Área predominantemente rural",3603,2854.6846,2303.7539999999999,194.67400000000001,51.067,86.766000000000005,24.306000000000001,68.196600000000004,125.92100000000001]
["Pico",15,"CM São Roque do Pico",3221,"Área predominantemente rural",2299,1344.5440000000001,1140.5,59.942,31.29,53.265000000000001,12.46,18.477,28.61]
["Faial",16,"CM Horta",14356,"Área predominantemente rural",7382,6997.1740000000009,5319.37,434.20000000000005,281.21000000000004,293.06,290.45999999999998,102.44399999999999,276.43]
["Flores",18,"CM Lajes das Flores",1408,"Área predominantemente rural",1030,685.1597999999999,357.82,73.36,46.92,85.78,0,77.753799999999998,43.526000000000003]
["Flores",19,"CM Santa Cruz das Flores",2021,"Área predominantemente rural",1182,1039.26,706.3,88.62,63.82,92.94,0,55.36,32.22]
["Corvo",17,"CM Vila do Corvo",386,"Área predominantemente rural",205,271.00299999999993,208.87799999999999,27.08,9.9350000000000005,9.76,0,9.15,6.2]
[]
[null,null,"Entidade gestora (em baixa)"]
[null,null,"Entidade gestora (em alta)"]
[null,null,"Prestador de serviços"]
[null,null,"Concessionário"]
[]
[null,null,"Sim"]
[null,null,"Não"]
[]
[]
[null,null,"O esforço exigido aos utilizadores é aceitável."]
[null,null,"O esforço exigido aos utilizadores é moderado. De qualquer forma, verique-se a possibilidade de soluções alternativas que não comprometam a recuperação de custos por via tarifária. (Ex: Alteração do coeficientes)"]
[null,null,"O esforço exigido aos utilizadores é elevado. Considere-se por exemplo, um aumento de subsídio municipal"]
[]
[]
[null,null,"5-9 m3 compactação placa"]
[null,null,"15-20 m3 compactação placa"]
[null,null,"15-20 m3 compactação placa c/ grua"]
[null,null,"15-23 m3 compactação placa carga lateral"]
[null,null,"Viatura de caixa aberta"]
[null,null,"Viatura de apoio"]
[null,null,"Viatura de lavagem de contentores"]
[]
[]
[null,null,"gasóleo"]
[null,null,"elétrica"]
[null,null,"gás"]

{"sheet":"Apoio_cálculo custos_sit_atual","index":13,"n_rows":110,"n_cols":52,"rows_kept":110,"cut":false,"hidden":true,"merged":[]}
[]
[]
[null,null,null,null,null,null,null,null,null,"valor indexado a outro mód. do simulador","valor indexado a outro mód. do simulador",null,null,null,"valor indexado a outro mód. do simulador",null,null,"valor indexado a outro mód. do simulador","valor indexado a outro mód. do simulador","valor indexado a outro mód. do simulador","valor indexado a outro mód. do simulador","valor indexado a outro mód. do simulador",null,"valor indexado a outro mód. do simulador",null,null,null,"valor indexado a outro mód. do simulador",null,"valor indexado a outro mód. do simulador",null,"valor indexado a outro mód. do simulador","valor indexado a outro mód. do simulador","valor indexado a outro mód. do simulador","valor indexado a outro mód. do simulador","valor indexado a outro mód. do simulador","valor indexado a outro mód. do simulador","valor indexado a outro mód. do simulador",null,"valor indexado a outro mód. do simulador",null,"valor indexado a outro mód. do simulador",null,"valor indexado a outro mód. do simulador","valor indexado a outro mód. do simulador","valor indexado a outro mód. do simulador","valor indexado a outro mód. do simulador",null,"valor indexado a outro mód. do simulador",null,"valor indexado a outro mód. do simulador"]
[null,null,null,null,null,null,null,null,null,"Nº","Preço unit","Custo parcial","Vida útil","Amortização","contentores - Conservação/reparação - %","contentores - Conservação/reparação - €","Sacos","dist. percorrida - km","combustível - L","combustível - kW","combustível - €/L","combustível - €/kW","Combustível","viaturas - conservação /reparação - %","viaturas - conservação /reparação","viaturas - jogos pneus - \n1jogo/50000km","viaturas - nº jogos pneus","viaturas - €/jogo pneus","viaturas - pneus - €","cc - conservação / reparação - %","cc - conservação / reparação","Rendas de edifícios","Aluguer de edifícios","Comunicações","Comunicações associadas aos sistemas de instrumentação","Seguros gerais","Seguros de frota","Honorários","Monitorização, tratamento de informação e fiscalização","Publicidade e propaganda - €/h","Publicidade e propaganda","Pessoal enquadramento - % dos custos com pessoal direto","Pessoal","Custos com serviços auxiliares (recolhas a pedido)","Custos com subcontratos","Custos com trabalhos especializados","Custos financeiros","Custos totais","Outros (água, limpeza, utilização de inst comuns, etc.) - % dos custos totais","Outros (água,limpeza, utilização de inst comuns, etc.)","Custo anual com a entidade gestora em alta"]
[null,null,"DEPOS","RI/RS","equip depo","contentores superfície","110 L","não instrumentado",null,{"$f":"+Esq_Atual!J29","v":0},{"$f":"+'Preços unitários'!F39","v":0},{"$f":"J5*K5","v":0},10,{"$f":"L5/M5","v":0},{"$f":"+'Modelação de custos atual'!$D$19","v":0},{"$f":"+O5*L5","v":0}]
[null,null,"DEPOS","RI/RS","equip depo","contentores superfície","40 L","não instrumentado",null,{"$f":"+Esq_Atual!J52+Esq_Atual!AZ63+Esq_Atual!BD63+Esq_Atual!BH63+Esq_Atual!BL63","v":0},{"$f":"'Preços unitários'!F34","v":0},0,10,0,{"$f":"+'Modelação de custos atual'!$D$19","v":0},{"$f":"+O6*L6","v":0}]
[null,null,"DEPOS","RI/RS","equip depo","contentores superfície","50 L","não instrumentado",null,{"$f":"+Esq_Atual!J53+Esq_Atual!AZ64+Esq_Atual!BD64+Esq_Atual!BH64+Esq_Atual!BL64","v":0},{"$f":"'Preços unitários'!F35","v":0},0,10,0,{"$f":"+'Modelação de custos atual'!$D$19","v":0},0]
[null,null,"DEPOS","RI/RS","equip depo","contentores superfície","60 L","não instrumentado",null,{"$f":"+Esq_Atual!J54+Esq_Atual!AZ65+Esq_Atual!BD65+Esq_Atual!BH65+Esq_Atual!BL65","v":0},{"$f":"'Preços unitários'!F36","v":0},0,10,0,{"$f":"+'Modelação de custos atual'!$D$19","v":0},0]
[null,null,"DEPOS","RI/RS","equip depo","contentores superfície","80 L","não instrumentado",null,{"$f":"+Esq_Atual!J55+Esq_Atual!AZ66+Esq_Atual!BD66+Esq_Atual!BH66+Esq_Atual!BL66","v":0},{"$f":"'Preços unitários'!F37","v":0},0,10,0,{"$f":"+'Modelação de custos atual'!$D$19","v":0},0]
[null,null,"DEPOS","RI/RS","equip depo","contentores superfície","90 L","não instrumentado",null,{"$f":"+Esq_Atual!J56+Esq_Atual!J77+Esq_Atual!AZ67+Esq_Atual!BD67+Esq_Atual!BH67+Esq_Atual!BL67+Esq_Atual!AZ96+Esq_Atual!BD96+Esq_Atual!BH96+Esq_Atual!BL96","v":0},{"$f":"'Preços unitários'!F38","v":0},0,10,0,{"$f":"+'Modelação de custos atual'!$D$19","v":0},0]
[null,null,"DEPOS","RI/RS","equip depo","contentores superfície","120 L","não instrumentado",null,{"$f":"+Esq_Atual!J30+Esq_Atual!J57+Esq_Atual!J78+Esq_Atual!AZ68+Esq_Atual!BD68+Esq_Atual!BH68+Esq_Atual!BL68+Esq_Atual!AZ97+Esq_Atual!BD97+Esq_Atual!BH97+Esq_Atual!BL97","v":0},{"$f":"'Preços unitários'!F40","v":0},0,10,0,{"$f":"+'Modelação de custos atual'!$D$19","v":0},0]
[null,null,"DEPOS","RI/RS","equip depo","contentores superfície","140 L","não instrumentado",null,{"$f":"+Esq_Atual!J58+Esq_Atual!J79+Esq_Atual!AZ69+Esq_Atual!BD69+Esq_Atual!BH69+Esq_Atual!BL69+Esq_Atual!AZ98+Esq_Atual!BD98+Esq_Atual!BH98+Esq_Atual!BL98","v":0},{"$f":"'Preços unitários'!F41","v":0},0,10,0,{"$f":"+'Modelação de custos atual'!$D$19","v":0},0]
[null,null,"DEPOS","RI/RS","equip depo","contentores superfície","240 L","não instrumentado",null,{"$f":"+Esq_Atual!J31+Esq_Atual!J59+Esq_Atual!J80+Esq_Atual!AY35+Esq_Atual!BQ35+Esq_Atual!CI35+Esq_Atual!DA35+Esq_Atual!AZ70+Esq_Atual!BD70+Esq_Atual!BH70+Esq_Atual!BL70+Esq_Atual!AZ99+Esq_Atual!BD99+Esq_Atual!BH99+Esq_Atual!BL99","v":0},{"$f":"'Preços unitários'!F42","v":0},0,10,0,{"$f":"+'Modelação de custos atual'!$D$19","v":0},0]
[null,null,"DEPOS","RI/RS","equip depo","contentores superfície","360 L","não instrumentado",null,{"$f":"+Esq_Atual!J32+Esq_Atual!J60+Esq_Atual!J81+Esq_Atual!AY36+Esq_Atual!BQ36+Esq_Atual!CI36+Esq_Atual!DA36+Esq_Atual!AZ71+Esq_Atual!BD71+Esq_Atual!BH71+Esq_Atual!BL71+Esq_Atual!AZ100+Esq_Atual!BD100+Esq_Atual!BH100+Esq_Atual!BL100","v":0},{"$f":"'Preços unitários'!F43","v":0},0,10,0,{"$f":"+'Modelação de custos atual'!$D$19","v":0},0]
[null,null,"DEPOS","RS","equip depo","contentores superfície","750 L","não instrumentado",null,{"$f":"+Esq_Atual!AY37+Esq_Atual!BQ37+Esq_Atual!CI37+Esq_Atual!DA37","v":0},{"$f":"'Preços unitários'!$F$44","v":0},0,10,0,{"$f":"+'Modelação de custos atual'!$D$19","v":0},0]
[null,null,"DEPOS","RI/RS","equip depo","contentores superfície","800 L","não instrumentado",null,{"$f":"+Esq_Atual!J33+Esq_Atual!J61+Esq_Atual!J82+Esq_Atual!AY38+Esq_Atual!BQ38+Esq_Atual!CI38+Esq_Atual!DA38+Esq_Atual!AZ72+Esq_Atual!BD72+Esq_Atual!BH72+Esq_Atual!BL72+Esq_Atual!AZ101+Esq_Atual!BD101+Esq_Atual!BH101+Esq_Atual!BL101","v":0},{"$f":"'Preços unitários'!F45","v":0},0,10,0,{"$f":"+'Modelação de custos atual'!$D$19","v":0},0]
[null,null,"DEPOS","RI/RS","equip depo","contentores superfície","1 000 L","não instrumentado",null,{"$f":"+Esq_Atual!J34+Esq_Atual!AY39+Esq_Atual!BQ39+Esq_Atual!CI39+Esq_Atual!DA39","v":0},{"$f":"'Preços unitários'!F46","v":0},0,10,0,{"$f":"+'Modelação de custos atual'!$D$19","v":0},0]
[null,null,"DEPOS","RI/RS","equip depo","contentores superfície","1 100 L","não instrumentado",null,{"$f":"+Esq_Atual!J35+Esq_Atual!AY40+Esq_Atual!BQ40+Esq_Atual!CI40+Esq_Atual!DA40","v":0},{"$f":"'Preços unitários'!$F$47","v":0},0,10,0,{"$f":"+'Modelação de custos atual'!$D$19","v":0},0]
[null,null,"DEPOS","RS","equip depo","contentores superfície","1 500 L","não instrumentado",null,{"$f":"+Esq_Atual!AY41+Esq_Atual!BQ41+Esq_Atual!CI41+Esq_Atual!DA41","v":0},{"$f":"'Preços unitários'!$F$48","v":0},0,10,0,{"$f":"+'Modelação de custos atual'!$D$19","v":0},0]
[null,null,"DEPOS","RS","equip depo","contentores superfície","2 350 L","não instrumentado",null,{"$f":"+Esq_Atual!AY42+Esq_Atual!BQ42+Esq_Atual!CI42+Esq_Atual!DA42","v":0},{"$f":"'Preços unitários'!$F$49","v":0},0,10,0,{"$f":"+'Modelação de custos atual'!$D$19","v":0},0]
[null,null,"DEPOS","RS","equip depo","contentores superfície","2 500 L","não instrumentado",null,{"$f":"+Esq_Atual!AY43+Esq_Atual!BQ43+Esq_Atual!CI43+Esq_Atual!DA43","v":0},{"$f":"'Preços unitários'!$F$50","v":0},0,10,0,{"$f":"+'Modelação de custos atual'!$D$19","v":0},{"$f":"+O21*L21","v":0}]
[null,null,"DEPOS","RS","equip depo","contentores superfície","2 700 L","não instrumentado",null,{"$f":"+Esq_Atual!AY44+Esq_Atual!BQ44+Esq_Atual!CI44+Esq_Atual!DA44","v":0},{"$f":"'Preços unitários'!$F$51","v":0},0,10,0,{"$f":"+'Modelação de custos atual'!$D$19","v":0},{"$f":"+O22*L22","v":0}]
[null,null,"DEPOS","RI/RS","equip depo","contentores enterrados","800 L","não instrumentado",null,{"$f":"+Esq_Atual!AB33+Esq_Atual!BK38+Esq_Atual!CC38+Esq_Atual!CU38+Esq_Atual!DM38","v":0},{"$f":"'Preços unitários'!$F$56","v":0},0,20,0,{"$f":"+'Modelação de custos atual'!$D$19","v":0},0]
[null,null,"DEPOS","RI/RS","equip depo","contentores enterrados","1 000 L","não instrumentado",null,{"$f":"+Esq_Atual!AB34+Esq_Atual!BK39+Esq_Atual!CC39+Esq_Atual!CU39+Esq_Atual!DM39","v":0},{"$f":"'Preços unitários'!$F$57","v":0},0,20,0,{"$f":"+'Modelação de custos atual'!$D$19","v":0},0]
[null,null,"DEPOS","RI/RS","equip depo","contentores enterrados","1 100 L","não instrumentado",null,{"$f":"+Esq_Atual!AB35+Esq_Atual!BK40+Esq_Atual!CC40+Esq_Atual!CU40+Esq_Atual!DM40","v":0},{"$f":"'Preços unitários'!$F$58","v":0},0,20,0,{"$f":"+'Modelação de custos atual'!$D$19","v":0},0]
[null,null,"DEPOS","RI/RS","equip depo","contentores enterrados","3 000 L","não instrumentado",null,{"$f":"+Esq_Atual!AB36+Esq_Atual!BK45+Esq_Atual!CC45+Esq_Atual!CU45+Esq_Atual!DM45","v":0},{"$f":"'Preços unitários'!$F$59","v":0},0,20,0,{"$f":"+'Modelação de custos atual'!$D$19","v":0},0]
[null,null,"DEPOS","RI/RS","equip depo","contentores semi-enterrados","3 000 L","não instrumentado",null,{"$f":"+Esq_Atual!S36+Esq_Atual!BE45+Esq_Atual!BW45+Esq_Atual!CO45+Esq_Atual!DG45","v":0},{"$f":"'Preços unitários'!$F$53","v":0},0,20,0,{"$f":"+'Modelação de custos atual'!$D$19","v":0},{"$f":"+O27*L27","v":0}]
[null,null,"DEPOS","RI/RS","equip depo","contentores enterrados","3 200 L","não instrumentado",null,{"$f":"+Esq_Atual!AB37+Esq_Atual!BK46+Esq_Atual!CC46+Esq_Atual!CU46+Esq_Atual!DM46","v":0},{"$f":"'Preços unitários'!$F$60","v":0},0,20,0,{"$f":"+'Modelação de custos atual'!$D$19","v":0},{"$f":"+O28*L28","v":0}]
[null,null,"DEPOS","RI/RS","equip depo","contentores enterrados","4 000 L","não instrumentado",null,{"$f":"+Esq_Atual!AB38+Esq_Atual!BK47+Esq_Atual!CC47+Esq_Atual!CU47+Esq_Atual!DM47","v":0},{"$f":"'Preços unitários'!$F$61","v":0},0,20,0,{"$f":"+'Modelação de custos atual'!$D$19","v":0},0]
[null,null,"DEPOS","RI/RS","equip depo","contentores enterrados","5 000 L","não instrumentado",null,{"$f":"+Esq_Atual!AB39+Esq_Atual!BK48+Esq_Atual!CC48+Esq_Atual!CU48+Esq_Atual!DM48","v":0},{"$f":"'Preços unitários'!$F$62","v":0},0,20,0,{"$f":"+'Modelação de custos atual'!$D$19","v":0},0]
[null,null,"DEPOS","RI/RS","equip depo","contentores semi-enterrados","5 000 L","não instrumentado",null,{"$f":"+Esq_Atual!S39+Esq_Atual!BE48+Esq_Atual!BW48+Esq_Atual!CO48+Esq_Atual!DG48","v":0},{"$f":"'Preços unitários'!$F$54","v":0},0,20,0,{"$f":"+'Modelação de custos atual'!$D$19","v":0},0]
[null,null,"INSTRUMENTAÇÃO","RI/RS","equip depo","TAG RFID",null,"TAG RFID",null,null,{"$f":"+'Preços unitários'!F65","v":0},{"$f":"J32*K32","v":0},10,{"$f":"L32/M32","v":0}]
[null,null,"INSTRUMENTAÇÃO","RI/RS","equip depo","contentores de superfície - medição volume",null,"contentores de superfície - medição volume",null,null,{"$f":"+'Preços unitários'!F66","v":0},0,10,0]
[null,null,"INSTRUMENTAÇÃO","RI/RS","equip depo","contentores semi-enterrados / enterrados - medição volume",null,"contentores semi-enterrados / enterrados - medição volume",null,null,{"$f":"+'Preços unitários'!F67","v":0},0,20,0]
[null,null,"INSTRUMENTAÇÃO","RI/RS","equip depo","contentores de superfície - medição peso",null,"contentores de superfície - medição peso",null,null,{"$f":"+'Preços unitários'!F68","v":0},0,10,0]
[null,null,"INSTRUMENTAÇÃO","RI/RS","equip depo","contentores semi-enterrados / enterrados - medição peso",null,"contentores semi-enterrados / enterrados - medição peso",null,null,{"$f":"+'Preços unitários'!F69","v":0},0,20,0]
[null,null,"INSTRUMENTAÇÃO","RI/RS","equip depo","cartões / chave de acesso",null,"cartões / chave de acesso",null,null,{"$f":"+'Preços unitários'!F70","v":0},0,10,0]
[null,null,"RECOLHA","RI/RS","Viaturas","5-9 m3 compactação placa",null,"não instrumentadas gasóleo","gasóleo",{"$f":"+IF(AND(Esq_Atual!$M$127=F38,Esq_Atual!$W$127=I38),1,0)+IF(AND(Esq_Atual!$M$128=F38,Esq_Atual!$W$128=I38),1,0)+IF(AND(Esq_Atual!$M$129=F38,Esq_Atual!$W$129=I38),1,0)+IF(AND(Esq_Atual!$M$130=F38,Esq_Atual!$W$130=I38),1,0)+IF(AND(Esq_Atual!$M$131=F38,Esq_Atual!$W$131=I38),1,0)+IF(AND(Esq_Atual!$M$132=F38,Esq_Atual!$W$132=I38),1,0)+IF(AND(Esq_Atual!$M$133=F38,Esq_Atual!$W$133=I38),1,0)+IF(AND(Esq_Atual!$M$134=F38,Esq_Atual!$W$134=I38),1,0)+IF(AND(Esq_Atual!$M$135=F38,Esq_Atual!$W$135=I38),1,0)+IF(AND(Esq_Atual!$M$136=F38,Esq_Atual!$W$136=I38),1,0)+IF(AND(Esq_Atual!$M$137=F38,Esq_Atual!$W$137=I38),1,0)+IF(AND(Esq_Atual!$M$138=F38,Esq_Atual!$W$138=I38),1,0)+IF(AND(Esq_Atual!$M$139=F38,Esq_Atual!$W$139=I38),1,0)+IF(AND(Esq_Atual!$M$140=F38,Esq_Atual!$W$140=I38),1,0)+IF(AND(Esq_Atual!$M$141=F38,Esq_Atual!$W$141=I38),1,0)+IF(AND(Esq_Atual!$BF$149=F38,Esq_Atual!$BP$149=I38),1,0)+IF(AND(Esq_Atual!$BF$150=F38,Esq_Atual!$BP$150=I38),1,0)+IF(AND(Esq_Atual!$BF$151=F38,Esq_Atual!$BP$151=I38),1,0)+IF(AND(Esq_Atual!$BF$152=F38,Esq_Atual!$BP$152=I38),1,0)+IF(AND(Esq_Atual!$BF$153=F38,Esq_Atual!$BP$153=I38),1,0)+IF(AND(Esq_Atual!$BF$154=F38,Esq_Atual!$BP$154=I38),1,0)+IF(AND(Esq_Atual!$BF$155=F38,Esq_Atual!$BP$155=I38),1,0)+IF(AND(Esq_Atual!$BF$156=F38,Esq_Atual!$BP$156=I38),1,0)+IF(AND(Esq_Atual!$BF$157=F38,Esq_Atual!$BP$157=I38),1,0)+IF(AND(Esq_Atual!$BF$158=F38,Esq_Atual!$BP$158=I38),1,0)+IF(AND(Esq_Atual!$BF$159=F38,Esq_Atual!$BP$159=I38),1,0)+IF(AND(Esq_Atual!$BF$160=F38,Esq_Atual!$BP$160=I38),1,0)+IF(AND(Esq_Atual!$BF$161=F38,Esq_Atual!$BP$161=I38),1,0)+IF(AND(Esq_Atual!$BF$162=F38,Esq_Atual!$BP$162=I38),1,0)+IF(AND(Esq_Atual!$BF$163=F38,Esq_Atual!$BP$163=I38),1,0)","v":0},{"$f":"'Preços unitários'!$M$21","v":0},0,8,{"$f":"L38/M38","v":0},null,null,null,{"$f":"+IF(AND(Esq_Atual!$M$127=F38,Esq_Atual!$W$127=I38),Esq_Atual!$AD$127,0)\n+IF(AND(Esq_Atual!$M$128=F38,Esq_Atual!$W$128=I38),Esq_Atual!$AD$128,0)\n+IF(AND(Esq_Atual!$M$129=F38,Esq_Atual!$W$129=I38),Esq_Atual!$AD$129,0)\n+IF(AND(Esq_Atual!$M$130=F38,Esq_Atual!$W$130=I38),Esq_Atual!$AD$130,0)\n+IF(AND(Esq_Atual!$M$131=F38,Esq_Atual!$W$131=I38),Esq_Atual!$AD$131,0)\n+IF(AND(Esq_Atual!$M$132=F38,Esq_Atual!$W$132=I38),Esq_Atual!$AD$132,0)\n+IF(AND(Esq_Atual!$M$133=F38,Esq_Atual!$W$133=I38),Esq_Atual!$AD$133,0)\n+IF(AND(Esq_Atual!$M$134=F38,Esq_Atual!$W$134=I38),Esq_Atual!$AD$134,0)\n+IF(AND(Esq_Atual!$M$135=F38,Esq_Atual!$W$135=I38),Esq_Atual!$AD$135,0)\n+IF(AND(Esq_Atual!$M$136=F38,Esq_Atual!$W$136=I38),Esq_Atual!$AD$136,0)\n+IF(AND(Esq_Atual!$M$137=F38,Esq_Atual!$W$137=I38),Esq_Atual!$AD$137,0)\n+IF(AND(Esq_Atual!$M$138=F38,Esq_Atual!$W$138=I38),Esq_Atual!$AD$138,0)\n+IF(AND(Esq_Atual!$M$139=F38,Esq_Atual!$W$139=I38),Esq_Atual!$AD$139,0)\n+IF(AND(Esq_Atual!$M$140=F38,Esq_Atual!$W$140=I38),Esq_Atual!$AD$140,0)\n+IF(AND(Esq_Atual!$M$141=F38,Esq_Atual!$W$141=I38),Esq_Atual!$AD$141,0)\n+IF(AND(Esq_Atual!$BF$149=F38,Esq_Atual!$BP$149=I38),Esq_Atual!$BW$149,0)\n+IF(AND(Esq_Atual!$BF$150=F38,Esq_Atual!$BP$150=I38),Esq_Atual!$BW$150,0)\n+IF(AND(Esq_Atual!$BF$151=F38,Esq_Atual!$BP$151=I38),Esq_Atual!$BW$151,0)\n+IF(AND(Esq_Atual!$BF$152=F38,Esq_Atual!$BP$152=I38),Esq_Atual!$BW$152,0)\n+IF(AND(Esq_Atual!$BF$153=F38,Esq_Atual!$BP$153=I38),Esq_Atual!$BW$153,0)\n+IF(AND(Esq_Atual!$BF$154=F38,Esq_Atual!$BP$154=I38),Esq_Atual!$BW$154,0)\n+IF(AND(Esq_Atual!$BF$155=F38,Esq_Atual!$BP$155=I38),Esq_Atual!$BW$155,0)\n+IF(AND(Esq_Atual!$BF$156=F38,Esq_Atual!$BP$156=I38),Esq_Atual!$BW$156,0)\n+IF(AND(Esq_Atual!$BF$157=F38,Esq_Atual!$BP$157=I38),Esq_Atual!$BW$157,0)\n+IF(AND(Esq_Atual!$BF$158=F38,Esq_Atual!$BP$158=I38),Esq_Atual!$BW$158,0)\n+IF(AND(Esq_Atual!$BF$159=F38,Esq_Atual!$BP$159=I38),Esq_Atual!$BW$159,0)\n+IF(AND(Esq_Atual!$BF$160=F38,Esq_Atual!$BP$160=I38),Esq_Atual!$BW$160,0)\n+IF(AND(Esq_Atual!$BF$161=F38,Esq_Atual!$BP$161=I38),Esq_Atual!$BW$161,0)\n+IF(AND(Esq_Atual!$BF$162=F38,Esq_Atual!$BP$162=I38),Esq_Atual!$BW$162,0)\n+IF(AND(Esq_Atual!$BF$163=F38,Esq_Atual!$BP$163=I38),Esq_Atual!$BW$163,0)\n+IF(AND(Esq_Atual!$AS$193=F38,Esq_Atual!$BC$193=I38),Esq_Atual!$BJ$193,0)\n+IF(AND(Esq_Atual!$AS$194=F38,Esq_Atual!$BC$194=I38),Esq_Atual!$BJ$194,0)\n+IF(AND(Esq_Atual!$AS$195=F38,Esq_Atual!$BC$195=I38),Esq_Atual!$BJ$195,0)","v":0},{"$f":"(IF(AND(Esq_Atual!$M$127=F38,Esq_Atual!$W$127=I38),Esq_Atual!$AD$127*Esq_Atual!$AJ$127,0)\n+IF(AND(Esq_Atual!$M$128=F38,Esq_Atual!$W$128=I38),Esq_Atual!$AD$128*Esq_Atual!$AJ$128,0)\n+IF(AND(Esq_Atual!$M$129=F38,Esq_Atual!$W$129=I38),Esq_Atual!$AD$129*Esq_Atual!$AJ$129,0)\n+IF(AND(Esq_Atual!$M$130=F38,Esq_Atual!$W$130=I38),Esq_Atual!$AD$130*Esq_Atual!$AJ$130,0)\n+IF(AND(Esq_Atual!$M$131=F38,Esq_Atual!$W$131=I38),Esq_Atual!$AD$131*Esq_Atual!$AJ$131,0)\n+IF(AND(Esq_Atual!$M$132=F38,Esq_Atual!$W$132=I38),Esq_Atual!$AD$132*Esq_Atual!$AJ$132,0)\n+IF(AND(Esq_Atual!$M$133=F38,Esq_Atual!$W$133=I38),Esq_Atual!$AD$133*Esq_Atual!$AJ$133,0)\n+IF(AND(Esq_Atual!$M$134=F38,Esq_Atual!$W$134=I38),Esq_Atual!$AD$134*Esq_Atual!$AJ$134,0)\n+IF(AND(Esq_Atual!$M$135=F38,Esq_Atual!$W$135=I38),Esq_Atual!$AD$135*Esq_Atual!$AJ$135,0)\n+IF(AND(Esq_Atual!$M$136=F38,Esq_Atual!$W$136=I38),Esq_Atual!$AD$136*Esq_Atual!$AJ$136,0)\n+IF(AND(Esq_Atual!$M$137=F38,Esq_Atual!$W$137=I38),Esq_Atual!$AD$137*Esq_Atual!$AJ$137,0)\n+IF(AND(Esq_Atual!$M$138=F38,Esq_Atual!$W$138=I38),Esq_Atual!$AD$138*Esq_Atual!$AJ$138,0)\n+IF(AND(Esq_Atual!$M$139=F38,Esq_Atual!$W$139=I38),Esq_Atual!$AD$139*Esq_Atual!$AJ$139,0)\n+IF(AND(Esq_Atual!$M$140=F38,Esq_Atual!$W$140=I38),Esq_Atual!$AD$140*Esq_Atual!$AJ$140,0)\n+IF(AND(Esq_Atual!$M$141=F38,Esq_Atual!$W$141=I38),Esq_Atual!$AD$141*Esq_Atual!$AJ$141,0)\n+IF(AND(Esq_Atual!$BF$149=F38,Esq_Atual!$BP$149=I38),Esq_Atual!$BW$149*Esq_Atual!$CC$149,0)\n+IF(AND(Esq_Atual!$BF$150=F38,Esq_Atual!$BP$150=I38),Esq_Atual!$BW$150*Esq_Atual!$CC$150,0)\n+IF(AND(Esq_Atual!$BF$151=F38,Esq_Atual!$BP$151=I38),Esq_Atual!$BW$151*Esq_Atual!$CC$151,0)\n+IF(AND(Esq_Atual!$BF$152=F38,Esq_Atual!$BP$152=I38),Esq_Atual!$BW$152*Esq_Atual!$CC$152,0)\n+IF(AND(Esq_Atual!$BF$153=F38,Esq_Atual!$BP$153=I38),Esq_Atual!$BW$153*Esq_Atual!$CC$153,0)\n+IF(AND(Esq_Atual!$BF$154=F38,Esq_Atual!$BP$154=I38),Esq_Atual!$BW$154*Esq_Atual!$CC$154,0)\n+IF(AND(Esq_Atual!$BF$155=F38,Esq_Atual!$BP$155=I38),Esq_Atual!$BW$155*Esq_Atual!$CC$155,0)\n+IF(AND(Esq_Atual!$BF$156=F38,Esq_Atual!$BP$156=I38),Esq_Atual!$BW$156*Esq_Atual!$CC$156,0)\n+IF(AND(Esq_Atual!$BF$157=F38,Esq_Atual!$BP$157=I38),Esq_Atual!$BW$157*Esq_Atual!$CC$157,0)\n+IF(AND(Esq_Atual!$BF$158=F38,Esq_Atual!$BP$158=I38),Esq_Atual!$BW$158*Esq_Atual!$CC$158,0)\n+IF(AND(Esq_Atual!$BF$159=F38,Esq_Atual!$BP$159=I38),Esq_Atual!$BW$159*Esq_Atual!$CC$159,0)\n+IF(AND(Esq_Atual!$BF$160=F38,Esq_Atual!$BP$160=I38),Esq_Atual!$BW$160*Esq_Atual!$CC$160,0)\n+IF(AND(Esq_Atual!$BF$161=F38,Esq_Atual!$BP$161=I38),Esq_Atual!$BW$161*Esq_Atual!$CC$161,0)\n+IF(AND(Esq_Atual!$BF$162=F38,Esq_Atual!$BP$162=I38),Esq_Atual!$BW$162*Esq_Atual!$CC$162,0)\n+IF(AND(Esq_Atual!$BF$163=F38,Esq_Atual!$BP$163=I38),Esq_Atual!$BW$163*Esq_Atual!$CC$163,0)\n+IF(AND(Esq_Atual!$AS$193=F38,Esq_Atual!$BC$193=I38),Esq_Atual!$BJ$193*Esq_Atual!$BM$193,0)\n+IF(AND(Esq_Atual!$AS$194=F38,Esq_Atual!$BC$194=I38),Esq_Atual!$BJ$194*Esq_Atual!$BM$194,0)\n+IF(AND(Esq_Atual!$AS$195=F38,Esq_Atual!$BC$195=I38),Esq_Atual!$BJ$195*Esq_Atual!$BM$195,0))/100","v":0},{"$f":"(IF(AND(Esq_Atual!$M$127=F38,Esq_Atual!$W$127=I38),Esq_Atual!$AD$127*Esq_Atual!$AJ$127,0)\n+IF(AND(Esq_Atual!$M$128=F38,Esq_Atual!$W$128=I38),Esq_Atual!$AD$128*Esq_Atual!$AJ$128,0)\n+IF(AND(Esq_Atual!$M$129=F38,Esq_Atual!$W$129=I38),Esq_Atual!$AD$129*Esq_Atual!$AJ$129,0)\n+IF(AND(Esq_Atual!$M$130=F38,Esq_Atual!$W$130=I38),Esq_Atual!$AD$130*Esq_Atual!$AJ$130,0)\n+IF(AND(Esq_Atual!$M$131=F38,Esq_Atual!$W$131=I38),Esq_Atual!$AD$131*Esq_Atual!$AJ$131,0)\n+IF(AND(Esq_Atual!$M$132=F38,Esq_Atual!$W$132=I38),Esq_Atual!$AD$132*Esq_Atual!$AJ$132,0)\n+IF(AND(Esq_Atual!$M$133=F38,Esq_Atual!$W$133=I38),Esq_Atual!$AD$133*Esq_Atual!$AJ$133,0)\n+IF(AND(Esq_Atual!$M$134=F38,Esq_Atual!$W$134=I38),Esq_Atual!$AD$134*Esq_Atual!$AJ$134,0)\n+IF(AND(Esq_Atual!$M$135=F38,Esq_Atual!$W$135=I38),Esq_Atual!$AD$135*Esq_Atual!$AJ$135,0)\n+IF(AND(Esq_Atual!$M$136=F38,Esq_Atual!$W$136=I38),Esq_Atual!$AD$136*Esq_Atual!$AJ$136,0)\n+IF(AND(Esq_Atual!$M$137=F38,Esq_Atual!$W$137=I38),Esq_Atual!$AD$137*Esq_Atual!$AJ$137,0)\n+IF(AND(Esq_Atual!$M$138=F38,Esq_Atual!$W$138=I38),Esq_Atual!$AD$138*Esq_Atual!$AJ$138,0)\n+IF(AND(Esq_Atual!$M$139=F38,Esq_Atual!$W$139=I38),Esq_Atual!$AD$139*Esq_Atual!$AJ$139,0)\n+IF(AND(Esq_Atual!$M$140=F38,Esq_Atual!$W$140=I38),Esq_Atual!$AD$140*Esq_Atual!$AJ$140,0)\n+IF(AND(Esq_Atual!$M$141=F38,Esq_Atual!$W$141=I38),Esq_Atual!$AD$141*Esq_Atual!$AJ$141,0)\n+IF(AND(Esq_Atual!$BF$149=F38,Esq_Atual!$BP$149=I38),Esq_Atual!$BW$149*Esq_Atual!$CC$149,0)\n+IF(AND(Esq_Atual!$BF$150=F38,Esq_Atual!$BP$150=I38),Esq_Atual!$BW$150*Esq_Atual!$CC$150,0)\n+IF(AND(Esq_Atual!$BF$151=F38,Esq_Atual!$BP$151=I38),Esq_Atual!$BW$151*Esq_Atual!$CC$151,0)\n+IF(AND(Esq_Atual!$BF$152=F38,Esq_Atual!$BP$152=I38),Esq_Atual!$BW$152*Esq_Atual!$CC$152,0)\n+IF(AND(Esq_Atual!$BF$153=F38,Esq_Atual!$BP$153=I38),Esq_Atual!$BW$153*Esq_Atual!$CC$153,0)\n+IF(AND(Esq_Atual!$BF$154=F38,Esq_Atual!$BP$154=I38),Esq_Atual!$BW$154*Esq_Atual!$CC$154,0)\n+IF(AND(Esq_Atual!$BF$155=F38,Esq_Atual!$BP$155=I38),Esq_Atual!$BW$155*Esq_Atual!$CC$155,0)\n+IF(AND(Esq_Atual!$BF$156=F38,Esq_Atual!$BP$156=I38),Esq_Atual!$BW$156*Esq_Atual!$CC$156,0)\n+IF(AND(Esq_Atual!$BF$157=F38,Esq_Atual!$BP$157=I38),Esq_Atual!$BW$157*Esq_Atual!$CC$157,0)\n+IF(AND(Esq_Atual!$BF$158=F38,Esq_Atual!$BP$158=I38),Esq_Atual!$BW$158*Esq_Atual!$CC$158,0)\n+IF(AND(Esq_Atual!$BF$159=F38,Esq_Atual!$BP$159=I38),Esq_Atual!$BW$159*Esq_Atual!$CC$159,0)\n+IF(AND(Esq_Atual!$BF$160=F38,Esq_Atual!$BP$160=I38),Esq_Atual!$BW$160*Esq_Atual!$CC$160,0)\n+IF(AND(Esq_Atual!$BF$161=F38,Esq_Atual!$BP$161=I38),Esq_Atual!$BW$161*Esq_Atual!$CC$161,0)\n+IF(AND(Esq_Atual!$BF$162=F38,Esq_Atual!$BP$162=I38),Esq_Atual!$BW$162*Esq_Atual!$CC$162,0)\n+IF(AND(Esq_Atual!$BF$163=F38,Esq_Atual!$BP$163=I38),Esq_Atual!$BW$163*Esq_Atual!$CC$163,0)\n+IF(AND(Esq_Atual!$AS$193=F38,Esq_Atual!$BC$193=I38),Esq_Atual!$BJ$193*Esq_Atual!$BM$193,0)\n+IF(AND(Esq_Atual!$AS$194=F38,Esq_Atual!$BC$194=I38),Esq_Atual!$BJ$194*Esq_Atual!$BM$194,0)\n+IF(AND(Esq_Atual!$AS$195=F38,Esq_Atual!$BC$195=I38),Esq_Atual!$BJ$195*Esq_Atual!$BM$195,0))/100","v":0},{"$f":"'Preços unitários'!$T$34","v":0},null,{"$f":"+S38*U38","v":0},{"$f":"+'Modelação de custos atual'!$D$20","v":0},{"$f":"L38*X38","v":0},50000,{"$f":"_xlfn.FLOOR.MATH(IF(OR(R38>Z38,R38=Z38),R38/Z38,0),1)","v":0},{"$f":"'Preços unitários'!$T$40","v":0},{"$f":"+AA38*AB38","v":0}]
[null,null,"RECOLHA","RI/RS","Viaturas","5-9 m3 compactação placa",null,"não instrumentadas elétrica","elétrica",{"$f":"+IF(AND(Esq_Atual!$M$127=F39,Esq_Atual!$W$127=I39),1,0)+IF(AND(Esq_Atual!$M$128=F39,Esq_Atual!$W$128=I39),1,0)+IF(AND(Esq_Atual!$M$129=F39,Esq_Atual!$W$129=I39),1,0)+IF(AND(Esq_Atual!$M$130=F39,Esq_Atual!$W$130=I39),1,0)+IF(AND(Esq_Atual!$M$131=F39,Esq_Atual!$W$131=I39),1,0)+IF(AND(Esq_Atual!$M$132=F39,Esq_Atual!$W$132=I39),1,0)+IF(AND(Esq_Atual!$M$133=F39,Esq_Atual!$W$133=I39),1,0)+IF(AND(Esq_Atual!$M$134=F39,Esq_Atual!$W$134=I39),1,0)+IF(AND(Esq_Atual!$M$135=F39,Esq_Atual!$W$135=I39),1,0)+IF(AND(Esq_Atual!$M$136=F39,Esq_Atual!$W$136=I39),1,0)+IF(AND(Esq_Atual!$M$137=F39,Esq_Atual!$W$137=I39),1,0)+IF(AND(Esq_Atual!$M$138=F39,Esq_Atual!$W$138=I39),1,0)+IF(AND(Esq_Atual!$M$139=F39,Esq_Atual!$W$139=I39),1,0)+IF(AND(Esq_Atual!$M$140=F39,Esq_Atual!$W$140=I39),1,0)+IF(AND(Esq_Atual!$M$141=F39,Esq_Atual!$W$141=I39),1,0)+IF(AND(Esq_Atual!$BF$149=F39,Esq_Atual!$BP$149=I39),1,0)+IF(AND(Esq_Atual!$BF$150=F39,Esq_Atual!$BP$150=I39),1,0)+IF(AND(Esq_Atual!$BF$151=F39,Esq_Atual!$BP$151=I39),1,0)+IF(AND(Esq_Atual!$BF$152=F39,Esq_Atual!$BP$152=I39),1,0)+IF(AND(Esq_Atual!$BF$153=F39,Esq_Atual!$BP$153=I39),1,0)+IF(AND(Esq_Atual!$BF$154=F39,Esq_Atual!$BP$154=I39),1,0)+IF(AND(Esq_Atual!$BF$155=F39,Esq_Atual!$BP$155=I39),1,0)+IF(AND(Esq_Atual!$BF$156=F39,Esq_Atual!$BP$156=I39),1,0)+IF(AND(Esq_Atual!$BF$157=F39,Esq_Atual!$BP$157=I39),1,0)+IF(AND(Esq_Atual!$BF$158=F39,Esq_Atual!$BP$158=I39),1,0)+IF(AND(Esq_Atual!$BF$159=F39,Esq_Atual!$BP$159=I39),1,0)+IF(AND(Esq_Atual!$BF$160=F39,Esq_Atual!$BP$160=I39),1,0)+IF(AND(Esq_Atual!$BF$161=F39,Esq_Atual!$BP$161=I39),1,0)+IF(AND(Esq_Atual!$BF$162=F39,Esq_Atual!$BP$162=I39),1,0)+IF(AND(Esq_Atual!$BF$163=F39,Esq_Atual!$BP$163=I39),1,0)","v":0},{"$f":"'Preços unitários'!$M$22","v":0},0,8,0,null,null,null,{"$f":"+IF(AND(Esq_Atual!$M$127=F39,Esq_Atual!$W$127=I39),Esq_Atual!$AD$127,0)\n+IF(AND(Esq_Atual!$M$128=F39,Esq_Atual!$W$128=I39),Esq_Atual!$AD$128,0)\n+IF(AND(Esq_Atual!$M$129=F39,Esq_Atual!$W$129=I39),Esq_Atual!$AD$129,0)\n+IF(AND(Esq_Atual!$M$130=F39,Esq_Atual!$W$130=I39),Esq_Atual!$AD$130,0)\n+IF(AND(Esq_Atual!$M$131=F39,Esq_Atual!$W$131=I39),Esq_Atual!$AD$131,0)\n+IF(AND(Esq_Atual!$M$132=F39,Esq_Atual!$W$132=I39),Esq_Atual!$AD$132,0)\n+IF(AND(Esq_Atual!$M$133=F39,Esq_Atual!$W$133=I39),Esq_Atual!$AD$133,0)\n+IF(AND(Esq_Atual!$M$134=F39,Esq_Atual!$W$134=I39),Esq_Atual!$AD$134,0)\n+IF(AND(Esq_Atual!$M$135=F39,Esq_Atual!$W$135=I39),Esq_Atual!$AD$135,0)\n+IF(AND(Esq_Atual!$M$136=F39,Esq_Atual!$W$136=I39),Esq_Atual!$AD$136,0)\n+IF(AND(Esq_Atual!$M$137=F39,Esq_Atual!$W$137=I39),Esq_Atual!$AD$137,0)\n+IF(AND(Esq_Atual!$M$138=F39,Esq_Atual!$W$138=I39),Esq_Atual!$AD$138,0)\n+IF(AND(Esq_Atual!$M$139=F39,Esq_Atual!$W$139=I39),Esq_Atual!$AD$139,0)\n+IF(AND(Esq_Atual!$M$140=F39,Esq_Atual!$W$140=I39),Esq_Atual!$AD$140,0)\n+IF(AND(Esq_Atual!$M$141=F39,Esq_Atual!$W$141=I39),Esq_Atual!$AD$141,0)\n+IF(AND(Esq_Atual!$BF$149=F39,Esq_Atual!$BP$149=I39),Esq_Atual!$BW$149,0)\n+IF(AND(Esq_Atual!$BF$150=F39,Esq_Atual!$BP$150=I39),Esq_Atual!$BW$150,0)\n+IF(AND(Esq_Atual!$BF$151=F39,Esq_Atual!$BP$151=I39),Esq_Atual!$BW$151,0)\n+IF(AND(Esq_Atual!$BF$152=F39,Esq_Atual!$BP$152=I39),Esq_Atual!$BW$152,0)\n+IF(AND(Esq_Atual!$BF$153=F39,Esq_Atual!$BP$153=I39),Esq_Atual!$BW$153,0)\n+IF(AND(Esq_Atual!$BF$154=F39,Esq_Atual!$BP$154=I39),Esq_Atual!$BW$154,0)\n+IF(AND(Esq_Atual!$BF$155=F39,Esq_Atual!$BP$155=I39),Esq_Atual!$BW$155,0)\n+IF(AND(Esq_Atual!$BF$156=F39,Esq_Atual!$BP$156=I39),Esq_Atual!$BW$156,0)\n+IF(AND(Esq_Atual!$BF$157=F39,Esq_Atual!$BP$157=I39),Esq_Atual!$BW$157,0)\n+IF(AND(Esq_Atual!$BF$158=F39,Esq_Atual!$BP$158=I39),Esq_Atual!$BW$158,0)\n+IF(AND(Esq_Atual!$BF$159=F39,Esq_Atual!$BP$159=I39),Esq_Atual!$BW$159,0)\n+IF(AND(Esq_Atual!$BF$160=F39,Esq_Atual!$BP$160=I39),Esq_Atual!$BW$160,0)\n+IF(AND(Esq_Atual!$BF$161=F39,Esq_Atual!$BP$161=I39),Esq_Atual!$BW$161,0)\n+IF(AND(Esq_Atual!$BF$162=F39,Esq_Atual!$BP$162=I39),Esq_Atual!$BW$162,0)\n+IF(AND(Esq_Atual!$BF$163=F39,Esq_Atual!$BP$163=I39),Esq_Atual!$BW$163,0)\n+IF(AND(Esq_Atual!$AS$193=F39,Esq_Atual!$BC$193=I39),Esq_Atual!$BJ$193,0)\n+IF(AND(Esq_Atual!$AS$194=F39,Esq_Atual!$BC$194=I39),Esq_Atual!$BJ$194,0)\n+IF(AND(Esq_Atual!$AS$195=F39,Esq_Atual!$BC$195=I39),Esq_Atual!$BJ$195,0)","v":0},{"$f":"(IF(AND(Esq_Atual!$M$127=F39,Esq_Atual!$W$127=I39),Esq_Atual!$AD$127*Esq_Atual!$AJ$127,0)\n+IF(AND(Esq_Atual!$M$128=F39,Esq_Atual!$W$128=I39),Esq_Atual!$AD$128*Esq_Atual!$AJ$128,0)\n+IF(AND(Esq_Atual!$M$129=F39,Esq_Atual!$W$129=I39),Esq_Atual!$AD$129*Esq_Atual!$AJ$129,0)\n+IF(AND(Esq_Atual!$M$130=F39,Esq_Atual!$W$130=I39),Esq_Atual!$AD$130*Esq_Atual!$AJ$130,0)\n+IF(AND(Esq_Atual!$M$131=F39,Esq_Atual!$W$131=I39),Esq_Atual!$AD$131*Esq_Atual!$AJ$131,0)\n+IF(AND(Esq_Atual!$M$132=F39,Esq_Atual!$W$132=I39),Esq_Atual!$AD$132*Esq_Atual!$AJ$132,0)\n+IF(AND(Esq_Atual!$M$133=F39,Esq_Atual!$W$133=I39),Esq_Atual!$AD$133*Esq_Atual!$AJ$133,0)\n+IF(AND(Esq_Atual!$M$134=F39,Esq_Atual!$W$134=I39),Esq_Atual!$AD$134*Esq_Atual!$AJ$134,0)\n+IF(AND(Esq_Atual!$M$135=F39,Esq_Atual!$W$135=I39),Esq_Atual!$AD$135*Esq_Atual!$AJ$135,0)\n+IF(AND(Esq_Atual!$M$136=F39,Esq_Atual!$W$136=I39),Esq_Atual!$AD$136*Esq_Atual!$AJ$136,0)\n+IF(AND(Esq_Atual!$M$137=F39,Esq_Atual!$W$137=I39),Esq_Atual!$AD$137*Esq_Atual!$AJ$137,0)\n+IF(AND(Esq_Atual!$M$138=F39,Esq_Atual!$W$138=I39),Esq_Atual!$AD$138*Esq_Atual!$AJ$138,0)\n+IF(AND(Esq_Atual!$M$139=F39,Esq_Atual!$W$139=I39),Esq_Atual!$AD$139*Esq_Atual!$AJ$139,0)\n+IF(AND(Esq_Atual!$M$140=F39,Esq_Atual!$W$140=I39),Esq_Atual!$AD$140*Esq_Atual!$AJ$140,0)\n+IF(AND(Esq_Atual!$M$141=F39,Esq_Atual!$W$141=I39),Esq_Atual!$AD$141*Esq_Atual!$AJ$141,0)\n+IF(AND(Esq_Atual!$BF$149=F39,Esq_Atual!$BP$149=I39),Esq_Atual!$BW$149*Esq_Atual!$CC$149,0)\n+IF(AND(Esq_Atual!$BF$150=F39,Esq_Atual!$BP$150=I39),Esq_Atual!$BW$150*Esq_Atual!$CC$150,0)\n+IF(AND(Esq_Atual!$BF$151=F39,Esq_Atual!$BP$151=I39),Esq_Atual!$BW$151*Esq_Atual!$CC$151,0)\n+IF(AND(Esq_Atual!$BF$152=F39,Esq_Atual!$BP$152=I39),Esq_Atual!$BW$152*Esq_Atual!$CC$152,0)\n+IF(AND(Esq_Atual!$BF$153=F39,Esq_Atual!$BP$153=I39),Esq_Atual!$BW$153*Esq_Atual!$CC$153,0)\n+IF(AND(Esq_Atual!$BF$154=F39,Esq_Atual!$BP$154=I39),Esq_Atual!$BW$154*Esq_Atual!$CC$154,0)\n+IF(AND(Esq_Atual!$BF$155=F39,Esq_Atual!$BP$155=I39),Esq_Atual!$BW$155*Esq_Atual!$CC$155,0)\n+IF(AND(Esq_Atual!$BF$156=F39,Esq_Atual!$BP$156=I39),Esq_Atual!$BW$156*Esq_Atual!$CC$156,0)\n+IF(AND(Esq_Atual!$BF$157=F39,Esq_Atual!$BP$157=I39),Esq_Atual!$BW$157*Esq_Atual!$CC$157,0)\n+IF(AND(Esq_Atual!$BF$158=F39,Esq_Atual!$BP$158=I39),Esq_Atual!$BW$158*Esq_Atual!$CC$158,0)\n+IF(AND(Esq_Atual!$BF$159=F39,Esq_Atual!$BP$159=I39),Esq_Atual!$BW$159*Esq_Atual!$CC$159,0)\n+IF(AND(Esq_Atual!$BF$160=F39,Esq_Atual!$BP$160=I39),Esq_Atual!$BW$160*Esq_Atual!$CC$160,0)\n+IF(AND(Esq_Atual!$BF$161=F39,Esq_Atual!$BP$161=I39),Esq_Atual!$BW$161*Esq_Atual!$CC$161,0)\n+IF(AND(Esq_Atual!$BF$162=F39,Esq_Atual!$BP$162=I39),Esq_Atual!$BW$162*Esq_Atual!$CC$162,0)\n+IF(AND(Esq_Atual!$BF$163=F39,Esq_Atual!$BP$163=I39),Esq_Atual!$BW$163*Esq_Atual!$CC$163,0)\n+IF(AND(Esq_Atual!$AS$193=F39,Esq_Atual!$BC$193=I39),Esq_Atual!$BJ$193*Esq_Atual!$BM$193,0)\n+IF(AND(Esq_Atual!$AS$194=F39,Esq_Atual!$BC$194=I39),Esq_Atual!$BJ$194*Esq_Atual!$BM$194,0)\n+IF(AND(Esq_Atual!$AS$195=F39,Esq_Atual!$BC$195=I39),Esq_Atual!$BJ$195*Esq_Atual!$BM$195,0))/100","v":0},{"$f":"(IF(AND(Esq_Atual!$M$127=F39,Esq_Atual!$W$127=I39),Esq_Atual!$AD$127*Esq_Atual!$AJ$127,0)\n+IF(AND(Esq_Atual!$M$128=F39,Esq_Atual!$W$128=I39),Esq_Atual!$AD$128*Esq_Atual!$AJ$128,0)\n+IF(AND(Esq_Atual!$M$129=F39,Esq_Atual!$W$129=I39),Esq_Atual!$AD$129*Esq_Atual!$AJ$129,0)\n+IF(AND(Esq_Atual!$M$130=F39,Esq_Atual!$W$130=I39),Esq_Atual!$AD$130*Esq_Atual!$AJ$130,0)\n+IF(AND(Esq_Atual!$M$131=F39,Esq_Atual!$W$131=I39),Esq_Atual!$AD$131*Esq_Atual!$AJ$131,0)\n+IF(AND(Esq_Atual!$M$132=F39,Esq_Atual!$W$132=I39),Esq_Atual!$AD$132*Esq_Atual!$AJ$132,0)\n+IF(AND(Esq_Atual!$M$133=F39,Esq_Atual!$W$133=I39),Esq_Atual!$AD$133*Esq_Atual!$AJ$133,0)\n+IF(AND(Esq_Atual!$M$134=F39,Esq_Atual!$W$134=I39),Esq_Atual!$AD$134*Esq_Atual!$AJ$134,0)\n+IF(AND(Esq_Atual!$M$135=F39,Esq_Atual!$W$135=I39),Esq_Atual!$AD$135*Esq_Atual!$AJ$135,0)\n+IF(AND(Esq_Atual!$M$136=F39,Esq_Atual!$W$136=I39),Esq_Atual!$AD$136*Esq_Atual!$AJ$136,0)\n+IF(AND(Esq_Atual!$M$137=F39,Esq_Atual!$W$137=I39),Esq_Atual!$AD$137*Esq_Atual!$AJ$137,0)\n+IF(AND(Esq_Atual!$M$138=F39,Esq_Atual!$W$138=I39),Esq_Atual!$AD$138*Esq_Atual!$AJ$138,0)\n+IF(AND(Esq_Atual!$M$139=F39,Esq_Atual!$W$139=I39),Esq_Atual!$AD$139*Esq_Atual!$AJ$139,0)\n+IF(AND(Esq_Atual!$M$140=F39,Esq_Atual!$W$140=I39),Esq_Atual!$AD$140*Esq_Atual!$AJ$140,0)\n+IF(AND(Esq_Atual!$M$141=F39,Esq_Atual!$W$141=I39),Esq_Atual!$AD$141*Esq_Atual!$AJ$141,0)\n+IF(AND(Esq_Atual!$BF$149=F39,Esq_Atual!$BP$149=I39),Esq_Atual!$BW$149*Esq_Atual!$CC$149,0)\n+IF(AND(Esq_Atual!$BF$150=F39,Esq_Atual!$BP$150=I39),Esq_Atual!$BW$150*Esq_Atual!$CC$150,0)\n+IF(AND(Esq_Atual!$BF$151=F39,Esq_Atual!$BP$151=I39),Esq_Atual!$BW$151*Esq_Atual!$CC$151,0)\n+IF(AND(Esq_Atual!$BF$152=F39,Esq_Atual!$BP$152=I39),Esq_Atual!$BW$152*Esq_Atual!$CC$152,0)\n+IF(AND(Esq_Atual!$BF$153=F39,Esq_Atual!$BP$153=I39),Esq_Atual!$BW$153*Esq_Atual!$CC$153,0)\n+IF(AND(Esq_Atual!$BF$154=F39,Esq_Atual!$BP$154=I39),Esq_Atual!$BW$154*Esq_Atual!$CC$154,0)\n+IF(AND(Esq_Atual!$BF$155=F39,Esq_Atual!$BP$155=I39),Esq_Atual!$BW$155*Esq_Atual!$CC$155,0)\n+IF(AND(Esq_Atual!$BF$156=F39,Esq_Atual!$BP$156=I39),Esq_Atual!$BW$156*Esq_Atual!$CC$156,0)\n+IF(AND(Esq_Atual!$BF$157=F39,Esq_Atual!$BP$157=I39),Esq_Atual!$BW$157*Esq_Atual!$CC$157,0)\n+IF(AND(Esq_Atual!$BF$158=F39,Esq_Atual!$BP$158=I39),Esq_Atual!$BW$158*Esq_Atual!$CC$158,0)\n+IF(AND(Esq_Atual!$BF$159=F39,Esq_Atual!$BP$159=I39),Esq_Atual!$BW$159*Esq_Atual!$CC$159,0)\n+IF(AND(Esq_Atual!$BF$160=F39,Esq_Atual!$BP$160=I39),Esq_Atual!$BW$160*Esq_Atual!$CC$160,0)\n+IF(AND(Esq_Atual!$BF$161=F39,Esq_Atual!$BP$161=I39),Esq_Atual!$BW$161*Esq_Atual!$CC$161,0)\n+IF(AND(Esq_Atual!$BF$162=F39,Esq_Atual!$BP$162=I39),Esq_Atual!$BW$162*Esq_Atual!$CC$162,0)\n+IF(AND(Esq_Atual!$BF$163=F39,Esq_Atual!$BP$163=I39),Esq_Atual!$BW$163*Esq_Atual!$CC$163,0)\n+IF(AND(Esq_Atual!$AS$193=F39,Esq_Atual!$BC$193=I39),Esq_Atual!$BJ$193*Esq_Atual!$BM$193,0)\n+IF(AND(Esq_Atual!$AS$194=F39,Esq_Atual!$BC$194=I39),Esq_Atual!$BJ$194*Esq_Atual!$BM$194,0)\n+IF(AND(Esq_Atual!$AS$195=F39,Esq_Atual!$BC$195=I39),Esq_Atual!$BJ$195*Esq_Atual!$BM$195,0))/100","v":0},null,{"$f":"'Preços unitários'!$T$35","v":0},{"$f":"+S39*V39","v":0},{"$f":"+'Modelação de custos atual'!$D$20","v":0},{"$f":"L39*X39","v":0},50000,{"$f":"_xlfn.FLOOR.MATH(IF(OR(R39>Z39,R39=Z39),R39/Z39,0),1)","v":0},{"$f":"'Preços unitários'!$T$40","v":0},0]
[null,null,"RECOLHA","RI/RS","Viaturas","5-9 m3 compactação placa",null,"não instrumentadas gás","gás",{"$f":"+IF(AND(Esq_Atual!$M$127=F40,Esq_Atual!$W$127=I40),1,0)+IF(AND(Esq_Atual!$M$128=F40,Esq_Atual!$W$128=I40),1,0)+IF(AND(Esq_Atual!$M$129=F40,Esq_Atual!$W$129=I40),1,0)+IF(AND(Esq_Atual!$M$130=F40,Esq_Atual!$W$130=I40),1,0)+IF(AND(Esq_Atual!$M$131=F40,Esq_Atual!$W$131=I40),1,0)+IF(AND(Esq_Atual!$M$132=F40,Esq_Atual!$W$132=I40),1,0)+IF(AND(Esq_Atual!$M$133=F40,Esq_Atual!$W$133=I40),1,0)+IF(AND(Esq_Atual!$M$134=F40,Esq_Atual!$W$134=I40),1,0)+IF(AND(Esq_Atual!$M$135=F40,Esq_Atual!$W$135=I40),1,0)+IF(AND(Esq_Atual!$M$136=F40,Esq_Atual!$W$136=I40),1,0)+IF(AND(Esq_Atual!$M$137=F40,Esq_Atual!$W$137=I40),1,0)+IF(AND(Esq_Atual!$M$138=F40,Esq_Atual!$W$138=I40),1,0)+IF(AND(Esq_Atual!$M$139=F40,Esq_Atual!$W$139=I40),1,0)+IF(AND(Esq_Atual!$M$140=F40,Esq_Atual!$W$140=I40),1,0)+IF(AND(Esq_Atual!$M$141=F40,Esq_Atual!$W$141=I40),1,0)+IF(AND(Esq_Atual!$BF$149=F40,Esq_Atual!$BP$149=I40),1,0)+IF(AND(Esq_Atual!$BF$150=F40,Esq_Atual!$BP$150=I40),1,0)+IF(AND(Esq_Atual!$BF$151=F40,Esq_Atual!$BP$151=I40),1,0)+IF(AND(Esq_Atual!$BF$152=F40,Esq_Atual!$BP$152=I40),1,0)+IF(AND(Esq_Atual!$BF$153=F40,Esq_Atual!$BP$153=I40),1,0)+IF(AND(Esq_Atual!$BF$154=F40,Esq_Atual!$BP$154=I40),1,0)+IF(AND(Esq_Atual!$BF$155=F40,Esq_Atual!$BP$155=I40),1,0)+IF(AND(Esq_Atual!$BF$156=F40,Esq_Atual!$BP$156=I40),1,0)+IF(AND(Esq_Atual!$BF$157=F40,Esq_Atual!$BP$157=I40),1,0)+IF(AND(Esq_Atual!$BF$158=F40,Esq_Atual!$BP$158=I40),1,0)+IF(AND(Esq_Atual!$BF$159=F40,Esq_Atual!$BP$159=I40),1,0)+IF(AND(Esq_Atual!$BF$160=F40,Esq_Atual!$BP$160=I40),1,0)+IF(AND(Esq_Atual!$BF$161=F40,Esq_Atual!$BP$161=I40),1,0)+IF(AND(Esq_Atual!$BF$162=F40,Esq_Atual!$BP$162=I40),1,0)+IF(AND(Esq_Atual!$BF$163=F40,Esq_Atual!$BP$163=I40),1,0)","v":0},{"$f":"+'Preços unitários'!M23","v":0},0,8,0,null,null,null,{"$f":"+IF(AND(Esq_Atual!$M$127=F40,Esq_Atual!$W$127=I40),Esq_Atual!$AD$127,0)\n+IF(AND(Esq_Atual!$M$128=F40,Esq_Atual!$W$128=I40),Esq_Atual!$AD$128,0)\n+IF(AND(Esq_Atual!$M$129=F40,Esq_Atual!$W$129=I40),Esq_Atual!$AD$129,0)\n+IF(AND(Esq_Atual!$M$130=F40,Esq_Atual!$W$130=I40),Esq_Atual!$AD$130,0)\n+IF(AND(Esq_Atual!$M$131=F40,Esq_Atual!$W$131=I40),Esq_Atual!$AD$131,0)\n+IF(AND(Esq_Atual!$M$132=F40,Esq_Atual!$W$132=I40),Esq_Atual!$AD$132,0)\n+IF(AND(Esq_Atual!$M$133=F40,Esq_Atual!$W$133=I40),Esq_Atual!$AD$133,0)\n+IF(AND(Esq_Atual!$M$134=F40,Esq_Atual!$W$134=I40),Esq_Atual!$AD$134,0)\n+IF(AND(Esq_Atual!$M$135=F40,Esq_Atual!$W$135=I40),Esq_Atual!$AD$135,0)\n+IF(AND(Esq_Atual!$M$136=F40,Esq_Atual!$W$136=I40),Esq_Atual!$AD$136,0)\n+IF(AND(Esq_Atual!$M$137=F40,Esq_Atual!$W$137=I40),Esq_Atual!$AD$137,0)\n+IF(AND(Esq_Atual!$M$138=F40,Esq_Atual!$W$138=I40),Esq_Atual!$AD$138,0)\n+IF(AND(Esq_Atual!$M$139=F40,Esq_Atual!$W$139=I40),Esq_Atual!$AD$139,0)\n+IF(AND(Esq_Atual!$M$140=F40,Esq_Atual!$W$140=I40),Esq_Atual!$AD$140,0)\n+IF(AND(Esq_Atual!$M$141=F40,Esq_Atual!$W$141=I40),Esq_Atual!$AD$141,0)\n+IF(AND(Esq_Atual!$BF$149=F40,Esq_Atual!$BP$149=I40),Esq_Atual!$BW$149,0)\n+IF(AND(Esq_Atual!$BF$150=F40,Esq_Atual!$BP$150=I40),Esq_Atual!$BW$150,0)\n+IF(AND(Esq_Atual!$BF$151=F40,Esq_Atual!$BP$151=I40),Esq_Atual!$BW$151,0)\n+IF(AND(Esq_Atual!$BF$152=F40,Esq_Atual!$BP$152=I40),Esq_Atual!$BW$152,0)\n+IF(AND(Esq_Atual!$BF$153=F40,Esq_Atual!$BP$153=I40),Esq_Atual!$BW$153,0)\n+IF(AND(Esq_Atual!$BF$154=F40,Esq_Atual!$BP$154=I40),Esq_Atual!$BW$154,0)\n+IF(AND(Esq_Atual!$BF$155=F40,Esq_Atual!$BP$155=I40),Esq_Atual!$BW$155,0)\n+IF(AND(Esq_Atual!$BF$156=F40,Esq_Atual!$BP$156=I40),Esq_Atual!$BW$156,0)\n+IF(AND(Esq_Atual!$BF$157=F40,Esq_Atual!$BP$157=I40),Esq_Atual!$BW$157,0)\n+IF(AND(Esq_Atual!$BF$158=F40,Esq_Atual!$BP$158=I40),Esq_Atual!$BW$158,0)\n+IF(AND(Esq_Atual!$BF$159=F40,Esq_Atual!$BP$159=I40),Esq_Atual!$BW$159,0)\n+IF(AND(Esq_Atual!$BF$160=F40,Esq_Atual!$BP$160=I40),Esq_Atual!$BW$160,0)\n+IF(AND(Esq_Atual!$BF$161=F40,Esq_Atual!$BP$161=I40),Esq_Atual!$BW$161,0)\n+IF(AND(Esq_Atual!$BF$162=F40,Esq_Atual!$BP$162=I40),Esq_Atual!$BW$162,0)\n+IF(AND(Esq_Atual!$BF$163=F40,Esq_Atual!$BP$163=I40),Esq_Atual!$BW$163,0)\n+IF(AND(Esq_Atual!$AS$193=F40,Esq_Atual!$BC$193=I40),Esq_Atual!$BJ$193,0)\n+IF(AND(Esq_Atual!$AS$194=F40,Esq_Atual!$BC$194=I40),Esq_Atual!$BJ$194,0)\n+IF(AND(Esq_Atual!$AS$195=F40,Esq_Atual!$BC$195=I40),Esq_Atual!$BJ$195,0)","v":0},{"$f":"(IF(AND(Esq_Atual!$M$127=F40,Esq_Atual!$W$127=I40),Esq_Atual!$AD$127*Esq_Atual!$AJ$127,0)\n+IF(AND(Esq_Atual!$M$128=F40,Esq_Atual!$W$128=I40),Esq_Atual!$AD$128*Esq_Atual!$AJ$128,0)\n+IF(AND(Esq_Atual!$M$129=F40,Esq_Atual!$W$129=I40),Esq_Atual!$AD$129*Esq_Atual!$AJ$129,0)\n+IF(AND(Esq_Atual!$M$130=F40,Esq_Atual!$W$130=I40),Esq_Atual!$AD$130*Esq_Atual!$AJ$130,0)\n+IF(AND(Esq_Atual!$M$131=F40,Esq_Atual!$W$131=I40),Esq_Atual!$AD$131*Esq_Atual!$AJ$131,0)\n+IF(AND(Esq_Atual!$M$132=F40,Esq_Atual!$W$132=I40),Esq_Atual!$AD$132*Esq_Atual!$AJ$132,0)\n+IF(AND(Esq_Atual!$M$133=F40,Esq_Atual!$W$133=I40),Esq_Atual!$AD$133*Esq_Atual!$AJ$133,0)\n+IF(AND(Esq_Atual!$M$134=F40,Esq_Atual!$W$134=I40),Esq_Atual!$AD$134*Esq_Atual!$AJ$134,0)\n+IF(AND(Esq_Atual!$M$135=F40,Esq_Atual!$W$135=I40),Esq_Atual!$AD$135*Esq_Atual!$AJ$135,0)\n+IF(AND(Esq_Atual!$M$136=F40,Esq_Atual!$W$136=I40),Esq_Atual!$AD$136*Esq_Atual!$AJ$136,0)\n+IF(AND(Esq_Atual!$M$137=F40,Esq_Atual!$W$137=I40),Esq_Atual!$AD$137*Esq_Atual!$AJ$137,0)\n+IF(AND(Esq_Atual!$M$138=F40,Esq_Atual!$W$138=I40),Esq_Atual!$AD$138*Esq_Atual!$AJ$138,0)\n+IF(AND(Esq_Atual!$M$139=F40,Esq_Atual!$W$139=I40),Esq_Atual!$AD$139*Esq_Atual!$AJ$139,0)\n+IF(AND(Esq_Atual!$M$140=F40,Esq_Atual!$W$140=I40),Esq_Atual!$AD$140*Esq_Atual!$AJ$140,0)\n+IF(AND(Esq_Atual!$M$141=F40,Esq_Atual!$W$141=I40),Esq_Atual!$AD$141*Esq_Atual!$AJ$141,0)\n+IF(AND(Esq_Atual!$BF$149=F40,Esq_Atual!$BP$149=I40),Esq_Atual!$BW$149*Esq_Atual!$CC$149,0)\n+IF(AND(Esq_Atual!$BF$150=F40,Esq_Atual!$BP$150=I40),Esq_Atual!$BW$150*Esq_Atual!$CC$150,0)\n+IF(AND(Esq_Atual!$BF$151=F40,Esq_Atual!$BP$151=I40),Esq_Atual!$BW$151*Esq_Atual!$CC$151,0)\n+IF(AND(Esq_Atual!$BF$152=F40,Esq_Atual!$BP$152=I40),Esq_Atual!$BW$152*Esq_Atual!$CC$152,0)\n+IF(AND(Esq_Atual!$BF$153=F40,Esq_Atual!$BP$153=I40),Esq_Atual!$BW$153*Esq_Atual!$CC$153,0)\n+IF(AND(Esq_Atual!$BF$154=F40,Esq_Atual!$BP$154=I40),Esq_Atual!$BW$154*Esq_Atual!$CC$154,0)\n+IF(AND(Esq_Atual!$BF$155=F40,Esq_Atual!$BP$155=I40),Esq_Atual!$BW$155*Esq_Atual!$CC$155,0)\n+IF(AND(Esq_Atual!$BF$156=F40,Esq_Atual!$BP$156=I40),Esq_Atual!$BW$156*Esq_Atual!$CC$156,0)\n+IF(AND(Esq_Atual!$BF$157=F40,Esq_Atual!$BP$157=I40),Esq_Atual!$BW$157*Esq_Atual!$CC$157,0)\n+IF(AND(Esq_Atual!$BF$158=F40,Esq_Atual!$BP$158=I40),Esq_Atual!$BW$158*Esq_Atual!$CC$158,0)\n+IF(AND(Esq_Atual!$BF$159=F40,Esq_Atual!$BP$159=I40),Esq_Atual!$BW$159*Esq_Atual!$CC$159,0)\n+IF(AND(Esq_Atual!$BF$160=F40,Esq_Atual!$BP$160=I40),Esq_Atual!$BW$160*Esq_Atual!$CC$160,0)\n+IF(AND(Esq_Atual!$BF$161=F40,Esq_Atual!$BP$161=I40),Esq_Atual!$BW$161*Esq_Atual!$CC$161,0)\n+IF(AND(Esq_Atual!$BF$162=F40,Esq_Atual!$BP$162=I40),Esq_Atual!$BW$162*Esq_Atual!$CC$162,0)\n+IF(AND(Esq_Atual!$BF$163=F40,Esq_Atual!$BP$163=I40),Esq_Atual!$BW$163*Esq_Atual!$CC$163,0)\n+IF(AND(Esq_Atual!$AS$193=F40,Esq_Atual!$BC$193=I40),Esq_Atual!$BJ$193*Esq_Atual!$BM$193,0)\n+IF(AND(Esq_Atual!$AS$194=F40,Esq_Atual!$BC$194=I40),Esq_Atual!$BJ$194*Esq_Atual!$BM$194,0)\n+IF(AND(Esq_Atual!$AS$195=F40,Esq_Atual!$BC$195=I40),Esq_Atual!$BJ$195*Esq_Atual!$BM$195,0))/100","v":0},{"$f":"(IF(AND(Esq_Atual!$M$127=F40,Esq_Atual!$W$127=I40),Esq_Atual!$AD$127*Esq_Atual!$AJ$127,0)\n+IF(AND(Esq_Atual!$M$128=F40,Esq_Atual!$W$128=I40),Esq_Atual!$AD$128*Esq_Atual!$AJ$128,0)\n+IF(AND(Esq_Atual!$M$129=F40,Esq_Atual!$W$129=I40),Esq_Atual!$AD$129*Esq_Atual!$AJ$129,0)\n+IF(AND(Esq_Atual!$M$130=F40,Esq_Atual!$W$130=I40),Esq_Atual!$AD$130*Esq_Atual!$AJ$130,0)\n+IF(AND(Esq_Atual!$M$131=F40,Esq_Atual!$W$131=I40),Esq_Atual!$AD$131*Esq_Atual!$AJ$131,0)\n+IF(AND(Esq_Atual!$M$132=F40,Esq_Atual!$W$132=I40),Esq_Atual!$AD$132*Esq_Atual!$AJ$132,0)\n+IF(AND(Esq_Atual!$M$133=F40,Esq_Atual!$W$133=I40),Esq_Atual!$AD$133*Esq_Atual!$AJ$133,0)\n+IF(AND(Esq_Atual!$M$134=F40,Esq_Atual!$W$134=I40),Esq_Atual!$AD$134*Esq_Atual!$AJ$134,0)\n+IF(AND(Esq_Atual!$M$135=F40,Esq_Atual!$W$135=I40),Esq_Atual!$AD$135*Esq_Atual!$AJ$135,0)\n+IF(AND(Esq_Atual!$M$136=F40,Esq_Atual!$W$136=I40),Esq_Atual!$AD$136*Esq_Atual!$AJ$136,0)\n+IF(AND(Esq_Atual!$M$137=F40,Esq_Atual!$W$137=I40),Esq_Atual!$AD$137*Esq_Atual!$AJ$137,0)\n+IF(AND(Esq_Atual!$M$138=F40,Esq_Atual!$W$138=I40),Esq_Atual!$AD$138*Esq_Atual!$AJ$138,0)\n+IF(AND(Esq_Atual!$M$139=F40,Esq_Atual!$W$139=I40),Esq_Atual!$AD$139*Esq_Atual!$AJ$139,0)\n+IF(AND(Esq_Atual!$M$140=F40,Esq_Atual!$W$140=I40),Esq_Atual!$AD$140*Esq_Atual!$AJ$140,0)\n+IF(AND(Esq_Atual!$M$141=F40,Esq_Atual!$W$141=I40),Esq_Atual!$AD$141*Esq_Atual!$AJ$141,0)\n+IF(AND(Esq_Atual!$BF$149=F40,Esq_Atual!$BP$149=I40),Esq_Atual!$BW$149*Esq_Atual!$CC$149,0)\n+IF(AND(Esq_Atual!$BF$150=F40,Esq_Atual!$BP$150=I40),Esq_Atual!$BW$150*Esq_Atual!$CC$150,0)\n+IF(AND(Esq_Atual!$BF$151=F40,Esq_Atual!$BP$151=I40),Esq_Atual!$BW$151*Esq_Atual!$CC$151,0)\n+IF(AND(Esq_Atual!$BF$152=F40,Esq_Atual!$BP$152=I40),Esq_Atual!$BW$152*Esq_Atual!$CC$152,0)\n+IF(AND(Esq_Atual!$BF$153=F40,Esq_Atual!$BP$153=I40),Esq_Atual!$BW$153*Esq_Atual!$CC$153,0)\n+IF(AND(Esq_Atual!$BF$154=F40,Esq_Atual!$BP$154=I40),Esq_Atual!$BW$154*Esq_Atual!$CC$154,0)\n+IF(AND(Esq_Atual!$BF$155=F40,Esq_Atual!$BP$155=I40),Esq_Atual!$BW$155*Esq_Atual!$CC$155,0)\n+IF(AND(Esq_Atual!$BF$156=F40,Esq_Atual!$BP$156=I40),Esq_Atual!$BW$156*Esq_Atual!$CC$156,0)\n+IF(AND(Esq_Atual!$BF$157=F40,Esq_Atual!$BP$157=I40),Esq_Atual!$BW$157*Esq_Atual!$CC$157,0)\n+IF(AND(Esq_Atual!$BF$158=F40,Esq_Atual!$BP$158=I40),Esq_Atual!$BW$158*Esq_Atual!$CC$158,0)\n+IF(AND(Esq_Atual!$BF$159=F40,Esq_Atual!$BP$159=I40),Esq_Atual!$BW$159*Esq_Atual!$CC$159,0)\n+IF(AND(Esq_Atual!$BF$160=F40,Esq_Atual!$BP$160=I40),Esq_Atual!$BW$160*Esq_Atual!$CC$160,0)\n+IF(AND(Esq_Atual!$BF$161=F40,Esq_Atual!$BP$161=I40),Esq_Atual!$BW$161*Esq_Atual!$CC$161,0)\n+IF(AND(Esq_Atual!$BF$162=F40,Esq_Atual!$BP$162=I40),Esq_Atual!$BW$162*Esq_Atual!$CC$162,0)\n+IF(AND(Esq_Atual!$BF$163=F40,Esq_Atual!$BP$163=I40),Esq_Atual!$BW$163*Esq_Atual!$CC$163,0)\n+IF(AND(Esq_Atual!$AS$193=F40,Esq_Atual!$BC$193=I40),Esq_Atual!$BJ$193*Esq_Atual!$BM$193,0)\n+IF(AND(Esq_Atual!$AS$194=F40,Esq_Atual!$BC$194=I40),Esq_Atual!$BJ$194*Esq_Atual!$BM$194,0)\n+IF(AND(Esq_Atual!$AS$195=F40,Esq_Atual!$BC$195=I40),Esq_Atual!$BJ$195*Esq_Atual!$BM$195,0))/100","v":0},{"$f":"'Preços unitários'!$T$36","v":0},null,{"$f":"+S40*U40","v":0},{"$f":"+'Modelação de custos atual'!$D$20","v":0},0,50000,0,{"$f":"'Preços unitários'!$T$40","v":0},0]
[null,null,"RECOLHA","RI/RS","Viaturas","15-20 m3 compactação placa",null,"não instrumentadas gasóleo","gasóleo",{"$f":"+IF(AND(Esq_Atual!$M$127=F41,Esq_Atual!$W$127=I41),1,0)+IF(AND(Esq_Atual!$M$128=F41,Esq_Atual!$W$128=I41),1,0)+IF(AND(Esq_Atual!$M$129=F41,Esq_Atual!$W$129=I41),1,0)+IF(AND(Esq_Atual!$M$130=F41,Esq_Atual!$W$130=I41),1,0)+IF(AND(Esq_Atual!$M$131=F41,Esq_Atual!$W$131=I41),1,0)+IF(AND(Esq_Atual!$M$132=F41,Esq_Atual!$W$132=I41),1,0)+IF(AND(Esq_Atual!$M$133=F41,Esq_Atual!$W$133=I41),1,0)+IF(AND(Esq_Atual!$M$134=F41,Esq_Atual!$W$134=I41),1,0)+IF(AND(Esq_Atual!$M$135=F41,Esq_Atual!$W$135=I41),1,0)+IF(AND(Esq_Atual!$M$136=F41,Esq_Atual!$W$136=I41),1,0)+IF(AND(Esq_Atual!$M$137=F41,Esq_Atual!$W$137=I41),1,0)+IF(AND(Esq_Atual!$M$138=F41,Esq_Atual!$W$138=I41),1,0)+IF(AND(Esq_Atual!$M$139=F41,Esq_Atual!$W$139=I41),1,0)+IF(AND(Esq_Atual!$M$140=F41,Esq_Atual!$W$140=I41),1,0)+IF(AND(Esq_Atual!$M$141=F41,Esq_Atual!$W$141=I41),1,0)+IF(AND(Esq_Atual!$BF$149=F41,Esq_Atual!$BP$149=I41),1,0)+IF(AND(Esq_Atual!$BF$150=F41,Esq_Atual!$BP$150=I41),1,0)+IF(AND(Esq_Atual!$BF$151=F41,Esq_Atual!$BP$151=I41),1,0)+IF(AND(Esq_Atual!$BF$152=F41,Esq_Atual!$BP$152=I41),1,0)+IF(AND(Esq_Atual!$BF$153=F41,Esq_Atual!$BP$153=I41),1,0)+IF(AND(Esq_Atual!$BF$154=F41,Esq_Atual!$BP$154=I41),1,0)+IF(AND(Esq_Atual!$BF$155=F41,Esq_Atual!$BP$155=I41),1,0)+IF(AND(Esq_Atual!$BF$156=F41,Esq_Atual!$BP$156=I41),1,0)+IF(AND(Esq_Atual!$BF$157=F41,Esq_Atual!$BP$157=I41),1,0)+IF(AND(Esq_Atual!$BF$158=F41,Esq_Atual!$BP$158=I41),1,0)+IF(AND(Esq_Atual!$BF$159=F41,Esq_Atual!$BP$159=I41),1,0)+IF(AND(Esq_Atual!$BF$160=F41,Esq_Atual!$BP$160=I41),1,0)+IF(AND(Esq_Atual!$BF$161=F41,Esq_Atual!$BP$161=I41),1,0)+IF(AND(Esq_Atual!$BF$162=F41,Esq_Atual!$BP$162=I41),1,0)+IF(AND(Esq_Atual!$BF$163=F41,Esq_Atual!$BP$163=I41),1,0)","v":0},{"$f":"'Preços unitários'!$M$24","v":0},0,8,0,null,null,null,{"$f":"+IF(AND(Esq_Atual!$M$127=F41,Esq_Atual!$W$127=I41),Esq_Atual!$AD$127,0)\n+IF(AND(Esq_Atual!$M$128=F41,Esq_Atual!$W$128=I41),Esq_Atual!$AD$128,0)\n+IF(AND(Esq_Atual!$M$129=F41,Esq_Atual!$W$129=I41),Esq_Atual!$AD$129,0)\n+IF(AND(Esq_Atual!$M$130=F41,Esq_Atual!$W$130=I41),Esq_Atual!$AD$130,0)\n+IF(AND(Esq_Atual!$M$131=F41,Esq_Atual!$W$131=I41),Esq_Atual!$AD$131,0)\n+IF(AND(Esq_Atual!$M$132=F41,Esq_Atual!$W$132=I41),Esq_Atual!$AD$132,0)\n+IF(AND(Esq_Atual!$M$133=F41,Esq_Atual!$W$133=I41),Esq_Atual!$AD$133,0)\n+IF(AND(Esq_Atual!$M$134=F41,Esq_Atual!$W$134=I41),Esq_Atual!$AD$134,0)\n+IF(AND(Esq_Atual!$M$135=F41,Esq_Atual!$W$135=I41),Esq_Atual!$AD$135,0)\n+IF(AND(Esq_Atual!$M$136=F41,Esq_Atual!$W$136=I41),Esq_Atual!$AD$136,0)\n+IF(AND(Esq_Atual!$M$137=F41,Esq_Atual!$W$137=I41),Esq_Atual!$AD$137,0)\n+IF(AND(Esq_Atual!$M$138=F41,Esq_Atual!$W$138=I41),Esq_Atual!$AD$138,0)\n+IF(AND(Esq_Atual!$M$139=F41,Esq_Atual!$W$139=I41),Esq_Atual!$AD$139,0)\n+IF(AND(Esq_Atual!$M$140=F41,Esq_Atual!$W$140=I41),Esq_Atual!$AD$140,0)\n+IF(AND(Esq_Atual!$M$141=F41,Esq_Atual!$W$141=I41),Esq_Atual!$AD$141,0)\n+IF(AND(Esq_Atual!$BF$149=F41,Esq_Atual!$BP$149=I41),Esq_Atual!$BW$149,0)\n+IF(AND(Esq_Atual!$BF$150=F41,Esq_Atual!$BP$150=I41),Esq_Atual!$BW$150,0)\n+IF(AND(Esq_Atual!$BF$151=F41,Esq_Atual!$BP$151=I41),Esq_Atual!$BW$151,0)\n+IF(AND(Esq_Atual!$BF$152=F41,Esq_Atual!$BP$152=I41),Esq_Atual!$BW$152,0)\n+IF(AND(Esq_Atual!$BF$153=F41,Esq_Atual!$BP$153=I41),Esq_Atual!$BW$153,0)\n+IF(AND(Esq_Atual!$BF$154=F41,Esq_Atual!$BP$154=I41),Esq_Atual!$BW$154,0)\n+IF(AND(Esq_Atual!$BF$155=F41,Esq_Atual!$BP$155=I41),Esq_Atual!$BW$155,0)\n+IF(AND(Esq_Atual!$BF$156=F41,Esq_Atual!$BP$156=I41),Esq_Atual!$BW$156,0)\n+IF(AND(Esq_Atual!$BF$157=F41,Esq_Atual!$BP$157=I41),Esq_Atual!$BW$157,0)\n+IF(AND(Esq_Atual!$BF$158=F41,Esq_Atual!$BP$158=I41),Esq_Atual!$BW$158,0)\n+IF(AND(Esq_Atual!$BF$159=F41,Esq_Atual!$BP$159=I41),Esq_Atual!$BW$159,0)\n+IF(AND(Esq_Atual!$BF$160=F41,Esq_Atual!$BP$160=I41),Esq_Atual!$BW$160,0)\n+IF(AND(Esq_Atual!$BF$161=F41,Esq_Atual!$BP$161=I41),Esq_Atual!$BW$161,0)\n+IF(AND(Esq_Atual!$BF$162=F41,Esq_Atual!$BP$162=I41),Esq_Atual!$BW$162,0)\n+IF(AND(Esq_Atual!$BF$163=F41,Esq_Atual!$BP$163=I41),Esq_Atual!$BW$163,0)\n+IF(AND(Esq_Atual!$AS$193=F41,Esq_Atual!$BC$193=I41),Esq_Atual!$BJ$193,0)\n+IF(AND(Esq_Atual!$AS$194=F41,Esq_Atual!$BC$194=I41),Esq_Atual!$BJ$194,0)\n+IF(AND(Esq_Atual!$AS$195=F41,Esq_Atual!$BC$195=I41),Esq_Atual!$BJ$195,0)","v":0},{"$f":"(IF(AND(Esq_Atual!$M$127=F41,Esq_Atual!$W$127=I41),Esq_Atual!$AD$127*Esq_Atual!$AJ$127,0)\n+IF(AND(Esq_Atual!$M$128=F41,Esq_Atual!$W$128=I41),Esq_Atual!$AD$128*Esq_Atual!$AJ$128,0)\n+IF(AND(Esq_Atual!$M$129=F41,Esq_Atual!$W$129=I41),Esq_Atual!$AD$129*Esq_Atual!$AJ$129,0)\n+IF(AND(Esq_Atual!$M$130=F41,Esq_Atual!$W$130=I41),Esq_Atual!$AD$130*Esq_Atual!$AJ$130,0)\n+IF(AND(Esq_Atual!$M$131=F41,Esq_Atual!$W$131=I41),Esq_Atual!$AD$131*Esq_Atual!$AJ$131,0)\n+IF(AND(Esq_Atual!$M$132=F41,Esq_Atual!$W$132=I41),Esq_Atual!$AD$132*Esq_Atual!$AJ$132,0)\n+IF(AND(Esq_Atual!$M$133=F41,Esq_Atual!$W$133=I41),Esq_Atual!$AD$133*Esq_Atual!$AJ$133,0)\n+IF(AND(Esq_Atual!$M$134=F41,Esq_Atual!$W$134=I41),Esq_Atual!$AD$134*Esq_Atual!$AJ$134,0)\n+IF(AND(Esq_Atual!$M$135=F41,Esq_Atual!$W$135=I41),Esq_Atual!$AD$135*Esq_Atual!$AJ$135,0)\n+IF(AND(Esq_Atual!$M$136=F41,Esq_Atual!$W$136=I41),Esq_Atual!$AD$136*Esq_Atual!$AJ$136,0)\n+IF(AND(Esq_Atual!$M$137=F41,Esq_Atual!$W$137=I41),Esq_Atual!$AD$137*Esq_Atual!$AJ$137,0)\n+IF(AND(Esq_Atual!$M$138=F41,Esq_Atual!$W$138=I41),Esq_Atual!$AD$138*Esq_Atual!$AJ$138,0)\n+IF(AND(Esq_Atual!$M$139=F41,Esq_Atual!$W$139=I41),Esq_Atual!$AD$139*Esq_Atual!$AJ$139,0)\n+IF(AND(Esq_Atual!$M$140=F41,Esq_Atual!$W$140=I41),Esq_Atual!$AD$140*Esq_Atual!$AJ$140,0)\n+IF(AND(Esq_Atual!$M$141=F41,Esq_Atual!$W$141=I41),Esq_Atual!$AD$141*Esq_Atual!$AJ$141,0)\n+IF(AND(Esq_Atual!$BF$149=F41,Esq_Atual!$BP$149=I41),Esq_Atual!$BW$149*Esq_Atual!$CC$149,0)\n+IF(AND(Esq_Atual!$BF$150=F41,Esq_Atual!$BP$150=I41),Esq_Atual!$BW$150*Esq_Atual!$CC$150,0)\n+IF(AND(Esq_Atual!$BF$151=F41,Esq_Atual!$BP$151=I41),Esq_Atual!$BW$151*Esq_Atual!$CC$151,0)\n+IF(AND(Esq_Atual!$BF$152=F41,Esq_Atual!$BP$152=I41),Esq_Atual!$BW$152*Esq_Atual!$CC$152,0)\n+IF(AND(Esq_Atual!$BF$153=F41,Esq_Atual!$BP$153=I41),Esq_Atual!$BW$153*Esq_Atual!$CC$153,0)\n+IF(AND(Esq_Atual!$BF$154=F41,Esq_Atual!$BP$154=I41),Esq_Atual!$BW$154*Esq_Atual!$CC$154,0)\n+IF(AND(Esq_Atual!$BF$155=F41,Esq_Atual!$BP$155=I41),Esq_Atual!$BW$155*Esq_Atual!$CC$155,0)\n+IF(AND(Esq_Atual!$BF$156=F41,Esq_Atual!$BP$156=I41),Esq_Atual!$BW$156*Esq_Atual!$CC$156,0)\n+IF(AND(Esq_Atual!$BF$157=F41,Esq_Atual!$BP$157=I41),Esq_Atual!$BW$157*Esq_Atual!$CC$157,0)\n+IF(AND(Esq_Atual!$BF$158=F41,Esq_Atual!$BP$158=I41),Esq_Atual!$BW$158*Esq_Atual!$CC$158,0)\n+IF(AND(Esq_Atual!$BF$159=F41,Esq_Atual!$BP$159=I41),Esq_Atual!$BW$159*Esq_Atual!$CC$159,0)\n+IF(AND(Esq_Atual!$BF$160=F41,Esq_Atual!$BP$160=I41),Esq_Atual!$BW$160*Esq_Atual!$CC$160,0)\n+IF(AND(Esq_Atual!$BF$161=F41,Esq_Atual!$BP$161=I41),Esq_Atual!$BW$161*Esq_Atual!$CC$161,0)\n+IF(AND(Esq_Atual!$BF$162=F41,Esq_Atual!$BP$162=I41),Esq_Atual!$BW$162*Esq_Atual!$CC$162,0)\n+IF(AND(Esq_Atual!$BF$163=F41,Esq_Atual!$BP$163=I41),Esq_Atual!$BW$163*Esq_Atual!$CC$163,0)\n+IF(AND(Esq_Atual!$AS$193=F41,Esq_Atual!$BC$193=I41),Esq_Atual!$BJ$193*Esq_Atual!$BM$193,0)\n+IF(AND(Esq_Atual!$AS$194=F41,Esq_Atual!$BC$194=I41),Esq_Atual!$BJ$194*Esq_Atual!$BM$194,0)\n+IF(AND(Esq_Atual!$AS$195=F41,Esq_Atual!$BC$195=I41),Esq_Atual!$BJ$195*Esq_Atual!$BM$195,0))/100","v":0},{"$f":"(IF(AND(Esq_Atual!$M$127=F41,Esq_Atual!$W$127=I41),Esq_Atual!$AD$127*Esq_Atual!$AJ$127,0)\n+IF(AND(Esq_Atual!$M$128=F41,Esq_Atual!$W$128=I41),Esq_Atual!$AD$128*Esq_Atual!$AJ$128,0)\n+IF(AND(Esq_Atual!$M$129=F41,Esq_Atual!$W$129=I41),Esq_Atual!$AD$129*Esq_Atual!$AJ$129,0)\n+IF(AND(Esq_Atual!$M$130=F41,Esq_Atual!$W$130=I41),Esq_Atual!$AD$130*Esq_Atual!$AJ$130,0)\n+IF(AND(Esq_Atual!$M$131=F41,Esq_Atual!$W$131=I41),Esq_Atual!$AD$131*Esq_Atual!$AJ$131,0)\n+IF(AND(Esq_Atual!$M$132=F41,Esq_Atual!$W$132=I41),Esq_Atual!$AD$132*Esq_Atual!$AJ$132,0)\n+IF(AND(Esq_Atual!$M$133=F41,Esq_Atual!$W$133=I41),Esq_Atual!$AD$133*Esq_Atual!$AJ$133,0)\n+IF(AND(Esq_Atual!$M$134=F41,Esq_Atual!$W$134=I41),Esq_Atual!$AD$134*Esq_Atual!$AJ$134,0)\n+IF(AND(Esq_Atual!$M$135=F41,Esq_Atual!$W$135=I41),Esq_Atual!$AD$135*Esq_Atual!$AJ$135,0)\n+IF(AND(Esq_Atual!$M$136=F41,Esq_Atual!$W$136=I41),Esq_Atual!$AD$136*Esq_Atual!$AJ$136,0)\n+IF(AND(Esq_Atual!$M$137=F41,Esq_Atual!$W$137=I41),Esq_Atual!$AD$137*Esq_Atual!$AJ$137,0)\n+IF(AND(Esq_Atual!$M$138=F41,Esq_Atual!$W$138=I41),Esq_Atual!$AD$138*Esq_Atual!$AJ$138,0)\n+IF(AND(Esq_Atual!$M$139=F41,Esq_Atual!$W$139=I41),Esq_Atual!$AD$139*Esq_Atual!$AJ$139,0)\n+IF(AND(Esq_Atual!$M$140=F41,Esq_Atual!$W$140=I41),Esq_Atual!$AD$140*Esq_Atual!$AJ$140,0)\n+IF(AND(Esq_Atual!$M$141=F41,Esq_Atual!$W$141=I41),Esq_Atual!$AD$141*Esq_Atual!$AJ$141,0)\n+IF(AND(Esq_Atual!$BF$149=F41,Esq_Atual!$BP$149=I41),Esq_Atual!$BW$149*Esq_Atual!$CC$149,0)\n+IF(AND(Esq_Atual!$BF$150=F41,Esq_Atual!$BP$150=I41),Esq_Atual!$BW$150*Esq_Atual!$CC$150,0)\n+IF(AND(Esq_Atual!$BF$151=F41,Esq_Atual!$BP$151=I41),Esq_Atual!$BW$151*Esq_Atual!$CC$151,0)\n+IF(AND(Esq_Atual!$BF$152=F41,Esq_Atual!$BP$152=I41),Esq_Atual!$BW$152*Esq_Atual!$CC$152,0)\n+IF(AND(Esq_Atual!$BF$153=F41,Esq_Atual!$BP$153=I41),Esq_Atual!$BW$153*Esq_Atual!$CC$153,0)\n+IF(AND(Esq_Atual!$BF$154=F41,Esq_Atual!$BP$154=I41),Esq_Atual!$BW$154*Esq_Atual!$CC$154,0)\n+IF(AND(Esq_Atual!$BF$155=F41,Esq_Atual!$BP$155=I41),Esq_Atual!$BW$155*Esq_Atual!$CC$155,0)\n+IF(AND(Esq_Atual!$BF$156=F41,Esq_Atual!$BP$156=I41),Esq_Atual!$BW$156*Esq_Atual!$CC$156,0)\n+IF(AND(Esq_Atual!$BF$157=F41,Esq_Atual!$BP$157=I41),Esq_Atual!$BW$157*Esq_Atual!$CC$157,0)\n+IF(AND(Esq_Atual!$BF$158=F41,Esq_Atual!$BP$158=I41),Esq_Atual!$BW$158*Esq_Atual!$CC$158,0)\n+IF(AND(Esq_Atual!$BF$159=F41,Esq_Atual!$BP$159=I41),Esq_Atual!$BW$159*Esq_Atual!$CC$159,0)\n+IF(AND(Esq_Atual!$BF$160=F41,Esq_Atual!$BP$160=I41),Esq_Atual!$BW$160*Esq_Atual!$CC$160,0)\n+IF(AND(Esq_Atual!$BF$161=F41,Esq_Atual!$BP$161=I41),Esq_Atual!$BW$161*Esq_Atual!$CC$161,0)\n+IF(AND(Esq_Atual!$BF$162=F41,Esq_Atual!$BP$162=I41),Esq_Atual!$BW$162*Esq_Atual!$CC$162,0)\n+IF(AND(Esq_Atual!$BF$163=F41,Esq_Atual!$BP$163=I41),Esq_Atual!$BW$163*Esq_Atual!$CC$163,0)\n+IF(AND(Esq_Atual!$AS$193=F41,Esq_Atual!$BC$193=I41),Esq_Atual!$BJ$193*Esq_Atual!$BM$193,0)\n+IF(AND(Esq_Atual!$AS$194=F41,Esq_Atual!$BC$194=I41),Esq_Atual!$BJ$194*Esq_Atual!$BM$194,0)\n+IF(AND(Esq_Atual!$AS$195=F41,Esq_Atual!$BC$195=I41),Esq_Atual!$BJ$195*Esq_Atual!$BM$195,0))/100","v":0},{"$f":"'Preços unitários'!$T$34","v":0},null,{"$f":"+S41*U41","v":0},{"$f":"+'Modelação de custos atual'!$D$20","v":0},0,50000,0,{"$f":"'Preços unitários'!$T$40","v":0},0]
[null,null,"RECOLHA","RI/RS","Viaturas","15-20 m3 compactação placa",null,"não instrumentadas elétrica","elétrica",{"$f":"+IF(AND(Esq_Atual!$M$127=F42,Esq_Atual!$W$127=I42),1,0)+IF(AND(Esq_Atual!$M$128=F42,Esq_Atual!$W$128=I42),1,0)+IF(AND(Esq_Atual!$M$129=F42,Esq_Atual!$W$129=I42),1,0)+IF(AND(Esq_Atual!$M$130=F42,Esq_Atual!$W$130=I42),1,0)+IF(AND(Esq_Atual!$M$131=F42,Esq_Atual!$W$131=I42),1,0)+IF(AND(Esq_Atual!$M$132=F42,Esq_Atual!$W$132=I42),1,0)+IF(AND(Esq_Atual!$M$133=F42,Esq_Atual!$W$133=I42),1,0)+IF(AND(Esq_Atual!$M$134=F42,Esq_Atual!$W$134=I42),1,0)+IF(AND(Esq_Atual!$M$135=F42,Esq_Atual!$W$135=I42),1,0)+IF(AND(Esq_Atual!$M$136=F42,Esq_Atual!$W$136=I42),1,0)+IF(AND(Esq_Atual!$M$137=F42,Esq_Atual!$W$137=I42),1,0)+IF(AND(Esq_Atual!$M$138=F42,Esq_Atual!$W$138=I42),1,0)+IF(AND(Esq_Atual!$M$139=F42,Esq_Atual!$W$139=I42),1,0)+IF(AND(Esq_Atual!$M$140=F42,Esq_Atual!$W$140=I42),1,0)+IF(AND(Esq_Atual!$M$141=F42,Esq_Atual!$W$141=I42),1,0)+IF(AND(Esq_Atual!$BF$149=F42,Esq_Atual!$BP$149=I42),1,0)+IF(AND(Esq_Atual!$BF$150=F42,Esq_Atual!$BP$150=I42),1,0)+IF(AND(Esq_Atual!$BF$151=F42,Esq_Atual!$BP$151=I42),1,0)+IF(AND(Esq_Atual!$BF$152=F42,Esq_Atual!$BP$152=I42),1,0)+IF(AND(Esq_Atual!$BF$153=F42,Esq_Atual!$BP$153=I42),1,0)+IF(AND(Esq_Atual!$BF$154=F42,Esq_Atual!$BP$154=I42),1,0)+IF(AND(Esq_Atual!$BF$155=F42,Esq_Atual!$BP$155=I42),1,0)+IF(AND(Esq_Atual!$BF$156=F42,Esq_Atual!$BP$156=I42),1,0)+IF(AND(Esq_Atual!$BF$157=F42,Esq_Atual!$BP$157=I42),1,0)+IF(AND(Esq_Atual!$BF$158=F42,Esq_Atual!$BP$158=I42),1,0)+IF(AND(Esq_Atual!$BF$159=F42,Esq_Atual!$BP$159=I42),1,0)+IF(AND(Esq_Atual!$BF$160=F42,Esq_Atual!$BP$160=I42),1,0)+IF(AND(Esq_Atual!$BF$161=F42,Esq_Atual!$BP$161=I42),1,0)+IF(AND(Esq_Atual!$BF$162=F42,Esq_Atual!$BP$162=I42),1,0)+IF(AND(Esq_Atual!$BF$163=F42,Esq_Atual!$BP$163=I42),1,0)","v":0},{"$f":"'Preços unitários'!$M$25","v":0},0,8,0,null,null,null,{"$f":"+IF(AND(Esq_Atual!$M$127=F42,Esq_Atual!$W$127=I42),Esq_Atual!$AD$127,0)\n+IF(AND(Esq_Atual!$M$128=F42,Esq_Atual!$W$128=I42),Esq_Atual!$AD$128,0)\n+IF(AND(Esq_Atual!$M$129=F42,Esq_Atual!$W$129=I42),Esq_Atual!$AD$129,0)\n+IF(AND(Esq_Atual!$M$130=F42,Esq_Atual!$W$130=I42),Esq_Atual!$AD$130,0)\n+IF(AND(Esq_Atual!$M$131=F42,Esq_Atual!$W$131=I42),Esq_Atual!$AD$131,0)\n+IF(AND(Esq_Atual!$M$132=F42,Esq_Atual!$W$132=I42),Esq_Atual!$AD$132,0)\n+IF(AND(Esq_Atual!$M$133=F42,Esq_Atual!$W$133=I42),Esq_Atual!$AD$133,0)\n+IF(AND(Esq_Atual!$M$134=F42,Esq_Atual!$W$134=I42),Esq_Atual!$AD$134,0)\n+IF(AND(Esq_Atual!$M$135=F42,Esq_Atual!$W$135=I42),Esq_Atual!$AD$135,0)\n+IF(AND(Esq_Atual!$M$136=F42,Esq_Atual!$W$136=I42),Esq_Atual!$AD$136,0)\n+IF(AND(Esq_Atual!$M$137=F42,Esq_Atual!$W$137=I42),Esq_Atual!$AD$137,0)\n+IF(AND(Esq_Atual!$M$138=F42,Esq_Atual!$W$138=I42),Esq_Atual!$AD$138,0)\n+IF(AND(Esq_Atual!$M$139=F42,Esq_Atual!$W$139=I42),Esq_Atual!$AD$139,0)\n+IF(AND(Esq_Atual!$M$140=F42,Esq_Atual!$W$140=I42),Esq_Atual!$AD$140,0)\n+IF(AND(Esq_Atual!$M$141=F42,Esq_Atual!$W$141=I42),Esq_Atual!$AD$141,0)\n+IF(AND(Esq_Atual!$BF$149=F42,Esq_Atual!$BP$149=I42),Esq_Atual!$BW$149,0)\n+IF(AND(Esq_Atual!$BF$150=F42,Esq_Atual!$BP$150=I42),Esq_Atual!$BW$150,0)\n+IF(AND(Esq_Atual!$BF$151=F42,Esq_Atual!$BP$151=I42),Esq_Atual!$BW$151,0)\n+IF(AND(Esq_Atual!$BF$152=F42,Esq_Atual!$BP$152=I42),Esq_Atual!$BW$152,0)\n+IF(AND(Esq_Atual!$BF$153=F42,Esq_Atual!$BP$153=I42),Esq_Atual!$BW$153,0)\n+IF(AND(Esq_Atual!$BF$154=F42,Esq_Atual!$BP$154=I42),Esq_Atual!$BW$154,0)\n+IF(AND(Esq_Atual!$BF$155=F42,Esq_Atual!$BP$155=I42),Esq_Atual!$BW$155,0)\n+IF(AND(Esq_Atual!$BF$156=F42,Esq_Atual!$BP$156=I42),Esq_Atual!$BW$156,0)\n+IF(AND(Esq_Atual!$BF$157=F42,Esq_Atual!$BP$157=I42),Esq_Atual!$BW$157,0)\n+IF(AND(Esq_Atual!$BF$158=F42,Esq_Atual!$BP$158=I42),Esq_Atual!$BW$158,0)\n+IF(AND(Esq_Atual!$BF$159=F42,Esq_Atual!$BP$159=I42),Esq_Atual!$BW$159,0)\n+IF(AND(Esq_Atual!$BF$160=F42,Esq_Atual!$BP$160=I42),Esq_Atual!$BW$160,0)\n+IF(AND(Esq_Atual!$BF$161=F42,Esq_Atual!$BP$161=I42),Esq_Atual!$BW$161,0)\n+IF(AND(Esq_Atual!$BF$162=F42,Esq_Atual!$BP$162=I42),Esq_Atual!$BW$162,0)\n+IF(AND(Esq_Atual!$BF$163=F42,Esq_Atual!$BP$163=I42),Esq_Atual!$BW$163,0)\n+IF(AND(Esq_Atual!$AS$193=F42,Esq_Atual!$BC$193=I42),Esq_Atual!$BJ$193,0)\n+IF(AND(Esq_Atual!$AS$194=F42,Esq_Atual!$BC$194=I42),Esq_Atual!$BJ$194,0)\n+IF(AND(Esq_Atual!$AS$195=F42,Esq_Atual!$BC$195=I42),Esq_Atual!$BJ$195,0)","v":0},{"$f":"(IF(AND(Esq_Atual!$M$127=F42,Esq_Atual!$W$127=I42),Esq_Atual!$AD$127*Esq_Atual!$AJ$127,0)\n+IF(AND(Esq_Atual!$M$128=F42,Esq_Atual!$W$128=I42),Esq_Atual!$AD$128*Esq_Atual!$AJ$128,0)\n+IF(AND(Esq_Atual!$M$129=F42,Esq_Atual!$W$129=I42),Esq_Atual!$AD$129*Esq_Atual!$AJ$129,0)\n+IF(AND(Esq_Atual!$M$130=F42,Esq_Atual!$W$130=I42),Esq_Atual!$AD$130*Esq_Atual!$AJ$130,0)\n+IF(AND(Esq_Atual!$M$131=F42,Esq_Atual!$W$131=I42),Esq_Atual!$AD$131*Esq_Atual!$AJ$131,0)\n+IF(AND(Esq_Atual!$M$132=F42,Esq_Atual!$W$132=I42),Esq_Atual!$AD$132*Esq_Atual!$AJ$132,0)\n+IF(AND(Esq_Atual!$M$133=F42,Esq_Atual!$W$133=I42),Esq_Atual!$AD$133*Esq_Atual!$AJ$133,0)\n+IF(AND(Esq_Atual!$M$134=F42,Esq_Atual!$W$134=I42),Esq_Atual!$AD$134*Esq_Atual!$AJ$134,0)\n+IF(AND(Esq_Atual!$M$135=F42,Esq_Atual!$W$135=I42),Esq_Atual!$AD$135*Esq_Atual!$AJ$135,0)\n+IF(AND(Esq_Atual!$M$136=F42,Esq_Atual!$W$136=I42),Esq_Atual!$AD$136*Esq_Atual!$AJ$136,0)\n+IF(AND(Esq_Atual!$M$137=F42,Esq_Atual!$W$137=I42),Esq_Atual!$AD$137*Esq_Atual!$AJ$137,0)\n+IF(AND(Esq_Atual!$M$138=F42,Esq_Atual!$W$138=I42),Esq_Atual!$AD$138*Esq_Atual!$AJ$138,0)\n+IF(AND(Esq_Atual!$M$139=F42,Esq_Atual!$W$139=I42),Esq_Atual!$AD$139*Esq_Atual!$AJ$139,0)\n+IF(AND(Esq_Atual!$M$140=F42,Esq_Atual!$W$140=I42),Esq_Atual!$AD$140*Esq_Atual!$AJ$140,0)\n+IF(AND(Esq_Atual!$M$141=F42,Esq_Atual!$W$141=I42),Esq_Atual!$AD$141*Esq_Atual!$AJ$141,0)\n+IF(AND(Esq_Atual!$BF$149=F42,Esq_Atual!$BP$149=I42),Esq_Atual!$BW$149*Esq_Atual!$CC$149,0)\n+IF(AND(Esq_Atual!$BF$150=F42,Esq_Atual!$BP$150=I42),Esq_Atual!$BW$150*Esq_Atual!$CC$150,0)\n+IF(AND(Esq_Atual!$BF$151=F42,Esq_Atual!$BP$151=I42),Esq_Atual!$BW$151*Esq_Atual!$CC$151,0)\n+IF(AND(Esq_Atual!$BF$152=F42,Esq_Atual!$BP$152=I42),Esq_Atual!$BW$152*Esq_Atual!$CC$152,0)\n+IF(AND(Esq_Atual!$BF$153=F42,Esq_Atual!$BP$153=I42),Esq_Atual!$BW$153*Esq_Atual!$CC$153,0)\n+IF(AND(Esq_Atual!$BF$154=F42,Esq_Atual!$BP$154=I42),Esq_Atual!$BW$154*Esq_Atual!$CC$154,0)\n+IF(AND(Esq_Atual!$BF$155=F42,Esq_Atual!$BP$155=I42),Esq_Atual!$BW$155*Esq_Atual!$CC$155,0)\n+IF(AND(Esq_Atual!$BF$156=F42,Esq_Atual!$BP$156=I42),Esq_Atual!$BW$156*Esq_Atual!$CC$156,0)\n+IF(AND(Esq_Atual!$BF$157=F42,Esq_Atual!$BP$157=I42),Esq_Atual!$BW$157*Esq_Atual!$CC$157,0)\n+IF(AND(Esq_Atual!$BF$158=F42,Esq_Atual!$BP$158=I42),Esq_Atual!$BW$158*Esq_Atual!$CC$158,0)\n+IF(AND(Esq_Atual!$BF$159=F42,Esq_Atual!$BP$159=I42),Esq_Atual!$BW$159*Esq_Atual!$CC$159,0)\n+IF(AND(Esq_Atual!$BF$160=F42,Esq_Atual!$BP$160=I42),Esq_Atual!$BW$160*Esq_Atual!$CC$160,0)\n+IF(AND(Esq_Atual!$BF$161=F42,Esq_Atual!$BP$161=I42),Esq_Atual!$BW$161*Esq_Atual!$CC$161,0)\n+IF(AND(Esq_Atual!$BF$162=F42,Esq_Atual!$BP$162=I42),Esq_Atual!$BW$162*Esq_Atual!$CC$162,0)\n+IF(AND(Esq_Atual!$BF$163=F42,Esq_Atual!$BP$163=I42),Esq_Atual!$BW$163*Esq_Atual!$CC$163,0)\n+IF(AND(Esq_Atual!$AS$193=F42,Esq_Atual!$BC$193=I42),Esq_Atual!$BJ$193*Esq_Atual!$BM$193,0)\n+IF(AND(Esq_Atual!$AS$194=F42,Esq_Atual!$BC$194=I42),Esq_Atual!$BJ$194*Esq_Atual!$BM$194,0)\n+IF(AND(Esq_Atual!$AS$195=F42,Esq_Atual!$BC$195=I42),Esq_Atual!$BJ$195*Esq_Atual!$BM$195,0))/100","v":0},{"$f":"(IF(AND(Esq_Atual!$M$127=F42,Esq_Atual!$W$127=I42),Esq_Atual!$AD$127*Esq_Atual!$AJ$127,0)\n+IF(AND(Esq_Atual!$M$128=F42,Esq_Atual!$W$128=I42),Esq_Atual!$AD$128*Esq_Atual!$AJ$128,0)\n+IF(AND(Esq_Atual!$M$129=F42,Esq_Atual!$W$129=I42),Esq_Atual!$AD$129*Esq_Atual!$AJ$129,0)\n+IF(AND(Esq_Atual!$M$130=F42,Esq_Atual!$W$130=I42),Esq_Atual!$AD$130*Esq_Atual!$AJ$130,0)\n+IF(AND(Esq_Atual!$M$131=F42,Esq_Atual!$W$131=I42),Esq_Atual!$AD$131*Esq_Atual!$AJ$131,0)\n+IF(AND(Esq_Atual!$M$132=F42,Esq_Atual!$W$132=I42),Esq_Atual!$AD$132*Esq_Atual!$AJ$132,0)\n+IF(AND(Esq_Atual!$M$133=F42,Esq_Atual!$W$133=I42),Esq_Atual!$AD$133*Esq_Atual!$AJ$133,0)\n+IF(AND(Esq_Atual!$M$134=F42,Esq_Atual!$W$134=I42),Esq_Atual!$AD$134*Esq_Atual!$AJ$134,0)\n+IF(AND(Esq_Atual!$M$135=F42,Esq_Atual!$W$135=I42),Esq_Atual!$AD$135*Esq_Atual!$AJ$135,0)\n+IF(AND(Esq_Atual!$M$136=F42,Esq_Atual!$W$136=I42),Esq_Atual!$AD$136*Esq_Atual!$AJ$136,0)\n+IF(AND(Esq_Atual!$M$137=F42,Esq_Atual!$W$137=I42),Esq_Atual!$AD$137*Esq_Atual!$AJ$137,0)\n+IF(AND(Esq_Atual!$M$138=F42,Esq_Atual!$W$138=I42),Esq_Atual!$AD$138*Esq_Atual!$AJ$138,0)\n+IF(AND(Esq_Atual!$M$139=F42,Esq_Atual!$W$139=I42),Esq_Atual!$AD$139*Esq_Atual!$AJ$139,0)\n+IF(AND(Esq_Atual!$M$140=F42,Esq_Atual!$W$140=I42),Esq_Atual!$AD$140*Esq_Atual!$AJ$140,0)\n+IF(AND(Esq_Atual!$M$141=F42,Esq_Atual!$W$141=I42),Esq_Atual!$AD$141*Esq_Atual!$AJ$141,0)\n+IF(AND(Esq_Atual!$BF$149=F42,Esq_Atual!$BP$149=I42),Esq_Atual!$BW$149*Esq_Atual!$CC$149,0)\n+IF(AND(Esq_Atual!$BF$150=F42,Esq_Atual!$BP$150=I42),Esq_Atual!$BW$150*Esq_Atual!$CC$150,0)\n+IF(AND(Esq_Atual!$BF$151=F42,Esq_Atual!$BP$151=I42),Esq_Atual!$BW$151*Esq_Atual!$CC$151,0)\n+IF(AND(Esq_Atual!$BF$152=F42,Esq_Atual!$BP$152=I42),Esq_Atual!$BW$152*Esq_Atual!$CC$152,0)\n+IF(AND(Esq_Atual!$BF$153=F42,Esq_Atual!$BP$153=I42),Esq_Atual!$BW$153*Esq_Atual!$CC$153,0)\n+IF(AND(Esq_Atual!$BF$154=F42,Esq_Atual!$BP$154=I42),Esq_Atual!$BW$154*Esq_Atual!$CC$154,0)\n+IF(AND(Esq_Atual!$BF$155=F42,Esq_Atual!$BP$155=I42),Esq_Atual!$BW$155*Esq_Atual!$CC$155,0)\n+IF(AND(Esq_Atual!$BF$156=F42,Esq_Atual!$BP$156=I42),Esq_Atual!$BW$156*Esq_Atual!$CC$156,0)\n+IF(AND(Esq_Atual!$BF$157=F42,Esq_Atual!$BP$157=I42),Esq_Atual!$BW$157*Esq_Atual!$CC$157,0)\n+IF(AND(Esq_Atual!$BF$158=F42,Esq_Atual!$BP$158=I42),Esq_Atual!$BW$158*Esq_Atual!$CC$158,0)\n+IF(AND(Esq_Atual!$BF$159=F42,Esq_Atual!$BP$159=I42),Esq_Atual!$BW$159*Esq_Atual!$CC$159,0)\n+IF(AND(Esq_Atual!$BF$160=F42,Esq_Atual!$BP$160=I42),Esq_Atual!$BW$160*Esq_Atual!$CC$160,0)\n+IF(AND(Esq_Atual!$BF$161=F42,Esq_Atual!$BP$161=I42),Esq_Atual!$BW$161*Esq_Atual!$CC$161,0)\n+IF(AND(Esq_Atual!$BF$162=F42,Esq_Atual!$BP$162=I42),Esq_Atual!$BW$162*Esq_Atual!$CC$162,0)\n+IF(AND(Esq_Atual!$BF$163=F42,Esq_Atual!$BP$163=I42),Esq_Atual!$BW$163*Esq_Atual!$CC$163,0)\n+IF(AND(Esq_Atual!$AS$193=F42,Esq_Atual!$BC$193=I42),Esq_Atual!$BJ$193*Esq_Atual!$BM$193,0)\n+IF(AND(Esq_Atual!$AS$194=F42,Esq_Atual!$BC$194=I42),Esq_Atual!$BJ$194*Esq_Atual!$BM$194,0)\n+IF(AND(Esq_Atual!$AS$195=F42,Esq_Atual!$BC$195=I42),Esq_Atual!$BJ$195*Esq_Atual!$BM$195,0))/100","v":0},null,{"$f":"'Preços unitários'!$T$35","v":0},{"$f":"+S42*V42","v":0},{"$f":"+'Modelação de custos atual'!$D$20","v":0},0,50000,0,{"$f":"'Preços unitários'!$T$40","v":0},0]
[null,null,"RECOLHA","RI/RS","Viaturas","15-20 m3 compactação placa",null,"não instrumentadas gás","gás",{"$f":"+IF(AND(Esq_Atual!$M$127=F43,Esq_Atual!$W$127=I43),1,0)+IF(AND(Esq_Atual!$M$128=F43,Esq_Atual!$W$128=I43),1,0)+IF(AND(Esq_Atual!$M$129=F43,Esq_Atual!$W$129=I43),1,0)+IF(AND(Esq_Atual!$M$130=F43,Esq_Atual!$W$130=I43),1,0)+IF(AND(Esq_Atual!$M$131=F43,Esq_Atual!$W$131=I43),1,0)+IF(AND(Esq_Atual!$M$132=F43,Esq_Atual!$W$132=I43),1,0)+IF(AND(Esq_Atual!$M$133=F43,Esq_Atual!$W$133=I43),1,0)+IF(AND(Esq_Atual!$M$134=F43,Esq_Atual!$W$134=I43),1,0)+IF(AND(Esq_Atual!$M$135=F43,Esq_Atual!$W$135=I43),1,0)+IF(AND(Esq_Atual!$M$136=F43,Esq_Atual!$W$136=I43),1,0)+IF(AND(Esq_Atual!$M$137=F43,Esq_Atual!$W$137=I43),1,0)+IF(AND(Esq_Atual!$M$138=F43,Esq_Atual!$W$138=I43),1,0)+IF(AND(Esq_Atual!$M$139=F43,Esq_Atual!$W$139=I43),1,0)+IF(AND(Esq_Atual!$M$140=F43,Esq_Atual!$W$140=I43),1,0)+IF(AND(Esq_Atual!$M$141=F43,Esq_Atual!$W$141=I43),1,0)+IF(AND(Esq_Atual!$BF$149=F43,Esq_Atual!$BP$149=I43),1,0)+IF(AND(Esq_Atual!$BF$150=F43,Esq_Atual!$BP$150=I43),1,0)+IF(AND(Esq_Atual!$BF$151=F43,Esq_Atual!$BP$151=I43),1,0)+IF(AND(Esq_Atual!$BF$152=F43,Esq_Atual!$BP$152=I43),1,0)+IF(AND(Esq_Atual!$BF$153=F43,Esq_Atual!$BP$153=I43),1,0)+IF(AND(Esq_Atual!$BF$154=F43,Esq_Atual!$BP$154=I43),1,0)+IF(AND(Esq_Atual!$BF$155=F43,Esq_Atual!$BP$155=I43),1,0)+IF(AND(Esq_Atual!$BF$156=F43,Esq_Atual!$BP$156=I43),1,0)+IF(AND(Esq_Atual!$BF$157=F43,Esq_Atual!$BP$157=I43),1,0)+IF(AND(Esq_Atual!$BF$158=F43,Esq_Atual!$BP$158=I43),1,0)+IF(AND(Esq_Atual!$BF$159=F43,Esq_Atual!$BP$159=I43),1,0)+IF(AND(Esq_Atual!$BF$160=F43,Esq_Atual!$BP$160=I43),1,0)+IF(AND(Esq_Atual!$BF$161=F43,Esq_Atual!$BP$161=I43),1,0)+IF(AND(Esq_Atual!$BF$162=F43,Esq_Atual!$BP$162=I43),1,0)+IF(AND(Esq_Atual!$BF$163=F43,Esq_Atual!$BP$163=I43),1,0)","v":0},{"$f":"+'Preços unitários'!M26","v":0},0,8,0,null,null,null,{"$f":"+IF(AND(Esq_Atual!$M$127=F43,Esq_Atual!$W$127=I43),Esq_Atual!$AD$127,0)\n+IF(AND(Esq_Atual!$M$128=F43,Esq_Atual!$W$128=I43),Esq_Atual!$AD$128,0)\n+IF(AND(Esq_Atual!$M$129=F43,Esq_Atual!$W$129=I43),Esq_Atual!$AD$129,0)\n+IF(AND(Esq_Atual!$M$130=F43,Esq_Atual!$W$130=I43),Esq_Atual!$AD$130,0)\n+IF(AND(Esq_Atual!$M$131=F43,Esq_Atual!$W$131=I43),Esq_Atual!$AD$131,0)\n+IF(AND(Esq_Atual!$M$132=F43,Esq_Atual!$W$132=I43),Esq_Atual!$AD$132,0)\n+IF(AND(Esq_Atual!$M$133=F43,Esq_Atual!$W$133=I43),Esq_Atual!$AD$133,0)\n+IF(AND(Esq_Atual!$M$134=F43,Esq_Atual!$W$134=I43),Esq_Atual!$AD$134,0)\n+IF(AND(Esq_Atual!$M$135=F43,Esq_Atual!$W$135=I43),Esq_Atual!$AD$135,0)\n+IF(AND(Esq_Atual!$M$136=F43,Esq_Atual!$W$136=I43),Esq_Atual!$AD$136,0)\n+IF(AND(Esq_Atual!$M$137=F43,Esq_Atual!$W$137=I43),Esq_Atual!$AD$137,0)\n+IF(AND(Esq_Atual!$M$138=F43,Esq_Atual!$W$138=I43),Esq_Atual!$AD$138,0)\n+IF(AND(Esq_Atual!$M$139=F43,Esq_Atual!$W$139=I43),Esq_Atual!$AD$139,0)\n+IF(AND(Esq_Atual!$M$140=F43,Esq_Atual!$W$140=I43),Esq_Atual!$AD$140,0)\n+IF(AND(Esq_Atual!$M$141=F43,Esq_Atual!$W$141=I43),Esq_Atual!$AD$141,0)\n+IF(AND(Esq_Atual!$BF$149=F43,Esq_Atual!$BP$149=I43),Esq_Atual!$BW$149,0)\n+IF(AND(Esq_Atual!$BF$150=F43,Esq_Atual!$BP$150=I43),Esq_Atual!$BW$150,0)\n+IF(AND(Esq_Atual!$BF$151=F43,Esq_Atual!$BP$151=I43),Esq_Atual!$BW$151,0)\n+IF(AND(Esq_Atual!$BF$152=F43,Esq_Atual!$BP$152=I43),Esq_Atual!$BW$152,0)\n+IF(AND(Esq_Atual!$BF$153=F43,Esq_Atual!$BP$153=I43),Esq_Atual!$BW$153,0)\n+IF(AND(Esq_Atual!$BF$154=F43,Esq_Atual!$BP$154=I43),Esq_Atual!$BW$154,0)\n+IF(AND(Esq_Atual!$BF$155=F43,Esq_Atual!$BP$155=I43),Esq_Atual!$BW$155,0)\n+IF(AND(Esq_Atual!$BF$156=F43,Esq_Atual!$BP$156=I43),Esq_Atual!$BW$156,0)\n+IF(AND(Esq_Atual!$BF$157=F43,Esq_Atual!$BP$157=I43),Esq_Atual!$BW$157,0)\n+IF(AND(Esq_Atual!$BF$158=F43,Esq_Atual!$BP$158=I43),Esq_Atual!$BW$158,0)\n+IF(AND(Esq_Atual!$BF$159=F43,Esq_Atual!$BP$159=I43),Esq_Atual!$BW$159,0)\n+IF(AND(Esq_Atual!$BF$160=F43,Esq_Atual!$BP$160=I43),Esq_Atual!$BW$160,0)\n+IF(AND(Esq_Atual!$BF$161=F43,Esq_Atual!$BP$161=I43),Esq_Atual!$BW$161,0)\n+IF(AND(Esq_Atual!$BF$162=F43,Esq_Atual!$BP$162=I43),Esq_Atual!$BW$162,0)\n+IF(AND(Esq_Atual!$BF$163=F43,Esq_Atual!$BP$163=I43),Esq_Atual!$BW$163,0)\n+IF(AND(Esq_Atual!$AS$193=F43,Esq_Atual!$BC$193=I43),Esq_Atual!$BJ$193,0)\n+IF(AND(Esq_Atual!$AS$194=F43,Esq_Atual!$BC$194=I43),Esq_Atual!$BJ$194,0)\n+IF(AND(Esq_Atual!$AS$195=F43,Esq_Atual!$BC$195=I43),Esq_Atual!$BJ$195,0)","v":0},{"$f":"(IF(AND(Esq_Atual!$M$127=F43,Esq_Atual!$W$127=I43),Esq_Atual!$AD$127*Esq_Atual!$AJ$127,0)\n+IF(AND(Esq_Atual!$M$128=F43,Esq_Atual!$W$128=I43),Esq_Atual!$AD$128*Esq_Atual!$AJ$128,0)\n+IF(AND(Esq_Atual!$M$129=F43,Esq_Atual!$W$129=I43),Esq_Atual!$AD$129*Esq_Atual!$AJ$129,0)\n+IF(AND(Esq_Atual!$M$130=F43,Esq_Atual!$W$130=I43),Esq_Atual!$AD$130*Esq_Atual!$AJ$130,0)\n+IF(AND(Esq_Atual!$M$131=F43,Esq_Atual!$W$131=I43),Esq_Atual!$AD$131*Esq_Atual!$AJ$131,0)\n+IF(AND(Esq_Atual!$M$132=F43,Esq_Atual!$W$132=I43),Esq_Atual!$AD$132*Esq_Atual!$AJ$132,0)\n+IF(AND(Esq_Atual!$M$133=F43,Esq_Atual!$W$133=I43),Esq_Atual!$AD$133*Esq_Atual!$AJ$133,0)\n+IF(AND(Esq_Atual!$M$134=F43,Esq_Atual!$W$134=I43),Esq_Atual!$AD$134*Esq_Atual!$AJ$134,0)\n+IF(AND(Esq_Atual!$M$135=F43,Esq_Atual!$W$135=I43),Esq_Atual!$AD$135*Esq_Atual!$AJ$135,0)\n+IF(AND(Esq_Atual!$M$136=F43,Esq_Atual!$W$136=I43),Esq_Atual!$AD$136*Esq_Atual!$AJ$136,0)\n+IF(AND(Esq_Atual!$M$137=F43,Esq_Atual!$W$137=I43),Esq_Atual!$AD$137*Esq_Atual!$AJ$137,0)\n+IF(AND(Esq_Atual!$M$138=F43,Esq_Atual!$W$138=I43),Esq_Atual!$AD$138*Esq_Atual!$AJ$138,0)\n+IF(AND(Esq_Atual!$M$139=F43,Esq_Atual!$W$139=I43),Esq_Atual!$AD$139*Esq_Atual!$AJ$139,0)\n+IF(AND(Esq_Atual!$M$140=F43,Esq_Atual!$W$140=I43),Esq_Atual!$AD$140*Esq_Atual!$AJ$140,0)\n+IF(AND(Esq_Atual!$M$141=F43,Esq_Atual!$W$141=I43),Esq_Atual!$AD$141*Esq_Atual!$AJ$141,0)\n+IF(AND(Esq_Atual!$BF$149=F43,Esq_Atual!$BP$149=I43),Esq_Atual!$BW$149*Esq_Atual!$CC$149,0)\n+IF(AND(Esq_Atual!$BF$150=F43,Esq_Atual!$BP$150=I43),Esq_Atual!$BW$150*Esq_Atual!$CC$150,0)\n+IF(AND(Esq_Atual!$BF$151=F43,Esq_Atual!$BP$151=I43),Esq_Atual!$BW$151*Esq_Atual!$CC$151,0)\n+IF(AND(Esq_Atual!$BF$152=F43,Esq_Atual!$BP$152=I43),Esq_Atual!$BW$152*Esq_Atual!$CC$152,0)\n+IF(AND(Esq_Atual!$BF$153=F43,Esq_Atual!$BP$153=I43),Esq_Atual!$BW$153*Esq_Atual!$CC$153,0)\n+IF(AND(Esq_Atual!$BF$154=F43,Esq_Atual!$BP$154=I43),Esq_Atual!$BW$154*Esq_Atual!$CC$154,0)\n+IF(AND(Esq_Atual!$BF$155=F43,Esq_Atual!$BP$155=I43),Esq_Atual!$BW$155*Esq_Atual!$CC$155,0)\n+IF(AND(Esq_Atual!$BF$156=F43,Esq_Atual!$BP$156=I43),Esq_Atual!$BW$156*Esq_Atual!$CC$156,0)\n+IF(AND(Esq_Atual!$BF$157=F43,Esq_Atual!$BP$157=I43),Esq_Atual!$BW$157*Esq_Atual!$CC$157,0)\n+IF(AND(Esq_Atual!$BF$158=F43,Esq_Atual!$BP$158=I43),Esq_Atual!$BW$158*Esq_Atual!$CC$158,0)\n+IF(AND(Esq_Atual!$BF$159=F43,Esq_Atual!$BP$159=I43),Esq_Atual!$BW$159*Esq_Atual!$CC$159,0)\n+IF(AND(Esq_Atual!$BF$160=F43,Esq_Atual!$BP$160=I43),Esq_Atual!$BW$160*Esq_Atual!$CC$160,0)\n+IF(AND(Esq_Atual!$BF$161=F43,Esq_Atual!$BP$161=I43),Esq_Atual!$BW$161*Esq_Atual!$CC$161,0)\n+IF(AND(Esq_Atual!$BF$162=F43,Esq_Atual!$BP$162=I43),Esq_Atual!$BW$162*Esq_Atual!$CC$162,0)\n+IF(AND(Esq_Atual!$BF$163=F43,Esq_Atual!$BP$163=I43),Esq_Atual!$BW$163*Esq_Atual!$CC$163,0)\n+IF(AND(Esq_Atual!$AS$193=F43,Esq_Atual!$BC$193=I43),Esq_Atual!$BJ$193*Esq_Atual!$BM$193,0)\n+IF(AND(Esq_Atual!$AS$194=F43,Esq_Atual!$BC$194=I43),Esq_Atual!$BJ$194*Esq_Atual!$BM$194,0)\n+IF(AND(Esq_Atual!$AS$195=F43,Esq_Atual!$BC$195=I43),Esq_Atual!$BJ$195*Esq_Atual!$BM$195,0))/100","v":0},{"$f":"(IF(AND(Esq_Atual!$M$127=F43,Esq_Atual!$W$127=I43),Esq_Atual!$AD$127*Esq_Atual!$AJ$127,0)\n+IF(AND(Esq_Atual!$M$128=F43,Esq_Atual!$W$128=I43),Esq_Atual!$AD$128*Esq_Atual!$AJ$128,0)\n+IF(AND(Esq_Atual!$M$129=F43,Esq_Atual!$W$129=I43),Esq_Atual!$AD$129*Esq_Atual!$AJ$129,0)\n+IF(AND(Esq_Atual!$M$130=F43,Esq_Atual!$W$130=I43),Esq_Atual!$AD$130*Esq_Atual!$AJ$130,0)\n+IF(AND(Esq_Atual!$M$131=F43,Esq_Atual!$W$131=I43),Esq_Atual!$AD$131*Esq_Atual!$AJ$131,0)\n+IF(AND(Esq_Atual!$M$132=F43,Esq_Atual!$W$132=I43),Esq_Atual!$AD$132*Esq_Atual!$AJ$132,0)\n+IF(AND(Esq_Atual!$M$133=F43,Esq_Atual!$W$133=I43),Esq_Atual!$AD$133*Esq_Atual!$AJ$133,0)\n+IF(AND(Esq_Atual!$M$134=F43,Esq_Atual!$W$134=I43),Esq_Atual!$AD$134*Esq_Atual!$AJ$134,0)\n+IF(AND(Esq_Atual!$M$135=F43,Esq_Atual!$W$135=I43),Esq_Atual!$AD$135*Esq_Atual!$AJ$135,0)\n+IF(AND(Esq_Atual!$M$136=F43,Esq_Atual!$W$136=I43),Esq_Atual!$AD$136*Esq_Atual!$AJ$136,0)\n+IF(AND(Esq_Atual!$M$137=F43,Esq_Atual!$W$137=I43),Esq_Atual!$AD$137*Esq_Atual!$AJ$137,0)\n+IF(AND(Esq_Atual!$M$138=F43,Esq_Atual!$W$138=I43),Esq_Atual!$AD$138*Esq_Atual!$AJ$138,0)\n+IF(AND(Esq_Atual!$M$139=F43,Esq_Atual!$W$139=I43),Esq_Atual!$AD$139*Esq_Atual!$AJ$139,0)\n+IF(AND(Esq_Atual!$M$140=F43,Esq_Atual!$W$140=I43),Esq_Atual!$AD$140*Esq_Atual!$AJ$140,0)\n+IF(AND(Esq_Atual!$M$141=F43,Esq_Atual!$W$141=I43),Esq_Atual!$AD$141*Esq_Atual!$AJ$141,0)\n+IF(AND(Esq_Atual!$BF$149=F43,Esq_Atual!$BP$149=I43),Esq_Atual!$BW$149*Esq_Atual!$CC$149,0)\n+IF(AND(Esq_Atual!$BF$150=F43,Esq_Atual!$BP$150=I43),Esq_Atual!$BW$150*Esq_Atual!$CC$150,0)\n+IF(AND(Esq_Atual!$BF$151=F43,Esq_Atual!$BP$151=I43),Esq_Atual!$BW$151*Esq_Atual!$CC$151,0)\n+IF(AND(Esq_Atual!$BF$152=F43,Esq_Atual!$BP$152=I43),Esq_Atual!$BW$152*Esq_Atual!$CC$152,0)\n+IF(AND(Esq_Atual!$BF$153=F43,Esq_Atual!$BP$153=I43),Esq_Atual!$BW$153*Esq_Atual!$CC$153,0)\n+IF(AND(Esq_Atual!$BF$154=F43,Esq_Atual!$BP$154=I43),Esq_Atual!$BW$154*Esq_Atual!$CC$154,0)\n+IF(AND(Esq_Atual!$BF$155=F43,Esq_Atual!$BP$155=I43),Esq_Atual!$BW$155*Esq_Atual!$CC$155,0)\n+IF(AND(Esq_Atual!$BF$156=F43,Esq_Atual!$BP$156=I43),Esq_Atual!$BW$156*Esq_Atual!$CC$156,0)\n+IF(AND(Esq_Atual!$BF$157=F43,Esq_Atual!$BP$157=I43),Esq_Atual!$BW$157*Esq_Atual!$CC$157,0)\n+IF(AND(Esq_Atual!$BF$158=F43,Esq_Atual!$BP$158=I43),Esq_Atual!$BW$158*Esq_Atual!$CC$158,0)\n+IF(AND(Esq_Atual!$BF$159=F43,Esq_Atual!$BP$159=I43),Esq_Atual!$BW$159*Esq_Atual!$CC$159,0)\n+IF(AND(Esq_Atual!$BF$160=F43,Esq_Atual!$BP$160=I43),Esq_Atual!$BW$160*Esq_Atual!$CC$160,0)\n+IF(AND(Esq_Atual!$BF$161=F43,Esq_Atual!$BP$161=I43),Esq_Atual!$BW$161*Esq_Atual!$CC$161,0)\n+IF(AND(Esq_Atual!$BF$162=F43,Esq_Atual!$BP$162=I43),Esq_Atual!$BW$162*Esq_Atual!$CC$162,0)\n+IF(AND(Esq_Atual!$BF$163=F43,Esq_Atual!$BP$163=I43),Esq_Atual!$BW$163*Esq_Atual!$CC$163,0)\n+IF(AND(Esq_Atual!$AS$193=F43,Esq_Atual!$BC$193=I43),Esq_Atual!$BJ$193*Esq_Atual!$BM$193,0)\n+IF(AND(Esq_Atual!$AS$194=F43,Esq_Atual!$BC$194=I43),Esq_Atual!$BJ$194*Esq_Atual!$BM$194,0)\n+IF(AND(Esq_Atual!$AS$195=F43,Esq_Atual!$BC$195=I43),Esq_Atual!$BJ$195*Esq_Atual!$BM$195,0))/100","v":0},{"$f":"'Preços unitários'!$T$36","v":0},null,{"$f":"+S43*U43","v":0},{"$f":"+'Modelação de custos atual'!$D$20","v":0},0,50000,0,{"$f":"'Preços unitários'!$T$40","v":0},0]
[null,null,"RECOLHA","RI/RS","Viaturas","15-20 m3 compactação placa c/ grua",null,"não instrumentadas gasóleo","gasóleo",{"$f":"+IF(AND(Esq_Atual!$M$127=F44,Esq_Atual!$W$127=I44),1,0)+IF(AND(Esq_Atual!$M$128=F44,Esq_Atual!$W$128=I44),1,0)+IF(AND(Esq_Atual!$M$129=F44,Esq_Atual!$W$129=I44),1,0)+IF(AND(Esq_Atual!$M$130=F44,Esq_Atual!$W$130=I44),1,0)+IF(AND(Esq_Atual!$M$131=F44,Esq_Atual!$W$131=I44),1,0)+IF(AND(Esq_Atual!$M$132=F44,Esq_Atual!$W$132=I44),1,0)+IF(AND(Esq_Atual!$M$133=F44,Esq_Atual!$W$133=I44),1,0)+IF(AND(Esq_Atual!$M$134=F44,Esq_Atual!$W$134=I44),1,0)+IF(AND(Esq_Atual!$M$135=F44,Esq_Atual!$W$135=I44),1,0)+IF(AND(Esq_Atual!$M$136=F44,Esq_Atual!$W$136=I44),1,0)+IF(AND(Esq_Atual!$M$137=F44,Esq_Atual!$W$137=I44),1,0)+IF(AND(Esq_Atual!$M$138=F44,Esq_Atual!$W$138=I44),1,0)+IF(AND(Esq_Atual!$M$139=F44,Esq_Atual!$W$139=I44),1,0)+IF(AND(Esq_Atual!$M$140=F44,Esq_Atual!$W$140=I44),1,0)+IF(AND(Esq_Atual!$M$141=F44,Esq_Atual!$W$141=I44),1,0)+IF(AND(Esq_Atual!$BF$149=F44,Esq_Atual!$BP$149=I44),1,0)+IF(AND(Esq_Atual!$BF$150=F44,Esq_Atual!$BP$150=I44),1,0)+IF(AND(Esq_Atual!$BF$151=F44,Esq_Atual!$BP$151=I44),1,0)+IF(AND(Esq_Atual!$BF$152=F44,Esq_Atual!$BP$152=I44),1,0)+IF(AND(Esq_Atual!$BF$153=F44,Esq_Atual!$BP$153=I44),1,0)+IF(AND(Esq_Atual!$BF$154=F44,Esq_Atual!$BP$154=I44),1,0)+IF(AND(Esq_Atual!$BF$155=F44,Esq_Atual!$BP$155=I44),1,0)+IF(AND(Esq_Atual!$BF$156=F44,Esq_Atual!$BP$156=I44),1,0)+IF(AND(Esq_Atual!$BF$157=F44,Esq_Atual!$BP$157=I44),1,0)+IF(AND(Esq_Atual!$BF$158=F44,Esq_Atual!$BP$158=I44),1,0)+IF(AND(Esq_Atual!$BF$159=F44,Esq_Atual!$BP$159=I44),1,0)+IF(AND(Esq_Atual!$BF$160=F44,Esq_Atual!$BP$160=I44),1,0)+IF(AND(Esq_Atual!$BF$161=F44,Esq_Atual!$BP$161=I44),1,0)+IF(AND(Esq_Atual!$BF$162=F44,Esq_Atual!$BP$162=I44),1,0)+IF(AND(Esq_Atual!$BF$163=F44,Esq_Atual!$BP$163=I44),1,0)","v":0},{"$f":"'Preços unitários'!$M$27","v":0},{"$f":"J44*K44","v":0},8,{"$f":"L44/M44","v":0},null,null,null,{"$f":"+IF(AND(Esq_Atual!$M$127=F44,Esq_Atual!$W$127=I44),Esq_Atual!$AD$127,0)\n+IF(AND(Esq_Atual!$M$128=F44,Esq_Atual!$W$128=I44),Esq_Atual!$AD$128,0)\n+IF(AND(Esq_Atual!$M$129=F44,Esq_Atual!$W$129=I44),Esq_Atual!$AD$129,0)\n+IF(AND(Esq_Atual!$M$130=F44,Esq_Atual!$W$130=I44),Esq_Atual!$AD$130,0)\n+IF(AND(Esq_Atual!$M$131=F44,Esq_Atual!$W$131=I44),Esq_Atual!$AD$131,0)\n+IF(AND(Esq_Atual!$M$132=F44,Esq_Atual!$W$132=I44),Esq_Atual!$AD$132,0)\n+IF(AND(Esq_Atual!$M$133=F44,Esq_Atual!$W$133=I44),Esq_Atual!$AD$133,0)\n+IF(AND(Esq_Atual!$M$134=F44,Esq_Atual!$W$134=I44),Esq_Atual!$AD$134,0)\n+IF(AND(Esq_Atual!$M$135=F44,Esq_Atual!$W$135=I44),Esq_Atual!$AD$135,0)\n+IF(AND(Esq_Atual!$M$136=F44,Esq_Atual!$W$136=I44),Esq_Atual!$AD$136,0)\n+IF(AND(Esq_Atual!$M$137=F44,Esq_Atual!$W$137=I44),Esq_Atual!$AD$137,0)\n+IF(AND(Esq_Atual!$M$138=F44,Esq_Atual!$W$138=I44),Esq_Atual!$AD$138,0)\n+IF(AND(Esq_Atual!$M$139=F44,Esq_Atual!$W$139=I44),Esq_Atual!$AD$139,0)\n+IF(AND(Esq_Atual!$M$140=F44,Esq_Atual!$W$140=I44),Esq_Atual!$AD$140,0)\n+IF(AND(Esq_Atual!$M$141=F44,Esq_Atual!$W$141=I44),Esq_Atual!$AD$141,0)\n+IF(AND(Esq_Atual!$BF$149=F44,Esq_Atual!$BP$149=I44),Esq_Atual!$BW$149,0)\n+IF(AND(Esq_Atual!$BF$150=F44,Esq_Atual!$BP$150=I44),Esq_Atual!$BW$150,0)\n+IF(AND(Esq_Atual!$BF$151=F44,Esq_Atual!$BP$151=I44),Esq_Atual!$BW$151,0)\n+IF(AND(Esq_Atual!$BF$152=F44,Esq_Atual!$BP$152=I44),Esq_Atual!$BW$152,0)\n+IF(AND(Esq_Atual!$BF$153=F44,Esq_Atual!$BP$153=I44),Esq_Atual!$BW$153,0)\n+IF(AND(Esq_Atual!$BF$154=F44,Esq_Atual!$BP$154=I44),Esq_Atual!$BW$154,0)\n+IF(AND(Esq_Atual!$BF$155=F44,Esq_Atual!$BP$155=I44),Esq_Atual!$BW$155,0)\n+IF(AND(Esq_Atual!$BF$156=F44,Esq_Atual!$BP$156=I44),Esq_Atual!$BW$156,0)\n+IF(AND(Esq_Atual!$BF$157=F44,Esq_Atual!$BP$157=I44),Esq_Atual!$BW$157,0)\n+IF(AND(Esq_Atual!$BF$158=F44,Esq_Atual!$BP$158=I44),Esq_Atual!$BW$158,0)\n+IF(AND(Esq_Atual!$BF$159=F44,Esq_Atual!$BP$159=I44),Esq_Atual!$BW$159,0)\n+IF(AND(Esq_Atual!$BF$160=F44,Esq_Atual!$BP$160=I44),Esq_Atual!$BW$160,0)\n+IF(AND(Esq_Atual!$BF$161=F44,Esq_Atual!$BP$161=I44),Esq_Atual!$BW$161,0)\n+IF(AND(Esq_Atual!$BF$162=F44,Esq_Atual!$BP$162=I44),Esq_Atual!$BW$162,0)\n+IF(AND(Esq_Atual!$BF$163=F44,Esq_Atual!$BP$163=I44),Esq_Atual!$BW$163,0)\n+IF(AND(Esq_Atual!$AS$193=F44,Esq_Atual!$BC$193=I44),Esq_Atual!$BJ$193,0)\n+IF(AND(Esq_Atual!$AS$194=F44,Esq_Atual!$BC$194=I44),Esq_Atual!$BJ$194,0)\n+IF(AND(Esq_Atual!$AS$195=F44,Esq_Atual!$BC$195=I44),Esq_Atual!$BJ$195,0)","v":0},{"$f":"(IF(AND(Esq_Atual!$M$127=F44,Esq_Atual!$W$127=I44),Esq_Atual!$AD$127*Esq_Atual!$AJ$127,0)\n+IF(AND(Esq_Atual!$M$128=F44,Esq_Atual!$W$128=I44),Esq_Atual!$AD$128*Esq_Atual!$AJ$128,0)\n+IF(AND(Esq_Atual!$M$129=F44,Esq_Atual!$W$129=I44),Esq_Atual!$AD$129*Esq_Atual!$AJ$129,0)\n+IF(AND(Esq_Atual!$M$130=F44,Esq_Atual!$W$130=I44),Esq_Atual!$AD$130*Esq_Atual!$AJ$130,0)\n+IF(AND(Esq_Atual!$M$131=F44,Esq_Atual!$W$131=I44),Esq_Atual!$AD$131*Esq_Atual!$AJ$131,0)\n+IF(AND(Esq_Atual!$M$132=F44,Esq_Atual!$W$132=I44),Esq_Atual!$AD$132*Esq_Atual!$AJ$132,0)\n+IF(AND(Esq_Atual!$M$133=F44,Esq_Atual!$W$133=I44),Esq_Atual!$AD$133*Esq_Atual!$AJ$133,0)\n+IF(AND(Esq_Atual!$M$134=F44,Esq_Atual!$W$134=I44),Esq_Atual!$AD$134*Esq_Atual!$AJ$134,0)\n+IF(AND(Esq_Atual!$M$135=F44,Esq_Atual!$W$135=I44),Esq_Atual!$AD$135*Esq_Atual!$AJ$135,0)\n+IF(AND(Esq_Atual!$M$136=F44,Esq_Atual!$W$136=I44),Esq_Atual!$AD$136*Esq_Atual!$AJ$136,0)\n+IF(AND(Esq_Atual!$M$137=F44,Esq_Atual!$W$137=I44),Esq_Atual!$AD$137*Esq_Atual!$AJ$137,0)\n+IF(AND(Esq_Atual!$M$138=F44,Esq_Atual!$W$138=I44),Esq_Atual!$AD$138*Esq_Atual!$AJ$138,0)\n+IF(AND(Esq_Atual!$M$139=F44,Esq_Atual!$W$139=I44),Esq_Atual!$AD$139*Esq_Atual!$AJ$139,0)\n+IF(AND(Esq_Atual!$M$140=F44,Esq_Atual!$W$140=I44),Esq_Atual!$AD$140*Esq_Atual!$AJ$140,0)\n+IF(AND(Esq_Atual!$M$141=F44,Esq_Atual!$W$141=I44),Esq_Atual!$AD$141*Esq_Atual!$AJ$141,0)\n+IF(AND(Esq_Atual!$BF$149=F44,Esq_Atual!$BP$149=I44),Esq_Atual!$BW$149*Esq_Atual!$CC$149,0)\n+IF(AND(Esq_Atual!$BF$150=F44,Esq_Atual!$BP$150=I44),Esq_Atual!$BW$150*Esq_Atual!$CC$150,0)\n+IF(AND(Esq_Atual!$BF$151=F44,Esq_Atual!$BP$151=I44),Esq_Atual!$BW$151*Esq_Atual!$CC$151,0)\n+IF(AND(Esq_Atual!$BF$152=F44,Esq_Atual!$BP$152=I44),Esq_Atual!$BW$152*Esq_Atual!$CC$152,0)\n+IF(AND(Esq_Atual!$BF$153=F44,Esq_Atual!$BP$153=I44),Esq_Atual!$BW$153*Esq_Atual!$CC$153,0)\n+IF(AND(Esq_Atual!$BF$154=F44,Esq_Atual!$BP$154=I44),Esq_Atual!$BW$154*Esq_Atual!$CC$154,0)\n+IF(AND(Esq_Atual!$BF$155=F44,Esq_Atual!$BP$155=I44),Esq_Atual!$BW$155*Esq_Atual!$CC$155,0)\n+IF(AND(Esq_Atual!$BF$156=F44,Esq_Atual!$BP$156=I44),Esq_Atual!$BW$156*Esq_Atual!$CC$156,0)\n+IF(AND(Esq_Atual!$BF$157=F44,Esq_Atual!$BP$157=I44),Esq_Atual!$BW$157*Esq_Atual!$CC$157,0)\n+IF(AND(Esq_Atual!$BF$158=F44,Esq_Atual!$BP$158=I44),Esq_Atual!$BW$158*Esq_Atual!$CC$158,0)\n+IF(AND(Esq_Atual!$BF$159=F44,Esq_Atual!$BP$159=I44),Esq_Atual!$BW$159*Esq_Atual!$CC$159,0)\n+IF(AND(Esq_Atual!$BF$160=F44,Esq_Atual!$BP$160=I44),Esq_Atual!$BW$160*Esq_Atual!$CC$160,0)\n+IF(AND(Esq_Atual!$BF$161=F44,Esq_Atual!$BP$161=I44),Esq_Atual!$BW$161*Esq_Atual!$CC$161,0)\n+IF(AND(Esq_Atual!$BF$162=F44,Esq_Atual!$BP$162=I44),Esq_Atual!$BW$162*Esq_Atual!$CC$162,0)\n+IF(AND(Esq_Atual!$BF$163=F44,Esq_Atual!$BP$163=I44),Esq_Atual!$BW$163*Esq_Atual!$CC$163,0)\n+IF(AND(Esq_Atual!$AS$193=F44,Esq_Atual!$BC$193=I44),Esq_Atual!$BJ$193*Esq_Atual!$BM$193,0)\n+IF(AND(Esq_Atual!$AS$194=F44,Esq_Atual!$BC$194=I44),Esq_Atual!$BJ$194*Esq_Atual!$BM$194,0)\n+IF(AND(Esq_Atual!$AS$195=F44,Esq_Atual!$BC$195=I44),Esq_Atual!$BJ$195*Esq_Atual!$BM$195,0))/100","v":0},{"$f":"(IF(AND(Esq_Atual!$M$127=F44,Esq_Atual!$W$127=I44),Esq_Atual!$AD$127*Esq_Atual!$AJ$127,0)\n+IF(AND(Esq_Atual!$M$128=F44,Esq_Atual!$W$128=I44),Esq_Atual!$AD$128*Esq_Atual!$AJ$128,0)\n+IF(AND(Esq_Atual!$M$129=F44,Esq_Atual!$W$129=I44),Esq_Atual!$AD$129*Esq_Atual!$AJ$129,0)\n+IF(AND(Esq_Atual!$M$130=F44,Esq_Atual!$W$130=I44),Esq_Atual!$AD$130*Esq_Atual!$AJ$130,0)\n+IF(AND(Esq_Atual!$M$131=F44,Esq_Atual!$W$131=I44),Esq_Atual!$AD$131*Esq_Atual!$AJ$131,0)\n+IF(AND(Esq_Atual!$M$132=F44,Esq_Atual!$W$132=I44),Esq_Atual!$AD$132*Esq_Atual!$AJ$132,0)\n+IF(AND(Esq_Atual!$M$133=F44,Esq_Atual!$W$133=I44),Esq_Atual!$AD$133*Esq_Atual!$AJ$133,0)\n+IF(AND(Esq_Atual!$M$134=F44,Esq_Atual!$W$134=I44),Esq_Atual!$AD$134*Esq_Atual!$AJ$134,0)\n+IF(AND(Esq_Atual!$M$135=F44,Esq_Atual!$W$135=I44),Esq_Atual!$AD$135*Esq_Atual!$AJ$135,0)\n+IF(AND(Esq_Atual!$M$136=F44,Esq_Atual!$W$136=I44),Esq_Atual!$AD$136*Esq_Atual!$AJ$136,0)\n+IF(AND(Esq_Atual!$M$137=F44,Esq_Atual!$W$137=I44),Esq_Atual!$AD$137*Esq_Atual!$AJ$137,0)\n+IF(AND(Esq_Atual!$M$138=F44,Esq_Atual!$W$138=I44),Esq_Atual!$AD$138*Esq_Atual!$AJ$138,0)\n+IF(AND(Esq_Atual!$M$139=F44,Esq_Atual!$W$139=I44),Esq_Atual!$AD$139*Esq_Atual!$AJ$139,0)\n+IF(AND(Esq_Atual!$M$140=F44,Esq_Atual!$W$140=I44),Esq_Atual!$AD$140*Esq_Atual!$AJ$140,0)\n+IF(AND(Esq_Atual!$M$141=F44,Esq_Atual!$W$141=I44),Esq_Atual!$AD$141*Esq_Atual!$AJ$141,0)\n+IF(AND(Esq_Atual!$BF$149=F44,Esq_Atual!$BP$149=I44),Esq_Atual!$BW$149*Esq_Atual!$CC$149,0)\n+IF(AND(Esq_Atual!$BF$150=F44,Esq_Atual!$BP$150=I44),Esq_Atual!$BW$150*Esq_Atual!$CC$150,0)\n+IF(AND(Esq_Atual!$BF$151=F44,Esq_Atual!$BP$151=I44),Esq_Atual!$BW$151*Esq_Atual!$CC$151,0)\n+IF(AND(Esq_Atual!$BF$152=F44,Esq_Atual!$BP$152=I44),Esq_Atual!$BW$152*Esq_Atual!$CC$152,0)\n+IF(AND(Esq_Atual!$BF$153=F44,Esq_Atual!$BP$153=I44),Esq_Atual!$BW$153*Esq_Atual!$CC$153,0)\n+IF(AND(Esq_Atual!$BF$154=F44,Esq_Atual!$BP$154=I44),Esq_Atual!$BW$154*Esq_Atual!$CC$154,0)\n+IF(AND(Esq_Atual!$BF$155=F44,Esq_Atual!$BP$155=I44),Esq_Atual!$BW$155*Esq_Atual!$CC$155,0)\n+IF(AND(Esq_Atual!$BF$156=F44,Esq_Atual!$BP$156=I44),Esq_Atual!$BW$156*Esq_Atual!$CC$156,0)\n+IF(AND(Esq_Atual!$BF$157=F44,Esq_Atual!$BP$157=I44),Esq_Atual!$BW$157*Esq_Atual!$CC$157,0)\n+IF(AND(Esq_Atual!$BF$158=F44,Esq_Atual!$BP$158=I44),Esq_Atual!$BW$158*Esq_Atual!$CC$158,0)\n+IF(AND(Esq_Atual!$BF$159=F44,Esq_Atual!$BP$159=I44),Esq_Atual!$BW$159*Esq_Atual!$CC$159,0)\n+IF(AND(Esq_Atual!$BF$160=F44,Esq_Atual!$BP$160=I44),Esq_Atual!$BW$160*Esq_Atual!$CC$160,0)\n+IF(AND(Esq_Atual!$BF$161=F44,Esq_Atual!$BP$161=I44),Esq_Atual!$BW$161*Esq_Atual!$CC$161,0)\n+IF(AND(Esq_Atual!$BF$162=F44,Esq_Atual!$BP$162=I44),Esq_Atual!$BW$162*Esq_Atual!$CC$162,0)\n+IF(AND(Esq_Atual!$BF$163=F44,Esq_Atual!$BP$163=I44),Esq_Atual!$BW$163*Esq_Atual!$CC$163,0)\n+IF(AND(Esq_Atual!$AS$193=F44,Esq_Atual!$BC$193=I44),Esq_Atual!$BJ$193*Esq_Atual!$BM$193,0)\n+IF(AND(Esq_Atual!$AS$194=F44,Esq_Atual!$BC$194=I44),Esq_Atual!$BJ$194*Esq_Atual!$BM$194,0)\n+IF(AND(Esq_Atual!$AS$195=F44,Esq_Atual!$BC$195=I44),Esq_Atual!$BJ$195*Esq_Atual!$BM$195,0))/100","v":0},{"$f":"'Preços unitários'!$T$34","v":0},null,{"$f":"+S44*U44","v":0},{"$f":"+'Modelação de custos atual'!$D$20","v":0},0,50000,0,{"$f":"'Preços unitários'!$T$40","v":0},0]
[null,null,"RECOLHA","RI/RS","Viaturas","15-20 m3 compactação placa c/ grua",null,"não instrumentadas elétrica","elétrica",{"$f":"+IF(AND(Esq_Atual!$M$127=F45,Esq_Atual!$W$127=I45),1,0)+IF(AND(Esq_Atual!$M$128=F45,Esq_Atual!$W$128=I45),1,0)+IF(AND(Esq_Atual!$M$129=F45,Esq_Atual!$W$129=I45),1,0)+IF(AND(Esq_Atual!$M$130=F45,Esq_Atual!$W$130=I45),1,0)+IF(AND(Esq_Atual!$M$131=F45,Esq_Atual!$W$131=I45),1,0)+IF(AND(Esq_Atual!$M$132=F45,Esq_Atual!$W$132=I45),1,0)+IF(AND(Esq_Atual!$M$133=F45,Esq_Atual!$W$133=I45),1,0)+IF(AND(Esq_Atual!$M$134=F45,Esq_Atual!$W$134=I45),1,0)+IF(AND(Esq_Atual!$M$135=F45,Esq_Atual!$W$135=I45),1,0)+IF(AND(Esq_Atual!$M$136=F45,Esq_Atual!$W$136=I45),1,0)+IF(AND(Esq_Atual!$M$137=F45,Esq_Atual!$W$137=I45),1,0)+IF(AND(Esq_Atual!$M$138=F45,Esq_Atual!$W$138=I45),1,0)+IF(AND(Esq_Atual!$M$139=F45,Esq_Atual!$W$139=I45),1,0)+IF(AND(Esq_Atual!$M$140=F45,Esq_Atual!$W$140=I45),1,0)+IF(AND(Esq_Atual!$M$141=F45,Esq_Atual!$W$141=I45),1,0)+IF(AND(Esq_Atual!$BF$149=F45,Esq_Atual!$BP$149=I45),1,0)+IF(AND(Esq_Atual!$BF$150=F45,Esq_Atual!$BP$150=I45),1,0)+IF(AND(Esq_Atual!$BF$151=F45,Esq_Atual!$BP$151=I45),1,0)+IF(AND(Esq_Atual!$BF$152=F45,Esq_Atual!$BP$152=I45),1,0)+IF(AND(Esq_Atual!$BF$153=F45,Esq_Atual!$BP$153=I45),1,0)+IF(AND(Esq_Atual!$BF$154=F45,Esq_Atual!$BP$154=I45),1,0)+IF(AND(Esq_Atual!$BF$155=F45,Esq_Atual!$BP$155=I45),1,0)+IF(AND(Esq_Atual!$BF$156=F45,Esq_Atual!$BP$156=I45),1,0)+IF(AND(Esq_Atual!$BF$157=F45,Esq_Atual!$BP$157=I45),1,0)+IF(AND(Esq_Atual!$BF$158=F45,Esq_Atual!$BP$158=I45),1,0)+IF(AND(Esq_Atual!$BF$159=F45,Esq_Atual!$BP$159=I45),1,0)+IF(AND(Esq_Atual!$BF$160=F45,Esq_Atual!$BP$160=I45),1,0)+IF(AND(Esq_Atual!$BF$161=F45,Esq_Atual!$BP$161=I45),1,0)+IF(AND(Esq_Atual!$BF$162=F45,Esq_Atual!$BP$162=I45),1,0)+IF(AND(Esq_Atual!$BF$163=F45,Esq_Atual!$BP$163=I45),1,0)","v":0},{"$f":"'Preços unitários'!$M$28","v":0},0,8,0,null,null,null,{"$f":"+IF(AND(Esq_Atual!$M$127=F45,Esq_Atual!$W$127=I45),Esq_Atual!$AD$127,0)\n+IF(AND(Esq_Atual!$M$128=F45,Esq_Atual!$W$128=I45),Esq_Atual!$AD$128,0)\n+IF(AND(Esq_Atual!$M$129=F45,Esq_Atual!$W$129=I45),Esq_Atual!$AD$129,0)\n+IF(AND(Esq_Atual!$M$130=F45,Esq_Atual!$W$130=I45),Esq_Atual!$AD$130,0)\n+IF(AND(Esq_Atual!$M$131=F45,Esq_Atual!$W$131=I45),Esq_Atual!$AD$131,0)\n+IF(AND(Esq_Atual!$M$132=F45,Esq_Atual!$W$132=I45),Esq_Atual!$AD$132,0)\n+IF(AND(Esq_Atual!$M$133=F45,Esq_Atual!$W$133=I45),Esq_Atual!$AD$133,0)\n+IF(AND(Esq_Atual!$M$134=F45,Esq_Atual!$W$134=I45),Esq_Atual!$AD$134,0)\n+IF(AND(Esq_Atual!$M$135=F45,Esq_Atual!$W$135=I45),Esq_Atual!$AD$135,0)\n+IF(AND(Esq_Atual!$M$136=F45,Esq_Atual!$W$136=I45),Esq_Atual!$AD$136,0)\n+IF(AND(Esq_Atual!$M$137=F45,Esq_Atual!$W$137=I45),Esq_Atual!$AD$137,0)\n+IF(AND(Esq_Atual!$M$138=F45,Esq_Atual!$W$138=I45),Esq_Atual!$AD$138,0)\n+IF(AND(Esq_Atual!$M$139=F45,Esq_Atual!$W$139=I45),Esq_Atual!$AD$139,0)\n+IF(AND(Esq_Atual!$M$140=F45,Esq_Atual!$W$140=I45),Esq_Atual!$AD$140,0)\n+IF(AND(Esq_Atual!$M$141=F45,Esq_Atual!$W$141=I45),Esq_Atual!$AD$141,0)\n+IF(AND(Esq_Atual!$BF$149=F45,Esq_Atual!$BP$149=I45),Esq_Atual!$BW$149,0)\n+IF(AND(Esq_Atual!$BF$150=F45,Esq_Atual!$BP$150=I45),Esq_Atual!$BW$150,0)\n+IF(AND(Esq_Atual!$BF$151=F45,Esq_Atual!$BP$151=I45),Esq_Atual!$BW$151,0)\n+IF(AND(Esq_Atual!$BF$152=F45,Esq_Atual!$BP$152=I45),Esq_Atual!$BW$152,0)\n+IF(AND(Esq_Atual!$BF$153=F45,Esq_Atual!$BP$153=I45),Esq_Atual!$BW$153,0)\n+IF(AND(Esq_Atual!$BF$154=F45,Esq_Atual!$BP$154=I45),Esq_Atual!$BW$154,0)\n+IF(AND(Esq_Atual!$BF$155=F45,Esq_Atual!$BP$155=I45),Esq_Atual!$BW$155,0)\n+IF(AND(Esq_Atual!$BF$156=F45,Esq_Atual!$BP$156=I45),Esq_Atual!$BW$156,0)\n+IF(AND(Esq_Atual!$BF$157=F45,Esq_Atual!$BP$157=I45),Esq_Atual!$BW$157,0)\n+IF(AND(Esq_Atual!$BF$158=F45,Esq_Atual!$BP$158=I45),Esq_Atual!$BW$158,0)\n+IF(AND(Esq_Atual!$BF$159=F45,Esq_Atual!$BP$159=I45),Esq_Atual!$BW$159,0)\n+IF(AND(Esq_Atual!$BF$160=F45,Esq_Atual!$BP$160=I45),Esq_Atual!$BW$160,0)\n+IF(AND(Esq_Atual!$BF$161=F45,Esq_Atual!$BP$161=I45),Esq_Atual!$BW$161,0)\n+IF(AND(Esq_Atual!$BF$162=F45,Esq_Atual!$BP$162=I45),Esq_Atual!$BW$162,0)\n+IF(AND(Esq_Atual!$BF$163=F45,Esq_Atual!$BP$163=I45),Esq_Atual!$BW$163,0)\n+IF(AND(Esq_Atual!$AS$193=F45,Esq_Atual!$BC$193=I45),Esq_Atual!$BJ$193,0)\n+IF(AND(Esq_Atual!$AS$194=F45,Esq_Atual!$BC$194=I45),Esq_Atual!$BJ$194,0)\n+IF(AND(Esq_Atual!$AS$195=F45,Esq_Atual!$BC$195=I45),Esq_Atual!$BJ$195,0)","v":0},{"$f":"(IF(AND(Esq_Atual!$M$127=F45,Esq_Atual!$W$127=I45),Esq_Atual!$AD$127*Esq_Atual!$AJ$127,0)\n+IF(AND(Esq_Atual!$M$128=F45,Esq_Atual!$W$128=I45),Esq_Atual!$AD$128*Esq_Atual!$AJ$128,0)\n+IF(AND(Esq_Atual!$M$129=F45,Esq_Atual!$W$129=I45),Esq_Atual!$AD$129*Esq_Atual!$AJ$129,0)\n+IF(AND(Esq_Atual!$M$130=F45,Esq_Atual!$W$130=I45),Esq_Atual!$AD$130*Esq_Atual!$AJ$130,0)\n+IF(AND(Esq_Atual!$M$131=F45,Esq_Atual!$W$131=I45),Esq_Atual!$AD$131*Esq_Atual!$AJ$131,0)\n+IF(AND(Esq_Atual!$M$132=F45,Esq_Atual!$W$132=I45),Esq_Atual!$AD$132*Esq_Atual!$AJ$132,0)\n+IF(AND(Esq_Atual!$M$133=F45,Esq_Atual!$W$133=I45),Esq_Atual!$AD$133*Esq_Atual!$AJ$133,0)\n+IF(AND(Esq_Atual!$M$134=F45,Esq_Atual!$W$134=I45),Esq_Atual!$AD$134*Esq_Atual!$AJ$134,0)\n+IF(AND(Esq_Atual!$M$135=F45,Esq_Atual!$W$135=I45),Esq_Atual!$AD$135*Esq_Atual!$AJ$135,0)\n+IF(AND(Esq_Atual!$M$136=F45,Esq_Atual!$W$136=I45),Esq_Atual!$AD$136*Esq_Atual!$AJ$136,0)\n+IF(AND(Esq_Atual!$M$137=F45,Esq_Atual!$W$137=I45),Esq_Atual!$AD$137*Esq_Atual!$AJ$137,0)\n+IF(AND(Esq_Atual!$M$138=F45,Esq_Atual!$W$138=I45),Esq_Atual!$AD$138*Esq_Atual!$AJ$138,0)\n+IF(AND(Esq_Atual!$M$139=F45,Esq_Atual!$W$139=I45),Esq_Atual!$AD$139*Esq_Atual!$AJ$139,0)\n+IF(AND(Esq_Atual!$M$140=F45,Esq_Atual!$W$140=I45),Esq_Atual!$AD$140*Esq_Atual!$AJ$140,0)\n+IF(AND(Esq_Atual!$M$141=F45,Esq_Atual!$W$141=I45),Esq_Atual!$AD$141*Esq_Atual!$AJ$141,0)\n+IF(AND(Esq_Atual!$BF$149=F45,Esq_Atual!$BP$149=I45),Esq_Atual!$BW$149*Esq_Atual!$CC$149,0)\n+IF(AND(Esq_Atual!$BF$150=F45,Esq_Atual!$BP$150=I45),Esq_Atual!$BW$150*Esq_Atual!$CC$150,0)\n+IF(AND(Esq_Atual!$BF$151=F45,Esq_Atual!$BP$151=I45),Esq_Atual!$BW$151*Esq_Atual!$CC$151,0)\n+IF(AND(Esq_Atual!$BF$152=F45,Esq_Atual!$BP$152=I45),Esq_Atual!$BW$152*Esq_Atual!$CC$152,0)\n+IF(AND(Esq_Atual!$BF$153=F45,Esq_Atual!$BP$153=I45),Esq_Atual!$BW$153*Esq_Atual!$CC$153,0)\n+IF(AND(Esq_Atual!$BF$154=F45,Esq_Atual!$BP$154=I45),Esq_Atual!$BW$154*Esq_Atual!$CC$154,0)\n+IF(AND(Esq_Atual!$BF$155=F45,Esq_Atual!$BP$155=I45),Esq_Atual!$BW$155*Esq_Atual!$CC$155,0)\n+IF(AND(Esq_Atual!$BF$156=F45,Esq_Atual!$BP$156=I45),Esq_Atual!$BW$156*Esq_Atual!$CC$156,0)\n+IF(AND(Esq_Atual!$BF$157=F45,Esq_Atual!$BP$157=I45),Esq_Atual!$BW$157*Esq_Atual!$CC$157,0)\n+IF(AND(Esq_Atual!$BF$158=F45,Esq_Atual!$BP$158=I45),Esq_Atual!$BW$158*Esq_Atual!$CC$158,0)\n+IF(AND(Esq_Atual!$BF$159=F45,Esq_Atual!$BP$159=I45),Esq_Atual!$BW$159*Esq_Atual!$CC$159,0)\n+IF(AND(Esq_Atual!$BF$160=F45,Esq_Atual!$BP$160=I45),Esq_Atual!$BW$160*Esq_Atual!$CC$160,0)\n+IF(AND(Esq_Atual!$BF$161=F45,Esq_Atual!$BP$161=I45),Esq_Atual!$BW$161*Esq_Atual!$CC$161,0)\n+IF(AND(Esq_Atual!$BF$162=F45,Esq_Atual!$BP$162=I45),Esq_Atual!$BW$162*Esq_Atual!$CC$162,0)\n+IF(AND(Esq_Atual!$BF$163=F45,Esq_Atual!$BP$163=I45),Esq_Atual!$BW$163*Esq_Atual!$CC$163,0)\n+IF(AND(Esq_Atual!$AS$193=F45,Esq_Atual!$BC$193=I45),Esq_Atual!$BJ$193*Esq_Atual!$BM$193,0)\n+IF(AND(Esq_Atual!$AS$194=F45,Esq_Atual!$BC$194=I45),Esq_Atual!$BJ$194*Esq_Atual!$BM$194,0)\n+IF(AND(Esq_Atual!$AS$195=F45,Esq_Atual!$BC$195=I45),Esq_Atual!$BJ$195*Esq_Atual!$BM$195,0))/100","v":0},{"$f":"(IF(AND(Esq_Atual!$M$127=F45,Esq_Atual!$W$127=I45),Esq_Atual!$AD$127*Esq_Atual!$AJ$127,0)\n+IF(AND(Esq_Atual!$M$128=F45,Esq_Atual!$W$128=I45),Esq_Atual!$AD$128*Esq_Atual!$AJ$128,0)\n+IF(AND(Esq_Atual!$M$129=F45,Esq_Atual!$W$129=I45),Esq_Atual!$AD$129*Esq_Atual!$AJ$129,0)\n+IF(AND(Esq_Atual!$M$130=F45,Esq_Atual!$W$130=I45),Esq_Atual!$AD$130*Esq_Atual!$AJ$130,0)\n+IF(AND(Esq_Atual!$M$131=F45,Esq_Atual!$W$131=I45),Esq_Atual!$AD$131*Esq_Atual!$AJ$131,0)\n+IF(AND(Esq_Atual!$M$132=F45,Esq_Atual!$W$132=I45),Esq_Atual!$AD$132*Esq_Atual!$AJ$132,0)\n+IF(AND(Esq_Atual!$M$133=F45,Esq_Atual!$W$133=I45),Esq_Atual!$AD$133*Esq_Atual!$AJ$133,0)\n+IF(AND(Esq_Atual!$M$134=F45,Esq_Atual!$W$134=I45),Esq_Atual!$AD$134*Esq_Atual!$AJ$134,0)\n+IF(AND(Esq_Atual!$M$135=F45,Esq_Atual!$W$135=I45),Esq_Atual!$AD$135*Esq_Atual!$AJ$135,0)\n+IF(AND(Esq_Atual!$M$136=F45,Esq_Atual!$W$136=I45),Esq_Atual!$AD$136*Esq_Atual!$AJ$136,0)\n+IF(AND(Esq_Atual!$M$137=F45,Esq_Atual!$W$137=I45),Esq_Atual!$AD$137*Esq_Atual!$AJ$137,0)\n+IF(AND(Esq_Atual!$M$138=F45,Esq_Atual!$W$138=I45),Esq_Atual!$AD$138*Esq_Atual!$AJ$138,0)\n+IF(AND(Esq_Atual!$M$139=F45,Esq_Atual!$W$139=I45),Esq_Atual!$AD$139*Esq_Atual!$AJ$139,0)\n+IF(AND(Esq_Atual!$M$140=F45,Esq_Atual!$W$140=I45),Esq_Atual!$AD$140*Esq_Atual!$AJ$140,0)\n+IF(AND(Esq_Atual!$M$141=F45,Esq_Atual!$W$141=I45),Esq_Atual!$AD$141*Esq_Atual!$AJ$141,0)\n+IF(AND(Esq_Atual!$BF$149=F45,Esq_Atual!$BP$149=I45),Esq_Atual!$BW$149*Esq_Atual!$CC$149,0)\n+IF(AND(Esq_Atual!$BF$150=F45,Esq_Atual!$BP$150=I45),Esq_Atual!$BW$150*Esq_Atual!$CC$150,0)\n+IF(AND(Esq_Atual!$BF$151=F45,Esq_Atual!$BP$151=I45),Esq_Atual!$BW$151*Esq_Atual!$CC$151,0)\n+IF(AND(Esq_Atual!$BF$152=F45,Esq_Atual!$BP$152=I45),Esq_Atual!$BW$152*Esq_Atual!$CC$152,0)\n+IF(AND(Esq_Atual!$BF$153=F45,Esq_Atual!$BP$153=I45),Esq_Atual!$BW$153*Esq_Atual!$CC$153,0)\n+IF(AND(Esq_Atual!$BF$154=F45,Esq_Atual!$BP$154=I45),Esq_Atual!$BW$154*Esq_Atual!$CC$154,0)\n+IF(AND(Esq_Atual!$BF$155=F45,Esq_Atual!$BP$155=I45),Esq_Atual!$BW$155*Esq_Atual!$CC$155,0)\n+IF(AND(Esq_Atual!$BF$156=F45,Esq_Atual!$BP$156=I45),Esq_Atual!$BW$156*Esq_Atual!$CC$156,0)\n+IF(AND(Esq_Atual!$BF$157=F45,Esq_Atual!$BP$157=I45),Esq_Atual!$BW$157*Esq_Atual!$CC$157,0)\n+IF(AND(Esq_Atual!$BF$158=F45,Esq_Atual!$BP$158=I45),Esq_Atual!$BW$158*Esq_Atual!$CC$158,0)\n+IF(AND(Esq_Atual!$BF$159=F45,Esq_Atual!$BP$159=I45),Esq_Atual!$BW$159*Esq_Atual!$CC$159,0)\n+IF(AND(Esq_Atual!$BF$160=F45,Esq_Atual!$BP$160=I45),Esq_Atual!$BW$160*Esq_Atual!$CC$160,0)\n+IF(AND(Esq_Atual!$BF$161=F45,Esq_Atual!$BP$161=I45),Esq_Atual!$BW$161*Esq_Atual!$CC$161,0)\n+IF(AND(Esq_Atual!$BF$162=F45,Esq_Atual!$BP$162=I45),Esq_Atual!$BW$162*Esq_Atual!$CC$162,0)\n+IF(AND(Esq_Atual!$BF$163=F45,Esq_Atual!$BP$163=I45),Esq_Atual!$BW$163*Esq_Atual!$CC$163,0)\n+IF(AND(Esq_Atual!$AS$193=F45,Esq_Atual!$BC$193=I45),Esq_Atual!$BJ$193*Esq_Atual!$BM$193,0)\n+IF(AND(Esq_Atual!$AS$194=F45,Esq_Atual!$BC$194=I45),Esq_Atual!$BJ$194*Esq_Atual!$BM$194,0)\n+IF(AND(Esq_Atual!$AS$195=F45,Esq_Atual!$BC$195=I45),Esq_Atual!$BJ$195*Esq_Atual!$BM$195,0))/100","v":0},null,{"$f":"'Preços unitários'!$T$35","v":0},{"$f":"+S45*V45","v":0},{"$f":"+'Modelação de custos atual'!$D$20","v":0},0,50000,0,{"$f":"'Preços unitários'!$T$40","v":0},0]
[null,null,"RECOLHA","RI/RS","Viaturas","15-20 m3 compactação placa c/ grua",null,"não instrumentadas elétrica","gás",{"$f":"+IF(AND(Esq_Atual!$M$127=F46,Esq_Atual!$W$127=I46),1,0)+IF(AND(Esq_Atual!$M$128=F46,Esq_Atual!$W$128=I46),1,0)+IF(AND(Esq_Atual!$M$129=F46,Esq_Atual!$W$129=I46),1,0)+IF(AND(Esq_Atual!$M$130=F46,Esq_Atual!$W$130=I46),1,0)+IF(AND(Esq_Atual!$M$131=F46,Esq_Atual!$W$131=I46),1,0)+IF(AND(Esq_Atual!$M$132=F46,Esq_Atual!$W$132=I46),1,0)+IF(AND(Esq_Atual!$M$133=F46,Esq_Atual!$W$133=I46),1,0)+IF(AND(Esq_Atual!$M$134=F46,Esq_Atual!$W$134=I46),1,0)+IF(AND(Esq_Atual!$M$135=F46,Esq_Atual!$W$135=I46),1,0)+IF(AND(Esq_Atual!$M$136=F46,Esq_Atual!$W$136=I46),1,0)+IF(AND(Esq_Atual!$M$137=F46,Esq_Atual!$W$137=I46),1,0)+IF(AND(Esq_Atual!$M$138=F46,Esq_Atual!$W$138=I46),1,0)+IF(AND(Esq_Atual!$M$139=F46,Esq_Atual!$W$139=I46),1,0)+IF(AND(Esq_Atual!$M$140=F46,Esq_Atual!$W$140=I46),1,0)+IF(AND(Esq_Atual!$M$141=F46,Esq_Atual!$W$141=I46),1,0)+IF(AND(Esq_Atual!$BF$149=F46,Esq_Atual!$BP$149=I46),1,0)+IF(AND(Esq_Atual!$BF$150=F46,Esq_Atual!$BP$150=I46),1,0)+IF(AND(Esq_Atual!$BF$151=F46,Esq_Atual!$BP$151=I46),1,0)+IF(AND(Esq_Atual!$BF$152=F46,Esq_Atual!$BP$152=I46),1,0)+IF(AND(Esq_Atual!$BF$153=F46,Esq_Atual!$BP$153=I46),1,0)+IF(AND(Esq_Atual!$BF$154=F46,Esq_Atual!$BP$154=I46),1,0)+IF(AND(Esq_Atual!$BF$155=F46,Esq_Atual!$BP$155=I46),1,0)+IF(AND(Esq_Atual!$BF$156=F46,Esq_Atual!$BP$156=I46),1,0)+IF(AND(Esq_Atual!$BF$157=F46,Esq_Atual!$BP$157=I46),1,0)+IF(AND(Esq_Atual!$BF$158=F46,Esq_Atual!$BP$158=I46),1,0)+IF(AND(Esq_Atual!$BF$159=F46,Esq_Atual!$BP$159=I46),1,0)+IF(AND(Esq_Atual!$BF$160=F46,Esq_Atual!$BP$160=I46),1,0)+IF(AND(Esq_Atual!$BF$161=F46,Esq_Atual!$BP$161=I46),1,0)+IF(AND(Esq_Atual!$BF$162=F46,Esq_Atual!$BP$162=I46),1,0)+IF(AND(Esq_Atual!$BF$163=F46,Esq_Atual!$BP$163=I46),1,0)","v":0},{"$f":"+'Preços unitários'!M29","v":0},0,8,0,null,null,null,{"$f":"+IF(AND(Esq_Atual!$M$127=F46,Esq_Atual!$W$127=I46),Esq_Atual!$AD$127,0)\n+IF(AND(Esq_Atual!$M$128=F46,Esq_Atual!$W$128=I46),Esq_Atual!$AD$128,0)\n+IF(AND(Esq_Atual!$M$129=F46,Esq_Atual!$W$129=I46),Esq_Atual!$AD$129,0)\n+IF(AND(Esq_Atual!$M$130=F46,Esq_Atual!$W$130=I46),Esq_Atual!$AD$130,0)\n+IF(AND(Esq_Atual!$M$131=F46,Esq_Atual!$W$131=I46),Esq_Atual!$AD$131,0)\n+IF(AND(Esq_Atual!$M$132=F46,Esq_Atual!$W$132=I46),Esq_Atual!$AD$132,0)\n+IF(AND(Esq_Atual!$M$133=F46,Esq_Atual!$W$133=I46),Esq_Atual!$AD$133,0)\n+IF(AND(Esq_Atual!$M$134=F46,Esq_Atual!$W$134=I46),Esq_Atual!$AD$134,0)\n+IF(AND(Esq_Atual!$M$135=F46,Esq_Atual!$W$135=I46),Esq_Atual!$AD$135,0)\n+IF(AND(Esq_Atual!$M$136=F46,Esq_Atual!$W$136=I46),Esq_Atual!$AD$136,0)\n+IF(AND(Esq_Atual!$M$137=F46,Esq_Atual!$W$137=I46),Esq_Atual!$AD$137,0)\n+IF(AND(Esq_Atual!$M$138=F46,Esq_Atual!$W$138=I46),Esq_Atual!$AD$138,0)\n+IF(AND(Esq_Atual!$M$139=F46,Esq_Atual!$W$139=I46),Esq_Atual!$AD$139,0)\n+IF(AND(Esq_Atual!$M$140=F46,Esq_Atual!$W$140=I46),Esq_Atual!$AD$140,0)\n+IF(AND(Esq_Atual!$M$141=F46,Esq_Atual!$W$141=I46),Esq_Atual!$AD$141,0)\n+IF(AND(Esq_Atual!$BF$149=F46,Esq_Atual!$BP$149=I46),Esq_Atual!$BW$149,0)\n+IF(AND(Esq_Atual!$BF$150=F46,Esq_Atual!$BP$150=I46),Esq_Atual!$BW$150,0)\n+IF(AND(Esq_Atual!$BF$151=F46,Esq_Atual!$BP$151=I46),Esq_Atual!$BW$151,0)\n+IF(AND(Esq_Atual!$BF$152=F46,Esq_Atual!$BP$152=I46),Esq_Atual!$BW$152,0)\n+IF(AND(Esq_Atual!$BF$153=F46,Esq_Atual!$BP$153=I46),Esq_Atual!$BW$153,0)\n+IF(AND(Esq_Atual!$BF$154=F46,Esq_Atual!$BP$154=I46),Esq_Atual!$BW$154,0)\n+IF(AND(Esq_Atual!$BF$155=F46,Esq_Atual!$BP$155=I46),Esq_Atual!$BW$155,0)\n+IF(AND(Esq_Atual!$BF$156=F46,Esq_Atual!$BP$156=I46),Esq_Atual!$BW$156,0)\n+IF(AND(Esq_Atual!$BF$157=F46,Esq_Atual!$BP$157=I46),Esq_Atual!$BW$157,0)\n+IF(AND(Esq_Atual!$BF$158=F46,Esq_Atual!$BP$158=I46),Esq_Atual!$BW$158,0)\n+IF(AND(Esq_Atual!$BF$159=F46,Esq_Atual!$BP$159=I46),Esq_Atual!$BW$159,0)\n+IF(AND(Esq_Atual!$BF$160=F46,Esq_Atual!$BP$160=I46),Esq_Atual!$BW$160,0)\n+IF(AND(Esq_Atual!$BF$161=F46,Esq_Atual!$BP$161=I46),Esq_Atual!$BW$161,0)\n+IF(AND(Esq_Atual!$BF$162=F46,Esq_Atual!$BP$162=I46),Esq_Atual!$BW$162,0)\n+IF(AND(Esq_Atual!$BF$163=F46,Esq_Atual!$BP$163=I46),Esq_Atual!$BW$163,0)\n+IF(AND(Esq_Atual!$AS$193=F46,Esq_Atual!$BC$193=I46),Esq_Atual!$BJ$193,0)\n+IF(AND(Esq_Atual!$AS$194=F46,Esq_Atual!$BC$194=I46),Esq_Atual!$BJ$194,0)\n+IF(AND(Esq_Atual!$AS$195=F46,Esq_Atual!$BC$195=I46),Esq_Atual!$BJ$195,0)","v":0},{"$f":"(IF(AND(Esq_Atual!$M$127=F46,Esq_Atual!$W$127=I46),Esq_Atual!$AD$127*Esq_Atual!$AJ$127,0)\n+IF(AND(Esq_Atual!$M$128=F46,Esq_Atual!$W$128=I46),Esq_Atual!$AD$128*Esq_Atual!$AJ$128,0)\n+IF(AND(Esq_Atual!$M$129=F46,Esq_Atual!$W$129=I46),Esq_Atual!$AD$129*Esq_Atual!$AJ$129,0)\n+IF(AND(Esq_Atual!$M$130=F46,Esq_Atual!$W$130=I46),Esq_Atual!$AD$130*Esq_Atual!$AJ$130,0)\n+IF(AND(Esq_Atual!$M$131=F46,Esq_Atual!$W$131=I46),Esq_Atual!$AD$131*Esq_Atual!$AJ$131,0)\n+IF(AND(Esq_Atual!$M$132=F46,Esq_Atual!$W$132=I46),Esq_Atual!$AD$132*Esq_Atual!$AJ$132,0)\n+IF(AND(Esq_Atual!$M$133=F46,Esq_Atual!$W$133=I46),Esq_Atual!$AD$133*Esq_Atual!$AJ$133,0)\n+IF(AND(Esq_Atual!$M$134=F46,Esq_Atual!$W$134=I46),Esq_Atual!$AD$134*Esq_Atual!$AJ$134,0)\n+IF(AND(Esq_Atual!$M$135=F46,Esq_Atual!$W$135=I46),Esq_Atual!$AD$135*Esq_Atual!$AJ$135,0)\n+IF(AND(Esq_Atual!$M$136=F46,Esq_Atual!$W$136=I46),Esq_Atual!$AD$136*Esq_Atual!$AJ$136,0)\n+IF(AND(Esq_Atual!$M$137=F46,Esq_Atual!$W$137=I46),Esq_Atual!$AD$137*Esq_Atual!$AJ$137,0)\n+IF(AND(Esq_Atual!$M$138=F46,Esq_Atual!$W$138=I46),Esq_Atual!$AD$138*Esq_Atual!$AJ$138,0)\n+IF(AND(Esq_Atual!$M$139=F46,Esq_Atual!$W$139=I46),Esq_Atual!$AD$139*Esq_Atual!$AJ$139,0)\n+IF(AND(Esq_Atual!$M$140=F46,Esq_Atual!$W$140=I46),Esq_Atual!$AD$140*Esq_Atual!$AJ$140,0)\n+IF(AND(Esq_Atual!$M$141=F46,Esq_Atual!$W$141=I46),Esq_Atual!$AD$141*Esq_Atual!$AJ$141,0)\n+IF(AND(Esq_Atual!$BF$149=F46,Esq_Atual!$BP$149=I46),Esq_Atual!$BW$149*Esq_Atual!$CC$149,0)\n+IF(AND(Esq_Atual!$BF$150=F46,Esq_Atual!$BP$150=I46),Esq_Atual!$BW$150*Esq_Atual!$CC$150,0)\n+IF(AND(Esq_Atual!$BF$151=F46,Esq_Atual!$BP$151=I46),Esq_Atual!$BW$151*Esq_Atual!$CC$151,0)\n+IF(AND(Esq_Atual!$BF$152=F46,Esq_Atual!$BP$152=I46),Esq_Atual!$BW$152*Esq_Atual!$CC$152,0)\n+IF(AND(Esq_Atual!$BF$153=F46,Esq_Atual!$BP$153=I46),Esq_Atual!$BW$153*Esq_Atual!$CC$153,0)\n+IF(AND(Esq_Atual!$BF$154=F46,Esq_Atual!$BP$154=I46),Esq_Atual!$BW$154*Esq_Atual!$CC$154,0)\n+IF(AND(Esq_Atual!$BF$155=F46,Esq_Atual!$BP$155=I46),Esq_Atual!$BW$155*Esq_Atual!$CC$155,0)\n+IF(AND(Esq_Atual!$BF$156=F46,Esq_Atual!$BP$156=I46),Esq_Atual!$BW$156*Esq_Atual!$CC$156,0)\n+IF(AND(Esq_Atual!$BF$157=F46,Esq_Atual!$BP$157=I46),Esq_Atual!$BW$157*Esq_Atual!$CC$157,0)\n+IF(AND(Esq_Atual!$BF$158=F46,Esq_Atual!$BP$158=I46),Esq_Atual!$BW$158*Esq_Atual!$CC$158,0)\n+IF(AND(Esq_Atual!$BF$159=F46,Esq_Atual!$BP$159=I46),Esq_Atual!$BW$159*Esq_Atual!$CC$159,0)\n+IF(AND(Esq_Atual!$BF$160=F46,Esq_Atual!$BP$160=I46),Esq_Atual!$BW$160*Esq_Atual!$CC$160,0)\n+IF(AND(Esq_Atual!$BF$161=F46,Esq_Atual!$BP$161=I46),Esq_Atual!$BW$161*Esq_Atual!$CC$161,0)\n+IF(AND(Esq_Atual!$BF$162=F46,Esq_Atual!$BP$162=I46),Esq_Atual!$BW$162*Esq_Atual!$CC$162,0)\n+IF(AND(Esq_Atual!$BF$163=F46,Esq_Atual!$BP$163=I46),Esq_Atual!$BW$163*Esq_Atual!$CC$163,0)\n+IF(AND(Esq_Atual!$AS$193=F46,Esq_Atual!$BC$193=I46),Esq_Atual!$BJ$193*Esq_Atual!$BM$193,0)\n+IF(AND(Esq_Atual!$AS$194=F46,Esq_Atual!$BC$194=I46),Esq_Atual!$BJ$194*Esq_Atual!$BM$194,0)\n+IF(AND(Esq_Atual!$AS$195=F46,Esq_Atual!$BC$195=I46),Esq_Atual!$BJ$195*Esq_Atual!$BM$195,0))/100","v":0},{"$f":"(IF(AND(Esq_Atual!$M$127=F46,Esq_Atual!$W$127=I46),Esq_Atual!$AD$127*Esq_Atual!$AJ$127,0)\n+IF(AND(Esq_Atual!$M$128=F46,Esq_Atual!$W$128=I46),Esq_Atual!$AD$128*Esq_Atual!$AJ$128,0)\n+IF(AND(Esq_Atual!$M$129=F46,Esq_Atual!$W$129=I46),Esq_Atual!$AD$129*Esq_Atual!$AJ$129,0)\n+IF(AND(Esq_Atual!$M$130=F46,Esq_Atual!$W$130=I46),Esq_Atual!$AD$130*Esq_Atual!$AJ$130,0)\n+IF(AND(Esq_Atual!$M$131=F46,Esq_Atual!$W$131=I46),Esq_Atual!$AD$131*Esq_Atual!$AJ$131,0)\n+IF(AND(Esq_Atual!$M$132=F46,Esq_Atual!$W$132=I46),Esq_Atual!$AD$132*Esq_Atual!$AJ$132,0)\n+IF(AND(Esq_Atual!$M$133=F46,Esq_Atual!$W$133=I46),Esq_Atual!$AD$133*Esq_Atual!$AJ$133,0)\n+IF(AND(Esq_Atual!$M$134=F46,Esq_Atual!$W$134=I46),Esq_Atual!$AD$134*Esq_Atual!$AJ$134,0)\n+IF(AND(Esq_Atual!$M$135=F46,Esq_Atual!$W$135=I46),Esq_Atual!$AD$135*Esq_Atual!$AJ$135,0)\n+IF(AND(Esq_Atual!$M$136=F46,Esq_Atual!$W$136=I46),Esq_Atual!$AD$136*Esq_Atual!$AJ$136,0)\n+IF(AND(Esq_Atual!$M$137=F46,Esq_Atual!$W$137=I46),Esq_Atual!$AD$137*Esq_Atual!$AJ$137,0)\n+IF(AND(Esq_Atual!$M$138=F46,Esq_Atual!$W$138=I46),Esq_Atual!$AD$138*Esq_Atual!$AJ$138,0)\n+IF(AND(Esq_Atual!$M$139=F46,Esq_Atual!$W$139=I46),Esq_Atual!$AD$139*Esq_Atual!$AJ$139,0)\n+IF(AND(Esq_Atual!$M$140=F46,Esq_Atual!$W$140=I46),Esq_Atual!$AD$140*Esq_Atual!$AJ$140,0)\n+IF(AND(Esq_Atual!$M$141=F46,Esq_Atual!$W$141=I46),Esq_Atual!$AD$141*Esq_Atual!$AJ$141,0)\n+IF(AND(Esq_Atual!$BF$149=F46,Esq_Atual!$BP$149=I46),Esq_Atual!$BW$149*Esq_Atual!$CC$149,0)\n+IF(AND(Esq_Atual!$BF$150=F46,Esq_Atual!$BP$150=I46),Esq_Atual!$BW$150*Esq_Atual!$CC$150,0)\n+IF(AND(Esq_Atual!$BF$151=F46,Esq_Atual!$BP$151=I46),Esq_Atual!$BW$151*Esq_Atual!$CC$151,0)\n+IF(AND(Esq_Atual!$BF$152=F46,Esq_Atual!$BP$152=I46),Esq_Atual!$BW$152*Esq_Atual!$CC$152,0)\n+IF(AND(Esq_Atual!$BF$153=F46,Esq_Atual!$BP$153=I46),Esq_Atual!$BW$153*Esq_Atual!$CC$153,0)\n+IF(AND(Esq_Atual!$BF$154=F46,Esq_Atual!$BP$154=I46),Esq_Atual!$BW$154*Esq_Atual!$CC$154,0)\n+IF(AND(Esq_Atual!$BF$155=F46,Esq_Atual!$BP$155=I46),Esq_Atual!$BW$155*Esq_Atual!$CC$155,0)\n+IF(AND(Esq_Atual!$BF$156=F46,Esq_Atual!$BP$156=I46),Esq_Atual!$BW$156*Esq_Atual!$CC$156,0)\n+IF(AND(Esq_Atual!$BF$157=F46,Esq_Atual!$BP$157=I46),Esq_Atual!$BW$157*Esq_Atual!$CC$157,0)\n+IF(AND(Esq_Atual!$BF$158=F46,Esq_Atual!$BP$158=I46),Esq_Atual!$BW$158*Esq_Atual!$CC$158,0)\n+IF(AND(Esq_Atual!$BF$159=F46,Esq_Atual!$BP$159=I46),Esq_Atual!$BW$159*Esq_Atual!$CC$159,0)\n+IF(AND(Esq_Atual!$BF$160=F46,Esq_Atual!$BP$160=I46),Esq_Atual!$BW$160*Esq_Atual!$CC$160,0)\n+IF(AND(Esq_Atual!$BF$161=F46,Esq_Atual!$BP$161=I46),Esq_Atual!$BW$161*Esq_Atual!$CC$161,0)\n+IF(AND(Esq_Atual!$BF$162=F46,Esq_Atual!$BP$162=I46),Esq_Atual!$BW$162*Esq_Atual!$CC$162,0)\n+IF(AND(Esq_Atual!$BF$163=F46,Esq_Atual!$BP$163=I46),Esq_Atual!$BW$163*Esq_Atual!$CC$163,0)\n+IF(AND(Esq_Atual!$AS$193=F46,Esq_Atual!$BC$193=I46),Esq_Atual!$BJ$193*Esq_Atual!$BM$193,0)\n+IF(AND(Esq_Atual!$AS$194=F46,Esq_Atual!$BC$194=I46),Esq_Atual!$BJ$194*Esq_Atual!$BM$194,0)\n+IF(AND(Esq_Atual!$AS$195=F46,Esq_Atual!$BC$195=I46),Esq_Atual!$BJ$195*Esq_Atual!$BM$195,0))/100","v":0},{"$f":"'Preços unitários'!$T$36","v":0},null,{"$f":"+S46*U46","v":0},{"$f":"+'Modelação de custos atual'!$D$20","v":0},0,50000,0,{"$f":"'Preços unitários'!$T$40","v":0},0]
[null,null,"RECOLHA","RI/RS","Viaturas","15-23 m3 compactação placa carga lateral",null,"não instrumentadas gasóleo","gasóleo",{"$f":"+IF(AND(Esq_Atual!$M$127=F47,Esq_Atual!$W$127=I47),1,0)+IF(AND(Esq_Atual!$M$128=F47,Esq_Atual!$W$128=I47),1,0)+IF(AND(Esq_Atual!$M$129=F47,Esq_Atual!$W$129=I47),1,0)+IF(AND(Esq_Atual!$M$130=F47,Esq_Atual!$W$130=I47),1,0)+IF(AND(Esq_Atual!$M$131=F47,Esq_Atual!$W$131=I47),1,0)+IF(AND(Esq_Atual!$M$132=F47,Esq_Atual!$W$132=I47),1,0)+IF(AND(Esq_Atual!$M$133=F47,Esq_Atual!$W$133=I47),1,0)+IF(AND(Esq_Atual!$M$134=F47,Esq_Atual!$W$134=I47),1,0)+IF(AND(Esq_Atual!$M$135=F47,Esq_Atual!$W$135=I47),1,0)+IF(AND(Esq_Atual!$M$136=F47,Esq_Atual!$W$136=I47),1,0)+IF(AND(Esq_Atual!$M$137=F47,Esq_Atual!$W$137=I47),1,0)+IF(AND(Esq_Atual!$M$138=F47,Esq_Atual!$W$138=I47),1,0)+IF(AND(Esq_Atual!$M$139=F47,Esq_Atual!$W$139=I47),1,0)+IF(AND(Esq_Atual!$M$140=F47,Esq_Atual!$W$140=I47),1,0)+IF(AND(Esq_Atual!$M$141=F47,Esq_Atual!$W$141=I47),1,0)+IF(AND(Esq_Atual!$BF$149=F47,Esq_Atual!$BP$149=I47),1,0)+IF(AND(Esq_Atual!$BF$150=F47,Esq_Atual!$BP$150=I47),1,0)+IF(AND(Esq_Atual!$BF$151=F47,Esq_Atual!$BP$151=I47),1,0)+IF(AND(Esq_Atual!$BF$152=F47,Esq_Atual!$BP$152=I47),1,0)+IF(AND(Esq_Atual!$BF$153=F47,Esq_Atual!$BP$153=I47),1,0)+IF(AND(Esq_Atual!$BF$154=F47,Esq_Atual!$BP$154=I47),1,0)+IF(AND(Esq_Atual!$BF$155=F47,Esq_Atual!$BP$155=I47),1,0)+IF(AND(Esq_Atual!$BF$156=F47,Esq_Atual!$BP$156=I47),1,0)+IF(AND(Esq_Atual!$BF$157=F47,Esq_Atual!$BP$157=I47),1,0)+IF(AND(Esq_Atual!$BF$158=F47,Esq_Atual!$BP$158=I47),1,0)+IF(AND(Esq_Atual!$BF$159=F47,Esq_Atual!$BP$159=I47),1,0)+IF(AND(Esq_Atual!$BF$160=F47,Esq_Atual!$BP$160=I47),1,0)+IF(AND(Esq_Atual!$BF$161=F47,Esq_Atual!$BP$161=I47),1,0)+IF(AND(Esq_Atual!$BF$162=F47,Esq_Atual!$BP$162=I47),1,0)+IF(AND(Esq_Atual!$BF$163=F47,Esq_Atual!$BP$163=I47),1,0)","v":0},{"$f":"'Preços unitários'!$M$30","v":0},0,8,0,null,null,null,{"$f":"+IF(AND(Esq_Atual!$M$127=F47,Esq_Atual!$W$127=I47),Esq_Atual!$AD$127,0)\n+IF(AND(Esq_Atual!$M$128=F47,Esq_Atual!$W$128=I47),Esq_Atual!$AD$128,0)\n+IF(AND(Esq_Atual!$M$129=F47,Esq_Atual!$W$129=I47),Esq_Atual!$AD$129,0)\n+IF(AND(Esq_Atual!$M$130=F47,Esq_Atual!$W$130=I47),Esq_Atual!$AD$130,0)\n+IF(AND(Esq_Atual!$M$131=F47,Esq_Atual!$W$131=I47),Esq_Atual!$AD$131,0)\n+IF(AND(Esq_Atual!$M$132=F47,Esq_Atual!$W$132=I47),Esq_Atual!$AD$132,0)\n+IF(AND(Esq_Atual!$M$133=F47,Esq_Atual!$W$133=I47),Esq_Atual!$AD$133,0)\n+IF(AND(Esq_Atual!$M$134=F47,Esq_Atual!$W$134=I47),Esq_Atual!$AD$134,0)\n+IF(AND(Esq_Atual!$M$135=F47,Esq_Atual!$W$135=I47),Esq_Atual!$AD$135,0)\n+IF(AND(Esq_Atual!$M$136=F47,Esq_Atual!$W$136=I47),Esq_Atual!$AD$136,0)\n+IF(AND(Esq_Atual!$M$137=F47,Esq_Atual!$W$137=I47),Esq_Atual!$AD$137,0)\n+IF(AND(Esq_Atual!$M$138=F47,Esq_Atual!$W$138=I47),Esq_Atual!$AD$138,0)\n+IF(AND(Esq_Atual!$M$139=F47,Esq_Atual!$W$139=I47),Esq_Atual!$AD$139,0)\n+IF(AND(Esq_Atual!$M$140=F47,Esq_Atual!$W$140=I47),Esq_Atual!$AD$140,0)\n+IF(AND(Esq_Atual!$M$141=F47,Esq_Atual!$W$141=I47),Esq_Atual!$AD$141,0)\n+IF(AND(Esq_Atual!$BF$149=F47,Esq_Atual!$BP$149=I47),Esq_Atual!$BW$149,0)\n+IF(AND(Esq_Atual!$BF$150=F47,Esq_Atual!$BP$150=I47),Esq_Atual!$BW$150,0)\n+IF(AND(Esq_Atual!$BF$151=F47,Esq_Atual!$BP$151=I47),Esq_Atual!$BW$151,0)\n+IF(AND(Esq_Atual!$BF$152=F47,Esq_Atual!$BP$152=I47),Esq_Atual!$BW$152,0)\n+IF(AND(Esq_Atual!$BF$153=F47,Esq_Atual!$BP$153=I47),Esq_Atual!$BW$153,0)\n+IF(AND(Esq_Atual!$BF$154=F47,Esq_Atual!$BP$154=I47),Esq_Atual!$BW$154,0)\n+IF(AND(Esq_Atual!$BF$155=F47,Esq_Atual!$BP$155=I47),Esq_Atual!$BW$155,0)\n+IF(AND(Esq_Atual!$BF$156=F47,Esq_Atual!$BP$156=I47),Esq_Atual!$BW$156,0)\n+IF(AND(Esq_Atual!$BF$157=F47,Esq_Atual!$BP$157=I47),Esq_Atual!$BW$157,0)\n+IF(AND(Esq_Atual!$BF$158=F47,Esq_Atual!$BP$158=I47),Esq_Atual!$BW$158,0)\n+IF(AND(Esq_Atual!$BF$159=F47,Esq_Atual!$BP$159=I47),Esq_Atual!$BW$159,0)\n+IF(AND(Esq_Atual!$BF$160=F47,Esq_Atual!$BP$160=I47),Esq_Atual!$BW$160,0)\n+IF(AND(Esq_Atual!$BF$161=F47,Esq_Atual!$BP$161=I47),Esq_Atual!$BW$161,0)\n+IF(AND(Esq_Atual!$BF$162=F47,Esq_Atual!$BP$162=I47),Esq_Atual!$BW$162,0)\n+IF(AND(Esq_Atual!$BF$163=F47,Esq_Atual!$BP$163=I47),Esq_Atual!$BW$163,0)\n+IF(AND(Esq_Atual!$AS$193=F47,Esq_Atual!$BC$193=I47),Esq_Atual!$BJ$193,0)\n+IF(AND(Esq_Atual!$AS$194=F47,Esq_Atual!$BC$194=I47),Esq_Atual!$BJ$194,0)\n+IF(AND(Esq_Atual!$AS$195=F47,Esq_Atual!$BC$195=I47),Esq_Atual!$BJ$195,0)","v":0},{"$f":"(IF(AND(Esq_Atual!$M$127=F47,Esq_Atual!$W$127=I47),Esq_Atual!$AD$127*Esq_Atual!$AJ$127,0)\n+IF(AND(Esq_Atual!$M$128=F47,Esq_Atual!$W$128=I47),Esq_Atual!$AD$128*Esq_Atual!$AJ$128,0)\n+IF(AND(Esq_Atual!$M$129=F47,Esq_Atual!$W$129=I47),Esq_Atual!$AD$129*Esq_Atual!$AJ$129,0)\n+IF(AND(Esq_Atual!$M$130=F47,Esq_Atual!$W$130=I47),Esq_Atual!$AD$130*Esq_Atual!$AJ$130,0)\n+IF(AND(Esq_Atual!$M$131=F47,Esq_Atual!$W$131=I47),Esq_Atual!$AD$131*Esq_Atual!$AJ$131,0)\n+IF(AND(Esq_Atual!$M$132=F47,Esq_Atual!$W$132=I47),Esq_Atual!$AD$132*Esq_Atual!$AJ$132,0)\n+IF(AND(Esq_Atual!$M$133=F47,Esq_Atual!$W$133=I47),Esq_Atual!$AD$133*Esq_Atual!$AJ$133,0)\n+IF(AND(Esq_Atual!$M$134=F47,Esq_Atual!$W$134=I47),Esq_Atual!$AD$134*Esq_Atual!$AJ$134,0)\n+IF(AND(Esq_Atual!$M$135=F47,Esq_Atual!$W$135=I47),Esq_Atual!$AD$135*Esq_Atual!$AJ$135,0)\n+IF(AND(Esq_Atual!$M$136=F47,Esq_Atual!$W$136=I47),Esq_Atual!$AD$136*Esq_Atual!$AJ$136,0)\n+IF(AND(Esq_Atual!$M$137=F47,Esq_Atual!$W$137=I47),Esq_Atual!$AD$137*Esq_Atual!$AJ$137,0)\n+IF(AND(Esq_Atual!$M$138=F47,Esq_Atual!$W$138=I47),Esq_Atual!$AD$138*Esq_Atual!$AJ$138,0)\n+IF(AND(Esq_Atual!$M$139=F47,Esq_Atual!$W$139=I47),Esq_Atual!$AD$139*Esq_Atual!$AJ$139,0)\n+IF(AND(Esq_Atual!$M$140=F47,Esq_Atual!$W$140=I47),Esq_Atual!$AD$140*Esq_Atual!$AJ$140,0)\n+IF(AND(Esq_Atual!$M$141=F47,Esq_Atual!$W$141=I47),Esq_Atual!$AD$141*Esq_Atual!$AJ$141,0)\n+IF(AND(Esq_Atual!$BF$149=F47,Esq_Atual!$BP$149=I47),Esq_Atual!$BW$149*Esq_Atual!$CC$149,0)\n+IF(AND(Esq_Atual!$BF$150=F47,Esq_Atual!$BP$150=I47),Esq_Atual!$BW$150*Esq_Atual!$CC$150,0)\n+IF(AND(Esq_Atual!$BF$151=F47,Esq_Atual!$BP$151=I47),Esq_Atual!$BW$151*Esq_Atual!$CC$151,0)\n+IF(AND(Esq_Atual!$BF$152=F47,Esq_Atual!$BP$152=I47),Esq_Atual!$BW$152*Esq_Atual!$CC$152,0)\n+IF(AND(Esq_Atual!$BF$153=F47,Esq_Atual!$BP$153=I47),Esq_Atual!$BW$153*Esq_Atual!$CC$153,0)\n+IF(AND(Esq_Atual!$BF$154=F47,Esq_Atual!$BP$154=I47),Esq_Atual!$BW$154*Esq_Atual!$CC$154,0)\n+IF(AND(Esq_Atual!$BF$155=F47,Esq_Atual!$BP$155=I47),Esq_Atual!$BW$155*Esq_Atual!$CC$155,0)\n+IF(AND(Esq_Atual!$BF$156=F47,Esq_Atual!$BP$156=I47),Esq_Atual!$BW$156*Esq_Atual!$CC$156,0)\n+IF(AND(Esq_Atual!$BF$157=F47,Esq_Atual!$BP$157=I47),Esq_Atual!$BW$157*Esq_Atual!$CC$157,0)\n+IF(AND(Esq_Atual!$BF$158=F47,Esq_Atual!$BP$158=I47),Esq_Atual!$BW$158*Esq_Atual!$CC$158,0)\n+IF(AND(Esq_Atual!$BF$159=F47,Esq_Atual!$BP$159=I47),Esq_Atual!$BW$159*Esq_Atual!$CC$159,0)\n+IF(AND(Esq_Atual!$BF$160=F47,Esq_Atual!$BP$160=I47),Esq_Atual!$BW$160*Esq_Atual!$CC$160,0)\n+IF(AND(Esq_Atual!$BF$161=F47,Esq_Atual!$BP$161=I47),Esq_Atual!$BW$161*Esq_Atual!$CC$161,0)\n+IF(AND(Esq_Atual!$BF$162=F47,Esq_Atual!$BP$162=I47),Esq_Atual!$BW$162*Esq_Atual!$CC$162,0)\n+IF(AND(Esq_Atual!$BF$163=F47,Esq_Atual!$BP$163=I47),Esq_Atual!$BW$163*Esq_Atual!$CC$163,0)\n+IF(AND(Esq_Atual!$AS$193=F47,Esq_Atual!$BC$193=I47),Esq_Atual!$BJ$193*Esq_Atual!$BM$193,0)\n+IF(AND(Esq_Atual!$AS$194=F47,Esq_Atual!$BC$194=I47),Esq_Atual!$BJ$194*Esq_Atual!$BM$194,0)\n+IF(AND(Esq_Atual!$AS$195=F47,Esq_Atual!$BC$195=I47),Esq_Atual!$BJ$195*Esq_Atual!$BM$195,0))/100","v":0},{"$f":"(IF(AND(Esq_Atual!$M$127=F47,Esq_Atual!$W$127=I47),Esq_Atual!$AD$127*Esq_Atual!$AJ$127,0)\n+IF(AND(Esq_Atual!$M$128=F47,Esq_Atual!$W$128=I47),Esq_Atual!$AD$128*Esq_Atual!$AJ$128,0)\n+IF(AND(Esq_Atual!$M$129=F47,Esq_Atual!$W$129=I47),Esq_Atual!$AD$129*Esq_Atual!$AJ$129,0)\n+IF(AND(Esq_Atual!$M$130=F47,Esq_Atual!$W$130=I47),Esq_Atual!$AD$130*Esq_Atual!$AJ$130,0)\n+IF(AND(Esq_Atual!$M$131=F47,Esq_Atual!$W$131=I47),Esq_Atual!$AD$131*Esq_Atual!$AJ$131,0)\n+IF(AND(Esq_Atual!$M$132=F47,Esq_Atual!$W$132=I47),Esq_Atual!$AD$132*Esq_Atual!$AJ$132,0)\n+IF(AND(Esq_Atual!$M$133=F47,Esq_Atual!$W$133=I47),Esq_Atual!$AD$133*Esq_Atual!$AJ$133,0)\n+IF(AND(Esq_Atual!$M$134=F47,Esq_Atual!$W$134=I47),Esq_Atual!$AD$134*Esq_Atual!$AJ$134,0)\n+IF(AND(Esq_Atual!$M$135=F47,Esq_Atual!$W$135=I47),Esq_Atual!$AD$135*Esq_Atual!$AJ$135,0)\n+IF(AND(Esq_Atual!$M$136=F47,Esq_Atual!$W$136=I47),Esq_Atual!$AD$136*Esq_Atual!$AJ$136,0)\n+IF(AND(Esq_Atual!$M$137=F47,Esq_Atual!$W$137=I47),Esq_Atual!$AD$137*Esq_Atual!$AJ$137,0)\n+IF(AND(Esq_Atual!$M$138=F47,Esq_Atual!$W$138=I47),Esq_Atual!$AD$138*Esq_Atual!$AJ$138,0)\n+IF(AND(Esq_Atual!$M$139=F47,Esq_Atual!$W$139=I47),Esq_Atual!$AD$139*Esq_Atual!$AJ$139,0)\n+IF(AND(Esq_Atual!$M$140=F47,Esq_Atual!$W$140=I47),Esq_Atual!$AD$140*Esq_Atual!$AJ$140,0)\n+IF(AND(Esq_Atual!$M$141=F47,Esq_Atual!$W$141=I47),Esq_Atual!$AD$141*Esq_Atual!$AJ$141,0)\n+IF(AND(Esq_Atual!$BF$149=F47,Esq_Atual!$BP$149=I47),Esq_Atual!$BW$149*Esq_Atual!$CC$149,0)\n+IF(AND(Esq_Atual!$BF$150=F47,Esq_Atual!$BP$150=I47),Esq_Atual!$BW$150*Esq_Atual!$CC$150,0)\n+IF(AND(Esq_Atual!$BF$151=F47,Esq_Atual!$BP$151=I47),Esq_Atual!$BW$151*Esq_Atual!$CC$151,0)\n+IF(AND(Esq_Atual!$BF$152=F47,Esq_Atual!$BP$152=I47),Esq_Atual!$BW$152*Esq_Atual!$CC$152,0)\n+IF(AND(Esq_Atual!$BF$153=F47,Esq_Atual!$BP$153=I47),Esq_Atual!$BW$153*Esq_Atual!$CC$153,0)\n+IF(AND(Esq_Atual!$BF$154=F47,Esq_Atual!$BP$154=I47),Esq_Atual!$BW$154*Esq_Atual!$CC$154,0)\n+IF(AND(Esq_Atual!$BF$155=F47,Esq_Atual!$BP$155=I47),Esq_Atual!$BW$155*Esq_Atual!$CC$155,0)\n+IF(AND(Esq_Atual!$BF$156=F47,Esq_Atual!$BP$156=I47),Esq_Atual!$BW$156*Esq_Atual!$CC$156,0)\n+IF(AND(Esq_Atual!$BF$157=F47,Esq_Atual!$BP$157=I47),Esq_Atual!$BW$157*Esq_Atual!$CC$157,0)\n+IF(AND(Esq_Atual!$BF$158=F47,Esq_Atual!$BP$158=I47),Esq_Atual!$BW$158*Esq_Atual!$CC$158,0)\n+IF(AND(Esq_Atual!$BF$159=F47,Esq_Atual!$BP$159=I47),Esq_Atual!$BW$159*Esq_Atual!$CC$159,0)\n+IF(AND(Esq_Atual!$BF$160=F47,Esq_Atual!$BP$160=I47),Esq_Atual!$BW$160*Esq_Atual!$CC$160,0)\n+IF(AND(Esq_Atual!$BF$161=F47,Esq_Atual!$BP$161=I47),Esq_Atual!$BW$161*Esq_Atual!$CC$161,0)\n+IF(AND(Esq_Atual!$BF$162=F47,Esq_Atual!$BP$162=I47),Esq_Atual!$BW$162*Esq_Atual!$CC$162,0)\n+IF(AND(Esq_Atual!$BF$163=F47,Esq_Atual!$BP$163=I47),Esq_Atual!$BW$163*Esq_Atual!$CC$163,0)\n+IF(AND(Esq_Atual!$AS$193=F47,Esq_Atual!$BC$193=I47),Esq_Atual!$BJ$193*Esq_Atual!$BM$193,0)\n+IF(AND(Esq_Atual!$AS$194=F47,Esq_Atual!$BC$194=I47),Esq_Atual!$BJ$194*Esq_Atual!$BM$194,0)\n+IF(AND(Esq_Atual!$AS$195=F47,Esq_Atual!$BC$195=I47),Esq_Atual!$BJ$195*Esq_Atual!$BM$195,0))/100","v":0},{"$f":"'Preços unitários'!$T$34","v":0},null,{"$f":"+S47*U47","v":0},{"$f":"+'Modelação de custos atual'!$D$20","v":0},0,50000,0,{"$f":"'Preços unitários'!$T$40","v":0},0]
[null,null,"RECOLHA","RI/RS","Viaturas","15-23 m3 compactação placa carga lateral",null,"não instrumentadas elétrica","elétrica",{"$f":"+IF(AND(Esq_Atual!$M$127=F48,Esq_Atual!$W$127=I48),1,0)+IF(AND(Esq_Atual!$M$128=F48,Esq_Atual!$W$128=I48),1,0)+IF(AND(Esq_Atual!$M$129=F48,Esq_Atual!$W$129=I48),1,0)+IF(AND(Esq_Atual!$M$130=F48,Esq_Atual!$W$130=I48),1,0)+IF(AND(Esq_Atual!$M$131=F48,Esq_Atual!$W$131=I48),1,0)+IF(AND(Esq_Atual!$M$132=F48,Esq_Atual!$W$132=I48),1,0)+IF(AND(Esq_Atual!$M$133=F48,Esq_Atual!$W$133=I48),1,0)+IF(AND(Esq_Atual!$M$134=F48,Esq_Atual!$W$134=I48),1,0)+IF(AND(Esq_Atual!$M$135=F48,Esq_Atual!$W$135=I48),1,0)+IF(AND(Esq_Atual!$M$136=F48,Esq_Atual!$W$136=I48),1,0)+IF(AND(Esq_Atual!$M$137=F48,Esq_Atual!$W$137=I48),1,0)+IF(AND(Esq_Atual!$M$138=F48,Esq_Atual!$W$138=I48),1,0)+IF(AND(Esq_Atual!$M$139=F48,Esq_Atual!$W$139=I48),1,0)+IF(AND(Esq_Atual!$M$140=F48,Esq_Atual!$W$140=I48),1,0)+IF(AND(Esq_Atual!$M$141=F48,Esq_Atual!$W$141=I48),1,0)+IF(AND(Esq_Atual!$BF$149=F48,Esq_Atual!$BP$149=I48),1,0)+IF(AND(Esq_Atual!$BF$150=F48,Esq_Atual!$BP$150=I48),1,0)+IF(AND(Esq_Atual!$BF$151=F48,Esq_Atual!$BP$151=I48),1,0)+IF(AND(Esq_Atual!$BF$152=F48,Esq_Atual!$BP$152=I48),1,0)+IF(AND(Esq_Atual!$BF$153=F48,Esq_Atual!$BP$153=I48),1,0)+IF(AND(Esq_Atual!$BF$154=F48,Esq_Atual!$BP$154=I48),1,0)+IF(AND(Esq_Atual!$BF$155=F48,Esq_Atual!$BP$155=I48),1,0)+IF(AND(Esq_Atual!$BF$156=F48,Esq_Atual!$BP$156=I48),1,0)+IF(AND(Esq_Atual!$BF$157=F48,Esq_Atual!$BP$157=I48),1,0)+IF(AND(Esq_Atual!$BF$158=F48,Esq_Atual!$BP$158=I48),1,0)+IF(AND(Esq_Atual!$BF$159=F48,Esq_Atual!$BP$159=I48),1,0)+IF(AND(Esq_Atual!$BF$160=F48,Esq_Atual!$BP$160=I48),1,0)+IF(AND(Esq_Atual!$BF$161=F48,Esq_Atual!$BP$161=I48),1,0)+IF(AND(Esq_Atual!$BF$162=F48,Esq_Atual!$BP$162=I48),1,0)+IF(AND(Esq_Atual!$BF$163=F48,Esq_Atual!$BP$163=I48),1,0)","v":0},{"$f":"'Preços unitários'!$M$31","v":0},0,8,0,null,null,null,{"$f":"+IF(AND(Esq_Atual!$M$127=F48,Esq_Atual!$W$127=I48),Esq_Atual!$AD$127,0)\n+IF(AND(Esq_Atual!$M$128=F48,Esq_Atual!$W$128=I48),Esq_Atual!$AD$128,0)\n+IF(AND(Esq_Atual!$M$129=F48,Esq_Atual!$W$129=I48),Esq_Atual!$AD$129,0)\n+IF(AND(Esq_Atual!$M$130=F48,Esq_Atual!$W$130=I48),Esq_Atual!$AD$130,0)\n+IF(AND(Esq_Atual!$M$131=F48,Esq_Atual!$W$131=I48),Esq_Atual!$AD$131,0)\n+IF(AND(Esq_Atual!$M$132=F48,Esq_Atual!$W$132=I48),Esq_Atual!$AD$132,0)\n+IF(AND(Esq_Atual!$M$133=F48,Esq_Atual!$W$133=I48),Esq_Atual!$AD$133,0)\n+IF(AND(Esq_Atual!$M$134=F48,Esq_Atual!$W$134=I48),Esq_Atual!$AD$134,0)\n+IF(AND(Esq_Atual!$M$135=F48,Esq_Atual!$W$135=I48),Esq_Atual!$AD$135,0)\n+IF(AND(Esq_Atual!$M$136=F48,Esq_Atual!$W$136=I48),Esq_Atual!$AD$136,0)\n+IF(AND(Esq_Atual!$M$137=F48,Esq_Atual!$W$137=I48),Esq_Atual!$AD$137,0)\n+IF(AND(Esq_Atual!$M$138=F48,Esq_Atual!$W$138=I48),Esq_Atual!$AD$138,0)\n+IF(AND(Esq_Atual!$M$139=F48,Esq_Atual!$W$139=I48),Esq_Atual!$AD$139,0)\n+IF(AND(Esq_Atual!$M$140=F48,Esq_Atual!$W$140=I48),Esq_Atual!$AD$140,0)\n+IF(AND(Esq_Atual!$M$141=F48,Esq_Atual!$W$141=I48),Esq_Atual!$AD$141,0)\n+IF(AND(Esq_Atual!$BF$149=F48,Esq_Atual!$BP$149=I48),Esq_Atual!$BW$149,0)\n+IF(AND(Esq_Atual!$BF$150=F48,Esq_Atual!$BP$150=I48),Esq_Atual!$BW$150,0)\n+IF(AND(Esq_Atual!$BF$151=F48,Esq_Atual!$BP$151=I48),Esq_Atual!$BW$151,0)\n+IF(AND(Esq_Atual!$BF$152=F48,Esq_Atual!$BP$152=I48),Esq_Atual!$BW$152,0)\n+IF(AND(Esq_Atual!$BF$153=F48,Esq_Atual!$BP$153=I48),Esq_Atual!$BW$153,0)\n+IF(AND(Esq_Atual!$BF$154=F48,Esq_Atual!$BP$154=I48),Esq_Atual!$BW$154,0)\n+IF(AND(Esq_Atual!$BF$155=F48,Esq_Atual!$BP$155=I48),Esq_Atual!$BW$155,0)\n+IF(AND(Esq_Atual!$BF$156=F48,Esq_Atual!$BP$156=I48),Esq_Atual!$BW$156,0)\n+IF(AND(Esq_Atual!$BF$157=F48,Esq_Atual!$BP$157=I48),Esq_Atual!$BW$157,0)\n+IF(AND(Esq_Atual!$BF$158=F48,Esq_Atual!$BP$158=I48),Esq_Atual!$BW$158,0)\n+IF(AND(Esq_Atual!$BF$159=F48,Esq_Atual!$BP$159=I48),Esq_Atual!$BW$159,0)\n+IF(AND(Esq_Atual!$BF$160=F48,Esq_Atual!$BP$160=I48),Esq_Atual!$BW$160,0)\n+IF(AND(Esq_Atual!$BF$161=F48,Esq_Atual!$BP$161=I48),Esq_Atual!$BW$161,0)\n+IF(AND(Esq_Atual!$BF$162=F48,Esq_Atual!$BP$162=I48),Esq_Atual!$BW$162,0)\n+IF(AND(Esq_Atual!$BF$163=F48,Esq_Atual!$BP$163=I48),Esq_Atual!$BW$163,0)\n+IF(AND(Esq_Atual!$AS$193=F48,Esq_Atual!$BC$193=I48),Esq_Atual!$BJ$193,0)\n+IF(AND(Esq_Atual!$AS$194=F48,Esq_Atual!$BC$194=I48),Esq_Atual!$BJ$194,0)\n+IF(AND(Esq_Atual!$AS$195=F48,Esq_Atual!$BC$195=I48),Esq_Atual!$BJ$195,0)","v":0},{"$f":"(IF(AND(Esq_Atual!$M$127=F48,Esq_Atual!$W$127=I48),Esq_Atual!$AD$127*Esq_Atual!$AJ$127,0)\n+IF(AND(Esq_Atual!$M$128=F48,Esq_Atual!$W$128=I48),Esq_Atual!$AD$128*Esq_Atual!$AJ$128,0)\n+IF(AND(Esq_Atual!$M$129=F48,Esq_Atual!$W$129=I48),Esq_Atual!$AD$129*Esq_Atual!$AJ$129,0)\n+IF(AND(Esq_Atual!$M$130=F48,Esq_Atual!$W$130=I48),Esq_Atual!$AD$130*Esq_Atual!$AJ$130,0)\n+IF(AND(Esq_Atual!$M$131=F48,Esq_Atual!$W$131=I48),Esq_Atual!$AD$131*Esq_Atual!$AJ$131,0)\n+IF(AND(Esq_Atual!$M$132=F48,Esq_Atual!$W$132=I48),Esq_Atual!$AD$132*Esq_Atual!$AJ$132,0)\n+IF(AND(Esq_Atual!$M$133=F48,Esq_Atual!$W$133=I48),Esq_Atual!$AD$133*Esq_Atual!$AJ$133,0)\n+IF(AND(Esq_Atual!$M$134=F48,Esq_Atual!$W$134=I48),Esq_Atual!$AD$134*Esq_Atual!$AJ$134,0)\n+IF(AND(Esq_Atual!$M$135=F48,Esq_Atual!$W$135=I48),Esq_Atual!$AD$135*Esq_Atual!$AJ$135,0)\n+IF(AND(Esq_Atual!$M$136=F48,Esq_Atual!$W$136=I48),Esq_Atual!$AD$136*Esq_Atual!$AJ$136,0)\n+IF(AND(Esq_Atual!$M$137=F48,Esq_Atual!$W$137=I48),Esq_Atual!$AD$137*Esq_Atual!$AJ$137,0)\n+IF(AND(Esq_Atual!$M$138=F48,Esq_Atual!$W$138=I48),Esq_Atual!$AD$138*Esq_Atual!$AJ$138,0)\n+IF(AND(Esq_Atual!$M$139=F48,Esq_Atual!$W$139=I48),Esq_Atual!$AD$139*Esq_Atual!$AJ$139,0)\n+IF(AND(Esq_Atual!$M$140=F48,Esq_Atual!$W$140=I48),Esq_Atual!$AD$140*Esq_Atual!$AJ$140,0)\n+IF(AND(Esq_Atual!$M$141=F48,Esq_Atual!$W$141=I48),Esq_Atual!$AD$141*Esq_Atual!$AJ$141,0)\n+IF(AND(Esq_Atual!$BF$149=F48,Esq_Atual!$BP$149=I48),Esq_Atual!$BW$149*Esq_Atual!$CC$149,0)\n+IF(AND(Esq_Atual!$BF$150=F48,Esq_Atual!$BP$150=I48),Esq_Atual!$BW$150*Esq_Atual!$CC$150,0)\n+IF(AND(Esq_Atual!$BF$151=F48,Esq_Atual!$BP$151=I48),Esq_Atual!$BW$151*Esq_Atual!$CC$151,0)\n+IF(AND(Esq_Atual!$BF$152=F48,Esq_Atual!$BP$152=I48),Esq_Atual!$BW$152*Esq_Atual!$CC$152,0)\n+IF(AND(Esq_Atual!$BF$153=F48,Esq_Atual!$BP$153=I48),Esq_Atual!$BW$153*Esq_Atual!$CC$153,0)\n+IF(AND(Esq_Atual!$BF$154=F48,Esq_Atual!$BP$154=I48),Esq_Atual!$BW$154*Esq_Atual!$CC$154,0)\n+IF(AND(Esq_Atual!$BF$155=F48,Esq_Atual!$BP$155=I48),Esq_Atual!$BW$155*Esq_Atual!$CC$155,0)\n+IF(AND(Esq_Atual!$BF$156=F48,Esq_Atual!$BP$156=I48),Esq_Atual!$BW$156*Esq_Atual!$CC$156,0)\n+IF(AND(Esq_Atual!$BF$157=F48,Esq_Atual!$BP$157=I48),Esq_Atual!$BW$157*Esq_Atual!$CC$157,0)\n+IF(AND(Esq_Atual!$BF$158=F48,Esq_Atual!$BP$158=I48),Esq_Atual!$BW$158*Esq_Atual!$CC$158,0)\n+IF(AND(Esq_Atual!$BF$159=F48,Esq_Atual!$BP$159=I48),Esq_Atual!$BW$159*Esq_Atual!$CC$159,0)\n+IF(AND(Esq_Atual!$BF$160=F48,Esq_Atual!$BP$160=I48),Esq_Atual!$BW$160*Esq_Atual!$CC$160,0)\n+IF(AND(Esq_Atual!$BF$161=F48,Esq_Atual!$BP$161=I48),Esq_Atual!$BW$161*Esq_Atual!$CC$161,0)\n+IF(AND(Esq_Atual!$BF$162=F48,Esq_Atual!$BP$162=I48),Esq_Atual!$BW$162*Esq_Atual!$CC$162,0)\n+IF(AND(Esq_Atual!$BF$163=F48,Esq_Atual!$BP$163=I48),Esq_Atual!$BW$163*Esq_Atual!$CC$163,0)\n+IF(AND(Esq_Atual!$AS$193=F48,Esq_Atual!$BC$193=I48),Esq_Atual!$BJ$193*Esq_Atual!$BM$193,0)\n+IF(AND(Esq_Atual!$AS$194=F48,Esq_Atual!$BC$194=I48),Esq_Atual!$BJ$194*Esq_Atual!$BM$194,0)\n+IF(AND(Esq_Atual!$AS$195=F48,Esq_Atual!$BC$195=I48),Esq_Atual!$BJ$195*Esq_Atual!$BM$195,0))/100","v":0},{"$f":"(IF(AND(Esq_Atual!$M$127=F48,Esq_Atual!$W$127=I48),Esq_Atual!$AD$127*Esq_Atual!$AJ$127,0)\n+IF(AND(Esq_Atual!$M$128=F48,Esq_Atual!$W$128=I48),Esq_Atual!$AD$128*Esq_Atual!$AJ$128,0)\n+IF(AND(Esq_Atual!$M$129=F48,Esq_Atual!$W$129=I48),Esq_Atual!$AD$129*Esq_Atual!$AJ$129,0)\n+IF(AND(Esq_Atual!$M$130=F48,Esq_Atual!$W$130=I48),Esq_Atual!$AD$130*Esq_Atual!$AJ$130,0)\n+IF(AND(Esq_Atual!$M$131=F48,Esq_Atual!$W$131=I48),Esq_Atual!$AD$131*Esq_Atual!$AJ$131,0)\n+IF(AND(Esq_Atual!$M$132=F48,Esq_Atual!$W$132=I48),Esq_Atual!$AD$132*Esq_Atual!$AJ$132,0)\n+IF(AND(Esq_Atual!$M$133=F48,Esq_Atual!$W$133=I48),Esq_Atual!$AD$133*Esq_Atual!$AJ$133,0)\n+IF(AND(Esq_Atual!$M$134=F48,Esq_Atual!$W$134=I48),Esq_Atual!$AD$134*Esq_Atual!$AJ$134,0)\n+IF(AND(Esq_Atual!$M$135=F48,Esq_Atual!$W$135=I48),Esq_Atual!$AD$135*Esq_Atual!$AJ$135,0)\n+IF(AND(Esq_Atual!$M$136=F48,Esq_Atual!$W$136=I48),Esq_Atual!$AD$136*Esq_Atual!$AJ$136,0)\n+IF(AND(Esq_Atual!$M$137=F48,Esq_Atual!$W$137=I48),Esq_Atual!$AD$137*Esq_Atual!$AJ$137,0)\n+IF(AND(Esq_Atual!$M$138=F48,Esq_Atual!$W$138=I48),Esq_Atual!$AD$138*Esq_Atual!$AJ$138,0)\n+IF(AND(Esq_Atual!$M$139=F48,Esq_Atual!$W$139=I48),Esq_Atual!$AD$139*Esq_Atual!$AJ$139,0)\n+IF(AND(Esq_Atual!$M$140=F48,Esq_Atual!$W$140=I48),Esq_Atual!$AD$140*Esq_Atual!$AJ$140,0)\n+IF(AND(Esq_Atual!$M$141=F48,Esq_Atual!$W$141=I48),Esq_Atual!$AD$141*Esq_Atual!$AJ$141,0)\n+IF(AND(Esq_Atual!$BF$149=F48,Esq_Atual!$BP$149=I48),Esq_Atual!$BW$149*Esq_Atual!$CC$149,0)\n+IF(AND(Esq_Atual!$BF$150=F48,Esq_Atual!$BP$150=I48),Esq_Atual!$BW$150*Esq_Atual!$CC$150,0)\n+IF(AND(Esq_Atual!$BF$151=F48,Esq_Atual!$BP$151=I48),Esq_Atual!$BW$151*Esq_Atual!$CC$151,0)\n+IF(AND(Esq_Atual!$BF$152=F48,Esq_Atual!$BP$152=I48),Esq_Atual!$BW$152*Esq_Atual!$CC$152,0)\n+IF(AND(Esq_Atual!$BF$153=F48,Esq_Atual!$BP$153=I48),Esq_Atual!$BW$153*Esq_Atual!$CC$153,0)\n+IF(AND(Esq_Atual!$BF$154=F48,Esq_Atual!$BP$154=I48),Esq_Atual!$BW$154*Esq_Atual!$CC$154,0)\n+IF(AND(Esq_Atual!$BF$155=F48,Esq_Atual!$BP$155=I48),Esq_Atual!$BW$155*Esq_Atual!$CC$155,0)\n+IF(AND(Esq_Atual!$BF$156=F48,Esq_Atual!$BP$156=I48),Esq_Atual!$BW$156*Esq_Atual!$CC$156,0)\n+IF(AND(Esq_Atual!$BF$157=F48,Esq_Atual!$BP$157=I48),Esq_Atual!$BW$157*Esq_Atual!$CC$157,0)\n+IF(AND(Esq_Atual!$BF$158=F48,Esq_Atual!$BP$158=I48),Esq_Atual!$BW$158*Esq_Atual!$CC$158,0)\n+IF(AND(Esq_Atual!$BF$159=F48,Esq_Atual!$BP$159=I48),Esq_Atual!$BW$159*Esq_Atual!$CC$159,0)\n+IF(AND(Esq_Atual!$BF$160=F48,Esq_Atual!$BP$160=I48),Esq_Atual!$BW$160*Esq_Atual!$CC$160,0)\n+IF(AND(Esq_Atual!$BF$161=F48,Esq_Atual!$BP$161=I48),Esq_Atual!$BW$161*Esq_Atual!$CC$161,0)\n+IF(AND(Esq_Atual!$BF$162=F48,Esq_Atual!$BP$162=I48),Esq_Atual!$BW$162*Esq_Atual!$CC$162,0)\n+IF(AND(Esq_Atual!$BF$163=F48,Esq_Atual!$BP$163=I48),Esq_Atual!$BW$163*Esq_Atual!$CC$163,0)\n+IF(AND(Esq_Atual!$AS$193=F48,Esq_Atual!$BC$193=I48),Esq_Atual!$BJ$193*Esq_Atual!$BM$193,0)\n+IF(AND(Esq_Atual!$AS$194=F48,Esq_Atual!$BC$194=I48),Esq_Atual!$BJ$194*Esq_Atual!$BM$194,0)\n+IF(AND(Esq_Atual!$AS$195=F48,Esq_Atual!$BC$195=I48),Esq_Atual!$BJ$195*Esq_Atual!$BM$195,0))/100","v":0},null,{"$f":"'Preços unitários'!$T$35","v":0},{"$f":"+S48*V48","v":0},{"$f":"+'Modelação de custos atual'!$D$20","v":0},0,50000,0,{"$f":"'Preços unitários'!$T$40","v":0},0]
[null,null,"RECOLHA","RI/RS","Viaturas","15-23 m3 compactação placa carga lateral",null,"não instrumentadas gás","gás",{"$f":"+IF(AND(Esq_Atual!$M$127=F49,Esq_Atual!$W$127=I49),1,0)+IF(AND(Esq_Atual!$M$128=F49,Esq_Atual!$W$128=I49),1,0)+IF(AND(Esq_Atual!$M$129=F49,Esq_Atual!$W$129=I49),1,0)+IF(AND(Esq_Atual!$M$130=F49,Esq_Atual!$W$130=I49),1,0)+IF(AND(Esq_Atual!$M$131=F49,Esq_Atual!$W$131=I49),1,0)+IF(AND(Esq_Atual!$M$132=F49,Esq_Atual!$W$132=I49),1,0)+IF(AND(Esq_Atual!$M$133=F49,Esq_Atual!$W$133=I49),1,0)+IF(AND(Esq_Atual!$M$134=F49,Esq_Atual!$W$134=I49),1,0)+IF(AND(Esq_Atual!$M$135=F49,Esq_Atual!$W$135=I49),1,0)+IF(AND(Esq_Atual!$M$136=F49,Esq_Atual!$W$136=I49),1,0)+IF(AND(Esq_Atual!$M$137=F49,Esq_Atual!$W$137=I49),1,0)+IF(AND(Esq_Atual!$M$138=F49,Esq_Atual!$W$138=I49),1,0)+IF(AND(Esq_Atual!$M$139=F49,Esq_Atual!$W$139=I49),1,0)+IF(AND(Esq_Atual!$M$140=F49,Esq_Atual!$W$140=I49),1,0)+IF(AND(Esq_Atual!$M$141=F49,Esq_Atual!$W$141=I49),1,0)+IF(AND(Esq_Atual!$BF$149=F49,Esq_Atual!$BP$149=I49),1,0)+IF(AND(Esq_Atual!$BF$150=F49,Esq_Atual!$BP$150=I49),1,0)+IF(AND(Esq_Atual!$BF$151=F49,Esq_Atual!$BP$151=I49),1,0)+IF(AND(Esq_Atual!$BF$152=F49,Esq_Atual!$BP$152=I49),1,0)+IF(AND(Esq_Atual!$BF$153=F49,Esq_Atual!$BP$153=I49),1,0)+IF(AND(Esq_Atual!$BF$154=F49,Esq_Atual!$BP$154=I49),1,0)+IF(AND(Esq_Atual!$BF$155=F49,Esq_Atual!$BP$155=I49),1,0)+IF(AND(Esq_Atual!$BF$156=F49,Esq_Atual!$BP$156=I49),1,0)+IF(AND(Esq_Atual!$BF$157=F49,Esq_Atual!$BP$157=I49),1,0)+IF(AND(Esq_Atual!$BF$158=F49,Esq_Atual!$BP$158=I49),1,0)+IF(AND(Esq_Atual!$BF$159=F49,Esq_Atual!$BP$159=I49),1,0)+IF(AND(Esq_Atual!$BF$160=F49,Esq_Atual!$BP$160=I49),1,0)+IF(AND(Esq_Atual!$BF$161=F49,Esq_Atual!$BP$161=I49),1,0)+IF(AND(Esq_Atual!$BF$162=F49,Esq_Atual!$BP$162=I49),1,0)+IF(AND(Esq_Atual!$BF$163=F49,Esq_Atual!$BP$163=I49),1,0)","v":0},{"$f":"+'Preços unitários'!M32","v":0},0,8,0,null,null,null,{"$f":"+IF(AND(Esq_Atual!$M$127=F49,Esq_Atual!$W$127=I49),Esq_Atual!$AD$127,0)\n+IF(AND(Esq_Atual!$M$128=F49,Esq_Atual!$W$128=I49),Esq_Atual!$AD$128,0)\n+IF(AND(Esq_Atual!$M$129=F49,Esq_Atual!$W$129=I49),Esq_Atual!$AD$129,0)\n+IF(AND(Esq_Atual!$M$130=F49,Esq_Atual!$W$130=I49),Esq_Atual!$AD$130,0)\n+IF(AND(Esq_Atual!$M$131=F49,Esq_Atual!$W$131=I49),Esq_Atual!$AD$131,0)\n+IF(AND(Esq_Atual!$M$132=F49,Esq_Atual!$W$132=I49),Esq_Atual!$AD$132,0)\n+IF(AND(Esq_Atual!$M$133=F49,Esq_Atual!$W$133=I49),Esq_Atual!$AD$133,0)\n+IF(AND(Esq_Atual!$M$134=F49,Esq_Atual!$W$134=I49),Esq_Atual!$AD$134,0)\n+IF(AND(Esq_Atual!$M$135=F49,Esq_Atual!$W$135=I49),Esq_Atual!$AD$135,0)\n+IF(AND(Esq_Atual!$M$136=F49,Esq_Atual!$W$136=I49),Esq_Atual!$AD$136,0)\n+IF(AND(Esq_Atual!$M$137=F49,Esq_Atual!$W$137=I49),Esq_Atual!$AD$137,0)\n+IF(AND(Esq_Atual!$M$138=F49,Esq_Atual!$W$138=I49),Esq_Atual!$AD$138,0)\n+IF(AND(Esq_Atual!$M$139=F49,Esq_Atual!$W$139=I49),Esq_Atual!$AD$139,0)\n+IF(AND(Esq_Atual!$M$140=F49,Esq_Atual!$W$140=I49),Esq_Atual!$AD$140,0)\n+IF(AND(Esq_Atual!$M$141=F49,Esq_Atual!$W$141=I49),Esq_Atual!$AD$141,0)\n+IF(AND(Esq_Atual!$BF$149=F49,Esq_Atual!$BP$149=I49),Esq_Atual!$BW$149,0)\n+IF(AND(Esq_Atual!$BF$150=F49,Esq_Atual!$BP$150=I49),Esq_Atual!$BW$150,0)\n+IF(AND(Esq_Atual!$BF$151=F49,Esq_Atual!$BP$151=I49),Esq_Atual!$BW$151,0)\n+IF(AND(Esq_Atual!$BF$152=F49,Esq_Atual!$BP$152=I49),Esq_Atual!$BW$152,0)\n+IF(AND(Esq_Atual!$BF$153=F49,Esq_Atual!$BP$153=I49),Esq_Atual!$BW$153,0)\n+IF(AND(Esq_Atual!$BF$154=F49,Esq_Atual!$BP$154=I49),Esq_Atual!$BW$154,0)\n+IF(AND(Esq_Atual!$BF$155=F49,Esq_Atual!$BP$155=I49),Esq_Atual!$BW$155,0)\n+IF(AND(Esq_Atual!$BF$156=F49,Esq_Atual!$BP$156=I49),Esq_Atual!$BW$156,0)\n+IF(AND(Esq_Atual!$BF$157=F49,Esq_Atual!$BP$157=I49),Esq_Atual!$BW$157,0)\n+IF(AND(Esq_Atual!$BF$158=F49,Esq_Atual!$BP$158=I49),Esq_Atual!$BW$158,0)\n+IF(AND(Esq_Atual!$BF$159=F49,Esq_Atual!$BP$159=I49),Esq_Atual!$BW$159,0)\n+IF(AND(Esq_Atual!$BF$160=F49,Esq_Atual!$BP$160=I49),Esq_Atual!$BW$160,0)\n+IF(AND(Esq_Atual!$BF$161=F49,Esq_Atual!$BP$161=I49),Esq_Atual!$BW$161,0)\n+IF(AND(Esq_Atual!$BF$162=F49,Esq_Atual!$BP$162=I49),Esq_Atual!$BW$162,0)\n+IF(AND(Esq_Atual!$BF$163=F49,Esq_Atual!$BP$163=I49),Esq_Atual!$BW$163,0)\n+IF(AND(Esq_Atual!$AS$193=F49,Esq_Atual!$BC$193=I49),Esq_Atual!$BJ$193,0)\n+IF(AND(Esq_Atual!$AS$194=F49,Esq_Atual!$BC$194=I49),Esq_Atual!$BJ$194,0)\n+IF(AND(Esq_Atual!$AS$195=F49,Esq_Atual!$BC$195=I49),Esq_Atual!$BJ$195,0)","v":0},{"$f":"(IF(AND(Esq_Atual!$M$127=F49,Esq_Atual!$W$127=I49),Esq_Atual!$AD$127*Esq_Atual!$AJ$127,0)\n+IF(AND(Esq_Atual!$M$128=F49,Esq_Atual!$W$128=I49),Esq_Atual!$AD$128*Esq_Atual!$AJ$128,0)\n+IF(AND(Esq_Atual!$M$129=F49,Esq_Atual!$W$129=I49),Esq_Atual!$AD$129*Esq_Atual!$AJ$129,0)\n+IF(AND(Esq_Atual!$M$130=F49,Esq_Atual!$W$130=I49),Esq_Atual!$AD$130*Esq_Atual!$AJ$130,0)\n+IF(AND(Esq_Atual!$M$131=F49,Esq_Atual!$W$131=I49),Esq_Atual!$AD$131*Esq_Atual!$AJ$131,0)\n+IF(AND(Esq_Atual!$M$132=F49,Esq_Atual!$W$132=I49),Esq_Atual!$AD$132*Esq_Atual!$AJ$132,0)\n+IF(AND(Esq_Atual!$M$133=F49,Esq_Atual!$W$133=I49),Esq_Atual!$AD$133*Esq_Atual!$AJ$133,0)\n+IF(AND(Esq_Atual!$M$134=F49,Esq_Atual!$W$134=I49),Esq_Atual!$AD$134*Esq_Atual!$AJ$134,0)\n+IF(AND(Esq_Atual!$M$135=F49,Esq_Atual!$W$135=I49),Esq_Atual!$AD$135*Esq_Atual!$AJ$135,0)\n+IF(AND(Esq_Atual!$M$136=F49,Esq_Atual!$W$136=I49),Esq_Atual!$AD$136*Esq_Atual!$AJ$136,0)\n+IF(AND(Esq_Atual!$M$137=F49,Esq_Atual!$W$137=I49),Esq_Atual!$AD$137*Esq_Atual!$AJ$137,0)\n+IF(AND(Esq_Atual!$M$138=F49,Esq_Atual!$W$138=I49),Esq_Atual!$AD$138*Esq_Atual!$AJ$138,0)\n+IF(AND(Esq_Atual!$M$139=F49,Esq_Atual!$W$139=I49),Esq_Atual!$AD$139*Esq_Atual!$AJ$139,0)\n+IF(AND(Esq_Atual!$M$140=F49,Esq_Atual!$W$140=I49),Esq_Atual!$AD$140*Esq_Atual!$AJ$140,0)\n+IF(AND(Esq_Atual!$M$141=F49,Esq_Atual!$W$141=I49),Esq_Atual!$AD$141*Esq_Atual!$AJ$141,0)\n+IF(AND(Esq_Atual!$BF$149=F49,Esq_Atual!$BP$149=I49),Esq_Atual!$BW$149*Esq_Atual!$CC$149,0)\n+IF(AND(Esq_Atual!$BF$150=F49,Esq_Atual!$BP$150=I49),Esq_Atual!$BW$150*Esq_Atual!$CC$150,0)\n+IF(AND(Esq_Atual!$BF$151=F49,Esq_Atual!$BP$151=I49),Esq_Atual!$BW$151*Esq_Atual!$CC$151,0)\n+IF(AND(Esq_Atual!$BF$152=F49,Esq_Atual!$BP$152=I49),Esq_Atual!$BW$152*Esq_Atual!$CC$152,0)\n+IF(AND(Esq_Atual!$BF$153=F49,Esq_Atual!$BP$153=I49),Esq_Atual!$BW$153*Esq_Atual!$CC$153,0)\n+IF(AND(Esq_Atual!$BF$154=F49,Esq_Atual!$BP$154=I49),Esq_Atual!$BW$154*Esq_Atual!$CC$154,0)\n+IF(AND(Esq_Atual!$BF$155=F49,Esq_Atual!$BP$155=I49),Esq_Atual!$BW$155*Esq_Atual!$CC$155,0)\n+IF(AND(Esq_Atual!$BF$156=F49,Esq_Atual!$BP$156=I49),Esq_Atual!$BW$156*Esq_Atual!$CC$156,0)\n+IF(AND(Esq_Atual!$BF$157=F49,Esq_Atual!$BP$157=I49),Esq_Atual!$BW$157*Esq_Atual!$CC$157,0)\n+IF(AND(Esq_Atual!$BF$158=F49,Esq_Atual!$BP$158=I49),Esq_Atual!$BW$158*Esq_Atual!$CC$158,0)\n+IF(AND(Esq_Atual!$BF$159=F49,Esq_Atual!$BP$159=I49),Esq_Atual!$BW$159*Esq_Atual!$CC$159,0)\n+IF(AND(Esq_Atual!$BF$160=F49,Esq_Atual!$BP$160=I49),Esq_Atual!$BW$160*Esq_Atual!$CC$160,0)\n+IF(AND(Esq_Atual!$BF$161=F49,Esq_Atual!$BP$161=I49),Esq_Atual!$BW$161*Esq_Atual!$CC$161,0)\n+IF(AND(Esq_Atual!$BF$162=F49,Esq_Atual!$BP$162=I49),Esq_Atual!$BW$162*Esq_Atual!$CC$162,0)\n+IF(AND(Esq_Atual!$BF$163=F49,Esq_Atual!$BP$163=I49),Esq_Atual!$BW$163*Esq_Atual!$CC$163,0)\n+IF(AND(Esq_Atual!$AS$193=F49,Esq_Atual!$BC$193=I49),Esq_Atual!$BJ$193*Esq_Atual!$BM$193,0)\n+IF(AND(Esq_Atual!$AS$194=F49,Esq_Atual!$BC$194=I49),Esq_Atual!$BJ$194*Esq_Atual!$BM$194,0)\n+IF(AND(Esq_Atual!$AS$195=F49,Esq_Atual!$BC$195=I49),Esq_Atual!$BJ$195*Esq_Atual!$BM$195,0))/100","v":0},{"$f":"(IF(AND(Esq_Atual!$M$127=F49,Esq_Atual!$W$127=I49),Esq_Atual!$AD$127*Esq_Atual!$AJ$127,0)\n+IF(AND(Esq_Atual!$M$128=F49,Esq_Atual!$W$128=I49),Esq_Atual!$AD$128*Esq_Atual!$AJ$128,0)\n+IF(AND(Esq_Atual!$M$129=F49,Esq_Atual!$W$129=I49),Esq_Atual!$AD$129*Esq_Atual!$AJ$129,0)\n+IF(AND(Esq_Atual!$M$130=F49,Esq_Atual!$W$130=I49),Esq_Atual!$AD$130*Esq_Atual!$AJ$130,0)\n+IF(AND(Esq_Atual!$M$131=F49,Esq_Atual!$W$131=I49),Esq_Atual!$AD$131*Esq_Atual!$AJ$131,0)\n+IF(AND(Esq_Atual!$M$132=F49,Esq_Atual!$W$132=I49),Esq_Atual!$AD$132*Esq_Atual!$AJ$132,0)\n+IF(AND(Esq_Atual!$M$133=F49,Esq_Atual!$W$133=I49),Esq_Atual!$AD$133*Esq_Atual!$AJ$133,0)\n+IF(AND(Esq_Atual!$M$134=F49,Esq_Atual!$W$134=I49),Esq_Atual!$AD$134*Esq_Atual!$AJ$134,0)\n+IF(AND(Esq_Atual!$M$135=F49,Esq_Atual!$W$135=I49),Esq_Atual!$AD$135*Esq_Atual!$AJ$135,0)\n+IF(AND(Esq_Atual!$M$136=F49,Esq_Atual!$W$136=I49),Esq_Atual!$AD$136*Esq_Atual!$AJ$136,0)\n+IF(AND(Esq_Atual!$M$137=F49,Esq_Atual!$W$137=I49),Esq_Atual!$AD$137*Esq_Atual!$AJ$137,0)\n+IF(AND(Esq_Atual!$M$138=F49,Esq_Atual!$W$138=I49),Esq_Atual!$AD$138*Esq_Atual!$AJ$138,0)\n+IF(AND(Esq_Atual!$M$139=F49,Esq_Atual!$W$139=I49),Esq_Atual!$AD$139*Esq_Atual!$AJ$139,0)\n+IF(AND(Esq_Atual!$M$140=F49,Esq_Atual!$W$140=I49),Esq_Atual!$AD$140*Esq_Atual!$AJ$140,0)\n+IF(AND(Esq_Atual!$M$141=F49,Esq_Atual!$W$141=I49),Esq_Atual!$AD$141*Esq_Atual!$AJ$141,0)\n+IF(AND(Esq_Atual!$BF$149=F49,Esq_Atual!$BP$149=I49),Esq_Atual!$BW$149*Esq_Atual!$CC$149,0)\n+IF(AND(Esq_Atual!$BF$150=F49,Esq_Atual!$BP$150=I49),Esq_Atual!$BW$150*Esq_Atual!$CC$150,0)\n+IF(AND(Esq_Atual!$BF$151=F49,Esq_Atual!$BP$151=I49),Esq_Atual!$BW$151*Esq_Atual!$CC$151,0)\n+IF(AND(Esq_Atual!$BF$152=F49,Esq_Atual!$BP$152=I49),Esq_Atual!$BW$152*Esq_Atual!$CC$152,0)\n+IF(AND(Esq_Atual!$BF$153=F49,Esq_Atual!$BP$153=I49),Esq_Atual!$BW$153*Esq_Atual!$CC$153,0)\n+IF(AND(Esq_Atual!$BF$154=F49,Esq_Atual!$BP$154=I49),Esq_Atual!$BW$154*Esq_Atual!$CC$154,0)\n+IF(AND(Esq_Atual!$BF$155=F49,Esq_Atual!$BP$155=I49),Esq_Atual!$BW$155*Esq_Atual!$CC$155,0)\n+IF(AND(Esq_Atual!$BF$156=F49,Esq_Atual!$BP$156=I49),Esq_Atual!$BW$156*Esq_Atual!$CC$156,0)\n+IF(AND(Esq_Atual!$BF$157=F49,Esq_Atual!$BP$157=I49),Esq_Atual!$BW$157*Esq_Atual!$CC$157,0)\n+IF(AND(Esq_Atual!$BF$158=F49,Esq_Atual!$BP$158=I49),Esq_Atual!$BW$158*Esq_Atual!$CC$158,0)\n+IF(AND(Esq_Atual!$BF$159=F49,Esq_Atual!$BP$159=I49),Esq_Atual!$BW$159*Esq_Atual!$CC$159,0)\n+IF(AND(Esq_Atual!$BF$160=F49,Esq_Atual!$BP$160=I49),Esq_Atual!$BW$160*Esq_Atual!$CC$160,0)\n+IF(AND(Esq_Atual!$BF$161=F49,Esq_Atual!$BP$161=I49),Esq_Atual!$BW$161*Esq_Atual!$CC$161,0)\n+IF(AND(Esq_Atual!$BF$162=F49,Esq_Atual!$BP$162=I49),Esq_Atual!$BW$162*Esq_Atual!$CC$162,0)\n+IF(AND(Esq_Atual!$BF$163=F49,Esq_Atual!$BP$163=I49),Esq_Atual!$BW$163*Esq_Atual!$CC$163,0)\n+IF(AND(Esq_Atual!$AS$193=F49,Esq_Atual!$BC$193=I49),Esq_Atual!$BJ$193*Esq_Atual!$BM$193,0)\n+IF(AND(Esq_Atual!$AS$194=F49,Esq_Atual!$BC$194=I49),Esq_Atual!$BJ$194*Esq_Atual!$BM$194,0)\n+IF(AND(Esq_Atual!$AS$195=F49,Esq_Atual!$BC$195=I49),Esq_Atual!$BJ$195*Esq_Atual!$BM$195,0))/100","v":0},{"$f":"'Preços unitários'!$T$36","v":0},null,{"$f":"+S49*U49","v":0},{"$f":"+'Modelação de custos atual'!$D$20","v":0},0,50000,0,{"$f":"'Preços unitários'!$T$40","v":0},0]
[null,null,"INSTRUMENTAÇÃO","RI/RS","Viaturas","sistema Identificação RFID ",null,"sistema Identificação RFID ",null,null,{"$f":"+'Preços unitários'!M38","v":0},0,8,0]
[null,null,"INSTRUMENTAÇÃO","RI/RS","Viaturas","sistema de Pesagem em Elevador",null,"sistema de Pesagem em Elevador",null,null,{"$f":"+'Preços unitários'!M39","v":0},0,8,0]
[null,null,"INSTRUMENTAÇÃO","RI/RS","Viaturas","sistema de Pesagem na Grua",null,"sistema de Pesagem na Grua",null,null,{"$f":"+'Preços unitários'!M40","v":0},0,8,0]
[null,null,"INSTRUMENTAÇÃO","RI/RS","Viaturas","sistema de Pesagem em Chassis",null,"sistema de Pesagem em Chassis",null,null,{"$f":"+'Preços unitários'!M41","v":0},0,8,0]
[null,null,"LAVAGEM","RI/RS","Viaturas","Viatura de lavagem de contentores",null,null,"gasóleo",{"$f":"+IF(AND(Esq_Atual!$M$127=F54,Esq_Atual!$W$127=I54),1,0)+IF(AND(Esq_Atual!$M$128=F54,Esq_Atual!$W$128=I54),1,0)+IF(AND(Esq_Atual!$M$129=F54,Esq_Atual!$W$129=I54),1,0)+IF(AND(Esq_Atual!$M$130=F54,Esq_Atual!$W$130=I54),1,0)+IF(AND(Esq_Atual!$M$131=F54,Esq_Atual!$W$131=I54),1,0)+IF(AND(Esq_Atual!$M$132=F54,Esq_Atual!$W$132=I54),1,0)+IF(AND(Esq_Atual!$M$133=F54,Esq_Atual!$W$133=I54),1,0)+IF(AND(Esq_Atual!$M$134=F54,Esq_Atual!$W$134=I54),1,0)+IF(AND(Esq_Atual!$M$135=F54,Esq_Atual!$W$135=I54),1,0)+IF(AND(Esq_Atual!$M$136=F54,Esq_Atual!$W$136=I54),1,0)+IF(AND(Esq_Atual!$M$137=F54,Esq_Atual!$W$137=I54),1,0)+IF(AND(Esq_Atual!$M$138=F54,Esq_Atual!$W$138=I54),1,0)+IF(AND(Esq_Atual!$M$139=F54,Esq_Atual!$W$139=I54),1,0)+IF(AND(Esq_Atual!$M$140=F54,Esq_Atual!$W$140=I54),1,0)+IF(AND(Esq_Atual!$M$141=F54,Esq_Atual!$W$141=I54),1,0)+IF(AND(Esq_Atual!$BF$149=F54,Esq_Atual!$BP$149=I54),1,0)+IF(AND(Esq_Atual!$BF$150=F54,Esq_Atual!$BP$150=I54),1,0)+IF(AND(Esq_Atual!$BF$151=F54,Esq_Atual!$BP$151=I54),1,0)+IF(AND(Esq_Atual!$BF$152=F54,Esq_Atual!$BP$152=I54),1,0)+IF(AND(Esq_Atual!$BF$153=F54,Esq_Atual!$BP$153=I54),1,0)+IF(AND(Esq_Atual!$BF$154=F54,Esq_Atual!$BP$154=I54),1,0)+IF(AND(Esq_Atual!$BF$155=F54,Esq_Atual!$BP$155=I54),1,0)+IF(AND(Esq_Atual!$BF$156=F54,Esq_Atual!$BP$156=I54),1,0)+IF(AND(Esq_Atual!$BF$157=F54,Esq_Atual!$BP$157=I54),1,0)+IF(AND(Esq_Atual!$BF$158=F54,Esq_Atual!$BP$158=I54),1,0)+IF(AND(Esq_Atual!$BF$159=F54,Esq_Atual!$BP$159=I54),1,0)+IF(AND(Esq_Atual!$BF$160=F54,Esq_Atual!$BP$160=I54),1,0)+IF(AND(Esq_Atual!$BF$161=F54,Esq_Atual!$BP$161=I54),1,0)+IF(AND(Esq_Atual!$BF$162=F54,Esq_Atual!$BP$162=I54),1,0)+IF(AND(Esq_Atual!$BF$163=F54,Esq_Atual!$BP$163=I54),1,0)","v":0},{"$f":"+'Preços unitários'!M35","v":0},0,8,0,null,null,null,{"$f":"+IF(AND(Esq_Atual!$M$127=F54,Esq_Atual!$W$127=I54),Esq_Atual!$AD$127,0)\n+IF(AND(Esq_Atual!$M$128=F54,Esq_Atual!$W$128=I54),Esq_Atual!$AD$128,0)\n+IF(AND(Esq_Atual!$M$129=F54,Esq_Atual!$W$129=I54),Esq_Atual!$AD$129,0)\n+IF(AND(Esq_Atual!$M$130=F54,Esq_Atual!$W$130=I54),Esq_Atual!$AD$130,0)\n+IF(AND(Esq_Atual!$M$131=F54,Esq_Atual!$W$131=I54),Esq_Atual!$AD$131,0)\n+IF(AND(Esq_Atual!$M$132=F54,Esq_Atual!$W$132=I54),Esq_Atual!$AD$132,0)\n+IF(AND(Esq_Atual!$M$133=F54,Esq_Atual!$W$133=I54),Esq_Atual!$AD$133,0)\n+IF(AND(Esq_Atual!$M$134=F54,Esq_Atual!$W$134=I54),Esq_Atual!$AD$134,0)\n+IF(AND(Esq_Atual!$M$135=F54,Esq_Atual!$W$135=I54),Esq_Atual!$AD$135,0)\n+IF(AND(Esq_Atual!$M$136=F54,Esq_Atual!$W$136=I54),Esq_Atual!$AD$136,0)\n+IF(AND(Esq_Atual!$M$137=F54,Esq_Atual!$W$137=I54),Esq_Atual!$AD$137,0)\n+IF(AND(Esq_Atual!$M$138=F54,Esq_Atual!$W$138=I54),Esq_Atual!$AD$138,0)\n+IF(AND(Esq_Atual!$M$139=F54,Esq_Atual!$W$139=I54),Esq_Atual!$AD$139,0)\n+IF(AND(Esq_Atual!$M$140=F54,Esq_Atual!$W$140=I54),Esq_Atual!$AD$140,0)\n+IF(AND(Esq_Atual!$M$141=F54,Esq_Atual!$W$141=I54),Esq_Atual!$AD$141,0)\n+IF(AND(Esq_Atual!$BF$149=F54,Esq_Atual!$BP$149=I54),Esq_Atual!$BW$149,0)\n+IF(AND(Esq_Atual!$BF$150=F54,Esq_Atual!$BP$150=I54),Esq_Atual!$BW$150,0)\n+IF(AND(Esq_Atual!$BF$151=F54,Esq_Atual!$BP$151=I54),Esq_Atual!$BW$151,0)\n+IF(AND(Esq_Atual!$BF$152=F54,Esq_Atual!$BP$152=I54),Esq_Atual!$BW$152,0)\n+IF(AND(Esq_Atual!$BF$153=F54,Esq_Atual!$BP$153=I54),Esq_Atual!$BW$153,0)\n+IF(AND(Esq_Atual!$BF$154=F54,Esq_Atual!$BP$154=I54),Esq_Atual!$BW$154,0)\n+IF(AND(Esq_Atual!$BF$155=F54,Esq_Atual!$BP$155=I54),Esq_Atual!$BW$155,0)\n+IF(AND(Esq_Atual!$BF$156=F54,Esq_Atual!$BP$156=I54),Esq_Atual!$BW$156,0)\n+IF(AND(Esq_Atual!$BF$157=F54,Esq_Atual!$BP$157=I54),Esq_Atual!$BW$157,0)\n+IF(AND(Esq_Atual!$BF$158=F54,Esq_Atual!$BP$158=I54),Esq_Atual!$BW$158,0)\n+IF(AND(Esq_Atual!$BF$159=F54,Esq_Atual!$BP$159=I54),Esq_Atual!$BW$159,0)\n+IF(AND(Esq_Atual!$BF$160=F54,Esq_Atual!$BP$160=I54),Esq_Atual!$BW$160,0)\n+IF(AND(Esq_Atual!$BF$161=F54,Esq_Atual!$BP$161=I54),Esq_Atual!$BW$161,0)\n+IF(AND(Esq_Atual!$BF$162=F54,Esq_Atual!$BP$162=I54),Esq_Atual!$BW$162,0)\n+IF(AND(Esq_Atual!$BF$163=F54,Esq_Atual!$BP$163=I54),Esq_Atual!$BW$163,0)\n+IF(AND(Esq_Atual!$AS$193=F54,Esq_Atual!$BC$193=I54),Esq_Atual!$BJ$193,0)\n+IF(AND(Esq_Atual!$AS$194=F54,Esq_Atual!$BC$194=I54),Esq_Atual!$BJ$194,0)\n+IF(AND(Esq_Atual!$AS$195=F54,Esq_Atual!$BC$195=I54),Esq_Atual!$BJ$195,0)","v":0},{"$f":"IF(AND(Esq_Atual!$M$127=F54,Esq_Atual!$W$127=I54),Esq_Atual!$AD$127*Esq_Atual!$AJ$127,0)\n+IF(AND(Esq_Atual!$M$128=F54,Esq_Atual!$W$128=I54),Esq_Atual!$AD$128*Esq_Atual!$AJ$128,0)\n+IF(AND(Esq_Atual!$M$129=F54,Esq_Atual!$W$129=I54),Esq_Atual!$AD$129*Esq_Atual!$AJ$129,0)\n+IF(AND(Esq_Atual!$M$130=F54,Esq_Atual!$W$130=I54),Esq_Atual!$AD$130*Esq_Atual!$AJ$130,0)\n+IF(AND(Esq_Atual!$M$131=F54,Esq_Atual!$W$131=I54),Esq_Atual!$AD$131*Esq_Atual!$AJ$131,0)\n+IF(AND(Esq_Atual!$M$132=F54,Esq_Atual!$W$132=I54),Esq_Atual!$AD$132*Esq_Atual!$AJ$132,0)\n+IF(AND(Esq_Atual!$M$133=F54,Esq_Atual!$W$133=I54),Esq_Atual!$AD$133*Esq_Atual!$AJ$133,0)\n+IF(AND(Esq_Atual!$M$134=F54,Esq_Atual!$W$134=I54),Esq_Atual!$AD$134*Esq_Atual!$AJ$134,0)\n+IF(AND(Esq_Atual!$M$135=F54,Esq_Atual!$W$135=I54),Esq_Atual!$AD$135*Esq_Atual!$AJ$135,0)\n+IF(AND(Esq_Atual!$M$136=F54,Esq_Atual!$W$136=I54),Esq_Atual!$AD$136*Esq_Atual!$AJ$136,0)\n+IF(AND(Esq_Atual!$M$137=F54,Esq_Atual!$W$137=I54),Esq_Atual!$AD$137*Esq_Atual!$AJ$137,0)\n+IF(AND(Esq_Atual!$M$138=F54,Esq_Atual!$W$138=I54),Esq_Atual!$AD$138*Esq_Atual!$AJ$138,0)\n+IF(AND(Esq_Atual!$M$139=F54,Esq_Atual!$W$139=I54),Esq_Atual!$AD$139*Esq_Atual!$AJ$139,0)\n+IF(AND(Esq_Atual!$M$140=F54,Esq_Atual!$W$140=I54),Esq_Atual!$AD$140*Esq_Atual!$AJ$140,0)\n+IF(AND(Esq_Atual!$M$141=F54,Esq_Atual!$W$141=I54),Esq_Atual!$AD$141*Esq_Atual!$AJ$141,0)\n+IF(AND(Esq_Atual!$BF$149=F54,Esq_Atual!$BP$149=I54),Esq_Atual!$BW$149*Esq_Atual!$CC$149,0)\n+IF(AND(Esq_Atual!$BF$150=F54,Esq_Atual!$BP$150=I54),Esq_Atual!$BW$150*Esq_Atual!$CC$150,0)\n+IF(AND(Esq_Atual!$BF$151=F54,Esq_Atual!$BP$151=I54),Esq_Atual!$BW$151*Esq_Atual!$CC$151,0)\n+IF(AND(Esq_Atual!$BF$152=F54,Esq_Atual!$BP$152=I54),Esq_Atual!$BW$152*Esq_Atual!$CC$152,0)\n+IF(AND(Esq_Atual!$BF$153=F54,Esq_Atual!$BP$153=I54),Esq_Atual!$BW$153*Esq_Atual!$CC$153,0)\n+IF(AND(Esq_Atual!$BF$154=F54,Esq_Atual!$BP$154=I54),Esq_Atual!$BW$154*Esq_Atual!$CC$154,0)\n+IF(AND(Esq_Atual!$BF$155=F54,Esq_Atual!$BP$155=I54),Esq_Atual!$BW$155*Esq_Atual!$CC$155,0)\n+IF(AND(Esq_Atual!$BF$156=F54,Esq_Atual!$BP$156=I54),Esq_Atual!$BW$156*Esq_Atual!$CC$156,0)\n+IF(AND(Esq_Atual!$BF$157=F54,Esq_Atual!$BP$157=I54),Esq_Atual!$BW$157*Esq_Atual!$CC$157,0)\n+IF(AND(Esq_Atual!$BF$158=F54,Esq_Atual!$BP$158=I54),Esq_Atual!$BW$158*Esq_Atual!$CC$158,0)\n+IF(AND(Esq_Atual!$BF$159=F54,Esq_Atual!$BP$159=I54),Esq_Atual!$BW$159*Esq_Atual!$CC$159,0)\n+IF(AND(Esq_Atual!$BF$160=F54,Esq_Atual!$BP$160=I54),Esq_Atual!$BW$160*Esq_Atual!$CC$160,0)\n+IF(AND(Esq_Atual!$BF$161=F54,Esq_Atual!$BP$161=I54),Esq_Atual!$BW$161*Esq_Atual!$CC$161,0)\n+IF(AND(Esq_Atual!$BF$162=F54,Esq_Atual!$BP$162=I54),Esq_Atual!$BW$162*Esq_Atual!$CC$162,0)\n+IF(AND(Esq_Atual!$BF$163=F54,Esq_Atual!$BP$163=I54),Esq_Atual!$BW$163*Esq_Atual!$CC$163,0)\n+IF(AND(Esq_Atual!$AS$193=F54,Esq_Atual!$BC$193=I54),Esq_Atual!$BJ$193*Esq_Atual!$BM$193,0)\n+IF(AND(Esq_Atual!$AS$194=F54,Esq_Atual!$BC$194=I54),Esq_Atual!$BJ$194*Esq_Atual!$BM$194,0)\n+IF(AND(Esq_Atual!$AS$195=F54,Esq_Atual!$BC$195=I54),Esq_Atual!$BJ$195*Esq_Atual!$BM$195,0)/100","v":0},{"$f":"IF(AND(Esq_Atual!$M$127=F54,Esq_Atual!$W$127=I54),Esq_Atual!$AD$127*Esq_Atual!$AJ$127,0)\n+IF(AND(Esq_Atual!$M$128=F54,Esq_Atual!$W$128=I54),Esq_Atual!$AD$128*Esq_Atual!$AJ$128,0)\n+IF(AND(Esq_Atual!$M$129=F54,Esq_Atual!$W$129=I54),Esq_Atual!$AD$129*Esq_Atual!$AJ$129,0)\n+IF(AND(Esq_Atual!$M$130=F54,Esq_Atual!$W$130=I54),Esq_Atual!$AD$130*Esq_Atual!$AJ$130,0)\n+IF(AND(Esq_Atual!$M$131=F54,Esq_Atual!$W$131=I54),Esq_Atual!$AD$131*Esq_Atual!$AJ$131,0)\n+IF(AND(Esq_Atual!$M$132=F54,Esq_Atual!$W$132=I54),Esq_Atual!$AD$132*Esq_Atual!$AJ$132,0)\n+IF(AND(Esq_Atual!$M$133=F54,Esq_Atual!$W$133=I54),Esq_Atual!$AD$133*Esq_Atual!$AJ$133,0)\n+IF(AND(Esq_Atual!$M$134=F54,Esq_Atual!$W$134=I54),Esq_Atual!$AD$134*Esq_Atual!$AJ$134,0)\n+IF(AND(Esq_Atual!$M$135=F54,Esq_Atual!$W$135=I54),Esq_Atual!$AD$135*Esq_Atual!$AJ$135,0)\n+IF(AND(Esq_Atual!$M$136=F54,Esq_Atual!$W$136=I54),Esq_Atual!$AD$136*Esq_Atual!$AJ$136,0)\n+IF(AND(Esq_Atual!$M$137=F54,Esq_Atual!$W$137=I54),Esq_Atual!$AD$137*Esq_Atual!$AJ$137,0)\n+IF(AND(Esq_Atual!$M$138=F54,Esq_Atual!$W$138=I54),Esq_Atual!$AD$138*Esq_Atual!$AJ$138,0)\n+IF(AND(Esq_Atual!$M$139=F54,Esq_Atual!$W$139=I54),Esq_Atual!$AD$139*Esq_Atual!$AJ$139,0)\n+IF(AND(Esq_Atual!$M$140=F54,Esq_Atual!$W$140=I54),Esq_Atual!$AD$140*Esq_Atual!$AJ$140,0)\n+IF(AND(Esq_Atual!$M$141=F54,Esq_Atual!$W$141=I54),Esq_Atual!$AD$141*Esq_Atual!$AJ$141,0)\n+IF(AND(Esq_Atual!$BF$149=F54,Esq_Atual!$BP$149=I54),Esq_Atual!$BW$149*Esq_Atual!$CC$149,0)\n+IF(AND(Esq_Atual!$BF$150=F54,Esq_Atual!$BP$150=I54),Esq_Atual!$BW$150*Esq_Atual!$CC$150,0)\n+IF(AND(Esq_Atual!$BF$151=F54,Esq_Atual!$BP$151=I54),Esq_Atual!$BW$151*Esq_Atual!$CC$151,0)\n+IF(AND(Esq_Atual!$BF$152=F54,Esq_Atual!$BP$152=I54),Esq_Atual!$BW$152*Esq_Atual!$CC$152,0)\n+IF(AND(Esq_Atual!$BF$153=F54,Esq_Atual!$BP$153=I54),Esq_Atual!$BW$153*Esq_Atual!$CC$153,0)\n+IF(AND(Esq_Atual!$BF$154=F54,Esq_Atual!$BP$154=I54),Esq_Atual!$BW$154*Esq_Atual!$CC$154,0)\n+IF(AND(Esq_Atual!$BF$155=F54,Esq_Atual!$BP$155=I54),Esq_Atual!$BW$155*Esq_Atual!$CC$155,0)\n+IF(AND(Esq_Atual!$BF$156=F54,Esq_Atual!$BP$156=I54),Esq_Atual!$BW$156*Esq_Atual!$CC$156,0)\n+IF(AND(Esq_Atual!$BF$157=F54,Esq_Atual!$BP$157=I54),Esq_Atual!$BW$157*Esq_Atual!$CC$157,0)\n+IF(AND(Esq_Atual!$BF$158=F54,Esq_Atual!$BP$158=I54),Esq_Atual!$BW$158*Esq_Atual!$CC$158,0)\n+IF(AND(Esq_Atual!$BF$159=F54,Esq_Atual!$BP$159=I54),Esq_Atual!$BW$159*Esq_Atual!$CC$159,0)\n+IF(AND(Esq_Atual!$BF$160=F54,Esq_Atual!$BP$160=I54),Esq_Atual!$BW$160*Esq_Atual!$CC$160,0)\n+IF(AND(Esq_Atual!$BF$161=F54,Esq_Atual!$BP$161=I54),Esq_Atual!$BW$161*Esq_Atual!$CC$161,0)\n+IF(AND(Esq_Atual!$BF$162=F54,Esq_Atual!$BP$162=I54),Esq_Atual!$BW$162*Esq_Atual!$CC$162,0)\n+IF(AND(Esq_Atual!$BF$163=F54,Esq_Atual!$BP$163=I54),Esq_Atual!$BW$163*Esq_Atual!$CC$163,0)\n+IF(AND(Esq_Atual!$AS$193=F54,Esq_Atual!$BC$193=I54),Esq_Atual!$BJ$193*Esq_Atual!$BM$193,0)\n+IF(AND(Esq_Atual!$AS$194=F54,Esq_Atual!$BC$194=I54),Esq_Atual!$BJ$194*Esq_Atual!$BM$194,0)\n+IF(AND(Esq_Atual!$AS$195=F54,Esq_Atual!$BC$195=I54),Esq_Atual!$BJ$195*Esq_Atual!$BM$195,0)/100","v":0},{"$f":"'Preços unitários'!$T$34","v":0},null,{"$f":"+S54*U54","v":0},{"$f":"+'Modelação de custos atual'!$D$20","v":0},{"$f":"L54*X54","v":0},50000,0,{"$f":"+'Preços unitários'!T41","v":0},0]
[null,null,"LAVAGEM","RI/RS","Viaturas","Viatura de lavagem de contentores",null,null,"elétrica",{"$f":"+IF(AND(Esq_Atual!$M$127=F55,Esq_Atual!$W$127=I55),1,0)+IF(AND(Esq_Atual!$M$128=F55,Esq_Atual!$W$128=I55),1,0)+IF(AND(Esq_Atual!$M$129=F55,Esq_Atual!$W$129=I55),1,0)+IF(AND(Esq_Atual!$M$130=F55,Esq_Atual!$W$130=I55),1,0)+IF(AND(Esq_Atual!$M$131=F55,Esq_Atual!$W$131=I55),1,0)+IF(AND(Esq_Atual!$M$132=F55,Esq_Atual!$W$132=I55),1,0)+IF(AND(Esq_Atual!$M$133=F55,Esq_Atual!$W$133=I55),1,0)+IF(AND(Esq_Atual!$M$134=F55,Esq_Atual!$W$134=I55),1,0)+IF(AND(Esq_Atual!$M$135=F55,Esq_Atual!$W$135=I55),1,0)+IF(AND(Esq_Atual!$M$136=F55,Esq_Atual!$W$136=I55),1,0)+IF(AND(Esq_Atual!$M$137=F55,Esq_Atual!$W$137=I55),1,0)+IF(AND(Esq_Atual!$M$138=F55,Esq_Atual!$W$138=I55),1,0)+IF(AND(Esq_Atual!$M$139=F55,Esq_Atual!$W$139=I55),1,0)+IF(AND(Esq_Atual!$M$140=F55,Esq_Atual!$W$140=I55),1,0)+IF(AND(Esq_Atual!$M$141=F55,Esq_Atual!$W$141=I55),1,0)+IF(AND(Esq_Atual!$BF$149=F55,Esq_Atual!$BP$149=I55),1,0)+IF(AND(Esq_Atual!$BF$150=F55,Esq_Atual!$BP$150=I55),1,0)+IF(AND(Esq_Atual!$BF$151=F55,Esq_Atual!$BP$151=I55),1,0)+IF(AND(Esq_Atual!$BF$152=F55,Esq_Atual!$BP$152=I55),1,0)+IF(AND(Esq_Atual!$BF$153=F55,Esq_Atual!$BP$153=I55),1,0)+IF(AND(Esq_Atual!$BF$154=F55,Esq_Atual!$BP$154=I55),1,0)+IF(AND(Esq_Atual!$BF$155=F55,Esq_Atual!$BP$155=I55),1,0)+IF(AND(Esq_Atual!$BF$156=F55,Esq_Atual!$BP$156=I55),1,0)+IF(AND(Esq_Atual!$BF$157=F55,Esq_Atual!$BP$157=I55),1,0)+IF(AND(Esq_Atual!$BF$158=F55,Esq_Atual!$BP$158=I55),1,0)+IF(AND(Esq_Atual!$BF$159=F55,Esq_Atual!$BP$159=I55),1,0)+IF(AND(Esq_Atual!$BF$160=F55,Esq_Atual!$BP$160=I55),1,0)+IF(AND(Esq_Atual!$BF$161=F55,Esq_Atual!$BP$161=I55),1,0)+IF(AND(Esq_Atual!$BF$162=F55,Esq_Atual!$BP$162=I55),1,0)+IF(AND(Esq_Atual!$BF$163=F55,Esq_Atual!$BP$163=I55),1,0)","v":0},{"$f":"+'Preços unitários'!M35","v":0},{"$f":"J55*K55","v":0},8,{"$f":"L55/M55","v":0},null,null,null,{"$f":"+IF(AND(Esq_Atual!$M$127=F55,Esq_Atual!$W$127=I55),Esq_Atual!$AD$127,0)\n+IF(AND(Esq_Atual!$M$128=F55,Esq_Atual!$W$128=I55),Esq_Atual!$AD$128,0)\n+IF(AND(Esq_Atual!$M$129=F55,Esq_Atual!$W$129=I55),Esq_Atual!$AD$129,0)\n+IF(AND(Esq_Atual!$M$130=F55,Esq_Atual!$W$130=I55),Esq_Atual!$AD$130,0)\n+IF(AND(Esq_Atual!$M$131=F55,Esq_Atual!$W$131=I55),Esq_Atual!$AD$131,0)\n+IF(AND(Esq_Atual!$M$132=F55,Esq_Atual!$W$132=I55),Esq_Atual!$AD$132,0)\n+IF(AND(Esq_Atual!$M$133=F55,Esq_Atual!$W$133=I55),Esq_Atual!$AD$133,0)\n+IF(AND(Esq_Atual!$M$134=F55,Esq_Atual!$W$134=I55),Esq_Atual!$AD$134,0)\n+IF(AND(Esq_Atual!$M$135=F55,Esq_Atual!$W$135=I55),Esq_Atual!$AD$135,0)\n+IF(AND(Esq_Atual!$M$136=F55,Esq_Atual!$W$136=I55),Esq_Atual!$AD$136,0)\n+IF(AND(Esq_Atual!$M$137=F55,Esq_Atual!$W$137=I55),Esq_Atual!$AD$137,0)\n+IF(AND(Esq_Atual!$M$138=F55,Esq_Atual!$W$138=I55),Esq_Atual!$AD$138,0)\n+IF(AND(Esq_Atual!$M$139=F55,Esq_Atual!$W$139=I55),Esq_Atual!$AD$139,0)\n+IF(AND(Esq_Atual!$M$140=F55,Esq_Atual!$W$140=I55),Esq_Atual!$AD$140,0)\n+IF(AND(Esq_Atual!$M$141=F55,Esq_Atual!$W$141=I55),Esq_Atual!$AD$141,0)\n+IF(AND(Esq_Atual!$BF$149=F55,Esq_Atual!$BP$149=I55),Esq_Atual!$BW$149,0)\n+IF(AND(Esq_Atual!$BF$150=F55,Esq_Atual!$BP$150=I55),Esq_Atual!$BW$150,0)\n+IF(AND(Esq_Atual!$BF$151=F55,Esq_Atual!$BP$151=I55),Esq_Atual!$BW$151,0)\n+IF(AND(Esq_Atual!$BF$152=F55,Esq_Atual!$BP$152=I55),Esq_Atual!$BW$152,0)\n+IF(AND(Esq_Atual!$BF$153=F55,Esq_Atual!$BP$153=I55),Esq_Atual!$BW$153,0)\n+IF(AND(Esq_Atual!$BF$154=F55,Esq_Atual!$BP$154=I55),Esq_Atual!$BW$154,0)\n+IF(AND(Esq_Atual!$BF$155=F55,Esq_Atual!$BP$155=I55),Esq_Atual!$BW$155,0)\n+IF(AND(Esq_Atual!$BF$156=F55,Esq_Atual!$BP$156=I55),Esq_Atual!$BW$156,0)\n+IF(AND(Esq_Atual!$BF$157=F55,Esq_Atual!$BP$157=I55),Esq_Atual!$BW$157,0)\n+IF(AND(Esq_Atual!$BF$158=F55,Esq_Atual!$BP$158=I55),Esq_Atual!$BW$158,0)\n+IF(AND(Esq_Atual!$BF$159=F55,Esq_Atual!$BP$159=I55),Esq_Atual!$BW$159,0)\n+IF(AND(Esq_Atual!$BF$160=F55,Esq_Atual!$BP$160=I55),Esq_Atual!$BW$160,0)\n+IF(AND(Esq_Atual!$BF$161=F55,Esq_Atual!$BP$161=I55),Esq_Atual!$BW$161,0)\n+IF(AND(Esq_Atual!$BF$162=F55,Esq_Atual!$BP$162=I55),Esq_Atual!$BW$162,0)\n+IF(AND(Esq_Atual!$BF$163=F55,Esq_Atual!$BP$163=I55),Esq_Atual!$BW$163,0)\n+IF(AND(Esq_Atual!$AS$193=F55,Esq_Atual!$BC$193=I55),Esq_Atual!$BJ$193,0)\n+IF(AND(Esq_Atual!$AS$194=F55,Esq_Atual!$BC$194=I55),Esq_Atual!$BJ$194,0)\n+IF(AND(Esq_Atual!$AS$195=F55,Esq_Atual!$BC$195=I55),Esq_Atual!$BJ$195,0)","v":0},{"$f":"IF(AND(Esq_Atual!$M$127=F55,Esq_Atual!$W$127=I55),Esq_Atual!$AD$127*Esq_Atual!$AJ$127,0)\n+IF(AND(Esq_Atual!$M$128=F55,Esq_Atual!$W$128=I55),Esq_Atual!$AD$128*Esq_Atual!$AJ$128,0)\n+IF(AND(Esq_Atual!$M$129=F55,Esq_Atual!$W$129=I55),Esq_Atual!$AD$129*Esq_Atual!$AJ$129,0)\n+IF(AND(Esq_Atual!$M$130=F55,Esq_Atual!$W$130=I55),Esq_Atual!$AD$130*Esq_Atual!$AJ$130,0)\n+IF(AND(Esq_Atual!$M$131=F55,Esq_Atual!$W$131=I55),Esq_Atual!$AD$131*Esq_Atual!$AJ$131,0)\n+IF(AND(Esq_Atual!$M$132=F55,Esq_Atual!$W$132=I55),Esq_Atual!$AD$132*Esq_Atual!$AJ$132,0)\n+IF(AND(Esq_Atual!$M$133=F55,Esq_Atual!$W$133=I55),Esq_Atual!$AD$133*Esq_Atual!$AJ$133,0)\n+IF(AND(Esq_Atual!$M$134=F55,Esq_Atual!$W$134=I55),Esq_Atual!$AD$134*Esq_Atual!$AJ$134,0)\n+IF(AND(Esq_Atual!$M$135=F55,Esq_Atual!$W$135=I55),Esq_Atual!$AD$135*Esq_Atual!$AJ$135,0)\n+IF(AND(Esq_Atual!$M$136=F55,Esq_Atual!$W$136=I55),Esq_Atual!$AD$136*Esq_Atual!$AJ$136,0)\n+IF(AND(Esq_Atual!$M$137=F55,Esq_Atual!$W$137=I55),Esq_Atual!$AD$137*Esq_Atual!$AJ$137,0)\n+IF(AND(Esq_Atual!$M$138=F55,Esq_Atual!$W$138=I55),Esq_Atual!$AD$138*Esq_Atual!$AJ$138,0)\n+IF(AND(Esq_Atual!$M$139=F55,Esq_Atual!$W$139=I55),Esq_Atual!$AD$139*Esq_Atual!$AJ$139,0)\n+IF(AND(Esq_Atual!$M$140=F55,Esq_Atual!$W$140=I55),Esq_Atual!$AD$140*Esq_Atual!$AJ$140,0)\n+IF(AND(Esq_Atual!$M$141=F55,Esq_Atual!$W$141=I55),Esq_Atual!$AD$141*Esq_Atual!$AJ$141,0)\n+IF(AND(Esq_Atual!$BF$149=F55,Esq_Atual!$BP$149=I55),Esq_Atual!$BW$149*Esq_Atual!$CC$149,0)\n+IF(AND(Esq_Atual!$BF$150=F55,Esq_Atual!$BP$150=I55),Esq_Atual!$BW$150*Esq_Atual!$CC$150,0)\n+IF(AND(Esq_Atual!$BF$151=F55,Esq_Atual!$BP$151=I55),Esq_Atual!$BW$151*Esq_Atual!$CC$151,0)\n+IF(AND(Esq_Atual!$BF$152=F55,Esq_Atual!$BP$152=I55),Esq_Atual!$BW$152*Esq_Atual!$CC$152,0)\n+IF(AND(Esq_Atual!$BF$153=F55,Esq_Atual!$BP$153=I55),Esq_Atual!$BW$153*Esq_Atual!$CC$153,0)\n+IF(AND(Esq_Atual!$BF$154=F55,Esq_Atual!$BP$154=I55),Esq_Atual!$BW$154*Esq_Atual!$CC$154,0)\n+IF(AND(Esq_Atual!$BF$155=F55,Esq_Atual!$BP$155=I55),Esq_Atual!$BW$155*Esq_Atual!$CC$155,0)\n+IF(AND(Esq_Atual!$BF$156=F55,Esq_Atual!$BP$156=I55),Esq_Atual!$BW$156*Esq_Atual!$CC$156,0)\n+IF(AND(Esq_Atual!$BF$157=F55,Esq_Atual!$BP$157=I55),Esq_Atual!$BW$157*Esq_Atual!$CC$157,0)\n+IF(AND(Esq_Atual!$BF$158=F55,Esq_Atual!$BP$158=I55),Esq_Atual!$BW$158*Esq_Atual!$CC$158,0)\n+IF(AND(Esq_Atual!$BF$159=F55,Esq_Atual!$BP$159=I55),Esq_Atual!$BW$159*Esq_Atual!$CC$159,0)\n+IF(AND(Esq_Atual!$BF$160=F55,Esq_Atual!$BP$160=I55),Esq_Atual!$BW$160*Esq_Atual!$CC$160,0)\n+IF(AND(Esq_Atual!$BF$161=F55,Esq_Atual!$BP$161=I55),Esq_Atual!$BW$161*Esq_Atual!$CC$161,0)\n+IF(AND(Esq_Atual!$BF$162=F55,Esq_Atual!$BP$162=I55),Esq_Atual!$BW$162*Esq_Atual!$CC$162,0)\n+IF(AND(Esq_Atual!$BF$163=F55,Esq_Atual!$BP$163=I55),Esq_Atual!$BW$163*Esq_Atual!$CC$163,0)\n+IF(AND(Esq_Atual!$AS$193=F55,Esq_Atual!$BC$193=I55),Esq_Atual!$BJ$193*Esq_Atual!$BM$193,0)\n+IF(AND(Esq_Atual!$AS$194=F55,Esq_Atual!$BC$194=I55),Esq_Atual!$BJ$194*Esq_Atual!$BM$194,0)\n+IF(AND(Esq_Atual!$AS$195=F55,Esq_Atual!$BC$195=I55),Esq_Atual!$BJ$195*Esq_Atual!$BM$195,0)/100","v":0},{"$f":"IF(AND(Esq_Atual!$M$127=F55,Esq_Atual!$W$127=I55),Esq_Atual!$AD$127*Esq_Atual!$AJ$127,0)\n+IF(AND(Esq_Atual!$M$128=F55,Esq_Atual!$W$128=I55),Esq_Atual!$AD$128*Esq_Atual!$AJ$128,0)\n+IF(AND(Esq_Atual!$M$129=F55,Esq_Atual!$W$129=I55),Esq_Atual!$AD$129*Esq_Atual!$AJ$129,0)\n+IF(AND(Esq_Atual!$M$130=F55,Esq_Atual!$W$130=I55),Esq_Atual!$AD$130*Esq_Atual!$AJ$130,0)\n+IF(AND(Esq_Atual!$M$131=F55,Esq_Atual!$W$131=I55),Esq_Atual!$AD$131*Esq_Atual!$AJ$131,0)\n+IF(AND(Esq_Atual!$M$132=F55,Esq_Atual!$W$132=I55),Esq_Atual!$AD$132*Esq_Atual!$AJ$132,0)\n+IF(AND(Esq_Atual!$M$133=F55,Esq_Atual!$W$133=I55),Esq_Atual!$AD$133*Esq_Atual!$AJ$133,0)\n+IF(AND(Esq_Atual!$M$134=F55,Esq_Atual!$W$134=I55),Esq_Atual!$AD$134*Esq_Atual!$AJ$134,0)\n+IF(AND(Esq_Atual!$M$135=F55,Esq_Atual!$W$135=I55),Esq_Atual!$AD$135*Esq_Atual!$AJ$135,0)\n+IF(AND(Esq_Atual!$M$136=F55,Esq_Atual!$W$136=I55),Esq_Atual!$AD$136*Esq_Atual!$AJ$136,0)\n+IF(AND(Esq_Atual!$M$137=F55,Esq_Atual!$W$137=I55),Esq_Atual!$AD$137*Esq_Atual!$AJ$137,0)\n+IF(AND(Esq_Atual!$M$138=F55,Esq_Atual!$W$138=I55),Esq_Atual!$AD$138*Esq_Atual!$AJ$138,0)\n+IF(AND(Esq_Atual!$M$139=F55,Esq_Atual!$W$139=I55),Esq_Atual!$AD$139*Esq_Atual!$AJ$139,0)\n+IF(AND(Esq_Atual!$M$140=F55,Esq_Atual!$W$140=I55),Esq_Atual!$AD$140*Esq_Atual!$AJ$140,0)\n+IF(AND(Esq_Atual!$M$141=F55,Esq_Atual!$W$141=I55),Esq_Atual!$AD$141*Esq_Atual!$AJ$141,0)\n+IF(AND(Esq_Atual!$BF$149=F55,Esq_Atual!$BP$149=I55),Esq_Atual!$BW$149*Esq_Atual!$CC$149,0)\n+IF(AND(Esq_Atual!$BF$150=F55,Esq_Atual!$BP$150=I55),Esq_Atual!$BW$150*Esq_Atual!$CC$150,0)\n+IF(AND(Esq_Atual!$BF$151=F55,Esq_Atual!$BP$151=I55),Esq_Atual!$BW$151*Esq_Atual!$CC$151,0)\n+IF(AND(Esq_Atual!$BF$152=F55,Esq_Atual!$BP$152=I55),Esq_Atual!$BW$152*Esq_Atual!$CC$152,0)\n+IF(AND(Esq_Atual!$BF$153=F55,Esq_Atual!$BP$153=I55),Esq_Atual!$BW$153*Esq_Atual!$CC$153,0)\n+IF(AND(Esq_Atual!$BF$154=F55,Esq_Atual!$BP$154=I55),Esq_Atual!$BW$154*Esq_Atual!$CC$154,0)\n+IF(AND(Esq_Atual!$BF$155=F55,Esq_Atual!$BP$155=I55),Esq_Atual!$BW$155*Esq_Atual!$CC$155,0)\n+IF(AND(Esq_Atual!$BF$156=F55,Esq_Atual!$BP$156=I55),Esq_Atual!$BW$156*Esq_Atual!$CC$156,0)\n+IF(AND(Esq_Atual!$BF$157=F55,Esq_Atual!$BP$157=I55),Esq_Atual!$BW$157*Esq_Atual!$CC$157,0)\n+IF(AND(Esq_Atual!$BF$158=F55,Esq_Atual!$BP$158=I55),Esq_Atual!$BW$158*Esq_Atual!$CC$158,0)\n+IF(AND(Esq_Atual!$BF$159=F55,Esq_Atual!$BP$159=I55),Esq_Atual!$BW$159*Esq_Atual!$CC$159,0)\n+IF(AND(Esq_Atual!$BF$160=F55,Esq_Atual!$BP$160=I55),Esq_Atual!$BW$160*Esq_Atual!$CC$160,0)\n+IF(AND(Esq_Atual!$BF$161=F55,Esq_Atual!$BP$161=I55),Esq_Atual!$BW$161*Esq_Atual!$CC$161,0)\n+IF(AND(Esq_Atual!$BF$162=F55,Esq_Atual!$BP$162=I55),Esq_Atual!$BW$162*Esq_Atual!$CC$162,0)\n+IF(AND(Esq_Atual!$BF$163=F55,Esq_Atual!$BP$163=I55),Esq_Atual!$BW$163*Esq_Atual!$CC$163,0)\n+IF(AND(Esq_Atual!$AS$193=F55,Esq_Atual!$BC$193=I55),Esq_Atual!$BJ$193*Esq_Atual!$BM$193,0)\n+IF(AND(Esq_Atual!$AS$194=F55,Esq_Atual!$BC$194=I55),Esq_Atual!$BJ$194*Esq_Atual!$BM$194,0)\n+IF(AND(Esq_Atual!$AS$195=F55,Esq_Atual!$BC$195=I55),Esq_Atual!$BJ$195*Esq_Atual!$BM$195,0)/100","v":0},null,{"$f":"'Preços unitários'!$T$35","v":0},{"$f":"+S55*V55","v":0},{"$f":"+'Modelação de custos atual'!$D$20","v":0},{"$f":"L55*X55","v":0},50000,{"$f":"_xlfn.FLOOR.MATH(IF(OR(R55>Z55,R55=Z55),R55/Z55,0),1)","v":0},{"$f":"+'Preços unitários'!T42","v":0},{"$f":"+AA55*AB55","v":0}]
[null,null,"LAVAGEM","RI/RS","Viaturas","Viatura de lavagem de contentores",null,null,"gás",{"$f":"+IF(AND(Esq_Atual!$M$127=F56,Esq_Atual!$W$127=I56),1,0)+IF(AND(Esq_Atual!$M$128=F56,Esq_Atual!$W$128=I56),1,0)+IF(AND(Esq_Atual!$M$129=F56,Esq_Atual!$W$129=I56),1,0)+IF(AND(Esq_Atual!$M$130=F56,Esq_Atual!$W$130=I56),1,0)+IF(AND(Esq_Atual!$M$131=F56,Esq_Atual!$W$131=I56),1,0)+IF(AND(Esq_Atual!$M$132=F56,Esq_Atual!$W$132=I56),1,0)+IF(AND(Esq_Atual!$M$133=F56,Esq_Atual!$W$133=I56),1,0)+IF(AND(Esq_Atual!$M$134=F56,Esq_Atual!$W$134=I56),1,0)+IF(AND(Esq_Atual!$M$135=F56,Esq_Atual!$W$135=I56),1,0)+IF(AND(Esq_Atual!$M$136=F56,Esq_Atual!$W$136=I56),1,0)+IF(AND(Esq_Atual!$M$137=F56,Esq_Atual!$W$137=I56),1,0)+IF(AND(Esq_Atual!$M$138=F56,Esq_Atual!$W$138=I56),1,0)+IF(AND(Esq_Atual!$M$139=F56,Esq_Atual!$W$139=I56),1,0)+IF(AND(Esq_Atual!$M$140=F56,Esq_Atual!$W$140=I56),1,0)+IF(AND(Esq_Atual!$M$141=F56,Esq_Atual!$W$141=I56),1,0)+IF(AND(Esq_Atual!$BF$149=F56,Esq_Atual!$BP$149=I56),1,0)+IF(AND(Esq_Atual!$BF$150=F56,Esq_Atual!$BP$150=I56),1,0)+IF(AND(Esq_Atual!$BF$151=F56,Esq_Atual!$BP$151=I56),1,0)+IF(AND(Esq_Atual!$BF$152=F56,Esq_Atual!$BP$152=I56),1,0)+IF(AND(Esq_Atual!$BF$153=F56,Esq_Atual!$BP$153=I56),1,0)+IF(AND(Esq_Atual!$BF$154=F56,Esq_Atual!$BP$154=I56),1,0)+IF(AND(Esq_Atual!$BF$155=F56,Esq_Atual!$BP$155=I56),1,0)+IF(AND(Esq_Atual!$BF$156=F56,Esq_Atual!$BP$156=I56),1,0)+IF(AND(Esq_Atual!$BF$157=F56,Esq_Atual!$BP$157=I56),1,0)+IF(AND(Esq_Atual!$BF$158=F56,Esq_Atual!$BP$158=I56),1,0)+IF(AND(Esq_Atual!$BF$159=F56,Esq_Atual!$BP$159=I56),1,0)+IF(AND(Esq_Atual!$BF$160=F56,Esq_Atual!$BP$160=I56),1,0)+IF(AND(Esq_Atual!$BF$161=F56,Esq_Atual!$BP$161=I56),1,0)+IF(AND(Esq_Atual!$BF$162=F56,Esq_Atual!$BP$162=I56),1,0)+IF(AND(Esq_Atual!$BF$163=F56,Esq_Atual!$BP$163=I56),1,0)","v":0},{"$f":"+'Preços unitários'!M35","v":0},{"$f":"J56*K56","v":0},8,{"$f":"L56/M56","v":0},null,null,null,{"$f":"+IF(AND(Esq_Atual!$M$127=F56,Esq_Atual!$W$127=I56),Esq_Atual!$AD$127,0)\n+IF(AND(Esq_Atual!$M$128=F56,Esq_Atual!$W$128=I56),Esq_Atual!$AD$128,0)\n+IF(AND(Esq_Atual!$M$129=F56,Esq_Atual!$W$129=I56),Esq_Atual!$AD$129,0)\n+IF(AND(Esq_Atual!$M$130=F56,Esq_Atual!$W$130=I56),Esq_Atual!$AD$130,0)\n+IF(AND(Esq_Atual!$M$131=F56,Esq_Atual!$W$131=I56),Esq_Atual!$AD$131,0)\n+IF(AND(Esq_Atual!$M$132=F56,Esq_Atual!$W$132=I56),Esq_Atual!$AD$132,0)\n+IF(AND(Esq_Atual!$M$133=F56,Esq_Atual!$W$133=I56),Esq_Atual!$AD$133,0)\n+IF(AND(Esq_Atual!$M$134=F56,Esq_Atual!$W$134=I56),Esq_Atual!$AD$134,0)\n+IF(AND(Esq_Atual!$M$135=F56,Esq_Atual!$W$135=I56),Esq_Atual!$AD$135,0)\n+IF(AND(Esq_Atual!$M$136=F56,Esq_Atual!$W$136=I56),Esq_Atual!$AD$136,0)\n+IF(AND(Esq_Atual!$M$137=F56,Esq_Atual!$W$137=I56),Esq_Atual!$AD$137,0)\n+IF(AND(Esq_Atual!$M$138=F56,Esq_Atual!$W$138=I56),Esq_Atual!$AD$138,0)\n+IF(AND(Esq_Atual!$M$139=F56,Esq_Atual!$W$139=I56),Esq_Atual!$AD$139,0)\n+IF(AND(Esq_Atual!$M$140=F56,Esq_Atual!$W$140=I56),Esq_Atual!$AD$140,0)\n+IF(AND(Esq_Atual!$M$141=F56,Esq_Atual!$W$141=I56),Esq_Atual!$AD$141,0)\n+IF(AND(Esq_Atual!$BF$149=F56,Esq_Atual!$BP$149=I56),Esq_Atual!$BW$149,0)\n+IF(AND(Esq_Atual!$BF$150=F56,Esq_Atual!$BP$150=I56),Esq_Atual!$BW$150,0)\n+IF(AND(Esq_Atual!$BF$151=F56,Esq_Atual!$BP$151=I56),Esq_Atual!$BW$151,0)\n+IF(AND(Esq_Atual!$BF$152=F56,Esq_Atual!$BP$152=I56),Esq_Atual!$BW$152,0)\n+IF(AND(Esq_Atual!$BF$153=F56,Esq_Atual!$BP$153=I56),Esq_Atual!$BW$153,0)\n+IF(AND(Esq_Atual!$BF$154=F56,Esq_Atual!$BP$154=I56),Esq_Atual!$BW$154,0)\n+IF(AND(Esq_Atual!$BF$155=F56,Esq_Atual!$BP$155=I56),Esq_Atual!$BW$155,0)\n+IF(AND(Esq_Atual!$BF$156=F56,Esq_Atual!$BP$156=I56),Esq_Atual!$BW$156,0)\n+IF(AND(Esq_Atual!$BF$157=F56,Esq_Atual!$BP$157=I56),Esq_Atual!$BW$157,0)\n+IF(AND(Esq_Atual!$BF$158=F56,Esq_Atual!$BP$158=I56),Esq_Atual!$BW$158,0)\n+IF(AND(Esq_Atual!$BF$159=F56,Esq_Atual!$BP$159=I56),Esq_Atual!$BW$159,0)\n+IF(AND(Esq_Atual!$BF$160=F56,Esq_Atual!$BP$160=I56),Esq_Atual!$BW$160,0)\n+IF(AND(Esq_Atual!$BF$161=F56,Esq_Atual!$BP$161=I56),Esq_Atual!$BW$161,0)\n+IF(AND(Esq_Atual!$BF$162=F56,Esq_Atual!$BP$162=I56),Esq_Atual!$BW$162,0)\n+IF(AND(Esq_Atual!$BF$163=F56,Esq_Atual!$BP$163=I56),Esq_Atual!$BW$163,0)\n+IF(AND(Esq_Atual!$AS$193=F56,Esq_Atual!$BC$193=I56),Esq_Atual!$BJ$193,0)\n+IF(AND(Esq_Atual!$AS$194=F56,Esq_Atual!$BC$194=I56),Esq_Atual!$BJ$194,0)\n+IF(AND(Esq_Atual!$AS$195=F56,Esq_Atual!$BC$195=I56),Esq_Atual!$BJ$195,0)","v":0},{"$f":"IF(AND(Esq_Atual!$M$127=F56,Esq_Atual!$W$127=I56),Esq_Atual!$AD$127*Esq_Atual!$AJ$127,0)\n+IF(AND(Esq_Atual!$M$128=F56,Esq_Atual!$W$128=I56),Esq_Atual!$AD$128*Esq_Atual!$AJ$128,0)\n+IF(AND(Esq_Atual!$M$129=F56,Esq_Atual!$W$129=I56),Esq_Atual!$AD$129*Esq_Atual!$AJ$129,0)\n+IF(AND(Esq_Atual!$M$130=F56,Esq_Atual!$W$130=I56),Esq_Atual!$AD$130*Esq_Atual!$AJ$130,0)\n+IF(AND(Esq_Atual!$M$131=F56,Esq_Atual!$W$131=I56),Esq_Atual!$AD$131*Esq_Atual!$AJ$131,0)\n+IF(AND(Esq_Atual!$M$132=F56,Esq_Atual!$W$132=I56),Esq_Atual!$AD$132*Esq_Atual!$AJ$132,0)\n+IF(AND(Esq_Atual!$M$133=F56,Esq_Atual!$W$133=I56),Esq_Atual!$AD$133*Esq_Atual!$AJ$133,0)\n+IF(AND(Esq_Atual!$M$134=F56,Esq_Atual!$W$134=I56),Esq_Atual!$AD$134*Esq_Atual!$AJ$134,0)\n+IF(AND(Esq_Atual!$M$135=F56,Esq_Atual!$W$135=I56),Esq_Atual!$AD$135*Esq_Atual!$AJ$135,0)\n+IF(AND(Esq_Atual!$M$136=F56,Esq_Atual!$W$136=I56),Esq_Atual!$AD$136*Esq_Atual!$AJ$136,0)\n+IF(AND(Esq_Atual!$M$137=F56,Esq_Atual!$W$137=I56),Esq_Atual!$AD$137*Esq_Atual!$AJ$137,0)\n+IF(AND(Esq_Atual!$M$138=F56,Esq_Atual!$W$138=I56),Esq_Atual!$AD$138*Esq_Atual!$AJ$138,0)\n+IF(AND(Esq_Atual!$M$139=F56,Esq_Atual!$W$139=I56),Esq_Atual!$AD$139*Esq_Atual!$AJ$139,0)\n+IF(AND(Esq_Atual!$M$140=F56,Esq_Atual!$W$140=I56),Esq_Atual!$AD$140*Esq_Atual!$AJ$140,0)\n+IF(AND(Esq_Atual!$M$141=F56,Esq_Atual!$W$141=I56),Esq_Atual!$AD$141*Esq_Atual!$AJ$141,0)\n+IF(AND(Esq_Atual!$BF$149=F56,Esq_Atual!$BP$149=I56),Esq_Atual!$BW$149*Esq_Atual!$CC$149,0)\n+IF(AND(Esq_Atual!$BF$150=F56,Esq_Atual!$BP$150=I56),Esq_Atual!$BW$150*Esq_Atual!$CC$150,0)\n+IF(AND(Esq_Atual!$BF$151=F56,Esq_Atual!$BP$151=I56),Esq_Atual!$BW$151*Esq_Atual!$CC$151,0)\n+IF(AND(Esq_Atual!$BF$152=F56,Esq_Atual!$BP$152=I56),Esq_Atual!$BW$152*Esq_Atual!$CC$152,0)\n+IF(AND(Esq_Atual!$BF$153=F56,Esq_Atual!$BP$153=I56),Esq_Atual!$BW$153*Esq_Atual!$CC$153,0)\n+IF(AND(Esq_Atual!$BF$154=F56,Esq_Atual!$BP$154=I56),Esq_Atual!$BW$154*Esq_Atual!$CC$154,0)\n+IF(AND(Esq_Atual!$BF$155=F56,Esq_Atual!$BP$155=I56),Esq_Atual!$BW$155*Esq_Atual!$CC$155,0)\n+IF(AND(Esq_Atual!$BF$156=F56,Esq_Atual!$BP$156=I56),Esq_Atual!$BW$156*Esq_Atual!$CC$156,0)\n+IF(AND(Esq_Atual!$BF$157=F56,Esq_Atual!$BP$157=I56),Esq_Atual!$BW$157*Esq_Atual!$CC$157,0)\n+IF(AND(Esq_Atual!$BF$158=F56,Esq_Atual!$BP$158=I56),Esq_Atual!$BW$158*Esq_Atual!$CC$158,0)\n+IF(AND(Esq_Atual!$BF$159=F56,Esq_Atual!$BP$159=I56),Esq_Atual!$BW$159*Esq_Atual!$CC$159,0)\n+IF(AND(Esq_Atual!$BF$160=F56,Esq_Atual!$BP$160=I56),Esq_Atual!$BW$160*Esq_Atual!$CC$160,0)\n+IF(AND(Esq_Atual!$BF$161=F56,Esq_Atual!$BP$161=I56),Esq_Atual!$BW$161*Esq_Atual!$CC$161,0)\n+IF(AND(Esq_Atual!$BF$162=F56,Esq_Atual!$BP$162=I56),Esq_Atual!$BW$162*Esq_Atual!$CC$162,0)\n+IF(AND(Esq_Atual!$BF$163=F56,Esq_Atual!$BP$163=I56),Esq_Atual!$BW$163*Esq_Atual!$CC$163,0)\n+IF(AND(Esq_Atual!$AS$193=F56,Esq_Atual!$BC$193=I56),Esq_Atual!$BJ$193*Esq_Atual!$BM$193,0)\n+IF(AND(Esq_Atual!$AS$194=F56,Esq_Atual!$BC$194=I56),Esq_Atual!$BJ$194*Esq_Atual!$BM$194,0)\n+IF(AND(Esq_Atual!$AS$195=F56,Esq_Atual!$BC$195=I56),Esq_Atual!$BJ$195*Esq_Atual!$BM$195,0)/100","v":0},{"$f":"IF(AND(Esq_Atual!$M$127=F56,Esq_Atual!$W$127=I56),Esq_Atual!$AD$127*Esq_Atual!$AJ$127,0)\n+IF(AND(Esq_Atual!$M$128=F56,Esq_Atual!$W$128=I56),Esq_Atual!$AD$128*Esq_Atual!$AJ$128,0)\n+IF(AND(Esq_Atual!$M$129=F56,Esq_Atual!$W$129=I56),Esq_Atual!$AD$129*Esq_Atual!$AJ$129,0)\n+IF(AND(Esq_Atual!$M$130=F56,Esq_Atual!$W$130=I56),Esq_Atual!$AD$130*Esq_Atual!$AJ$130,0)\n+IF(AND(Esq_Atual!$M$131=F56,Esq_Atual!$W$131=I56),Esq_Atual!$AD$131*Esq_Atual!$AJ$131,0)\n+IF(AND(Esq_Atual!$M$132=F56,Esq_Atual!$W$132=I56),Esq_Atual!$AD$132*Esq_Atual!$AJ$132,0)\n+IF(AND(Esq_Atual!$M$133=F56,Esq_Atual!$W$133=I56),Esq_Atual!$AD$133*Esq_Atual!$AJ$133,0)\n+IF(AND(Esq_Atual!$M$134=F56,Esq_Atual!$W$134=I56),Esq_Atual!$AD$134*Esq_Atual!$AJ$134,0)\n+IF(AND(Esq_Atual!$M$135=F56,Esq_Atual!$W$135=I56),Esq_Atual!$AD$135*Esq_Atual!$AJ$135,0)\n+IF(AND(Esq_Atual!$M$136=F56,Esq_Atual!$W$136=I56),Esq_Atual!$AD$136*Esq_Atual!$AJ$136,0)\n+IF(AND(Esq_Atual!$M$137=F56,Esq_Atual!$W$137=I56),Esq_Atual!$AD$137*Esq_Atual!$AJ$137,0)\n+IF(AND(Esq_Atual!$M$138=F56,Esq_Atual!$W$138=I56),Esq_Atual!$AD$138*Esq_Atual!$AJ$138,0)\n+IF(AND(Esq_Atual!$M$139=F56,Esq_Atual!$W$139=I56),Esq_Atual!$AD$139*Esq_Atual!$AJ$139,0)\n+IF(AND(Esq_Atual!$M$140=F56,Esq_Atual!$W$140=I56),Esq_Atual!$AD$140*Esq_Atual!$AJ$140,0)\n+IF(AND(Esq_Atual!$M$141=F56,Esq_Atual!$W$141=I56),Esq_Atual!$AD$141*Esq_Atual!$AJ$141,0)\n+IF(AND(Esq_Atual!$BF$149=F56,Esq_Atual!$BP$149=I56),Esq_Atual!$BW$149*Esq_Atual!$CC$149,0)\n+IF(AND(Esq_Atual!$BF$150=F56,Esq_Atual!$BP$150=I56),Esq_Atual!$BW$150*Esq_Atual!$CC$150,0)\n+IF(AND(Esq_Atual!$BF$151=F56,Esq_Atual!$BP$151=I56),Esq_Atual!$BW$151*Esq_Atual!$CC$151,0)\n+IF(AND(Esq_Atual!$BF$152=F56,Esq_Atual!$BP$152=I56),Esq_Atual!$BW$152*Esq_Atual!$CC$152,0)\n+IF(AND(Esq_Atual!$BF$153=F56,Esq_Atual!$BP$153=I56),Esq_Atual!$BW$153*Esq_Atual!$CC$153,0)\n+IF(AND(Esq_Atual!$BF$154=F56,Esq_Atual!$BP$154=I56),Esq_Atual!$BW$154*Esq_Atual!$CC$154,0)\n+IF(AND(Esq_Atual!$BF$155=F56,Esq_Atual!$BP$155=I56),Esq_Atual!$BW$155*Esq_Atual!$CC$155,0)\n+IF(AND(Esq_Atual!$BF$156=F56,Esq_Atual!$BP$156=I56),Esq_Atual!$BW$156*Esq_Atual!$CC$156,0)\n+IF(AND(Esq_Atual!$BF$157=F56,Esq_Atual!$BP$157=I56),Esq_Atual!$BW$157*Esq_Atual!$CC$157,0)\n+IF(AND(Esq_Atual!$BF$158=F56,Esq_Atual!$BP$158=I56),Esq_Atual!$BW$158*Esq_Atual!$CC$158,0)\n+IF(AND(Esq_Atual!$BF$159=F56,Esq_Atual!$BP$159=I56),Esq_Atual!$BW$159*Esq_Atual!$CC$159,0)\n+IF(AND(Esq_Atual!$BF$160=F56,Esq_Atual!$BP$160=I56),Esq_Atual!$BW$160*Esq_Atual!$CC$160,0)\n+IF(AND(Esq_Atual!$BF$161=F56,Esq_Atual!$BP$161=I56),Esq_Atual!$BW$161*Esq_Atual!$CC$161,0)\n+IF(AND(Esq_Atual!$BF$162=F56,Esq_Atual!$BP$162=I56),Esq_Atual!$BW$162*Esq_Atual!$CC$162,0)\n+IF(AND(Esq_Atual!$BF$163=F56,Esq_Atual!$BP$163=I56),Esq_Atual!$BW$163*Esq_Atual!$CC$163,0)\n+IF(AND(Esq_Atual!$AS$193=F56,Esq_Atual!$BC$193=I56),Esq_Atual!$BJ$193*Esq_Atual!$BM$193,0)\n+IF(AND(Esq_Atual!$AS$194=F56,Esq_Atual!$BC$194=I56),Esq_Atual!$BJ$194*Esq_Atual!$BM$194,0)\n+IF(AND(Esq_Atual!$AS$195=F56,Esq_Atual!$BC$195=I56),Esq_Atual!$BJ$195*Esq_Atual!$BM$195,0)/100","v":0},{"$f":"'Preços unitários'!$T$36","v":0},null,{"$f":"+S56*U56","v":0},{"$f":"+'Modelação de custos atual'!$D$20","v":0},{"$f":"L56*X56","v":0},50000,{"$f":"_xlfn.FLOOR.MATH(IF(OR(R56>Z56,R56=Z56),R56/Z56,0),1)","v":0},{"$f":"+'Preços unitários'!T43","v":0},{"$f":"+AA56*AB56","v":0}]
[null,null,"APOIO","RI/RS","Viaturas","Viatura de caixa aberta",null,null,"gasóleo",{"$f":"+IF(AND(Esq_Atual!$M$127=F57,Esq_Atual!$W$127=I57),1,0)+IF(AND(Esq_Atual!$M$128=F57,Esq_Atual!$W$128=I57),1,0)+IF(AND(Esq_Atual!$M$129=F57,Esq_Atual!$W$129=I57),1,0)+IF(AND(Esq_Atual!$M$130=F57,Esq_Atual!$W$130=I57),1,0)+IF(AND(Esq_Atual!$M$131=F57,Esq_Atual!$W$131=I57),1,0)+IF(AND(Esq_Atual!$M$132=F57,Esq_Atual!$W$132=I57),1,0)+IF(AND(Esq_Atual!$M$133=F57,Esq_Atual!$W$133=I57),1,0)+IF(AND(Esq_Atual!$M$134=F57,Esq_Atual!$W$134=I57),1,0)+IF(AND(Esq_Atual!$M$135=F57,Esq_Atual!$W$135=I57),1,0)+IF(AND(Esq_Atual!$M$136=F57,Esq_Atual!$W$136=I57),1,0)+IF(AND(Esq_Atual!$M$137=F57,Esq_Atual!$W$137=I57),1,0)+IF(AND(Esq_Atual!$M$138=F57,Esq_Atual!$W$138=I57),1,0)+IF(AND(Esq_Atual!$M$139=F57,Esq_Atual!$W$139=I57),1,0)+IF(AND(Esq_Atual!$M$140=F57,Esq_Atual!$W$140=I57),1,0)+IF(AND(Esq_Atual!$M$141=F57,Esq_Atual!$W$141=I57),1,0)+IF(AND(Esq_Atual!$BF$149=F57,Esq_Atual!$BP$149=I57),1,0)+IF(AND(Esq_Atual!$BF$150=F57,Esq_Atual!$BP$150=I57),1,0)+IF(AND(Esq_Atual!$BF$151=F57,Esq_Atual!$BP$151=I57),1,0)+IF(AND(Esq_Atual!$BF$152=F57,Esq_Atual!$BP$152=I57),1,0)+IF(AND(Esq_Atual!$BF$153=F57,Esq_Atual!$BP$153=I57),1,0)+IF(AND(Esq_Atual!$BF$154=F57,Esq_Atual!$BP$154=I57),1,0)+IF(AND(Esq_Atual!$BF$155=F57,Esq_Atual!$BP$155=I57),1,0)+IF(AND(Esq_Atual!$BF$156=F57,Esq_Atual!$BP$156=I57),1,0)+IF(AND(Esq_Atual!$BF$157=F57,Esq_Atual!$BP$157=I57),1,0)+IF(AND(Esq_Atual!$BF$158=F57,Esq_Atual!$BP$158=I57),1,0)+IF(AND(Esq_Atual!$BF$159=F57,Esq_Atual!$BP$159=I57),1,0)+IF(AND(Esq_Atual!$BF$160=F57,Esq_Atual!$BP$160=I57),1,0)+IF(AND(Esq_Atual!$BF$161=F57,Esq_Atual!$BP$161=I57),1,0)+IF(AND(Esq_Atual!$BF$162=F57,Esq_Atual!$BP$162=I57),1,0)+IF(AND(Esq_Atual!$BF$163=F57,Esq_Atual!$BP$163=I57),1,0)","v":0},{"$f":"'Preços unitários'!$M$33","v":0},0,6,0,null,null,null,{"$f":"+IF(AND(Esq_Atual!$M$127=F57,Esq_Atual!$W$127=I57),Esq_Atual!$AD$127,0)\n+IF(AND(Esq_Atual!$M$128=F57,Esq_Atual!$W$128=I57),Esq_Atual!$AD$128,0)\n+IF(AND(Esq_Atual!$M$129=F57,Esq_Atual!$W$129=I57),Esq_Atual!$AD$129,0)\n+IF(AND(Esq_Atual!$M$130=F57,Esq_Atual!$W$130=I57),Esq_Atual!$AD$130,0)\n+IF(AND(Esq_Atual!$M$131=F57,Esq_Atual!$W$131=I57),Esq_Atual!$AD$131,0)\n+IF(AND(Esq_Atual!$M$132=F57,Esq_Atual!$W$132=I57),Esq_Atual!$AD$132,0)\n+IF(AND(Esq_Atual!$M$133=F57,Esq_Atual!$W$133=I57),Esq_Atual!$AD$133,0)\n+IF(AND(Esq_Atual!$M$134=F57,Esq_Atual!$W$134=I57),Esq_Atual!$AD$134,0)\n+IF(AND(Esq_Atual!$M$135=F57,Esq_Atual!$W$135=I57),Esq_Atual!$AD$135,0)\n+IF(AND(Esq_Atual!$M$136=F57,Esq_Atual!$W$136=I57),Esq_Atual!$AD$136,0)\n+IF(AND(Esq_Atual!$M$137=F57,Esq_Atual!$W$137=I57),Esq_Atual!$AD$137,0)\n+IF(AND(Esq_Atual!$M$138=F57,Esq_Atual!$W$138=I57),Esq_Atual!$AD$138,0)\n+IF(AND(Esq_Atual!$M$139=F57,Esq_Atual!$W$139=I57),Esq_Atual!$AD$139,0)\n+IF(AND(Esq_Atual!$M$140=F57,Esq_Atual!$W$140=I57),Esq_Atual!$AD$140,0)\n+IF(AND(Esq_Atual!$M$141=F57,Esq_Atual!$W$141=I57),Esq_Atual!$AD$141,0)\n+IF(AND(Esq_Atual!$BF$149=F57,Esq_Atual!$BP$149=I57),Esq_Atual!$BW$149,0)\n+IF(AND(Esq_Atual!$BF$150=F57,Esq_Atual!$BP$150=I57),Esq_Atual!$BW$150,0)\n+IF(AND(Esq_Atual!$BF$151=F57,Esq_Atual!$BP$151=I57),Esq_Atual!$BW$151,0)\n+IF(AND(Esq_Atual!$BF$152=F57,Esq_Atual!$BP$152=I57),Esq_Atual!$BW$152,0)\n+IF(AND(Esq_Atual!$BF$153=F57,Esq_Atual!$BP$153=I57),Esq_Atual!$BW$153,0)\n+IF(AND(Esq_Atual!$BF$154=F57,Esq_Atual!$BP$154=I57),Esq_Atual!$BW$154,0)\n+IF(AND(Esq_Atual!$BF$155=F57,Esq_Atual!$BP$155=I57),Esq_Atual!$BW$155,0)\n+IF(AND(Esq_Atual!$BF$156=F57,Esq_Atual!$BP$156=I57),Esq_Atual!$BW$156,0)\n+IF(AND(Esq_Atual!$BF$157=F57,Esq_Atual!$BP$157=I57),Esq_Atual!$BW$157,0)\n+IF(AND(Esq_Atual!$BF$158=F57,Esq_Atual!$BP$158=I57),Esq_Atual!$BW$158,0)\n+IF(AND(Esq_Atual!$BF$159=F57,Esq_Atual!$BP$159=I57),Esq_Atual!$BW$159,0)\n+IF(AND(Esq_Atual!$BF$160=F57,Esq_Atual!$BP$160=I57),Esq_Atual!$BW$160,0)\n+IF(AND(Esq_Atual!$BF$161=F57,Esq_Atual!$BP$161=I57),Esq_Atual!$BW$161,0)\n+IF(AND(Esq_Atual!$BF$162=F57,Esq_Atual!$BP$162=I57),Esq_Atual!$BW$162,0)\n+IF(AND(Esq_Atual!$BF$163=F57,Esq_Atual!$BP$163=I57),Esq_Atual!$BW$163,0)\n+IF(AND(Esq_Atual!$AS$193=F57,Esq_Atual!$BC$193=I57),Esq_Atual!$BJ$193,0)\n+IF(AND(Esq_Atual!$AS$194=F57,Esq_Atual!$BC$194=I57),Esq_Atual!$BJ$194,0)\n+IF(AND(Esq_Atual!$AS$195=F57,Esq_Atual!$BC$195=I57),Esq_Atual!$BJ$195,0)","v":0},{"$f":"(IF(AND(Esq_Atual!$M$127=F57,Esq_Atual!$W$127=I57),Esq_Atual!$AD$127*Esq_Atual!$AJ$127,0)\n+IF(AND(Esq_Atual!$M$128=F57,Esq_Atual!$W$128=I57),Esq_Atual!$AD$128*Esq_Atual!$AJ$128,0)\n+IF(AND(Esq_Atual!$M$129=F57,Esq_Atual!$W$129=I57),Esq_Atual!$AD$129*Esq_Atual!$AJ$129,0)\n+IF(AND(Esq_Atual!$M$130=F57,Esq_Atual!$W$130=I57),Esq_Atual!$AD$130*Esq_Atual!$AJ$130,0)\n+IF(AND(Esq_Atual!$M$131=F57,Esq_Atual!$W$131=I57),Esq_Atual!$AD$131*Esq_Atual!$AJ$131,0)\n+IF(AND(Esq_Atual!$M$132=F57,Esq_Atual!$W$132=I57),Esq_Atual!$AD$132*Esq_Atual!$AJ$132,0)\n+IF(AND(Esq_Atual!$M$133=F57,Esq_Atual!$W$133=I57),Esq_Atual!$AD$133*Esq_Atual!$AJ$133,0)\n+IF(AND(Esq_Atual!$M$134=F57,Esq_Atual!$W$134=I57),Esq_Atual!$AD$134*Esq_Atual!$AJ$134,0)\n+IF(AND(Esq_Atual!$M$135=F57,Esq_Atual!$W$135=I57),Esq_Atual!$AD$135*Esq_Atual!$AJ$135,0)\n+IF(AND(Esq_Atual!$M$136=F57,Esq_Atual!$W$136=I57),Esq_Atual!$AD$136*Esq_Atual!$AJ$136,0)\n+IF(AND(Esq_Atual!$M$137=F57,Esq_Atual!$W$137=I57),Esq_Atual!$AD$137*Esq_Atual!$AJ$137,0)\n+IF(AND(Esq_Atual!$M$138=F57,Esq_Atual!$W$138=I57),Esq_Atual!$AD$138*Esq_Atual!$AJ$138,0)\n+IF(AND(Esq_Atual!$M$139=F57,Esq_Atual!$W$139=I57),Esq_Atual!$AD$139*Esq_Atual!$AJ$139,0)\n+IF(AND(Esq_Atual!$M$140=F57,Esq_Atual!$W$140=I57),Esq_Atual!$AD$140*Esq_Atual!$AJ$140,0)\n+IF(AND(Esq_Atual!$M$141=F57,Esq_Atual!$W$141=I57),Esq_Atual!$AD$141*Esq_Atual!$AJ$141,0)\n+IF(AND(Esq_Atual!$BF$149=F57,Esq_Atual!$BP$149=I57),Esq_Atual!$BW$149*Esq_Atual!$CC$149,0)\n+IF(AND(Esq_Atual!$BF$150=F57,Esq_Atual!$BP$150=I57),Esq_Atual!$BW$150*Esq_Atual!$CC$150,0)\n+IF(AND(Esq_Atual!$BF$151=F57,Esq_Atual!$BP$151=I57),Esq_Atual!$BW$151*Esq_Atual!$CC$151,0)\n+IF(AND(Esq_Atual!$BF$152=F57,Esq_Atual!$BP$152=I57),Esq_Atual!$BW$152*Esq_Atual!$CC$152,0)\n+IF(AND(Esq_Atual!$BF$153=F57,Esq_Atual!$BP$153=I57),Esq_Atual!$BW$153*Esq_Atual!$CC$153,0)\n+IF(AND(Esq_Atual!$BF$154=F57,Esq_Atual!$BP$154=I57),Esq_Atual!$BW$154*Esq_Atual!$CC$154,0)\n+IF(AND(Esq_Atual!$BF$155=F57,Esq_Atual!$BP$155=I57),Esq_Atual!$BW$155*Esq_Atual!$CC$155,0)\n+IF(AND(Esq_Atual!$BF$156=F57,Esq_Atual!$BP$156=I57),Esq_Atual!$BW$156*Esq_Atual!$CC$156,0)\n+IF(AND(Esq_Atual!$BF$157=F57,Esq_Atual!$BP$157=I57),Esq_Atual!$BW$157*Esq_Atual!$CC$157,0)\n+IF(AND(Esq_Atual!$BF$158=F57,Esq_Atual!$BP$158=I57),Esq_Atual!$BW$158*Esq_Atual!$CC$158,0)\n+IF(AND(Esq_Atual!$BF$159=F57,Esq_Atual!$BP$159=I57),Esq_Atual!$BW$159*Esq_Atual!$CC$159,0)\n+IF(AND(Esq_Atual!$BF$160=F57,Esq_Atual!$BP$160=I57),Esq_Atual!$BW$160*Esq_Atual!$CC$160,0)\n+IF(AND(Esq_Atual!$BF$161=F57,Esq_Atual!$BP$161=I57),Esq_Atual!$BW$161*Esq_Atual!$CC$161,0)\n+IF(AND(Esq_Atual!$BF$162=F57,Esq_Atual!$BP$162=I57),Esq_Atual!$BW$162*Esq_Atual!$CC$162,0)\n+IF(AND(Esq_Atual!$BF$163=F57,Esq_Atual!$BP$163=I57),Esq_Atual!$BW$163*Esq_Atual!$CC$163,0)\n+IF(AND(Esq_Atual!$AS$193=F57,Esq_Atual!$BC$193=I57),Esq_Atual!$BJ$193*Esq_Atual!$BM$193,0)\n+IF(AND(Esq_Atual!$AS$194=F57,Esq_Atual!$BC$194=I57),Esq_Atual!$BJ$194*Esq_Atual!$BM$194,0)\n+IF(AND(Esq_Atual!$AS$195=F57,Esq_Atual!$BC$195=I57),Esq_Atual!$BJ$195*Esq_Atual!$BM$195,0))/100","v":0},{"$f":"(IF(AND(Esq_Atual!$M$127=F57,Esq_Atual!$W$127=I57),Esq_Atual!$AD$127*Esq_Atual!$AJ$127,0)\n+IF(AND(Esq_Atual!$M$128=F57,Esq_Atual!$W$128=I57),Esq_Atual!$AD$128*Esq_Atual!$AJ$128,0)\n+IF(AND(Esq_Atual!$M$129=F57,Esq_Atual!$W$129=I57),Esq_Atual!$AD$129*Esq_Atual!$AJ$129,0)\n+IF(AND(Esq_Atual!$M$130=F57,Esq_Atual!$W$130=I57),Esq_Atual!$AD$130*Esq_Atual!$AJ$130,0)\n+IF(AND(Esq_Atual!$M$131=F57,Esq_Atual!$W$131=I57),Esq_Atual!$AD$131*Esq_Atual!$AJ$131,0)\n+IF(AND(Esq_Atual!$M$132=F57,Esq_Atual!$W$132=I57),Esq_Atual!$AD$132*Esq_Atual!$AJ$132,0)\n+IF(AND(Esq_Atual!$M$133=F57,Esq_Atual!$W$133=I57),Esq_Atual!$AD$133*Esq_Atual!$AJ$133,0)\n+IF(AND(Esq_Atual!$M$134=F57,Esq_Atual!$W$134=I57),Esq_Atual!$AD$134*Esq_Atual!$AJ$134,0)\n+IF(AND(Esq_Atual!$M$135=F57,Esq_Atual!$W$135=I57),Esq_Atual!$AD$135*Esq_Atual!$AJ$135,0)\n+IF(AND(Esq_Atual!$M$136=F57,Esq_Atual!$W$136=I57),Esq_Atual!$AD$136*Esq_Atual!$AJ$136,0)\n+IF(AND(Esq_Atual!$M$137=F57,Esq_Atual!$W$137=I57),Esq_Atual!$AD$137*Esq_Atual!$AJ$137,0)\n+IF(AND(Esq_Atual!$M$138=F57,Esq_Atual!$W$138=I57),Esq_Atual!$AD$138*Esq_Atual!$AJ$138,0)\n+IF(AND(Esq_Atual!$M$139=F57,Esq_Atual!$W$139=I57),Esq_Atual!$AD$139*Esq_Atual!$AJ$139,0)\n+IF(AND(Esq_Atual!$M$140=F57,Esq_Atual!$W$140=I57),Esq_Atual!$AD$140*Esq_Atual!$AJ$140,0)\n+IF(AND(Esq_Atual!$M$141=F57,Esq_Atual!$W$141=I57),Esq_Atual!$AD$141*Esq_Atual!$AJ$141,0)\n+IF(AND(Esq_Atual!$BF$149=F57,Esq_Atual!$BP$149=I57),Esq_Atual!$BW$149*Esq_Atual!$CC$149,0)\n+IF(AND(Esq_Atual!$BF$150=F57,Esq_Atual!$BP$150=I57),Esq_Atual!$BW$150*Esq_Atual!$CC$150,0)\n+IF(AND(Esq_Atual!$BF$151=F57,Esq_Atual!$BP$151=I57),Esq_Atual!$BW$151*Esq_Atual!$CC$151,0)\n+IF(AND(Esq_Atual!$BF$152=F57,Esq_Atual!$BP$152=I57),Esq_Atual!$BW$152*Esq_Atual!$CC$152,0)\n+IF(AND(Esq_Atual!$BF$153=F57,Esq_Atual!$BP$153=I57),Esq_Atual!$BW$153*Esq_Atual!$CC$153,0)\n+IF(AND(Esq_Atual!$BF$154=F57,Esq_Atual!$BP$154=I57),Esq_Atual!$BW$154*Esq_Atual!$CC$154,0)\n+IF(AND(Esq_Atual!$BF$155=F57,Esq_Atual!$BP$155=I57),Esq_Atual!$BW$155*Esq_Atual!$CC$155,0)\n+IF(AND(Esq_Atual!$BF$156=F57,Esq_Atual!$BP$156=I57),Esq_Atual!$BW$156*Esq_Atual!$CC$156,0)\n+IF(AND(Esq_Atual!$BF$157=F57,Esq_Atual!$BP$157=I57),Esq_Atual!$BW$157*Esq_Atual!$CC$157,0)\n+IF(AND(Esq_Atual!$BF$158=F57,Esq_Atual!$BP$158=I57),Esq_Atual!$BW$158*Esq_Atual!$CC$158,0)\n+IF(AND(Esq_Atual!$BF$159=F57,Esq_Atual!$BP$159=I57),Esq_Atual!$BW$159*Esq_Atual!$CC$159,0)\n+IF(AND(Esq_Atual!$BF$160=F57,Esq_Atual!$BP$160=I57),Esq_Atual!$BW$160*Esq_Atual!$CC$160,0)\n+IF(AND(Esq_Atual!$BF$161=F57,Esq_Atual!$BP$161=I57),Esq_Atual!$BW$161*Esq_Atual!$CC$161,0)\n+IF(AND(Esq_Atual!$BF$162=F57,Esq_Atual!$BP$162=I57),Esq_Atual!$BW$162*Esq_Atual!$CC$162,0)\n+IF(AND(Esq_Atual!$BF$163=F57,Esq_Atual!$BP$163=I57),Esq_Atual!$BW$163*Esq_Atual!$CC$163,0)\n+IF(AND(Esq_Atual!$AS$193=F57,Esq_Atual!$BC$193=I57),Esq_Atual!$BJ$193*Esq_Atual!$BM$193,0)\n+IF(AND(Esq_Atual!$AS$194=F57,Esq_Atual!$BC$194=I57),Esq_Atual!$BJ$194*Esq_Atual!$BM$194,0)\n+IF(AND(Esq_Atual!$AS$195=F57,Esq_Atual!$BC$195=I57),Esq_Atual!$BJ$195*Esq_Atual!$BM$195,0))/100","v":0},{"$f":"'Preços unitários'!$T$34","v":0},null,{"$f":"+S57*U57","v":0},{"$f":"+'Modelação de custos atual'!$D$20","v":0},0,50000,0,{"$f":"'Preços unitários'!$T$39","v":0},0]
[null,null,"APOIO","RI/RS","Viaturas","Viatura de caixa aberta",null,null,"elétrica",{"$f":"+IF(AND(Esq_Atual!$M$127=F58,Esq_Atual!$W$127=I58),1,0)+IF(AND(Esq_Atual!$M$128=F58,Esq_Atual!$W$128=I58),1,0)+IF(AND(Esq_Atual!$M$129=F58,Esq_Atual!$W$129=I58),1,0)+IF(AND(Esq_Atual!$M$130=F58,Esq_Atual!$W$130=I58),1,0)+IF(AND(Esq_Atual!$M$131=F58,Esq_Atual!$W$131=I58),1,0)+IF(AND(Esq_Atual!$M$132=F58,Esq_Atual!$W$132=I58),1,0)+IF(AND(Esq_Atual!$M$133=F58,Esq_Atual!$W$133=I58),1,0)+IF(AND(Esq_Atual!$M$134=F58,Esq_Atual!$W$134=I58),1,0)+IF(AND(Esq_Atual!$M$135=F58,Esq_Atual!$W$135=I58),1,0)+IF(AND(Esq_Atual!$M$136=F58,Esq_Atual!$W$136=I58),1,0)+IF(AND(Esq_Atual!$M$137=F58,Esq_Atual!$W$137=I58),1,0)+IF(AND(Esq_Atual!$M$138=F58,Esq_Atual!$W$138=I58),1,0)+IF(AND(Esq_Atual!$M$139=F58,Esq_Atual!$W$139=I58),1,0)+IF(AND(Esq_Atual!$M$140=F58,Esq_Atual!$W$140=I58),1,0)+IF(AND(Esq_Atual!$M$141=F58,Esq_Atual!$W$141=I58),1,0)+IF(AND(Esq_Atual!$BF$149=F58,Esq_Atual!$BP$149=I58),1,0)+IF(AND(Esq_Atual!$BF$150=F58,Esq_Atual!$BP$150=I58),1,0)+IF(AND(Esq_Atual!$BF$151=F58,Esq_Atual!$BP$151=I58),1,0)+IF(AND(Esq_Atual!$BF$152=F58,Esq_Atual!$BP$152=I58),1,0)+IF(AND(Esq_Atual!$BF$153=F58,Esq_Atual!$BP$153=I58),1,0)+IF(AND(Esq_Atual!$BF$154=F58,Esq_Atual!$BP$154=I58),1,0)+IF(AND(Esq_Atual!$BF$155=F58,Esq_Atual!$BP$155=I58),1,0)+IF(AND(Esq_Atual!$BF$156=F58,Esq_Atual!$BP$156=I58),1,0)+IF(AND(Esq_Atual!$BF$157=F58,Esq_Atual!$BP$157=I58),1,0)+IF(AND(Esq_Atual!$BF$158=F58,Esq_Atual!$BP$158=I58),1,0)+IF(AND(Esq_Atual!$BF$159=F58,Esq_Atual!$BP$159=I58),1,0)+IF(AND(Esq_Atual!$BF$160=F58,Esq_Atual!$BP$160=I58),1,0)+IF(AND(Esq_Atual!$BF$161=F58,Esq_Atual!$BP$161=I58),1,0)+IF(AND(Esq_Atual!$BF$162=F58,Esq_Atual!$BP$162=I58),1,0)+IF(AND(Esq_Atual!$BF$163=F58,Esq_Atual!$BP$163=I58),1,0)","v":0},{"$f":"'Preços unitários'!$M$33","v":0},{"$f":"J58*K58","v":0},6,{"$f":"L58/M58","v":0},null,null,null,{"$f":"+IF(AND(Esq_Atual!$M$127=F58,Esq_Atual!$W$127=I58),Esq_Atual!$AD$127,0)\n+IF(AND(Esq_Atual!$M$128=F58,Esq_Atual!$W$128=I58),Esq_Atual!$AD$128,0)\n+IF(AND(Esq_Atual!$M$129=F58,Esq_Atual!$W$129=I58),Esq_Atual!$AD$129,0)\n+IF(AND(Esq_Atual!$M$130=F58,Esq_Atual!$W$130=I58),Esq_Atual!$AD$130,0)\n+IF(AND(Esq_Atual!$M$131=F58,Esq_Atual!$W$131=I58),Esq_Atual!$AD$131,0)\n+IF(AND(Esq_Atual!$M$132=F58,Esq_Atual!$W$132=I58),Esq_Atual!$AD$132,0)\n+IF(AND(Esq_Atual!$M$133=F58,Esq_Atual!$W$133=I58),Esq_Atual!$AD$133,0)\n+IF(AND(Esq_Atual!$M$134=F58,Esq_Atual!$W$134=I58),Esq_Atual!$AD$134,0)\n+IF(AND(Esq_Atual!$M$135=F58,Esq_Atual!$W$135=I58),Esq_Atual!$AD$135,0)\n+IF(AND(Esq_Atual!$M$136=F58,Esq_Atual!$W$136=I58),Esq_Atual!$AD$136,0)\n+IF(AND(Esq_Atual!$M$137=F58,Esq_Atual!$W$137=I58),Esq_Atual!$AD$137,0)\n+IF(AND(Esq_Atual!$M$138=F58,Esq_Atual!$W$138=I58),Esq_Atual!$AD$138,0)\n+IF(AND(Esq_Atual!$M$139=F58,Esq_Atual!$W$139=I58),Esq_Atual!$AD$139,0)\n+IF(AND(Esq_Atual!$M$140=F58,Esq_Atual!$W$140=I58),Esq_Atual!$AD$140,0)\n+IF(AND(Esq_Atual!$M$141=F58,Esq_Atual!$W$141=I58),Esq_Atual!$AD$141,0)\n+IF(AND(Esq_Atual!$BF$149=F58,Esq_Atual!$BP$149=I58),Esq_Atual!$BW$149,0)\n+IF(AND(Esq_Atual!$BF$150=F58,Esq_Atual!$BP$150=I58),Esq_Atual!$BW$150,0)\n+IF(AND(Esq_Atual!$BF$151=F58,Esq_Atual!$BP$151=I58),Esq_Atual!$BW$151,0)\n+IF(AND(Esq_Atual!$BF$152=F58,Esq_Atual!$BP$152=I58),Esq_Atual!$BW$152,0)\n+IF(AND(Esq_Atual!$BF$153=F58,Esq_Atual!$BP$153=I58),Esq_Atual!$BW$153,0)\n+IF(AND(Esq_Atual!$BF$154=F58,Esq_Atual!$BP$154=I58),Esq_Atual!$BW$154,0)\n+IF(AND(Esq_Atual!$BF$155=F58,Esq_Atual!$BP$155=I58),Esq_Atual!$BW$155,0)\n+IF(AND(Esq_Atual!$BF$156=F58,Esq_Atual!$BP$156=I58),Esq_Atual!$BW$156,0)\n+IF(AND(Esq_Atual!$BF$157=F58,Esq_Atual!$BP$157=I58),Esq_Atual!$BW$157,0)\n+IF(AND(Esq_Atual!$BF$158=F58,Esq_Atual!$BP$158=I58),Esq_Atual!$BW$158,0)\n+IF(AND(Esq_Atual!$BF$159=F58,Esq_Atual!$BP$159=I58),Esq_Atual!$BW$159,0)\n+IF(AND(Esq_Atual!$BF$160=F58,Esq_Atual!$BP$160=I58),Esq_Atual!$BW$160,0)\n+IF(AND(Esq_Atual!$BF$161=F58,Esq_Atual!$BP$161=I58),Esq_Atual!$BW$161,0)\n+IF(AND(Esq_Atual!$BF$162=F58,Esq_Atual!$BP$162=I58),Esq_Atual!$BW$162,0)\n+IF(AND(Esq_Atual!$BF$163=F58,Esq_Atual!$BP$163=I58),Esq_Atual!$BW$163,0)\n+IF(AND(Esq_Atual!$AS$193=F58,Esq_Atual!$BC$193=I58),Esq_Atual!$BJ$193,0)\n+IF(AND(Esq_Atual!$AS$194=F58,Esq_Atual!$BC$194=I58),Esq_Atual!$BJ$194,0)\n+IF(AND(Esq_Atual!$AS$195=F58,Esq_Atual!$BC$195=I58),Esq_Atual!$BJ$195,0)","v":0},{"$f":"(IF(AND(Esq_Atual!$M$127=F58,Esq_Atual!$W$127=I58),Esq_Atual!$AD$127*Esq_Atual!$AJ$127,0)\n+IF(AND(Esq_Atual!$M$128=F58,Esq_Atual!$W$128=I58),Esq_Atual!$AD$128*Esq_Atual!$AJ$128,0)\n+IF(AND(Esq_Atual!$M$129=F58,Esq_Atual!$W$129=I58),Esq_Atual!$AD$129*Esq_Atual!$AJ$129,0)\n+IF(AND(Esq_Atual!$M$130=F58,Esq_Atual!$W$130=I58),Esq_Atual!$AD$130*Esq_Atual!$AJ$130,0)\n+IF(AND(Esq_Atual!$M$131=F58,Esq_Atual!$W$131=I58),Esq_Atual!$AD$131*Esq_Atual!$AJ$131,0)\n+IF(AND(Esq_Atual!$M$132=F58,Esq_Atual!$W$132=I58),Esq_Atual!$AD$132*Esq_Atual!$AJ$132,0)\n+IF(AND(Esq_Atual!$M$133=F58,Esq_Atual!$W$133=I58),Esq_Atual!$AD$133*Esq_Atual!$AJ$133,0)\n+IF(AND(Esq_Atual!$M$134=F58,Esq_Atual!$W$134=I58),Esq_Atual!$AD$134*Esq_Atual!$AJ$134,0)\n+IF(AND(Esq_Atual!$M$135=F58,Esq_Atual!$W$135=I58),Esq_Atual!$AD$135*Esq_Atual!$AJ$135,0)\n+IF(AND(Esq_Atual!$M$136=F58,Esq_Atual!$W$136=I58),Esq_Atual!$AD$136*Esq_Atual!$AJ$136,0)\n+IF(AND(Esq_Atual!$M$137=F58,Esq_Atual!$W$137=I58),Esq_Atual!$AD$137*Esq_Atual!$AJ$137,0)\n+IF(AND(Esq_Atual!$M$138=F58,Esq_Atual!$W$138=I58),Esq_Atual!$AD$138*Esq_Atual!$AJ$138,0)\n+IF(AND(Esq_Atual!$M$139=F58,Esq_Atual!$W$139=I58),Esq_Atual!$AD$139*Esq_Atual!$AJ$139,0)\n+IF(AND(Esq_Atual!$M$140=F58,Esq_Atual!$W$140=I58),Esq_Atual!$AD$140*Esq_Atual!$AJ$140,0)\n+IF(AND(Esq_Atual!$M$141=F58,Esq_Atual!$W$141=I58),Esq_Atual!$AD$141*Esq_Atual!$AJ$141,0)\n+IF(AND(Esq_Atual!$BF$149=F58,Esq_Atual!$BP$149=I58),Esq_Atual!$BW$149*Esq_Atual!$CC$149,0)\n+IF(AND(Esq_Atual!$BF$150=F58,Esq_Atual!$BP$150=I58),Esq_Atual!$BW$150*Esq_Atual!$CC$150,0)\n+IF(AND(Esq_Atual!$BF$151=F58,Esq_Atual!$BP$151=I58),Esq_Atual!$BW$151*Esq_Atual!$CC$151,0)\n+IF(AND(Esq_Atual!$BF$152=F58,Esq_Atual!$BP$152=I58),Esq_Atual!$BW$152*Esq_Atual!$CC$152,0)\n+IF(AND(Esq_Atual!$BF$153=F58,Esq_Atual!$BP$153=I58),Esq_Atual!$BW$153*Esq_Atual!$CC$153,0)\n+IF(AND(Esq_Atual!$BF$154=F58,Esq_Atual!$BP$154=I58),Esq_Atual!$BW$154*Esq_Atual!$CC$154,0)\n+IF(AND(Esq_Atual!$BF$155=F58,Esq_Atual!$BP$155=I58),Esq_Atual!$BW$155*Esq_Atual!$CC$155,0)\n+IF(AND(Esq_Atual!$BF$156=F58,Esq_Atual!$BP$156=I58),Esq_Atual!$BW$156*Esq_Atual!$CC$156,0)\n+IF(AND(Esq_Atual!$BF$157=F58,Esq_Atual!$BP$157=I58),Esq_Atual!$BW$157*Esq_Atual!$CC$157,0)\n+IF(AND(Esq_Atual!$BF$158=F58,Esq_Atual!$BP$158=I58),Esq_Atual!$BW$158*Esq_Atual!$CC$158,0)\n+IF(AND(Esq_Atual!$BF$159=F58,Esq_Atual!$BP$159=I58),Esq_Atual!$BW$159*Esq_Atual!$CC$159,0)\n+IF(AND(Esq_Atual!$BF$160=F58,Esq_Atual!$BP$160=I58),Esq_Atual!$BW$160*Esq_Atual!$CC$160,0)\n+IF(AND(Esq_Atual!$BF$161=F58,Esq_Atual!$BP$161=I58),Esq_Atual!$BW$161*Esq_Atual!$CC$161,0)\n+IF(AND(Esq_Atual!$BF$162=F58,Esq_Atual!$BP$162=I58),Esq_Atual!$BW$162*Esq_Atual!$CC$162,0)\n+IF(AND(Esq_Atual!$BF$163=F58,Esq_Atual!$BP$163=I58),Esq_Atual!$BW$163*Esq_Atual!$CC$163,0)\n+IF(AND(Esq_Atual!$AS$193=F58,Esq_Atual!$BC$193=I58),Esq_Atual!$BJ$193*Esq_Atual!$BM$193,0)\n+IF(AND(Esq_Atual!$AS$194=F58,Esq_Atual!$BC$194=I58),Esq_Atual!$BJ$194*Esq_Atual!$BM$194,0)\n+IF(AND(Esq_Atual!$AS$195=F58,Esq_Atual!$BC$195=I58),Esq_Atual!$BJ$195*Esq_Atual!$BM$195,0))/100","v":0},{"$f":"(IF(AND(Esq_Atual!$M$127=F58,Esq_Atual!$W$127=I58),Esq_Atual!$AD$127*Esq_Atual!$AJ$127,0)\n+IF(AND(Esq_Atual!$M$128=F58,Esq_Atual!$W$128=I58),Esq_Atual!$AD$128*Esq_Atual!$AJ$128,0)\n+IF(AND(Esq_Atual!$M$129=F58,Esq_Atual!$W$129=I58),Esq_Atual!$AD$129*Esq_Atual!$AJ$129,0)\n+IF(AND(Esq_Atual!$M$130=F58,Esq_Atual!$W$130=I58),Esq_Atual!$AD$130*Esq_Atual!$AJ$130,0)\n+IF(AND(Esq_Atual!$M$131=F58,Esq_Atual!$W$131=I58),Esq_Atual!$AD$131*Esq_Atual!$AJ$131,0)\n+IF(AND(Esq_Atual!$M$132=F58,Esq_Atual!$W$132=I58),Esq_Atual!$AD$132*Esq_Atual!$AJ$132,0)\n+IF(AND(Esq_Atual!$M$133=F58,Esq_Atual!$W$133=I58),Esq_Atual!$AD$133*Esq_Atual!$AJ$133,0)\n+IF(AND(Esq_Atual!$M$134=F58,Esq_Atual!$W$134=I58),Esq_Atual!$AD$134*Esq_Atual!$AJ$134,0)\n+IF(AND(Esq_Atual!$M$135=F58,Esq_Atual!$W$135=I58),Esq_Atual!$AD$135*Esq_Atual!$AJ$135,0)\n+IF(AND(Esq_Atual!$M$136=F58,Esq_Atual!$W$136=I58),Esq_Atual!$AD$136*Esq_Atual!$AJ$136,0)\n+IF(AND(Esq_Atual!$M$137=F58,Esq_Atual!$W$137=I58),Esq_Atual!$AD$137*Esq_Atual!$AJ$137,0)\n+IF(AND(Esq_Atual!$M$138=F58,Esq_Atual!$W$138=I58),Esq_Atual!$AD$138*Esq_Atual!$AJ$138,0)\n+IF(AND(Esq_Atual!$M$139=F58,Esq_Atual!$W$139=I58),Esq_Atual!$AD$139*Esq_Atual!$AJ$139,0)\n+IF(AND(Esq_Atual!$M$140=F58,Esq_Atual!$W$140=I58),Esq_Atual!$AD$140*Esq_Atual!$AJ$140,0)\n+IF(AND(Esq_Atual!$M$141=F58,Esq_Atual!$W$141=I58),Esq_Atual!$AD$141*Esq_Atual!$AJ$141,0)\n+IF(AND(Esq_Atual!$BF$149=F58,Esq_Atual!$BP$149=I58),Esq_Atual!$BW$149*Esq_Atual!$CC$149,0)\n+IF(AND(Esq_Atual!$BF$150=F58,Esq_Atual!$BP$150=I58),Esq_Atual!$BW$150*Esq_Atual!$CC$150,0)\n+IF(AND(Esq_Atual!$BF$151=F58,Esq_Atual!$BP$151=I58),Esq_Atual!$BW$151*Esq_Atual!$CC$151,0)\n+IF(AND(Esq_Atual!$BF$152=F58,Esq_Atual!$BP$152=I58),Esq_Atual!$BW$152*Esq_Atual!$CC$152,0)\n+IF(AND(Esq_Atual!$BF$153=F58,Esq_Atual!$BP$153=I58),Esq_Atual!$BW$153*Esq_Atual!$CC$153,0)\n+IF(AND(Esq_Atual!$BF$154=F58,Esq_Atual!$BP$154=I58),Esq_Atual!$BW$154*Esq_Atual!$CC$154,0)\n+IF(AND(Esq_Atual!$BF$155=F58,Esq_Atual!$BP$155=I58),Esq_Atual!$BW$155*Esq_Atual!$CC$155,0)\n+IF(AND(Esq_Atual!$BF$156=F58,Esq_Atual!$BP$156=I58),Esq_Atual!$BW$156*Esq_Atual!$CC$156,0)\n+IF(AND(Esq_Atual!$BF$157=F58,Esq_Atual!$BP$157=I58),Esq_Atual!$BW$157*Esq_Atual!$CC$157,0)\n+IF(AND(Esq_Atual!$BF$158=F58,Esq_Atual!$BP$158=I58),Esq_Atual!$BW$158*Esq_Atual!$CC$158,0)\n+IF(AND(Esq_Atual!$BF$159=F58,Esq_Atual!$BP$159=I58),Esq_Atual!$BW$159*Esq_Atual!$CC$159,0)\n+IF(AND(Esq_Atual!$BF$160=F58,Esq_Atual!$BP$160=I58),Esq_Atual!$BW$160*Esq_Atual!$CC$160,0)\n+IF(AND(Esq_Atual!$BF$161=F58,Esq_Atual!$BP$161=I58),Esq_Atual!$BW$161*Esq_Atual!$CC$161,0)\n+IF(AND(Esq_Atual!$BF$162=F58,Esq_Atual!$BP$162=I58),Esq_Atual!$BW$162*Esq_Atual!$CC$162,0)\n+IF(AND(Esq_Atual!$BF$163=F58,Esq_Atual!$BP$163=I58),Esq_Atual!$BW$163*Esq_Atual!$CC$163,0)\n+IF(AND(Esq_Atual!$AS$193=F58,Esq_Atual!$BC$193=I58),Esq_Atual!$BJ$193*Esq_Atual!$BM$193,0)\n+IF(AND(Esq_Atual!$AS$194=F58,Esq_Atual!$BC$194=I58),Esq_Atual!$BJ$194*Esq_Atual!$BM$194,0)\n+IF(AND(Esq_Atual!$AS$195=F58,Esq_Atual!$BC$195=I58),Esq_Atual!$BJ$195*Esq_Atual!$BM$195,0))/100","v":0},null,{"$f":"'Preços unitários'!$T$35","v":0},{"$f":"+S58*V58","v":0},{"$f":"+'Modelação de custos atual'!$D$20","v":0},{"$f":"L58*X58","v":0},50000,{"$f":"_xlfn.FLOOR.MATH(IF(OR(R58>Z58,R58=Z58),R58/Z58,0),1)","v":0},{"$f":"'Preços unitários'!$T$39","v":0},{"$f":"+AA58*AB58","v":0}]
[null,null,"APOIO","RI/RS","Viaturas","Viatura de caixa aberta",null,null,"gás",{"$f":"+IF(AND(Esq_Atual!$M$127=F59,Esq_Atual!$W$127=I59),1,0)+IF(AND(Esq_Atual!$M$128=F59,Esq_Atual!$W$128=I59),1,0)+IF(AND(Esq_Atual!$M$129=F59,Esq_Atual!$W$129=I59),1,0)+IF(AND(Esq_Atual!$M$130=F59,Esq_Atual!$W$130=I59),1,0)+IF(AND(Esq_Atual!$M$131=F59,Esq_Atual!$W$131=I59),1,0)+IF(AND(Esq_Atual!$M$132=F59,Esq_Atual!$W$132=I59),1,0)+IF(AND(Esq_Atual!$M$133=F59,Esq_Atual!$W$133=I59),1,0)+IF(AND(Esq_Atual!$M$134=F59,Esq_Atual!$W$134=I59),1,0)+IF(AND(Esq_Atual!$M$135=F59,Esq_Atual!$W$135=I59),1,0)+IF(AND(Esq_Atual!$M$136=F59,Esq_Atual!$W$136=I59),1,0)+IF(AND(Esq_Atual!$M$137=F59,Esq_Atual!$W$137=I59),1,0)+IF(AND(Esq_Atual!$M$138=F59,Esq_Atual!$W$138=I59),1,0)+IF(AND(Esq_Atual!$M$139=F59,Esq_Atual!$W$139=I59),1,0)+IF(AND(Esq_Atual!$M$140=F59,Esq_Atual!$W$140=I59),1,0)+IF(AND(Esq_Atual!$M$141=F59,Esq_Atual!$W$141=I59),1,0)+IF(AND(Esq_Atual!$BF$149=F59,Esq_Atual!$BP$149=I59),1,0)+IF(AND(Esq_Atual!$BF$150=F59,Esq_Atual!$BP$150=I59),1,0)+IF(AND(Esq_Atual!$BF$151=F59,Esq_Atual!$BP$151=I59),1,0)+IF(AND(Esq_Atual!$BF$152=F59,Esq_Atual!$BP$152=I59),1,0)+IF(AND(Esq_Atual!$BF$153=F59,Esq_Atual!$BP$153=I59),1,0)+IF(AND(Esq_Atual!$BF$154=F59,Esq_Atual!$BP$154=I59),1,0)+IF(AND(Esq_Atual!$BF$155=F59,Esq_Atual!$BP$155=I59),1,0)+IF(AND(Esq_Atual!$BF$156=F59,Esq_Atual!$BP$156=I59),1,0)+IF(AND(Esq_Atual!$BF$157=F59,Esq_Atual!$BP$157=I59),1,0)+IF(AND(Esq_Atual!$BF$158=F59,Esq_Atual!$BP$158=I59),1,0)+IF(AND(Esq_Atual!$BF$159=F59,Esq_Atual!$BP$159=I59),1,0)+IF(AND(Esq_Atual!$BF$160=F59,Esq_Atual!$BP$160=I59),1,0)+IF(AND(Esq_Atual!$BF$161=F59,Esq_Atual!$BP$161=I59),1,0)+IF(AND(Esq_Atual!$BF$162=F59,Esq_Atual!$BP$162=I59),1,0)+IF(AND(Esq_Atual!$BF$163=F59,Esq_Atual!$BP$163=I59),1,0)","v":0},{"$f":"'Preços unitários'!$M$33","v":0},0,6,0,null,null,null,{"$f":"+IF(AND(Esq_Atual!$M$127=F59,Esq_Atual!$W$127=I59),Esq_Atual!$AD$127,0)\n+IF(AND(Esq_Atual!$M$128=F59,Esq_Atual!$W$128=I59),Esq_Atual!$AD$128,0)\n+IF(AND(Esq_Atual!$M$129=F59,Esq_Atual!$W$129=I59),Esq_Atual!$AD$129,0)\n+IF(AND(Esq_Atual!$M$130=F59,Esq_Atual!$W$130=I59),Esq_Atual!$AD$130,0)\n+IF(AND(Esq_Atual!$M$131=F59,Esq_Atual!$W$131=I59),Esq_Atual!$AD$131,0)\n+IF(AND(Esq_Atual!$M$132=F59,Esq_Atual!$W$132=I59),Esq_Atual!$AD$132,0)\n+IF(AND(Esq_Atual!$M$133=F59,Esq_Atual!$W$133=I59),Esq_Atual!$AD$133,0)\n+IF(AND(Esq_Atual!$M$134=F59,Esq_Atual!$W$134=I59),Esq_Atual!$AD$134,0)\n+IF(AND(Esq_Atual!$M$135=F59,Esq_Atual!$W$135=I59),Esq_Atual!$AD$135,0)\n+IF(AND(Esq_Atual!$M$136=F59,Esq_Atual!$W$136=I59),Esq_Atual!$AD$136,0)\n+IF(AND(Esq_Atual!$M$137=F59,Esq_Atual!$W$137=I59),Esq_Atual!$AD$137,0)\n+IF(AND(Esq_Atual!$M$138=F59,Esq_Atual!$W$138=I59),Esq_Atual!$AD$138,0)\n+IF(AND(Esq_Atual!$M$139=F59,Esq_Atual!$W$139=I59),Esq_Atual!$AD$139,0)\n+IF(AND(Esq_Atual!$M$140=F59,Esq_Atual!$W$140=I59),Esq_Atual!$AD$140,0)\n+IF(AND(Esq_Atual!$M$141=F59,Esq_Atual!$W$141=I59),Esq_Atual!$AD$141,0)\n+IF(AND(Esq_Atual!$BF$149=F59,Esq_Atual!$BP$149=I59),Esq_Atual!$BW$149,0)\n+IF(AND(Esq_Atual!$BF$150=F59,Esq_Atual!$BP$150=I59),Esq_Atual!$BW$150,0)\n+IF(AND(Esq_Atual!$BF$151=F59,Esq_Atual!$BP$151=I59),Esq_Atual!$BW$151,0)\n+IF(AND(Esq_Atual!$BF$152=F59,Esq_Atual!$BP$152=I59),Esq_Atual!$BW$152,0)\n+IF(AND(Esq_Atual!$BF$153=F59,Esq_Atual!$BP$153=I59),Esq_Atual!$BW$153,0)\n+IF(AND(Esq_Atual!$BF$154=F59,Esq_Atual!$BP$154=I59),Esq_Atual!$BW$154,0)\n+IF(AND(Esq_Atual!$BF$155=F59,Esq_Atual!$BP$155=I59),Esq_Atual!$BW$155,0)\n+IF(AND(Esq_Atual!$BF$156=F59,Esq_Atual!$BP$156=I59),Esq_Atual!$BW$156,0)\n+IF(AND(Esq_Atual!$BF$157=F59,Esq_Atual!$BP$157=I59),Esq_Atual!$BW$157,0)\n+IF(AND(Esq_Atual!$BF$158=F59,Esq_Atual!$BP$158=I59),Esq_Atual!$BW$158,0)\n+IF(AND(Esq_Atual!$BF$159=F59,Esq_Atual!$BP$159=I59),Esq_Atual!$BW$159,0)\n+IF(AND(Esq_Atual!$BF$160=F59,Esq_Atual!$BP$160=I59),Esq_Atual!$BW$160,0)\n+IF(AND(Esq_Atual!$BF$161=F59,Esq_Atual!$BP$161=I59),Esq_Atual!$BW$161,0)\n+IF(AND(Esq_Atual!$BF$162=F59,Esq_Atual!$BP$162=I59),Esq_Atual!$BW$162,0)\n+IF(AND(Esq_Atual!$BF$163=F59,Esq_Atual!$BP$163=I59),Esq_Atual!$BW$163,0)\n+IF(AND(Esq_Atual!$AS$193=F59,Esq_Atual!$BC$193=I59),Esq_Atual!$BJ$193,0)\n+IF(AND(Esq_Atual!$AS$194=F59,Esq_Atual!$BC$194=I59),Esq_Atual!$BJ$194,0)\n+IF(AND(Esq_Atual!$AS$195=F59,Esq_Atual!$BC$195=I59),Esq_Atual!$BJ$195,0)","v":0},{"$f":"(IF(AND(Esq_Atual!$M$127=F59,Esq_Atual!$W$127=I59),Esq_Atual!$AD$127*Esq_Atual!$AJ$127,0)\n+IF(AND(Esq_Atual!$M$128=F59,Esq_Atual!$W$128=I59),Esq_Atual!$AD$128*Esq_Atual!$AJ$128,0)\n+IF(AND(Esq_Atual!$M$129=F59,Esq_Atual!$W$129=I59),Esq_Atual!$AD$129*Esq_Atual!$AJ$129,0)\n+IF(AND(Esq_Atual!$M$130=F59,Esq_Atual!$W$130=I59),Esq_Atual!$AD$130*Esq_Atual!$AJ$130,0)\n+IF(AND(Esq_Atual!$M$131=F59,Esq_Atual!$W$131=I59),Esq_Atual!$AD$131*Esq_Atual!$AJ$131,0)\n+IF(AND(Esq_Atual!$M$132=F59,Esq_Atual!$W$132=I59),Esq_Atual!$AD$132*Esq_Atual!$AJ$132,0)\n+IF(AND(Esq_Atual!$M$133=F59,Esq_Atual!$W$133=I59),Esq_Atual!$AD$133*Esq_Atual!$AJ$133,0)\n+IF(AND(Esq_Atual!$M$134=F59,Esq_Atual!$W$134=I59),Esq_Atual!$AD$134*Esq_Atual!$AJ$134,0)\n+IF(AND(Esq_Atual!$M$135=F59,Esq_Atual!$W$135=I59),Esq_Atual!$AD$135*Esq_Atual!$AJ$135,0)\n+IF(AND(Esq_Atual!$M$136=F59,Esq_Atual!$W$136=I59),Esq_Atual!$AD$136*Esq_Atual!$AJ$136,0)\n+IF(AND(Esq_Atual!$M$137=F59,Esq_Atual!$W$137=I59),Esq_Atual!$AD$137*Esq_Atual!$AJ$137,0)\n+IF(AND(Esq_Atual!$M$138=F59,Esq_Atual!$W$138=I59),Esq_Atual!$AD$138*Esq_Atual!$AJ$138,0)\n+IF(AND(Esq_Atual!$M$139=F59,Esq_Atual!$W$139=I59),Esq_Atual!$AD$139*Esq_Atual!$AJ$139,0)\n+IF(AND(Esq_Atual!$M$140=F59,Esq_Atual!$W$140=I59),Esq_Atual!$AD$140*Esq_Atual!$AJ$140,0)\n+IF(AND(Esq_Atual!$M$141=F59,Esq_Atual!$W$141=I59),Esq_Atual!$AD$141*Esq_Atual!$AJ$141,0)\n+IF(AND(Esq_Atual!$BF$149=F59,Esq_Atual!$BP$149=I59),Esq_Atual!$BW$149*Esq_Atual!$CC$149,0)\n+IF(AND(Esq_Atual!$BF$150=F59,Esq_Atual!$BP$150=I59),Esq_Atual!$BW$150*Esq_Atual!$CC$150,0)\n+IF(AND(Esq_Atual!$BF$151=F59,Esq_Atual!$BP$151=I59),Esq_Atual!$BW$151*Esq_Atual!$CC$151,0)\n+IF(AND(Esq_Atual!$BF$152=F59,Esq_Atual!$BP$152=I59),Esq_Atual!$BW$152*Esq_Atual!$CC$152,0)\n+IF(AND(Esq_Atual!$BF$153=F59,Esq_Atual!$BP$153=I59),Esq_Atual!$BW$153*Esq_Atual!$CC$153,0)\n+IF(AND(Esq_Atual!$BF$154=F59,Esq_Atual!$BP$154=I59),Esq_Atual!$BW$154*Esq_Atual!$CC$154,0)\n+IF(AND(Esq_Atual!$BF$155=F59,Esq_Atual!$BP$155=I59),Esq_Atual!$BW$155*Esq_Atual!$CC$155,0)\n+IF(AND(Esq_Atual!$BF$156=F59,Esq_Atual!$BP$156=I59),Esq_Atual!$BW$156*Esq_Atual!$CC$156,0)\n+IF(AND(Esq_Atual!$BF$157=F59,Esq_Atual!$BP$157=I59),Esq_Atual!$BW$157*Esq_Atual!$CC$157,0)\n+IF(AND(Esq_Atual!$BF$158=F59,Esq_Atual!$BP$158=I59),Esq_Atual!$BW$158*Esq_Atual!$CC$158,0)\n+IF(AND(Esq_Atual!$BF$159=F59,Esq_Atual!$BP$159=I59),Esq_Atual!$BW$159*Esq_Atual!$CC$159,0)\n+IF(AND(Esq_Atual!$BF$160=F59,Esq_Atual!$BP$160=I59),Esq_Atual!$BW$160*Esq_Atual!$CC$160,0)\n+IF(AND(Esq_Atual!$BF$161=F59,Esq_Atual!$BP$161=I59),Esq_Atual!$BW$161*Esq_Atual!$CC$161,0)\n+IF(AND(Esq_Atual!$BF$162=F59,Esq_Atual!$BP$162=I59),Esq_Atual!$BW$162*Esq_Atual!$CC$162,0)\n+IF(AND(Esq_Atual!$BF$163=F59,Esq_Atual!$BP$163=I59),Esq_Atual!$BW$163*Esq_Atual!$CC$163,0)\n+IF(AND(Esq_Atual!$AS$193=F59,Esq_Atual!$BC$193=I59),Esq_Atual!$BJ$193*Esq_Atual!$BM$193,0)\n+IF(AND(Esq_Atual!$AS$194=F59,Esq_Atual!$BC$194=I59),Esq_Atual!$BJ$194*Esq_Atual!$BM$194,0)\n+IF(AND(Esq_Atual!$AS$195=F59,Esq_Atual!$BC$195=I59),Esq_Atual!$BJ$195*Esq_Atual!$BM$195,0))/100","v":0},{"$f":"(IF(AND(Esq_Atual!$M$127=F59,Esq_Atual!$W$127=I59),Esq_Atual!$AD$127*Esq_Atual!$AJ$127,0)\n+IF(AND(Esq_Atual!$M$128=F59,Esq_Atual!$W$128=I59),Esq_Atual!$AD$128*Esq_Atual!$AJ$128,0)\n+IF(AND(Esq_Atual!$M$129=F59,Esq_Atual!$W$129=I59),Esq_Atual!$AD$129*Esq_Atual!$AJ$129,0)\n+IF(AND(Esq_Atual!$M$130=F59,Esq_Atual!$W$130=I59),Esq_Atual!$AD$130*Esq_Atual!$AJ$130,0)\n+IF(AND(Esq_Atual!$M$131=F59,Esq_Atual!$W$131=I59),Esq_Atual!$AD$131*Esq_Atual!$AJ$131,0)\n+IF(AND(Esq_Atual!$M$132=F59,Esq_Atual!$W$132=I59),Esq_Atual!$AD$132*Esq_Atual!$AJ$132,0)\n+IF(AND(Esq_Atual!$M$133=F59,Esq_Atual!$W$133=I59),Esq_Atual!$AD$133*Esq_Atual!$AJ$133,0)\n+IF(AND(Esq_Atual!$M$134=F59,Esq_Atual!$W$134=I59),Esq_Atual!$AD$134*Esq_Atual!$AJ$134,0)\n+IF(AND(Esq_Atual!$M$135=F59,Esq_Atual!$W$135=I59),Esq_Atual!$AD$135*Esq_Atual!$AJ$135,0)\n+IF(AND(Esq_Atual!$M$136=F59,Esq_Atual!$W$136=I59),Esq_Atual!$AD$136*Esq_Atual!$AJ$136,0)\n+IF(AND(Esq_Atual!$M$137=F59,Esq_Atual!$W$137=I59),Esq_Atual!$AD$137*Esq_Atual!$AJ$137,0)\n+IF(AND(Esq_Atual!$M$138=F59,Esq_Atual!$W$138=I59),Esq_Atual!$AD$138*Esq_Atual!$AJ$138,0)\n+IF(AND(Esq_Atual!$M$139=F59,Esq_Atual!$W$139=I59),Esq_Atual!$AD$139*Esq_Atual!$AJ$139,0)\n+IF(AND(Esq_Atual!$M$140=F59,Esq_Atual!$W$140=I59),Esq_Atual!$AD$140*Esq_Atual!$AJ$140,0)\n+IF(AND(Esq_Atual!$M$141=F59,Esq_Atual!$W$141=I59),Esq_Atual!$AD$141*Esq_Atual!$AJ$141,0)\n+IF(AND(Esq_Atual!$BF$149=F59,Esq_Atual!$BP$149=I59),Esq_Atual!$BW$149*Esq_Atual!$CC$149,0)\n+IF(AND(Esq_Atual!$BF$150=F59,Esq_Atual!$BP$150=I59),Esq_Atual!$BW$150*Esq_Atual!$CC$150,0)\n+IF(AND(Esq_Atual!$BF$151=F59,Esq_Atual!$BP$151=I59),Esq_Atual!$BW$151*Esq_Atual!$CC$151,0)\n+IF(AND(Esq_Atual!$BF$152=F59,Esq_Atual!$BP$152=I59),Esq_Atual!$BW$152*Esq_Atual!$CC$152,0)\n+IF(AND(Esq_Atual!$BF$153=F59,Esq_Atual!$BP$153=I59),Esq_Atual!$BW$153*Esq_Atual!$CC$153,0)\n+IF(AND(Esq_Atual!$BF$154=F59,Esq_Atual!$BP$154=I59),Esq_Atual!$BW$154*Esq_Atual!$CC$154,0)\n+IF(AND(Esq_Atual!$BF$155=F59,Esq_Atual!$BP$155=I59),Esq_Atual!$BW$155*Esq_Atual!$CC$155,0)\n+IF(AND(Esq_Atual!$BF$156=F59,Esq_Atual!$BP$156=I59),Esq_Atual!$BW$156*Esq_Atual!$CC$156,0)\n+IF(AND(Esq_Atual!$BF$157=F59,Esq_Atual!$BP$157=I59),Esq_Atual!$BW$157*Esq_Atual!$CC$157,0)\n+IF(AND(Esq_Atual!$BF$158=F59,Esq_Atual!$BP$158=I59),Esq_Atual!$BW$158*Esq_Atual!$CC$158,0)\n+IF(AND(Esq_Atual!$BF$159=F59,Esq_Atual!$BP$159=I59),Esq_Atual!$BW$159*Esq_Atual!$CC$159,0)\n+IF(AND(Esq_Atual!$BF$160=F59,Esq_Atual!$BP$160=I59),Esq_Atual!$BW$160*Esq_Atual!$CC$160,0)\n+IF(AND(Esq_Atual!$BF$161=F59,Esq_Atual!$BP$161=I59),Esq_Atual!$BW$161*Esq_Atual!$CC$161,0)\n+IF(AND(Esq_Atual!$BF$162=F59,Esq_Atual!$BP$162=I59),Esq_Atual!$BW$162*Esq_Atual!$CC$162,0)\n+IF(AND(Esq_Atual!$BF$163=F59,Esq_Atual!$BP$163=I59),Esq_Atual!$BW$163*Esq_Atual!$CC$163,0)\n+IF(AND(Esq_Atual!$AS$193=F59,Esq_Atual!$BC$193=I59),Esq_Atual!$BJ$193*Esq_Atual!$BM$193,0)\n+IF(AND(Esq_Atual!$AS$194=F59,Esq_Atual!$BC$194=I59),Esq_Atual!$BJ$194*Esq_Atual!$BM$194,0)\n+IF(AND(Esq_Atual!$AS$195=F59,Esq_Atual!$BC$195=I59),Esq_Atual!$BJ$195*Esq_Atual!$BM$195,0))/100","v":0},{"$f":"'Preços unitários'!$T$36","v":0},null,{"$f":"+S59*U59","v":0},{"$f":"+'Modelação de custos atual'!$D$20","v":0},0,50000,0,{"$f":"'Preços unitários'!$T$39","v":0},0]
[null,null,"APOIO","RI/RS","Viaturas","Viatura de apoio",null,null,"gasóleo",{"$f":"+IF(AND(Esq_Atual!$M$127=F60,Esq_Atual!$W$127=I60),1,0)+IF(AND(Esq_Atual!$M$128=F60,Esq_Atual!$W$128=I60),1,0)+IF(AND(Esq_Atual!$M$129=F60,Esq_Atual!$W$129=I60),1,0)+IF(AND(Esq_Atual!$M$130=F60,Esq_Atual!$W$130=I60),1,0)+IF(AND(Esq_Atual!$M$131=F60,Esq_Atual!$W$131=I60),1,0)+IF(AND(Esq_Atual!$M$132=F60,Esq_Atual!$W$132=I60),1,0)+IF(AND(Esq_Atual!$M$133=F60,Esq_Atual!$W$133=I60),1,0)+IF(AND(Esq_Atual!$M$134=F60,Esq_Atual!$W$134=I60),1,0)+IF(AND(Esq_Atual!$M$135=F60,Esq_Atual!$W$135=I60),1,0)+IF(AND(Esq_Atual!$M$136=F60,Esq_Atual!$W$136=I60),1,0)+IF(AND(Esq_Atual!$M$137=F60,Esq_Atual!$W$137=I60),1,0)+IF(AND(Esq_Atual!$M$138=F60,Esq_Atual!$W$138=I60),1,0)+IF(AND(Esq_Atual!$M$139=F60,Esq_Atual!$W$139=I60),1,0)+IF(AND(Esq_Atual!$M$140=F60,Esq_Atual!$W$140=I60),1,0)+IF(AND(Esq_Atual!$M$141=F60,Esq_Atual!$W$141=I60),1,0)+IF(AND(Esq_Atual!$BF$149=F60,Esq_Atual!$BP$149=I60),1,0)+IF(AND(Esq_Atual!$BF$150=F60,Esq_Atual!$BP$150=I60),1,0)+IF(AND(Esq_Atual!$BF$151=F60,Esq_Atual!$BP$151=I60),1,0)+IF(AND(Esq_Atual!$BF$152=F60,Esq_Atual!$BP$152=I60),1,0)+IF(AND(Esq_Atual!$BF$153=F60,Esq_Atual!$BP$153=I60),1,0)+IF(AND(Esq_Atual!$BF$154=F60,Esq_Atual!$BP$154=I60),1,0)+IF(AND(Esq_Atual!$BF$155=F60,Esq_Atual!$BP$155=I60),1,0)+IF(AND(Esq_Atual!$BF$156=F60,Esq_Atual!$BP$156=I60),1,0)+IF(AND(Esq_Atual!$BF$157=F60,Esq_Atual!$BP$157=I60),1,0)+IF(AND(Esq_Atual!$BF$158=F60,Esq_Atual!$BP$158=I60),1,0)+IF(AND(Esq_Atual!$BF$159=F60,Esq_Atual!$BP$159=I60),1,0)+IF(AND(Esq_Atual!$BF$160=F60,Esq_Atual!$BP$160=I60),1,0)+IF(AND(Esq_Atual!$BF$161=F60,Esq_Atual!$BP$161=I60),1,0)+IF(AND(Esq_Atual!$BF$162=F60,Esq_Atual!$BP$162=I60),1,0)+IF(AND(Esq_Atual!$BF$163=F60,Esq_Atual!$BP$163=I60),1,0)","v":0},{"$f":"'Preços unitários'!$M$34","v":0},0,6,0,null,null,null,{"$f":"+IF(AND(Esq_Atual!$M$127=F60,Esq_Atual!$W$127=I60),Esq_Atual!$AD$127,0)\n+IF(AND(Esq_Atual!$M$128=F60,Esq_Atual!$W$128=I60),Esq_Atual!$AD$128,0)\n+IF(AND(Esq_Atual!$M$129=F60,Esq_Atual!$W$129=I60),Esq_Atual!$AD$129,0)\n+IF(AND(Esq_Atual!$M$130=F60,Esq_Atual!$W$130=I60),Esq_Atual!$AD$130,0)\n+IF(AND(Esq_Atual!$M$131=F60,Esq_Atual!$W$131=I60),Esq_Atual!$AD$131,0)\n+IF(AND(Esq_Atual!$M$132=F60,Esq_Atual!$W$132=I60),Esq_Atual!$AD$132,0)\n+IF(AND(Esq_Atual!$M$133=F60,Esq_Atual!$W$133=I60),Esq_Atual!$AD$133,0)\n+IF(AND(Esq_Atual!$M$134=F60,Esq_Atual!$W$134=I60),Esq_Atual!$AD$134,0)\n+IF(AND(Esq_Atual!$M$135=F60,Esq_Atual!$W$135=I60),Esq_Atual!$AD$135,0)\n+IF(AND(Esq_Atual!$M$136=F60,Esq_Atual!$W$136=I60),Esq_Atual!$AD$136,0)\n+IF(AND(Esq_Atual!$M$137=F60,Esq_Atual!$W$137=I60),Esq_Atual!$AD$137,0)\n+IF(AND(Esq_Atual!$M$138=F60,Esq_Atual!$W$138=I60),Esq_Atual!$AD$138,0)\n+IF(AND(Esq_Atual!$M$139=F60,Esq_Atual!$W$139=I60),Esq_Atual!$AD$139,0)\n+IF(AND(Esq_Atual!$M$140=F60,Esq_Atual!$W$140=I60),Esq_Atual!$AD$140,0)\n+IF(AND(Esq_Atual!$M$141=F60,Esq_Atual!$W$141=I60),Esq_Atual!$AD$141,0)\n+IF(AND(Esq_Atual!$BF$149=F60,Esq_Atual!$BP$149=I60),Esq_Atual!$BW$149,0)\n+IF(AND(Esq_Atual!$BF$150=F60,Esq_Atual!$BP$150=I60),Esq_Atual!$BW$150,0)\n+IF(AND(Esq_Atual!$BF$151=F60,Esq_Atual!$BP$151=I60),Esq_Atual!$BW$151,0)\n+IF(AND(Esq_Atual!$BF$152=F60,Esq_Atual!$BP$152=I60),Esq_Atual!$BW$152,0)\n+IF(AND(Esq_Atual!$BF$153=F60,Esq_Atual!$BP$153=I60),Esq_Atual!$BW$153,0)\n+IF(AND(Esq_Atual!$BF$154=F60,Esq_Atual!$BP$154=I60),Esq_Atual!$BW$154,0)\n+IF(AND(Esq_Atual!$BF$155=F60,Esq_Atual!$BP$155=I60),Esq_Atual!$BW$155,0)\n+IF(AND(Esq_Atual!$BF$156=F60,Esq_Atual!$BP$156=I60),Esq_Atual!$BW$156,0)\n+IF(AND(Esq_Atual!$BF$157=F60,Esq_Atual!$BP$157=I60),Esq_Atual!$BW$157,0)\n+IF(AND(Esq_Atual!$BF$158=F60,Esq_Atual!$BP$158=I60),Esq_Atual!$BW$158,0)\n+IF(AND(Esq_Atual!$BF$159=F60,Esq_Atual!$BP$159=I60),Esq_Atual!$BW$159,0)\n+IF(AND(Esq_Atual!$BF$160=F60,Esq_Atual!$BP$160=I60),Esq_Atual!$BW$160,0)\n+IF(AND(Esq_Atual!$BF$161=F60,Esq_Atual!$BP$161=I60),Esq_Atual!$BW$161,0)\n+IF(AND(Esq_Atual!$BF$162=F60,Esq_Atual!$BP$162=I60),Esq_Atual!$BW$162,0)\n+IF(AND(Esq_Atual!$BF$163=F60,Esq_Atual!$BP$163=I60),Esq_Atual!$BW$163,0)\n+IF(AND(Esq_Atual!$AS$193=F60,Esq_Atual!$BC$193=I60),Esq_Atual!$BJ$193,0)\n+IF(AND(Esq_Atual!$AS$194=F60,Esq_Atual!$BC$194=I60),Esq_Atual!$BJ$194,0)\n+IF(AND(Esq_Atual!$AS$195=F60,Esq_Atual!$BC$195=I60),Esq_Atual!$BJ$195,0)","v":0},{"$f":"(IF(AND(Esq_Atual!$M$127=F60,Esq_Atual!$W$127=I60),Esq_Atual!$AD$127*Esq_Atual!$AJ$127,0)\n+IF(AND(Esq_Atual!$M$128=F60,Esq_Atual!$W$128=I60),Esq_Atual!$AD$128*Esq_Atual!$AJ$128,0)\n+IF(AND(Esq_Atual!$M$129=F60,Esq_Atual!$W$129=I60),Esq_Atual!$AD$129*Esq_Atual!$AJ$129,0)\n+IF(AND(Esq_Atual!$M$130=F60,Esq_Atual!$W$130=I60),Esq_Atual!$AD$130*Esq_Atual!$AJ$130,0)\n+IF(AND(Esq_Atual!$M$131=F60,Esq_Atual!$W$131=I60),Esq_Atual!$AD$131*Esq_Atual!$AJ$131,0)\n+IF(AND(Esq_Atual!$M$132=F60,Esq_Atual!$W$132=I60),Esq_Atual!$AD$132*Esq_Atual!$AJ$132,0)\n+IF(AND(Esq_Atual!$M$133=F60,Esq_Atual!$W$133=I60),Esq_Atual!$AD$133*Esq_Atual!$AJ$133,0)\n+IF(AND(Esq_Atual!$M$134=F60,Esq_Atual!$W$134=I60),Esq_Atual!$AD$134*Esq_Atual!$AJ$134,0)\n+IF(AND(Esq_Atual!$M$135=F60,Esq_Atual!$W$135=I60),Esq_Atual!$AD$135*Esq_Atual!$AJ$135,0)\n+IF(AND(Esq_Atual!$M$136=F60,Esq_Atual!$W$136=I60),Esq_Atual!$AD$136*Esq_Atual!$AJ$136,0)\n+IF(AND(Esq_Atual!$M$137=F60,Esq_Atual!$W$137=I60),Esq_Atual!$AD$137*Esq_Atual!$AJ$137,0)\n+IF(AND(Esq_Atual!$M$138=F60,Esq_Atual!$W$138=I60),Esq_Atual!$AD$138*Esq_Atual!$AJ$138,0)\n+IF(AND(Esq_Atual!$M$139=F60,Esq_Atual!$W$139=I60),Esq_Atual!$AD$139*Esq_Atual!$AJ$139,0)\n+IF(AND(Esq_Atual!$M$140=F60,Esq_Atual!$W$140=I60),Esq_Atual!$AD$140*Esq_Atual!$AJ$140,0)\n+IF(AND(Esq_Atual!$M$141=F60,Esq_Atual!$W$141=I60),Esq_Atual!$AD$141*Esq_Atual!$AJ$141,0)\n+IF(AND(Esq_Atual!$BF$149=F60,Esq_Atual!$BP$149=I60),Esq_Atual!$BW$149*Esq_Atual!$CC$149,0)\n+IF(AND(Esq_Atual!$BF$150=F60,Esq_Atual!$BP$150=I60),Esq_Atual!$BW$150*Esq_Atual!$CC$150,0)\n+IF(AND(Esq_Atual!$BF$151=F60,Esq_Atual!$BP$151=I60),Esq_Atual!$BW$151*Esq_Atual!$CC$151,0)\n+IF(AND(Esq_Atual!$BF$152=F60,Esq_Atual!$BP$152=I60),Esq_Atual!$BW$152*Esq_Atual!$CC$152,0)\n+IF(AND(Esq_Atual!$BF$153=F60,Esq_Atual!$BP$153=I60),Esq_Atual!$BW$153*Esq_Atual!$CC$153,0)\n+IF(AND(Esq_Atual!$BF$154=F60,Esq_Atual!$BP$154=I60),Esq_Atual!$BW$154*Esq_Atual!$CC$154,0)\n+IF(AND(Esq_Atual!$BF$155=F60,Esq_Atual!$BP$155=I60),Esq_Atual!$BW$155*Esq_Atual!$CC$155,0)\n+IF(AND(Esq_Atual!$BF$156=F60,Esq_Atual!$BP$156=I60),Esq_Atual!$BW$156*Esq_Atual!$CC$156,0)\n+IF(AND(Esq_Atual!$BF$157=F60,Esq_Atual!$BP$157=I60),Esq_Atual!$BW$157*Esq_Atual!$CC$157,0)\n+IF(AND(Esq_Atual!$BF$158=F60,Esq_Atual!$BP$158=I60),Esq_Atual!$BW$158*Esq_Atual!$CC$158,0)\n+IF(AND(Esq_Atual!$BF$159=F60,Esq_Atual!$BP$159=I60),Esq_Atual!$BW$159*Esq_Atual!$CC$159,0)\n+IF(AND(Esq_Atual!$BF$160=F60,Esq_Atual!$BP$160=I60),Esq_Atual!$BW$160*Esq_Atual!$CC$160,0)\n+IF(AND(Esq_Atual!$BF$161=F60,Esq_Atual!$BP$161=I60),Esq_Atual!$BW$161*Esq_Atual!$CC$161,0)\n+IF(AND(Esq_Atual!$BF$162=F60,Esq_Atual!$BP$162=I60),Esq_Atual!$BW$162*Esq_Atual!$CC$162,0)\n+IF(AND(Esq_Atual!$BF$163=F60,Esq_Atual!$BP$163=I60),Esq_Atual!$BW$163*Esq_Atual!$CC$163,0)\n+IF(AND(Esq_Atual!$AS$193=F60,Esq_Atual!$BC$193=I60),Esq_Atual!$BJ$193*Esq_Atual!$BM$193,0)\n+IF(AND(Esq_Atual!$AS$194=F60,Esq_Atual!$BC$194=I60),Esq_Atual!$BJ$194*Esq_Atual!$BM$194,0)\n+IF(AND(Esq_Atual!$AS$195=F60,Esq_Atual!$BC$195=I60),Esq_Atual!$BJ$195*Esq_Atual!$BM$195,0))/100","v":0},{"$f":"(IF(AND(Esq_Atual!$M$127=F60,Esq_Atual!$W$127=I60),Esq_Atual!$AD$127*Esq_Atual!$AJ$127,0)\n+IF(AND(Esq_Atual!$M$128=F60,Esq_Atual!$W$128=I60),Esq_Atual!$AD$128*Esq_Atual!$AJ$128,0)\n+IF(AND(Esq_Atual!$M$129=F60,Esq_Atual!$W$129=I60),Esq_Atual!$AD$129*Esq_Atual!$AJ$129,0)\n+IF(AND(Esq_Atual!$M$130=F60,Esq_Atual!$W$130=I60),Esq_Atual!$AD$130*Esq_Atual!$AJ$130,0)\n+IF(AND(Esq_Atual!$M$131=F60,Esq_Atual!$W$131=I60),Esq_Atual!$AD$131*Esq_Atual!$AJ$131,0)\n+IF(AND(Esq_Atual!$M$132=F60,Esq_Atual!$W$132=I60),Esq_Atual!$AD$132*Esq_Atual!$AJ$132,0)\n+IF(AND(Esq_Atual!$M$133=F60,Esq_Atual!$W$133=I60),Esq_Atual!$AD$133*Esq_Atual!$AJ$133,0)\n+IF(AND(Esq_Atual!$M$134=F60,Esq_Atual!$W$134=I60),Esq_Atual!$AD$134*Esq_Atual!$AJ$134,0)\n+IF(AND(Esq_Atual!$M$135=F60,Esq_Atual!$W$135=I60),Esq_Atual!$AD$135*Esq_Atual!$AJ$135,0)\n+IF(AND(Esq_Atual!$M$136=F60,Esq_Atual!$W$136=I60),Esq_Atual!$AD$136*Esq_Atual!$AJ$136,0)\n+IF(AND(Esq_Atual!$M$137=F60,Esq_Atual!$W$137=I60),Esq_Atual!$AD$137*Esq_Atual!$AJ$137,0)\n+IF(AND(Esq_Atual!$M$138=F60,Esq_Atual!$W$138=I60),Esq_Atual!$AD$138*Esq_Atual!$AJ$138,0)\n+IF(AND(Esq_Atual!$M$139=F60,Esq_Atual!$W$139=I60),Esq_Atual!$AD$139*Esq_Atual!$AJ$139,0)\n+IF(AND(Esq_Atual!$M$140=F60,Esq_Atual!$W$140=I60),Esq_Atual!$AD$140*Esq_Atual!$AJ$140,0)\n+IF(AND(Esq_Atual!$M$141=F60,Esq_Atual!$W$141=I60),Esq_Atual!$AD$141*Esq_Atual!$AJ$141,0)\n+IF(AND(Esq_Atual!$BF$149=F60,Esq_Atual!$BP$149=I60),Esq_Atual!$BW$149*Esq_Atual!$CC$149,0)\n+IF(AND(Esq_Atual!$BF$150=F60,Esq_Atual!$BP$150=I60),Esq_Atual!$BW$150*Esq_Atual!$CC$150,0)\n+IF(AND(Esq_Atual!$BF$151=F60,Esq_Atual!$BP$151=I60),Esq_Atual!$BW$151*Esq_Atual!$CC$151,0)\n+IF(AND(Esq_Atual!$BF$152=F60,Esq_Atual!$BP$152=I60),Esq_Atual!$BW$152*Esq_Atual!$CC$152,0)\n+IF(AND(Esq_Atual!$BF$153=F60,Esq_Atual!$BP$153=I60),Esq_Atual!$BW$153*Esq_Atual!$CC$153,0)\n+IF(AND(Esq_Atual!$BF$154=F60,Esq_Atual!$BP$154=I60),Esq_Atual!$BW$154*Esq_Atual!$CC$154,0)\n+IF(AND(Esq_Atual!$BF$155=F60,Esq_Atual!$BP$155=I60),Esq_Atual!$BW$155*Esq_Atual!$CC$155,0)\n+IF(AND(Esq_Atual!$BF$156=F60,Esq_Atual!$BP$156=I60),Esq_Atual!$BW$156*Esq_Atual!$CC$156,0)\n+IF(AND(Esq_Atual!$BF$157=F60,Esq_Atual!$BP$157=I60),Esq_Atual!$BW$157*Esq_Atual!$CC$157,0)\n+IF(AND(Esq_Atual!$BF$158=F60,Esq_Atual!$BP$158=I60),Esq_Atual!$BW$158*Esq_Atual!$CC$158,0)\n+IF(AND(Esq_Atual!$BF$159=F60,Esq_Atual!$BP$159=I60),Esq_Atual!$BW$159*Esq_Atual!$CC$159,0)\n+IF(AND(Esq_Atual!$BF$160=F60,Esq_Atual!$BP$160=I60),Esq_Atual!$BW$160*Esq_Atual!$CC$160,0)\n+IF(AND(Esq_Atual!$BF$161=F60,Esq_Atual!$BP$161=I60),Esq_Atual!$BW$161*Esq_Atual!$CC$161,0)\n+IF(AND(Esq_Atual!$BF$162=F60,Esq_Atual!$BP$162=I60),Esq_Atual!$BW$162*Esq_Atual!$CC$162,0)\n+IF(AND(Esq_Atual!$BF$163=F60,Esq_Atual!$BP$163=I60),Esq_Atual!$BW$163*Esq_Atual!$CC$163,0)\n+IF(AND(Esq_Atual!$AS$193=F60,Esq_Atual!$BC$193=I60),Esq_Atual!$BJ$193*Esq_Atual!$BM$193,0)\n+IF(AND(Esq_Atual!$AS$194=F60,Esq_Atual!$BC$194=I60),Esq_Atual!$BJ$194*Esq_Atual!$BM$194,0)\n+IF(AND(Esq_Atual!$AS$195=F60,Esq_Atual!$BC$195=I60),Esq_Atual!$BJ$195*Esq_Atual!$BM$195,0))/100","v":0},{"$f":"'Preços unitários'!$T$34","v":0},null,{"$f":"+S60*U60","v":0},{"$f":"+'Modelação de custos atual'!$D$20","v":0},0,50000,0,{"$f":"'Preços unitários'!$T$38","v":0},{"$f":"+AA60*AB60","v":0}]
[null,null,"APOIO","RI/RS","Viaturas","Viatura de apoio",null,null,"elétrica",{"$f":"+IF(AND(Esq_Atual!$M$127=F61,Esq_Atual!$W$127=I61),1,0)+IF(AND(Esq_Atual!$M$128=F61,Esq_Atual!$W$128=I61),1,0)+IF(AND(Esq_Atual!$M$129=F61,Esq_Atual!$W$129=I61),1,0)+IF(AND(Esq_Atual!$M$130=F61,Esq_Atual!$W$130=I61),1,0)+IF(AND(Esq_Atual!$M$131=F61,Esq_Atual!$W$131=I61),1,0)+IF(AND(Esq_Atual!$M$132=F61,Esq_Atual!$W$132=I61),1,0)+IF(AND(Esq_Atual!$M$133=F61,Esq_Atual!$W$133=I61),1,0)+IF(AND(Esq_Atual!$M$134=F61,Esq_Atual!$W$134=I61),1,0)+IF(AND(Esq_Atual!$M$135=F61,Esq_Atual!$W$135=I61),1,0)+IF(AND(Esq_Atual!$M$136=F61,Esq_Atual!$W$136=I61),1,0)+IF(AND(Esq_Atual!$M$137=F61,Esq_Atual!$W$137=I61),1,0)+IF(AND(Esq_Atual!$M$138=F61,Esq_Atual!$W$138=I61),1,0)+IF(AND(Esq_Atual!$M$139=F61,Esq_Atual!$W$139=I61),1,0)+IF(AND(Esq_Atual!$M$140=F61,Esq_Atual!$W$140=I61),1,0)+IF(AND(Esq_Atual!$M$141=F61,Esq_Atual!$W$141=I61),1,0)+IF(AND(Esq_Atual!$BF$149=F61,Esq_Atual!$BP$149=I61),1,0)+IF(AND(Esq_Atual!$BF$150=F61,Esq_Atual!$BP$150=I61),1,0)+IF(AND(Esq_Atual!$BF$151=F61,Esq_Atual!$BP$151=I61),1,0)+IF(AND(Esq_Atual!$BF$152=F61,Esq_Atual!$BP$152=I61),1,0)+IF(AND(Esq_Atual!$BF$153=F61,Esq_Atual!$BP$153=I61),1,0)+IF(AND(Esq_Atual!$BF$154=F61,Esq_Atual!$BP$154=I61),1,0)+IF(AND(Esq_Atual!$BF$155=F61,Esq_Atual!$BP$155=I61),1,0)+IF(AND(Esq_Atual!$BF$156=F61,Esq_Atual!$BP$156=I61),1,0)+IF(AND(Esq_Atual!$BF$157=F61,Esq_Atual!$BP$157=I61),1,0)+IF(AND(Esq_Atual!$BF$158=F61,Esq_Atual!$BP$158=I61),1,0)+IF(AND(Esq_Atual!$BF$159=F61,Esq_Atual!$BP$159=I61),1,0)+IF(AND(Esq_Atual!$BF$160=F61,Esq_Atual!$BP$160=I61),1,0)+IF(AND(Esq_Atual!$BF$161=F61,Esq_Atual!$BP$161=I61),1,0)+IF(AND(Esq_Atual!$BF$162=F61,Esq_Atual!$BP$162=I61),1,0)+IF(AND(Esq_Atual!$BF$163=F61,Esq_Atual!$BP$163=I61),1,0)","v":0},{"$f":"'Preços unitários'!$M$34","v":0},{"$f":"J61*K61","v":0},6,{"$f":"L61/M61","v":0},null,null,null,{"$f":"+IF(AND(Esq_Atual!$M$127=F61,Esq_Atual!$W$127=I61),Esq_Atual!$AD$127,0)\n+IF(AND(Esq_Atual!$M$128=F61,Esq_Atual!$W$128=I61),Esq_Atual!$AD$128,0)\n+IF(AND(Esq_Atual!$M$129=F61,Esq_Atual!$W$129=I61),Esq_Atual!$AD$129,0)\n+IF(AND(Esq_Atual!$M$130=F61,Esq_Atual!$W$130=I61),Esq_Atual!$AD$130,0)\n+IF(AND(Esq_Atual!$M$131=F61,Esq_Atual!$W$131=I61),Esq_Atual!$AD$131,0)\n+IF(AND(Esq_Atual!$M$132=F61,Esq_Atual!$W$132=I61),Esq_Atual!$AD$132,0)\n+IF(AND(Esq_Atual!$M$133=F61,Esq_Atual!$W$133=I61),Esq_Atual!$AD$133,0)\n+IF(AND(Esq_Atual!$M$134=F61,Esq_Atual!$W$134=I61),Esq_Atual!$AD$134,0)\n+IF(AND(Esq_Atual!$M$135=F61,Esq_Atual!$W$135=I61),Esq_Atual!$AD$135,0)\n+IF(AND(Esq_Atual!$M$136=F61,Esq_Atual!$W$136=I61),Esq_Atual!$AD$136,0)\n+IF(AND(Esq_Atual!$M$137=F61,Esq_Atual!$W$137=I61),Esq_Atual!$AD$137,0)\n+IF(AND(Esq_Atual!$M$138=F61,Esq_Atual!$W$138=I61),Esq_Atual!$AD$138,0)\n+IF(AND(Esq_Atual!$M$139=F61,Esq_Atual!$W$139=I61),Esq_Atual!$AD$139,0)\n+IF(AND(Esq_Atual!$M$140=F61,Esq_Atual!$W$140=I61),Esq_Atual!$AD$140,0)\n+IF(AND(Esq_Atual!$M$141=F61,Esq_Atual!$W$141=I61),Esq_Atual!$AD$141,0)\n+IF(AND(Esq_Atual!$BF$149=F61,Esq_Atual!$BP$149=I61),Esq_Atual!$BW$149,0)\n+IF(AND(Esq_Atual!$BF$150=F61,Esq_Atual!$BP$150=I61),Esq_Atual!$BW$150,0)\n+IF(AND(Esq_Atual!$BF$151=F61,Esq_Atual!$BP$151=I61),Esq_Atual!$BW$151,0)\n+IF(AND(Esq_Atual!$BF$152=F61,Esq_Atual!$BP$152=I61),Esq_Atual!$BW$152,0)\n+IF(AND(Esq_Atual!$BF$153=F61,Esq_Atual!$BP$153=I61),Esq_Atual!$BW$153,0)\n+IF(AND(Esq_Atual!$BF$154=F61,Esq_Atual!$BP$154=I61),Esq_Atual!$BW$154,0)\n+IF(AND(Esq_Atual!$BF$155=F61,Esq_Atual!$BP$155=I61),Esq_Atual!$BW$155,0)\n+IF(AND(Esq_Atual!$BF$156=F61,Esq_Atual!$BP$156=I61),Esq_Atual!$BW$156,0)\n+IF(AND(Esq_Atual!$BF$157=F61,Esq_Atual!$BP$157=I61),Esq_Atual!$BW$157,0)\n+IF(AND(Esq_Atual!$BF$158=F61,Esq_Atual!$BP$158=I61),Esq_Atual!$BW$158,0)\n+IF(AND(Esq_Atual!$BF$159=F61,Esq_Atual!$BP$159=I61),Esq_Atual!$BW$159,0)\n+IF(AND(Esq_Atual!$BF$160=F61,Esq_Atual!$BP$160=I61),Esq_Atual!$BW$160,0)\n+IF(AND(Esq_Atual!$BF$161=F61,Esq_Atual!$BP$161=I61),Esq_Atual!$BW$161,0)\n+IF(AND(Esq_Atual!$BF$162=F61,Esq_Atual!$BP$162=I61),Esq_Atual!$BW$162,0)\n+IF(AND(Esq_Atual!$BF$163=F61,Esq_Atual!$BP$163=I61),Esq_Atual!$BW$163,0)\n+IF(AND(Esq_Atual!$AS$193=F61,Esq_Atual!$BC$193=I61),Esq_Atual!$BJ$193,0)\n+IF(AND(Esq_Atual!$AS$194=F61,Esq_Atual!$BC$194=I61),Esq_Atual!$BJ$194,0)\n+IF(AND(Esq_Atual!$AS$195=F61,Esq_Atual!$BC$195=I61),Esq_Atual!$BJ$195,0)","v":0},{"$f":"(IF(AND(Esq_Atual!$M$127=F61,Esq_Atual!$W$127=I61),Esq_Atual!$AD$127*Esq_Atual!$AJ$127,0)\n+IF(AND(Esq_Atual!$M$128=F61,Esq_Atual!$W$128=I61),Esq_Atual!$AD$128*Esq_Atual!$AJ$128,0)\n+IF(AND(Esq_Atual!$M$129=F61,Esq_Atual!$W$129=I61),Esq_Atual!$AD$129*Esq_Atual!$AJ$129,0)\n+IF(AND(Esq_Atual!$M$130=F61,Esq_Atual!$W$130=I61),Esq_Atual!$AD$130*Esq_Atual!$AJ$130,0)\n+IF(AND(Esq_Atual!$M$131=F61,Esq_Atual!$W$131=I61),Esq_Atual!$AD$131*Esq_Atual!$AJ$131,0)\n+IF(AND(Esq_Atual!$M$132=F61,Esq_Atual!$W$132=I61),Esq_Atual!$AD$132*Esq_Atual!$AJ$132,0)\n+IF(AND(Esq_Atual!$M$133=F61,Esq_Atual!$W$133=I61),Esq_Atual!$AD$133*Esq_Atual!$AJ$133,0)\n+IF(AND(Esq_Atual!$M$134=F61,Esq_Atual!$W$134=I61),Esq_Atual!$AD$134*Esq_Atual!$AJ$134,0)\n+IF(AND(Esq_Atual!$M$135=F61,Esq_Atual!$W$135=I61),Esq_Atual!$AD$135*Esq_Atual!$AJ$135,0)\n+IF(AND(Esq_Atual!$M$136=F61,Esq_Atual!$W$136=I61),Esq_Atual!$AD$136*Esq_Atual!$AJ$136,0)\n+IF(AND(Esq_Atual!$M$137=F61,Esq_Atual!$W$137=I61),Esq_Atual!$AD$137*Esq_Atual!$AJ$137,0)\n+IF(AND(Esq_Atual!$M$138=F61,Esq_Atual!$W$138=I61),Esq_Atual!$AD$138*Esq_Atual!$AJ$138,0)\n+IF(AND(Esq_Atual!$M$139=F61,Esq_Atual!$W$139=I61),Esq_Atual!$AD$139*Esq_Atual!$AJ$139,0)\n+IF(AND(Esq_Atual!$M$140=F61,Esq_Atual!$W$140=I61),Esq_Atual!$AD$140*Esq_Atual!$AJ$140,0)\n+IF(AND(Esq_Atual!$M$141=F61,Esq_Atual!$W$141=I61),Esq_Atual!$AD$141*Esq_Atual!$AJ$141,0)\n+IF(AND(Esq_Atual!$BF$149=F61,Esq_Atual!$BP$149=I61),Esq_Atual!$BW$149*Esq_Atual!$CC$149,0)\n+IF(AND(Esq_Atual!$BF$150=F61,Esq_Atual!$BP$150=I61),Esq_Atual!$BW$150*Esq_Atual!$CC$150,0)\n+IF(AND(Esq_Atual!$BF$151=F61,Esq_Atual!$BP$151=I61),Esq_Atual!$BW$151*Esq_Atual!$CC$151,0)\n+IF(AND(Esq_Atual!$BF$152=F61,Esq_Atual!$BP$152=I61),Esq_Atual!$BW$152*Esq_Atual!$CC$152,0)\n+IF(AND(Esq_Atual!$BF$153=F61,Esq_Atual!$BP$153=I61),Esq_Atual!$BW$153*Esq_Atual!$CC$153,0)\n+IF(AND(Esq_Atual!$BF$154=F61,Esq_Atual!$BP$154=I61),Esq_Atual!$BW$154*Esq_Atual!$CC$154,0)\n+IF(AND(Esq_Atual!$BF$155=F61,Esq_Atual!$BP$155=I61),Esq_Atual!$BW$155*Esq_Atual!$CC$155,0)\n+IF(AND(Esq_Atual!$BF$156=F61,Esq_Atual!$BP$156=I61),Esq_Atual!$BW$156*Esq_Atual!$CC$156,0)\n+IF(AND(Esq_Atual!$BF$157=F61,Esq_Atual!$BP$157=I61),Esq_Atual!$BW$157*Esq_Atual!$CC$157,0)\n+IF(AND(Esq_Atual!$BF$158=F61,Esq_Atual!$BP$158=I61),Esq_Atual!$BW$158*Esq_Atual!$CC$158,0)\n+IF(AND(Esq_Atual!$BF$159=F61,Esq_Atual!$BP$159=I61),Esq_Atual!$BW$159*Esq_Atual!$CC$159,0)\n+IF(AND(Esq_Atual!$BF$160=F61,Esq_Atual!$BP$160=I61),Esq_Atual!$BW$160*Esq_Atual!$CC$160,0)\n+IF(AND(Esq_Atual!$BF$161=F61,Esq_Atual!$BP$161=I61),Esq_Atual!$BW$161*Esq_Atual!$CC$161,0)\n+IF(AND(Esq_Atual!$BF$162=F61,Esq_Atual!$BP$162=I61),Esq_Atual!$BW$162*Esq_Atual!$CC$162,0)\n+IF(AND(Esq_Atual!$BF$163=F61,Esq_Atual!$BP$163=I61),Esq_Atual!$BW$163*Esq_Atual!$CC$163,0)\n+IF(AND(Esq_Atual!$AS$193=F61,Esq_Atual!$BC$193=I61),Esq_Atual!$BJ$193*Esq_Atual!$BM$193,0)\n+IF(AND(Esq_Atual!$AS$194=F61,Esq_Atual!$BC$194=I61),Esq_Atual!$BJ$194*Esq_Atual!$BM$194,0)\n+IF(AND(Esq_Atual!$AS$195=F61,Esq_Atual!$BC$195=I61),Esq_Atual!$BJ$195*Esq_Atual!$BM$195,0))/100","v":0},{"$f":"(IF(AND(Esq_Atual!$M$127=F61,Esq_Atual!$W$127=I61),Esq_Atual!$AD$127*Esq_Atual!$AJ$127,0)\n+IF(AND(Esq_Atual!$M$128=F61,Esq_Atual!$W$128=I61),Esq_Atual!$AD$128*Esq_Atual!$AJ$128,0)\n+IF(AND(Esq_Atual!$M$129=F61,Esq_Atual!$W$129=I61),Esq_Atual!$AD$129*Esq_Atual!$AJ$129,0)\n+IF(AND(Esq_Atual!$M$130=F61,Esq_Atual!$W$130=I61),Esq_Atual!$AD$130*Esq_Atual!$AJ$130,0)\n+IF(AND(Esq_Atual!$M$131=F61,Esq_Atual!$W$131=I61),Esq_Atual!$AD$131*Esq_Atual!$AJ$131,0)\n+IF(AND(Esq_Atual!$M$132=F61,Esq_Atual!$W$132=I61),Esq_Atual!$AD$132*Esq_Atual!$AJ$132,0)\n+IF(AND(Esq_Atual!$M$133=F61,Esq_Atual!$W$133=I61),Esq_Atual!$AD$133*Esq_Atual!$AJ$133,0)\n+IF(AND(Esq_Atual!$M$134=F61,Esq_Atual!$W$134=I61),Esq_Atual!$AD$134*Esq_Atual!$AJ$134,0)\n+IF(AND(Esq_Atual!$M$135=F61,Esq_Atual!$W$135=I61),Esq_Atual!$AD$135*Esq_Atual!$AJ$135,0)\n+IF(AND(Esq_Atual!$M$136=F61,Esq_Atual!$W$136=I61),Esq_Atual!$AD$136*Esq_Atual!$AJ$136,0)\n+IF(AND(Esq_Atual!$M$137=F61,Esq_Atual!$W$137=I61),Esq_Atual!$AD$137*Esq_Atual!$AJ$137,0)\n+IF(AND(Esq_Atual!$M$138=F61,Esq_Atual!$W$138=I61),Esq_Atual!$AD$138*Esq_Atual!$AJ$138,0)\n+IF(AND(Esq_Atual!$M$139=F61,Esq_Atual!$W$139=I61),Esq_Atual!$AD$139*Esq_Atual!$AJ$139,0)\n+IF(AND(Esq_Atual!$M$140=F61,Esq_Atual!$W$140=I61),Esq_Atual!$AD$140*Esq_Atual!$AJ$140,0)\n+IF(AND(Esq_Atual!$M$141=F61,Esq_Atual!$W$141=I61),Esq_Atual!$AD$141*Esq_Atual!$AJ$141,0)\n+IF(AND(Esq_Atual!$BF$149=F61,Esq_Atual!$BP$149=I61),Esq_Atual!$BW$149*Esq_Atual!$CC$149,0)\n+IF(AND(Esq_Atual!$BF$150=F61,Esq_Atual!$BP$150=I61),Esq_Atual!$BW$150*Esq_Atual!$CC$150,0)\n+IF(AND(Esq_Atual!$BF$151=F61,Esq_Atual!$BP$151=I61),Esq_Atual!$BW$151*Esq_Atual!$CC$151,0)\n+IF(AND(Esq_Atual!$BF$152=F61,Esq_Atual!$BP$152=I61),Esq_Atual!$BW$152*Esq_Atual!$CC$152,0)\n+IF(AND(Esq_Atual!$BF$153=F61,Esq_Atual!$BP$153=I61),Esq_Atual!$BW$153*Esq_Atual!$CC$153,0)\n+IF(AND(Esq_Atual!$BF$154=F61,Esq_Atual!$BP$154=I61),Esq_Atual!$BW$154*Esq_Atual!$CC$154,0)\n+IF(AND(Esq_Atual!$BF$155=F61,Esq_Atual!$BP$155=I61),Esq_Atual!$BW$155*Esq_Atual!$CC$155,0)\n+IF(AND(Esq_Atual!$BF$156=F61,Esq_Atual!$BP$156=I61),Esq_Atual!$BW$156*Esq_Atual!$CC$156,0)\n+IF(AND(Esq_Atual!$BF$157=F61,Esq_Atual!$BP$157=I61),Esq_Atual!$BW$157*Esq_Atual!$CC$157,0)\n+IF(AND(Esq_Atual!$BF$158=F61,Esq_Atual!$BP$158=I61),Esq_Atual!$BW$158*Esq_Atual!$CC$158,0)\n+IF(AND(Esq_Atual!$BF$159=F61,Esq_Atual!$BP$159=I61),Esq_Atual!$BW$159*Esq_Atual!$CC$159,0)\n+IF(AND(Esq_Atual!$BF$160=F61,Esq_Atual!$BP$160=I61),Esq_Atual!$BW$160*Esq_Atual!$CC$160,0)\n+IF(AND(Esq_Atual!$BF$161=F61,Esq_Atual!$BP$161=I61),Esq_Atual!$BW$161*Esq_Atual!$CC$161,0)\n+IF(AND(Esq_Atual!$BF$162=F61,Esq_Atual!$BP$162=I61),Esq_Atual!$BW$162*Esq_Atual!$CC$162,0)\n+IF(AND(Esq_Atual!$BF$163=F61,Esq_Atual!$BP$163=I61),Esq_Atual!$BW$163*Esq_Atual!$CC$163,0)\n+IF(AND(Esq_Atual!$AS$193=F61,Esq_Atual!$BC$193=I61),Esq_Atual!$BJ$193*Esq_Atual!$BM$193,0)\n+IF(AND(Esq_Atual!$AS$194=F61,Esq_Atual!$BC$194=I61),Esq_Atual!$BJ$194*Esq_Atual!$BM$194,0)\n+IF(AND(Esq_Atual!$AS$195=F61,Esq_Atual!$BC$195=I61),Esq_Atual!$BJ$195*Esq_Atual!$BM$195,0))/100","v":0},null,{"$f":"'Preços unitários'!$T$35","v":0},{"$f":"+S61*V61","v":0},{"$f":"+'Modelação de custos atual'!$D$20","v":0},{"$f":"L61*X61","v":0},50000,{"$f":"_xlfn.FLOOR.MATH(IF(OR(R61>Z61,R61=Z61),R61/Z61,0),1)","v":0},{"$f":"'Preços unitários'!$T$38","v":0},{"$f":"+AA61*AB61","v":0}]
[null,null,"APOIO","RI/RS","Viaturas","Viatura de apoio",null,null,"gás",{"$f":"+IF(AND(Esq_Atual!$M$127=F62,Esq_Atual!$W$127=I62),1,0)+IF(AND(Esq_Atual!$M$128=F62,Esq_Atual!$W$128=I62),1,0)+IF(AND(Esq_Atual!$M$129=F62,Esq_Atual!$W$129=I62),1,0)+IF(AND(Esq_Atual!$M$130=F62,Esq_Atual!$W$130=I62),1,0)+IF(AND(Esq_Atual!$M$131=F62,Esq_Atual!$W$131=I62),1,0)+IF(AND(Esq_Atual!$M$132=F62,Esq_Atual!$W$132=I62),1,0)+IF(AND(Esq_Atual!$M$133=F62,Esq_Atual!$W$133=I62),1,0)+IF(AND(Esq_Atual!$M$134=F62,Esq_Atual!$W$134=I62),1,0)+IF(AND(Esq_Atual!$M$135=F62,Esq_Atual!$W$135=I62),1,0)+IF(AND(Esq_Atual!$M$136=F62,Esq_Atual!$W$136=I62),1,0)+IF(AND(Esq_Atual!$M$137=F62,Esq_Atual!$W$137=I62),1,0)+IF(AND(Esq_Atual!$M$138=F62,Esq_Atual!$W$138=I62),1,0)+IF(AND(Esq_Atual!$M$139=F62,Esq_Atual!$W$139=I62),1,0)+IF(AND(Esq_Atual!$M$140=F62,Esq_Atual!$W$140=I62),1,0)+IF(AND(Esq_Atual!$M$141=F62,Esq_Atual!$W$141=I62),1,0)+IF(AND(Esq_Atual!$BF$149=F62,Esq_Atual!$BP$149=I62),1,0)+IF(AND(Esq_Atual!$BF$150=F62,Esq_Atual!$BP$150=I62),1,0)+IF(AND(Esq_Atual!$BF$151=F62,Esq_Atual!$BP$151=I62),1,0)+IF(AND(Esq_Atual!$BF$152=F62,Esq_Atual!$BP$152=I62),1,0)+IF(AND(Esq_Atual!$BF$153=F62,Esq_Atual!$BP$153=I62),1,0)+IF(AND(Esq_Atual!$BF$154=F62,Esq_Atual!$BP$154=I62),1,0)+IF(AND(Esq_Atual!$BF$155=F62,Esq_Atual!$BP$155=I62),1,0)+IF(AND(Esq_Atual!$BF$156=F62,Esq_Atual!$BP$156=I62),1,0)+IF(AND(Esq_Atual!$BF$157=F62,Esq_Atual!$BP$157=I62),1,0)+IF(AND(Esq_Atual!$BF$158=F62,Esq_Atual!$BP$158=I62),1,0)+IF(AND(Esq_Atual!$BF$159=F62,Esq_Atual!$BP$159=I62),1,0)+IF(AND(Esq_Atual!$BF$160=F62,Esq_Atual!$BP$160=I62),1,0)+IF(AND(Esq_Atual!$BF$161=F62,Esq_Atual!$BP$161=I62),1,0)+IF(AND(Esq_Atual!$BF$162=F62,Esq_Atual!$BP$162=I62),1,0)+IF(AND(Esq_Atual!$BF$163=F62,Esq_Atual!$BP$163=I62),1,0)","v":0},{"$f":"'Preços unitários'!$M$34","v":0},0,6,0,null,null,null,{"$f":"+IF(AND(Esq_Atual!$M$127=F62,Esq_Atual!$W$127=I62),Esq_Atual!$AD$127,0)\n+IF(AND(Esq_Atual!$M$128=F62,Esq_Atual!$W$128=I62),Esq_Atual!$AD$128,0)\n+IF(AND(Esq_Atual!$M$129=F62,Esq_Atual!$W$129=I62),Esq_Atual!$AD$129,0)\n+IF(AND(Esq_Atual!$M$130=F62,Esq_Atual!$W$130=I62),Esq_Atual!$AD$130,0)\n+IF(AND(Esq_Atual!$M$131=F62,Esq_Atual!$W$131=I62),Esq_Atual!$AD$131,0)\n+IF(AND(Esq_Atual!$M$132=F62,Esq_Atual!$W$132=I62),Esq_Atual!$AD$132,0)\n+IF(AND(Esq_Atual!$M$133=F62,Esq_Atual!$W$133=I62),Esq_Atual!$AD$133,0)\n+IF(AND(Esq_Atual!$M$134=F62,Esq_Atual!$W$134=I62),Esq_Atual!$AD$134,0)\n+IF(AND(Esq_Atual!$M$135=F62,Esq_Atual!$W$135=I62),Esq_Atual!$AD$135,0)\n+IF(AND(Esq_Atual!$M$136=F62,Esq_Atual!$W$136=I62),Esq_Atual!$AD$136,0)\n+IF(AND(Esq_Atual!$M$137=F62,Esq_Atual!$W$137=I62),Esq_Atual!$AD$137,0)\n+IF(AND(Esq_Atual!$M$138=F62,Esq_Atual!$W$138=I62),Esq_Atual!$AD$138,0)\n+IF(AND(Esq_Atual!$M$139=F62,Esq_Atual!$W$139=I62),Esq_Atual!$AD$139,0)\n+IF(AND(Esq_Atual!$M$140=F62,Esq_Atual!$W$140=I62),Esq_Atual!$AD$140,0)\n+IF(AND(Esq_Atual!$M$141=F62,Esq_Atual!$W$141=I62),Esq_Atual!$AD$141,0)\n+IF(AND(Esq_Atual!$BF$149=F62,Esq_Atual!$BP$149=I62),Esq_Atual!$BW$149,0)\n+IF(AND(Esq_Atual!$BF$150=F62,Esq_Atual!$BP$150=I62),Esq_Atual!$BW$150,0)\n+IF(AND(Esq_Atual!$BF$151=F62,Esq_Atual!$BP$151=I62),Esq_Atual!$BW$151,0)\n+IF(AND(Esq_Atual!$BF$152=F62,Esq_Atual!$BP$152=I62),Esq_Atual!$BW$152,0)\n+IF(AND(Esq_Atual!$BF$153=F62,Esq_Atual!$BP$153=I62),Esq_Atual!$BW$153,0)\n+IF(AND(Esq_Atual!$BF$154=F62,Esq_Atual!$BP$154=I62),Esq_Atual!$BW$154,0)\n+IF(AND(Esq_Atual!$BF$155=F62,Esq_Atual!$BP$155=I62),Esq_Atual!$BW$155,0)\n+IF(AND(Esq_Atual!$BF$156=F62,Esq_Atual!$BP$156=I62),Esq_Atual!$BW$156,0)\n+IF(AND(Esq_Atual!$BF$157=F62,Esq_Atual!$BP$157=I62),Esq_Atual!$BW$157,0)\n+IF(AND(Esq_Atual!$BF$158=F62,Esq_Atual!$BP$158=I62),Esq_Atual!$BW$158,0)\n+IF(AND(Esq_Atual!$BF$159=F62,Esq_Atual!$BP$159=I62),Esq_Atual!$BW$159,0)\n+IF(AND(Esq_Atual!$BF$160=F62,Esq_Atual!$BP$160=I62),Esq_Atual!$BW$160,0)\n+IF(AND(Esq_Atual!$BF$161=F62,Esq_Atual!$BP$161=I62),Esq_Atual!$BW$161,0)\n+IF(AND(Esq_Atual!$BF$162=F62,Esq_Atual!$BP$162=I62),Esq_Atual!$BW$162,0)\n+IF(AND(Esq_Atual!$BF$163=F62,Esq_Atual!$BP$163=I62),Esq_Atual!$BW$163,0)\n+IF(AND(Esq_Atual!$AS$193=F62,Esq_Atual!$BC$193=I62),Esq_Atual!$BJ$193,0)\n+IF(AND(Esq_Atual!$AS$194=F62,Esq_Atual!$BC$194=I62),Esq_Atual!$BJ$194,0)\n+IF(AND(Esq_Atual!$AS$195=F62,Esq_Atual!$BC$195=I62),Esq_Atual!$BJ$195,0)","v":0},{"$f":"(IF(AND(Esq_Atual!$M$127=F62,Esq_Atual!$W$127=I62),Esq_Atual!$AD$127*Esq_Atual!$AJ$127,0)\n+IF(AND(Esq_Atual!$M$128=F62,Esq_Atual!$W$128=I62),Esq_Atual!$AD$128*Esq_Atual!$AJ$128,0)\n+IF(AND(Esq_Atual!$M$129=F62,Esq_Atual!$W$129=I62),Esq_Atual!$AD$129*Esq_Atual!$AJ$129,0)\n+IF(AND(Esq_Atual!$M$130=F62,Esq_Atual!$W$130=I62),Esq_Atual!$AD$130*Esq_Atual!$AJ$130,0)\n+IF(AND(Esq_Atual!$M$131=F62,Esq_Atual!$W$131=I62),Esq_Atual!$AD$131*Esq_Atual!$AJ$131,0)\n+IF(AND(Esq_Atual!$M$132=F62,Esq_Atual!$W$132=I62),Esq_Atual!$AD$132*Esq_Atual!$AJ$132,0)\n+IF(AND(Esq_Atual!$M$133=F62,Esq_Atual!$W$133=I62),Esq_Atual!$AD$133*Esq_Atual!$AJ$133,0)\n+IF(AND(Esq_Atual!$M$134=F62,Esq_Atual!$W$134=I62),Esq_Atual!$AD$134*Esq_Atual!$AJ$134,0)\n+IF(AND(Esq_Atual!$M$135=F62,Esq_Atual!$W$135=I62),Esq_Atual!$AD$135*Esq_Atual!$AJ$135,0)\n+IF(AND(Esq_Atual!$M$136=F62,Esq_Atual!$W$136=I62),Esq_Atual!$AD$136*Esq_Atual!$AJ$136,0)\n+IF(AND(Esq_Atual!$M$137=F62,Esq_Atual!$W$137=I62),Esq_Atual!$AD$137*Esq_Atual!$AJ$137,0)\n+IF(AND(Esq_Atual!$M$138=F62,Esq_Atual!$W$138=I62),Esq_Atual!$AD$138*Esq_Atual!$AJ$138,0)\n+IF(AND(Esq_Atual!$M$139=F62,Esq_Atual!$W$139=I62),Esq_Atual!$AD$139*Esq_Atual!$AJ$139,0)\n+IF(AND(Esq_Atual!$M$140=F62,Esq_Atual!$W$140=I62),Esq_Atual!$AD$140*Esq_Atual!$AJ$140,0)\n+IF(AND(Esq_Atual!$M$141=F62,Esq_Atual!$W$141=I62),Esq_Atual!$AD$141*Esq_Atual!$AJ$141,0)\n+IF(AND(Esq_Atual!$BF$149=F62,Esq_Atual!$BP$149=I62),Esq_Atual!$BW$149*Esq_Atual!$CC$149,0)\n+IF(AND(Esq_Atual!$BF$150=F62,Esq_Atual!$BP$150=I62),Esq_Atual!$BW$150*Esq_Atual!$CC$150,0)\n+IF(AND(Esq_Atual!$BF$151=F62,Esq_Atual!$BP$151=I62),Esq_Atual!$BW$151*Esq_Atual!$CC$151,0)\n+IF(AND(Esq_Atual!$BF$152=F62,Esq_Atual!$BP$152=I62),Esq_Atual!$BW$152*Esq_Atual!$CC$152,0)\n+IF(AND(Esq_Atual!$BF$153=F62,Esq_Atual!$BP$153=I62),Esq_Atual!$BW$153*Esq_Atual!$CC$153,0)\n+IF(AND(Esq_Atual!$BF$154=F62,Esq_Atual!$BP$154=I62),Esq_Atual!$BW$154*Esq_Atual!$CC$154,0)\n+IF(AND(Esq_Atual!$BF$155=F62,Esq_Atual!$BP$155=I62),Esq_Atual!$BW$155*Esq_Atual!$CC$155,0)\n+IF(AND(Esq_Atual!$BF$156=F62,Esq_Atual!$BP$156=I62),Esq_Atual!$BW$156*Esq_Atual!$CC$156,0)\n+IF(AND(Esq_Atual!$BF$157=F62,Esq_Atual!$BP$157=I62),Esq_Atual!$BW$157*Esq_Atual!$CC$157,0)\n+IF(AND(Esq_Atual!$BF$158=F62,Esq_Atual!$BP$158=I62),Esq_Atual!$BW$158*Esq_Atual!$CC$158,0)\n+IF(AND(Esq_Atual!$BF$159=F62,Esq_Atual!$BP$159=I62),Esq_Atual!$BW$159*Esq_Atual!$CC$159,0)\n+IF(AND(Esq_Atual!$BF$160=F62,Esq_Atual!$BP$160=I62),Esq_Atual!$BW$160*Esq_Atual!$CC$160,0)\n+IF(AND(Esq_Atual!$BF$161=F62,Esq_Atual!$BP$161=I62),Esq_Atual!$BW$161*Esq_Atual!$CC$161,0)\n+IF(AND(Esq_Atual!$BF$162=F62,Esq_Atual!$BP$162=I62),Esq_Atual!$BW$162*Esq_Atual!$CC$162,0)\n+IF(AND(Esq_Atual!$BF$163=F62,Esq_Atual!$BP$163=I62),Esq_Atual!$BW$163*Esq_Atual!$CC$163,0)\n+IF(AND(Esq_Atual!$AS$193=F62,Esq_Atual!$BC$193=I62),Esq_Atual!$BJ$193*Esq_Atual!$BM$193,0)\n+IF(AND(Esq_Atual!$AS$194=F62,Esq_Atual!$BC$194=I62),Esq_Atual!$BJ$194*Esq_Atual!$BM$194,0)\n+IF(AND(Esq_Atual!$AS$195=F62,Esq_Atual!$BC$195=I62),Esq_Atual!$BJ$195*Esq_Atual!$BM$195,0))/100","v":0},{"$f":"(IF(AND(Esq_Atual!$M$127=F62,Esq_Atual!$W$127=I62),Esq_Atual!$AD$127*Esq_Atual!$AJ$127,0)\n+IF(AND(Esq_Atual!$M$128=F62,Esq_Atual!$W$128=I62),Esq_Atual!$AD$128*Esq_Atual!$AJ$128,0)\n+IF(AND(Esq_Atual!$M$129=F62,Esq_Atual!$W$129=I62),Esq_Atual!$AD$129*Esq_Atual!$AJ$129,0)\n+IF(AND(Esq_Atual!$M$130=F62,Esq_Atual!$W$130=I62),Esq_Atual!$AD$130*Esq_Atual!$AJ$130,0)\n+IF(AND(Esq_Atual!$M$131=F62,Esq_Atual!$W$131=I62),Esq_Atual!$AD$131*Esq_Atual!$AJ$131,0)\n+IF(AND(Esq_Atual!$M$132=F62,Esq_Atual!$W$132=I62),Esq_Atual!$AD$132*Esq_Atual!$AJ$132,0)\n+IF(AND(Esq_Atual!$M$133=F62,Esq_Atual!$W$133=I62),Esq_Atual!$AD$133*Esq_Atual!$AJ$133,0)\n+IF(AND(Esq_Atual!$M$134=F62,Esq_Atual!$W$134=I62),Esq_Atual!$AD$134*Esq_Atual!$AJ$134,0)\n+IF(AND(Esq_Atual!$M$135=F62,Esq_Atual!$W$135=I62),Esq_Atual!$AD$135*Esq_Atual!$AJ$135,0)\n+IF(AND(Esq_Atual!$M$136=F62,Esq_Atual!$W$136=I62),Esq_Atual!$AD$136*Esq_Atual!$AJ$136,0)\n+IF(AND(Esq_Atual!$M$137=F62,Esq_Atual!$W$137=I62),Esq_Atual!$AD$137*Esq_Atual!$AJ$137,0)\n+IF(AND(Esq_Atual!$M$138=F62,Esq_Atual!$W$138=I62),Esq_Atual!$AD$138*Esq_Atual!$AJ$138,0)\n+IF(AND(Esq_Atual!$M$139=F62,Esq_Atual!$W$139=I62),Esq_Atual!$AD$139*Esq_Atual!$AJ$139,0)\n+IF(AND(Esq_Atual!$M$140=F62,Esq_Atual!$W$140=I62),Esq_Atual!$AD$140*Esq_Atual!$AJ$140,0)\n+IF(AND(Esq_Atual!$M$141=F62,Esq_Atual!$W$141=I62),Esq_Atual!$AD$141*Esq_Atual!$AJ$141,0)\n+IF(AND(Esq_Atual!$BF$149=F62,Esq_Atual!$BP$149=I62),Esq_Atual!$BW$149*Esq_Atual!$CC$149,0)\n+IF(AND(Esq_Atual!$BF$150=F62,Esq_Atual!$BP$150=I62),Esq_Atual!$BW$150*Esq_Atual!$CC$150,0)\n+IF(AND(Esq_Atual!$BF$151=F62,Esq_Atual!$BP$151=I62),Esq_Atual!$BW$151*Esq_Atual!$CC$151,0)\n+IF(AND(Esq_Atual!$BF$152=F62,Esq_Atual!$BP$152=I62),Esq_Atual!$BW$152*Esq_Atual!$CC$152,0)\n+IF(AND(Esq_Atual!$BF$153=F62,Esq_Atual!$BP$153=I62),Esq_Atual!$BW$153*Esq_Atual!$CC$153,0)\n+IF(AND(Esq_Atual!$BF$154=F62,Esq_Atual!$BP$154=I62),Esq_Atual!$BW$154*Esq_Atual!$CC$154,0)\n+IF(AND(Esq_Atual!$BF$155=F62,Esq_Atual!$BP$155=I62),Esq_Atual!$BW$155*Esq_Atual!$CC$155,0)\n+IF(AND(Esq_Atual!$BF$156=F62,Esq_Atual!$BP$156=I62),Esq_Atual!$BW$156*Esq_Atual!$CC$156,0)\n+IF(AND(Esq_Atual!$BF$157=F62,Esq_Atual!$BP$157=I62),Esq_Atual!$BW$157*Esq_Atual!$CC$157,0)\n+IF(AND(Esq_Atual!$BF$158=F62,Esq_Atual!$BP$158=I62),Esq_Atual!$BW$158*Esq_Atual!$CC$158,0)\n+IF(AND(Esq_Atual!$BF$159=F62,Esq_Atual!$BP$159=I62),Esq_Atual!$BW$159*Esq_Atual!$CC$159,0)\n+IF(AND(Esq_Atual!$BF$160=F62,Esq_Atual!$BP$160=I62),Esq_Atual!$BW$160*Esq_Atual!$CC$160,0)\n+IF(AND(Esq_Atual!$BF$161=F62,Esq_Atual!$BP$161=I62),Esq_Atual!$BW$161*Esq_Atual!$CC$161,0)\n+IF(AND(Esq_Atual!$BF$162=F62,Esq_Atual!$BP$162=I62),Esq_Atual!$BW$162*Esq_Atual!$CC$162,0)\n+IF(AND(Esq_Atual!$BF$163=F62,Esq_Atual!$BP$163=I62),Esq_Atual!$BW$163*Esq_Atual!$CC$163,0)\n+IF(AND(Esq_Atual!$AS$193=F62,Esq_Atual!$BC$193=I62),Esq_Atual!$BJ$193*Esq_Atual!$BM$193,0)\n+IF(AND(Esq_Atual!$AS$194=F62,Esq_Atual!$BC$194=I62),Esq_Atual!$BJ$194*Esq_Atual!$BM$194,0)\n+IF(AND(Esq_Atual!$AS$195=F62,Esq_Atual!$BC$195=I62),Esq_Atual!$BJ$195*Esq_Atual!$BM$195,0))/100","v":0},{"$f":"'Preços unitários'!$T$36","v":0},null,{"$f":"+S62*U62","v":0},{"$f":"+'Modelação de custos atual'!$D$20","v":0},0,50000,0,{"$f":"'Preços unitários'!$T$38","v":0},0]
[null,null,"ECO","ECO","c. civil","c. civil",null,null,null,{"$f":"+Esq_Atual!AV201","v":0},{"$f":"'Preços unitários'!$M$49","v":0},0,40,0,null,null,null,null,null,null,null,null,null,null,null,null,null,null,null,{"$f":"+'Modelação de custos atual'!D21","v":0},{"$f":"IF(E63=\"c. civil\",L63*AD63,0)","v":0}]
[null,null,"ECO","ECO","equip depo","cont met. 15 m3",null,null,null,{"$f":"+Esq_Atual!AX204","v":0},{"$f":"'Preços unitários'!$M$52","v":0},0,8,0]
[null,null,"ECO","ECO","equip depo","cont met. 30 m3",null,null,null,{"$f":"+Esq_Atual!AX205","v":0},{"$f":"'Preços unitários'!$M$53","v":0},0,8,0]
[null,null,"ECO","ECO","equip depo","autocompactadores 20 m3",null,null,null,{"$f":"+Esq_Atual!AX206","v":0},{"$f":"'Preços unitários'!$M$54","v":0},0,8,0]
[null,null,"ECO","ECO","Viaturas","Viatura de transporte ecocentro",null,null,"gasóleo",{"$f":"+Esq_Atual!BI204","v":0},{"$f":"'Preços unitários'!$M$57","v":0},0,8,{"$f":"L67/M67","v":0},null,null,null,{"$f":"+Esq_Atual!BL204","v":0},{"$f":"+Esq_Atual!BL204*Esq_Atual!BT204/100","v":0},null,{"$f":"'Preços unitários'!$T$34","v":0},null,{"$f":"+S67*U67","v":0},{"$f":"+'Modelação de custos atual'!D20","v":0},{"$f":"L67*X67","v":0},50000,{"$f":"_xlfn.FLOOR.MATH(IF(OR(R67>Z67,R67=Z67),R67/Z67,0),1)","v":0},{"$f":"'Preços unitários'!$T$42","v":0},{"$f":"+AA67*AB67","v":0}]
[null,null,"ET","ET","c. civil","c. civil",null,null,null,{"$f":"+Esq_Atual!AV213","v":0},{"$f":"'Preços unitários'!$M$65","v":0},0,40,{"$f":"L68/M68","v":0},null,null,null,null,null,null,null,null,null,null,null,null,null,null,null,{"$f":"+'Modelação de custos atual'!D21","v":0},{"$f":"IF(E68=\"c. civil\",L68*AD68,0)","v":0}]
[null,null,"ET","ET","equip depo","compactador estacionário c/ tremonha de carga",null,null,null,{"$f":"+Esq_Atual!BB220","v":0},{"$f":"'Preços unitários'!$M$72","v":0},0,8,0]
[null,null,"ET","ET","equip depo","mesa de translação",null,null,null,{"$f":"+Esq_Atual!BB221","v":0},{"$f":"'Preços unitários'!$M$73","v":0},0,8,0]
[null,null,"ET","ET","equip depo","cont. 30 m3 aberto",null,null,null,{"$f":"+Esq_Atual!BB216","v":0},{"$f":"'Preços unitários'!$M$68","v":0},0,8,0]
[null,null,"ET","ET","equip depo","cont. 40 m3 aberto",null,null,null,{"$f":"+Esq_Atual!BB217","v":0},{"$f":"'Preços unitários'!$M$69","v":0},0,8,0]
[null,null,"ET","ET","equip depo","cont. 30 m3 fechado",null,null,null,{"$f":"+Esq_Atual!BB218","v":0},{"$f":"'Preços unitários'!$M$70","v":0},0,8,0]
[null,null,"ET","ET","equip depo","cont. 40 m3 fechado",null,null,null,{"$f":"+Esq_Atual!BB219","v":0},{"$f":"'Preços unitários'!$M$71","v":0},0,8,{"$f":"L74/M74","v":0}]
[null,null,"ET","ET","Viaturas","semi-reboque 90 m3 com piso móvel",null,null,null,{"$f":"+Esq_Atual!BR216","v":0},{"$f":"'Preços unitários'!$M$76","v":0},0,8,0,null,null,null,{"$f":"+'Modelação do sist PAYT'!EI46","v":0},{"$f":"+'Modelação do sist PAYT'!ER46","v":0},null,{"$f":"'Preços unitários'!$T$34","v":0},null,{"$f":"+S75*R75/100*U75","v":0},{"$f":"+'Modelação de custos PAYT'!$D$20","v":0},{"$f":"L75*X75","v":0},50000,{"$f":"_xlfn.FLOOR.MATH(IF(OR(R75>Z75,R75=Z75),R75/Z75,0),1)","v":0},{"$f":"'Preços unitários'!$T$43","v":0},{"$f":"+AA75*AB75","v":0}]
[null,null,"ET","ET","Viaturas","Trator para semi-reboque piso móvel",null,null,"gasóleo",{"$f":"+Esq_Atual!BR217","v":0},{"$f":"'Preços unitários'!$M$77","v":0},0,8,0,null,null,null,{"$f":"'Modelação do sist PAYT'!$EI$97","v":0},{"$f":"'Modelação do sist PAYT'!$ER$97","v":0},null,{"$f":"'Preços unitários'!$T$34","v":0},null,{"$f":"+S76*R76/100*U76","v":0},{"$f":"+'Modelação de custos PAYT'!$D$20","v":0},0,50000,0,{"$f":"'Preços unitários'!$T$44","v":0},{"$f":"+AA76*AB76","v":0}]
[null,null,"ET","ET","Viaturas","Chassis cabina para veículo de transferência",null,null,"gasóleo",{"$f":"+Esq_Atual!BR218","v":0},{"$f":"'Preços unitários'!$M$78","v":0},0,8,0,null,null,null,{"$f":"'Modelação do sist PAYT'!$EI$98","v":0},{"$f":"'Modelação do sist PAYT'!$ER$98","v":0},null,{"$f":"'Preços unitários'!$T$34","v":0},null,0,{"$f":"+'Modelação de custos PAYT'!$D$20","v":0},0,50000,0,{"$f":"'Preços unitários'!$T$45","v":0},{"$f":"+AA77*AB77","v":0}]
[null,null,"DEPOS","RI/RS","equip depo","sacos","15 L","normal","normal",{"$f":"+Esq_Atual!S68+Esq_Atual!BI81+Esq_Atual!CH81+Esq_Atual!CH85+Esq_Atual!BI85","v":0},{"$f":"'Preços unitários'!F21","v":0},null,null,null,null,null,{"$f":"+J78*K78","v":0}]
[null,null,"DEPOS","RI/RS","equip depo","sacos","30 L","normal","normal",{"$f":"+Esq_Atual!BL81+Esq_Atual!CK81+Esq_Atual!CK85+Esq_Atual!BL85+Esq_Atual!V68","v":0},{"$f":"'Preços unitários'!F24","v":0},null,null,null,null,null,{"$f":"+J79*K79","v":0}]
[null,null,"DEPOS","RI/RS","equip depo","sacos","50 L","normal","normal",{"$f":"+Esq_Atual!Y68+Esq_Atual!BO81+Esq_Atual!CN81+Esq_Atual!CN85+Esq_Atual!BO85","v":0},{"$f":"'Preços unitários'!F27","v":0},null,null,null,null,null,0]
[null,null,"Diversos","Diversos","Rendas de edifícios",null,null,null,null,null,null,null,null,null,null,null,null,null,null,null,null,null,null,null,null,null,null,null,null,null,null,{"$f":"+'Modelação de custos atual'!D11","v":0}]
[null,null,"Diversos","Diversos","Aluguer de edifícios",null,null,null,null,null,null,null,null,null,null,null,null,null,null,null,null,null,null,null,null,null,null,null,null,null,null,null,{"$f":"+'Modelação de custos atual'!D12","v":0}]
[null,null,"Diversos","Diversos","Comunicações",null,null,null,null,null,null,null,null,null,null,null,null,null,null,null,null,null,null,null,null,null,null,null,null,null,null,null,null,{"$f":"+'Modelação de custos atual'!D13","v":0}]
[null,null,"Diversos","Diversos","Comunicações associadas aos sistemas de instrumentação",null,null,null,null,null,null,null,null,null,null,null,null,null,null,null,null,null,null,null,null,null,null,null,null,null,null,null,null,null,{"$f":"+'Modelação de custos atual'!D14","v":0}]
[null,null,"Diversos","Diversos","Seguros gerais",null,null,null,null,null,null,null,null,null,null,null,null,null,null,null,null,null,null,null,null,null,null,null,null,null,null,null,null,null,null,{"$f":"+'Modelação de custos atual'!D15","v":0}]
[null,null,"Diversos","Diversos","Seguros de frota",null,null,null,null,null,null,null,null,null,null,null,null,null,null,null,null,null,null,null,null,null,null,null,null,null,null,null,null,null,null,null,{"$f":"+'Modelação de custos atual'!D16","v":0}]
[null,null,"Diversos","Diversos","Honorários",null,null,null,null,null,null,null,null,null,null,null,null,null,null,null,null,null,null,null,null,null,null,null,null,null,null,null,null,null,null,null,null,{"$f":"+'Modelação de custos atual'!D17","v":0}]
[null,null,"Software de gestão","Software de gestão","Quota anual por viatura recolha",null,null,null,null,null,{"$f":"+'Preços unitários'!T21","v":0},null,null,null,null,null,null,null,null,null,null,null,null,null,null,null,null,null,null,null,null,null,null,null,null,null,null,null,{"$f":"+J88*K88","v":0}]
[null,null,"Software de gestão","Software de gestão","Quota anual por utilizador com licença de edição",null,null,null,null,{"$f":"+Esq_Atual!S203","v":0},{"$f":"+'Preços unitários'!T22","v":0},null,null,null,null,null,null,null,null,null,null,null,null,null,null,null,null,null,null,null,null,null,null,null,null,null,null,null,{"$f":"+J89*K89","v":0}]
[null,null,"Software de gestão","Software de gestão","Quota anual por sist. de controlo de acesso em contentores de superfície",null,null,null,null,null,{"$f":"+'Preços unitários'!T23","v":0},null,null,null,null,null,null,null,null,null,null,null,null,null,null,null,null,null,null,null,null,null,null,null,null,null,null,null,0]
[null,null,"Software de gestão","Software de gestão","Quota anual por sist. de controlo de acesso em contentores semi-enterrados / enterrados",null,null,null,null,null,{"$f":"+'Preços unitários'!T24","v":0},null,null,null,null,null,null,null,null,null,null,null,null,null,null,null,null,null,null,null,null,null,null,null,null,null,null,null,0]
[null,null,"Pessoal","Pessoal","Custos com pessoal - encarregado",null,null,null,null,{"$f":"+Esq_Atual!I146*Esq_Atual!L146+Esq_Atual!AW168*Esq_Atual!AZ168+Esq_Atual!CF190*Esq_Atual!CI190","v":0},{"$f":"'Modelação de custos atual'!D24","v":0},null,null,null,null,null,null,null,null,null,null,null,null,null,null,null,null,null,null,null,null,null,null,null,null,null,null,null,null,null,null,null,{"$f":"+J92*K92","v":0}]
[null,null,"Pessoal","Pessoal","Custos com pessoal - motorista",null,null,null,null,{"$f":"+Esq_Atual!I147*Esq_Atual!L147+Esq_Atual!AW169*Esq_Atual!AZ169+Esq_Atual!CF191*Esq_Atual!CI191+Esq_Atual!CE204*Esq_Atual!CH204+Esq_Atual!BK222*Esq_Atual!BN222","v":0},{"$f":"'Modelação de custos atual'!D25","v":0},null,null,null,null,null,null,null,null,null,null,null,null,null,null,null,null,null,null,null,null,null,null,null,null,null,null,null,null,null,null,null,{"$f":"+J93*K93","v":0}]
[null,null,"Pessoal","Pessoal","Custos com pessoal - ajudantes",null,null,null,null,{"$f":"+Esq_Atual!I148*Esq_Atual!L148+Esq_Atual!AW170*Esq_Atual!AZ170+Esq_Atual!CF192*Esq_Atual!CI192+Esq_Atual!CE205*Esq_Atual!CH205+Esq_Atual!BK223*Esq_Atual!BN223","v":0},{"$f":"'Modelação de custos atual'!D26","v":0},null,null,null,null,null,null,null,null,null,null,null,null,null,null,null,null,null,null,null,null,null,null,null,null,null,null,null,null,null,null,null,{"$f":"+J94*K94","v":0}]
[null,null,"Pessoal","Pessoal","Custos com pessoal - técnico especializado",null,null,null,null,{"$f":"+Esq_Atual!S203*Esq_Atual!W203+Esq_Atual!S204*Esq_Atual!W204","v":0},{"$f":"'Modelação de custos atual'!D27","v":0},null,null,null,null,null,null,null,null,null,null,null,null,null,null,null,null,null,null,null,null,null,null,null,null,null,null,null,null,null,null,null,{"$f":"+J95*K95","v":0}]
[null,null,"Pessoal","Pessoal","Custos com pessoal - fiscal",null,null,null,null,{"$f":"+Esq_Atual!S208*Esq_Atual!W208","v":0},{"$f":"'Modelação de custos atual'!D28","v":0},null,null,null,null,null,null,null,null,null,null,null,null,null,null,null,null,null,null,null,null,null,null,null,null,null,null,null,null,null,null,null,{"$f":"+J96*K96","v":0}]
[null,null,"Pessoal","Pessoal","Custos com pessoal - enquadramento - 10% custos pessoal direto",null,null,null,null,null,null,null,null,null,null,null,null,null,null,null,null,null,null,null,null,null,null,null,null,null,null,null,null,null,null,null,null,null,null,null,null,{"$f":"+'Modelação de custos atual'!D29","v":0},{"$f":"+SUM(AQ92:AQ94)*AP97","v":0}]
[null,null,"Pessoal","Pessoal","Custos com serviços auxiliares (recolhas a pedido)",null,null,null,null,null,null,null,null,null,null,null,null,null,null,null,null,null,null,null,null,null,null,null,null,null,null,null,null,null,null,null,null,null,null,null,null,null,null,{"$f":"+'Modelação de custos atual'!D22","v":0}]
[null,null,"Diversos","Diversos","Custos com subcontratos",null,null,null,null,null,null,null,null,null,null,null,null,null,null,null,null,null,null,null,null,null,null,null,null,null,null,null,null,null,null,null,null,null,null,null,null,null,null,null,{"$f":"'Modelação de custos atual'!$D$30","v":0}]
[null,null,"Diversos","Diversos","Custos com trabalhos especializados",null,null,null,null,null,null,null,null,null,null,null,null,null,null,null,null,null,null,null,null,null,null,null,null,null,null,null,null,null,null,null,null,null,null,null,null,null,null,null,null,{"$f":"'Modelação de custos atual'!$D$31","v":0}]
[null,null,"Diversos","Diversos","Custos com publicidade e propaganda",null,null,null,null,null,null,null,null,null,null,null,null,null,null,null,null,null,null,null,null,null,null,null,null,null,null,null,null,null,null,null,null,null,null,null,{"$f":"+'Modelação de custos atual'!D32","v":0}]
[null,null,"Diversos","Diversos","Custos financeiros",null,null,null,null,null,null,null,null,null,null,null,null,null,null,null,null,null,null,null,null,null,null,null,null,null,null,null,null,null,null,null,null,null,null,null,null,null,null,null,null,null,{"$f":"'Modelação de custos atual'!$D$33","v":0}]
[]
[]
[null,null,null,null,"Total",null,null,null,null,null,null,null,null,{"$f":"SUM(N5:N104)","v":0},null,{"$f":"SUM(P5:P104)","v":0},{"$f":"SUM(Q5:Q104)","v":0},null,null,null,null,null,{"$f":"SUM(W5:W104)","v":0},null,{"$f":"SUM(Y5:Y104)","v":0},null,null,null,{"$f":"SUM(AC5:AC104)","v":0},null,{"$f":"SUM(AE5:AE104)","v":0},0,0,{"$f":"SUM(AH5:AH104)","v":0},0,0,0,0,0,null,{"$f":"SUM(AO5:AO104)","v":0},null,{"$f":"SUM(AQ5:AQ104)","v":0},{"$f":"SUM(AR5:AR104)","v":0},{"$f":"SUM(AS5:AS104)","v":0},0,0,{"$f":"+SUM(N105:AU105)","v":0}]
[]
[null,null,null,null,"Outros (eletricidade, água,limpeza, utilização de inst comuns, etc.)",null,null,null,null,null,null,null,null,null,null,null,null,null,null,null,null,null,null,null,null,null,null,null,null,null,null,null,null,null,null,null,null,null,null,null,null,null,null,null,null,null,null,null,{"$f":"+'Modelação de custos atual'!D34","v":0},{"$f":"+AV105*AW107","v":0}]
[null,null,null,null,"Custo anual com a entidade gestora em alta",null,null,null,null,null,null,null,null,null,null,null,null,null,null,null,null,null,null,null,null,null,null,null,null,null,null,null,null,null,null,null,null,null,null,null,null,null,null,null,null,null,null,null,null,null,{"$f":"+'Modelação de custos atual'!D35","v":0}]
[]
[null,null,null,null,null,null,null,null,null,null,null,null,null,null,null,null,null,null,null,null,null,null,null,null,null,null,null,null,null,null,null,null,null,null,null,null,null,null,null,null,null,null,null,null,null,null,null,null,null,null,null,{"$f":"+AV105+AX107+AY108","v":0}]

{"sheet":"Apoio_cálculo custos_PAYT","index":14,"n_rows":175,"n_cols":52,"rows_kept":175,"cut":false,"hidden":true,"merged":[]}
[]
[]
[null,null,null,null,null,null,null,null,null,"valor indexado a outro mód. do simulador","valor indexado a outro mód. do simulador",null,null,null,"valor indexado a outro mód. do simulador",null,null,"valor indexado a outro mód. do simulador","valor indexado a outro mód. do simulador","valor indexado a outro mód. do simulador","valor indexado a outro mód. do simulador","valor indexado a outro mód. do simulador",null,"valor indexado a outro mód. do simulador",null,null,null,"valor indexado a outro mód. do simulador",null,"valor indexado a outro mód. do simulador",null,"valor indexado a outro mód. do simulador","valor indexado a outro mód. do simulador","valor indexado a outro mód. do simulador","valor indexado a outro mód. do simulador","valor indexado a outro mód. do simulador","valor indexado a outro mód. do simulador","valor indexado a outro mód. do simulador",null,"valor indexado a outro mód. do simulador",null,"valor indexado a outro mód. do simulador",null,"valor indexado a outro mód. do simulador","valor indexado a outro mód. do simulador","valor indexado a outro mód. do simulador","valor indexado a outro mód. do simulador",null,"valor indexado a outro mód. do simulador",null,"valor indexado a outro mód. do simulador"]
[null,null,null,null,null,null,null,null,null,"Nº","Preço unit","Custo parcial","Vida útil","Amortização","contentores - Conservação/reparação - %","contentores - Conservação/reparação - €","Sacos","dist. percorrida - km","combustível - L/100 km","combustível - kW/100 km","combustível - €/L","combustível - €/kW","Combustível","viaturas - conservação /reparação - %","viaturas - conservação /reparação","viaturas - jogos pneus - \n1jogo/50000km","viaturas - nº jogos pneus","viaturas - €/jogo pneus","viaturas - pneus - €","cc - conservação / reparação - %","cc - conservação / reparação","Rendas de edifícios","Aluguer de edifícios","Comunicações","Comunicações associadas aos sistemas de instrumentação","Seguros gerais","Seguros de frota","Honorários","Software de gestão","Publicidade e propaganda - €/h","Publicidade e propaganda","Pessoal enquadramento - % dos custos com pessoal direto","Pessoal","Custos com serviços auxiliares (recolhas a pedido)","Custos com subcontratos","Custos com trabalhos especializados","Custos financeiros","Custos totais","Outros (água, limpeza, utilização de inst comuns, etc.) - % dos custos totais","Outros (água,limpeza, utilização de inst comuns, etc.)","Custo anual com a entidade gestora em alta"]
[null,null,"DEPOS","RI/RS","equip depo","contentores superfície","10 L","não instrumentado",null,{"$f":"+'Modelação do sist PAYT'!BY64","v":0},{"$f":"'Preços unitários'!F33","v":0},{"$f":"J5*K5","v":0},10,{"$f":"L5/M5","v":0},{"$f":"+'Modelação de custos PAYT'!$D$19","v":0},{"$f":"+O5*L5","v":0}]
[null,null,"DEPOS","RI/RS","equip depo","contentores superfície","40 L","não instrumentado",null,{"$f":"+'Modelação do sist PAYT'!AF88+'Modelação do sist PAYT'!AF136","v":0},{"$f":"'Preços unitários'!F34","v":0},{"$f":"J6*K6","v":0},10,{"$f":"L6/M6","v":0},{"$f":"+'Modelação de custos PAYT'!$D$19","v":0},{"$f":"+O6*L6","v":0}]
[null,null,"DEPOS","RI/RS","equip depo","contentores superfície","50 L","não instrumentado",null,{"$f":"+'Modelação do sist PAYT'!AF89+'Modelação do sist PAYT'!AF137","v":0},{"$f":"'Preços unitários'!F35","v":0},{"$f":"J7*K7","v":0},10,{"$f":"L7/M7","v":0},{"$f":"+'Modelação de custos PAYT'!$D$19","v":0},{"$f":"+O7*L7","v":0}]
[null,null,"DEPOS","RI/RS","equip depo","contentores superfície","60 L","não instrumentado",null,{"$f":"+'Modelação do sist PAYT'!AF90+'Modelação do sist PAYT'!AF138","v":0},{"$f":"'Preços unitários'!F36","v":0},0,10,0,{"$f":"+'Modelação de custos PAYT'!$D$19","v":0},0]
[null,null,"DEPOS","RI/RS","equip depo","contentores superfície","80 L","não instrumentado",null,{"$f":"+'Modelação do sist PAYT'!AF91+'Modelação do sist PAYT'!AF139","v":0},{"$f":"'Preços unitários'!F37","v":0},0,10,0,{"$f":"+'Modelação de custos PAYT'!$D$19","v":0},0]
[null,null,"DEPOS","RI/RS","equip depo","contentores superfície","90 L","não instrumentado",null,{"$f":"+'Modelação do sist PAYT'!AF92+'Modelação do sist PAYT'!AF140","v":0},{"$f":"'Preços unitários'!F38","v":0},0,10,0,{"$f":"+'Modelação de custos PAYT'!$D$19","v":0},0]
[null,null,"DEPOS","RI/RS","equip depo","contentores superfície","110 L","não instrumentado",null,{"$f":"+'Modelação do sist PAYT'!AF93+'Modelação do sist PAYT'!AF141","v":0},{"$f":"'Preços unitários'!F39","v":0},0,10,0,{"$f":"+'Modelação de custos PAYT'!$D$19","v":0},0]
[null,null,"DEPOS","RI/RS","equip depo","contentores superfície","120 L","não instrumentado",null,{"$f":"+'Modelação do sist PAYT'!AF94+'Modelação do sist PAYT'!AF142","v":0},{"$f":"'Preços unitários'!F40","v":0},0,10,0,{"$f":"+'Modelação de custos PAYT'!$D$19","v":0},0]
[null,null,"DEPOS","RI/RS","equip depo","contentores superfície","140 L","não instrumentado",null,{"$f":"+'Modelação do sist PAYT'!AF95+'Modelação do sist PAYT'!AF143","v":0},{"$f":"'Preços unitários'!F41","v":0},0,10,0,{"$f":"+'Modelação de custos PAYT'!$D$19","v":0},0]
[null,null,"DEPOS","RI/RS","equip depo","contentores superfície","240 L","não instrumentado",null,{"$f":"+'Modelação do sist PAYT'!AF96+'Modelação do sist PAYT'!AF144","v":0},{"$f":"'Preços unitários'!F42","v":0},0,10,0,{"$f":"+'Modelação de custos PAYT'!$D$19","v":0},0]
[null,null,"DEPOS","RI/RS","equip depo","contentores superfície","360 L","não instrumentado",null,{"$f":"+'Modelação do sist PAYT'!AF97+'Modelação do sist PAYT'!AF145","v":0},{"$f":"'Preços unitários'!F43","v":0},0,10,0,{"$f":"+'Modelação de custos PAYT'!$D$19","v":0},0]
[null,null,"DEPOS","RI/RS","equip depo","contentores superfície","800 L","não instrumentado",null,{"$f":"+'Modelação do sist PAYT'!AF98+'Modelação do sist PAYT'!AF146","v":0},{"$f":"'Preços unitários'!F45","v":0},0,10,0,{"$f":"+'Modelação de custos PAYT'!$D$19","v":0},0]
[null,null,"DEPOS","RI/RS","equip depo","contentores superfície","1 000 L","não instrumentado",null,{"$f":"+'Modelação do sist PAYT'!AF99+'Modelação do sist PAYT'!AF147","v":0},{"$f":"'Preços unitários'!F46","v":0},0,10,0,{"$f":"+'Modelação de custos PAYT'!$D$19","v":0},0]
[null,null,"DEPOS","RI/RS","equip depo","contentores superfície","1 100 L","não instrumentado",null,{"$f":"+'Modelação do sist PAYT'!AF100+'Modelação do sist PAYT'!AF148","v":0},{"$f":"'Preços unitários'!F47","v":0},0,10,0,{"$f":"+'Modelação de custos PAYT'!$D$19","v":0},0]
[null,null,"DEPOS","RI/RS","equip depo","contentores superfície","40 L","instrumentado - chip",null,{"$f":"'Modelação do sist PAYT'!$I$110+'Modelação do sist PAYT'!I158+'Modelação do sist PAYT'!BY65","v":0},{"$f":"'Preços unitários'!F34+'Preços unitários'!F65","v":0},0,10,{"$f":"L19/M19","v":0},{"$f":"+'Modelação de custos PAYT'!$D$19","v":0},{"$f":"+O19*L19","v":0}]
[null,null,"DEPOS","RI/RS","equip depo","contentores superfície","50 L","instrumentado - chip",null,{"$f":"'Modelação do sist PAYT'!$I$111+'Modelação do sist PAYT'!I159+'Modelação do sist PAYT'!BY66","v":0},{"$f":"'Preços unitários'!F35+'Preços unitários'!F65","v":0},0,10,0,{"$f":"+'Modelação de custos PAYT'!$D$19","v":0},0]
[null,null,"DEPOS","RI/RS","equip depo","contentores superfície","60 L","instrumentado - chip",null,{"$f":"'Modelação do sist PAYT'!$I$112+'Modelação do sist PAYT'!I160+'Modelação do sist PAYT'!BY67","v":0},{"$f":"'Preços unitários'!F36+'Preços unitários'!F65","v":0},0,10,0,{"$f":"+'Modelação de custos PAYT'!$D$19","v":0},0]
[null,null,"DEPOS","RI/RS","equip depo","contentores superfície","80 L","instrumentado - chip",null,{"$f":"'Modelação do sist PAYT'!$I$113+'Modelação do sist PAYT'!I161+'Modelação do sist PAYT'!BY68","v":0},{"$f":"'Preços unitários'!F37+'Preços unitários'!F65","v":0},0,10,0,{"$f":"+'Modelação de custos PAYT'!$D$19","v":0},0]
[null,null,"DEPOS","RI/RS","equip depo","contentores superfície","90 L","instrumentado - chip",null,{"$f":"'Modelação do sist PAYT'!$I$114+'Modelação do sist PAYT'!I162+'Modelação do sist PAYT'!BY69","v":0},{"$f":"'Preços unitários'!F38+'Preços unitários'!F65","v":0},0,10,0,{"$f":"+'Modelação de custos PAYT'!$D$19","v":0},0]
[null,null,"DEPOS","RI/RS","equip depo","contentores superfície","120 L","instrumentado - chip",null,{"$f":"'Modelação do sist PAYT'!$I$115+'Modelação do sist PAYT'!I163+'Modelação do sist PAYT'!BY70","v":0},{"$f":"'Preços unitários'!F40+'Preços unitários'!F65","v":0},0,10,0,{"$f":"+'Modelação de custos PAYT'!$D$19","v":0},0]
[null,null,"DEPOS","RI/RS","equip depo","contentores superfície","140 L","instrumentado - chip",null,{"$f":"'Modelação do sist PAYT'!$I$116+'Modelação do sist PAYT'!I164+'Modelação do sist PAYT'!BY71","v":0},{"$f":"'Preços unitários'!F41+'Preços unitários'!F65","v":0},0,10,0,{"$f":"+'Modelação de custos PAYT'!$D$19","v":0},0]
[null,null,"DEPOS","RI/RS","equip depo","contentores superfície","240 L","instrumentado - chip",null,{"$f":"'Modelação do sist PAYT'!$I$117+'Modelação do sist PAYT'!I165+'Modelação do sist PAYT'!BY72+'Modelação do sist PAYT'!I124","v":0},{"$f":"'Preços unitários'!F42+'Preços unitários'!F65","v":0},0,10,0,{"$f":"+'Modelação de custos PAYT'!$D$19","v":0},0]
[null,null,"DEPOS","RI/RS","equip depo","contentores superfície","360 L","instrumentado - chip",null,{"$f":"'Modelação do sist PAYT'!$I$118+'Modelação do sist PAYT'!I166+'Modelação do sist PAYT'!BY73+'Modelação do sist PAYT'!I125","v":0},{"$f":"'Preços unitários'!F43+'Preços unitários'!F65","v":0},0,10,0,{"$f":"+'Modelação de custos PAYT'!$D$19","v":0},0]
[null,null,"DEPOS","RS","equip depo","contentores superfície","750 L","não instrumentado",null,{"$f":"'Modelação do sist PAYT'!$CR$41","v":0},{"$f":"'Preços unitários'!$F$44","v":0},0,10,0,{"$f":"+'Modelação de custos PAYT'!$D$19","v":0},0]
[null,null,"DEPOS","RI/RS","equip depo","contentores superfície","800 L","instrumentado - chip",null,{"$f":"+'Modelação do sist PAYT'!BY74+'Modelação do sist PAYT'!I126+'Modelação do sist PAYT'!I172+'Modelação do sist PAYT'!I172","v":0},{"$f":"'Preços unitários'!F45+'Preços unitários'!F65","v":0},0,10,0,{"$f":"+'Modelação de custos PAYT'!$D$19","v":0},0]
[null,null,"DEPOS","RI/RS","equip depo","contentores superfície","800 L","com controlo acesso_peso",null,{"$f":"'Modelação do sist PAYT'!$I$61+'Modelação do sist PAYT'!I75","v":0},{"$f":"+'Preços unitários'!F45+'Preços unitários'!F68","v":0},0,10,0,{"$f":"+'Modelação de custos PAYT'!$D$19","v":0},0]
[null,null,"DEPOS","RI/RS","equip depo","contentores superfície","800 L","com controlo acesso_volume",null,{"$f":"'Modelação do sist PAYT'!$I$37+'Modelação do sist PAYT'!I50","v":0},{"$f":"+'Preços unitários'!F45+'Preços unitários'!F66","v":0},0,10,0,{"$f":"+'Modelação de custos PAYT'!$D$19","v":0},0]
[null,null,"DEPOS","RI/RS","equip depo","contentores superfície","1 000 L","instrumentado - chip",null,{"$f":"'Modelação do sist PAYT'!$I$127+'Modelação do sist PAYT'!I173+'Modelação do sist PAYT'!I173","v":0},{"$f":"'Preços unitários'!F46+'Preços unitários'!F65","v":0},0,10,0,{"$f":"+'Modelação de custos PAYT'!$D$19","v":0},0]
[null,null,"DEPOS","RI/RS","equip depo","contentores superfície","1 000 L","com controlo acesso_peso",null,{"$f":"'Modelação do sist PAYT'!$I$62+'Modelação do sist PAYT'!I76","v":0},{"$f":"+'Preços unitários'!F46+'Preços unitários'!F68","v":0},0,10,0,{"$f":"+'Modelação de custos PAYT'!$D$19","v":0},0]
[null,null,"DEPOS","RI/RS","equip depo","contentores superfície","1 000 L","com controlo acesso_volume",null,{"$f":"'Modelação do sist PAYT'!$I$38+'Modelação do sist PAYT'!I51","v":0},{"$f":"+'Preços unitários'!F46+'Preços unitários'!F66","v":0},0,10,0,{"$f":"+'Modelação de custos PAYT'!$D$19","v":0},0]
[null,null,"DEPOS","RI/RS","equip depo","contentores superfície","1 100 L","instrumentado - chip",null,{"$f":"'Modelação do sist PAYT'!$I$128+'Modelação do sist PAYT'!I174+'Modelação do sist PAYT'!I174","v":0},{"$f":"'Preços unitários'!$F$47+'Preços unitários'!F65","v":0},0,10,0,{"$f":"+'Modelação de custos PAYT'!$D$19","v":0},0]
[null,null,"DEPOS","RI/RS","equip depo","contentores superfície","1 100 L","com controlo acesso_peso",null,{"$f":"'Modelação do sist PAYT'!$I$63+'Modelação do sist PAYT'!I77","v":0},{"$f":"+'Preços unitários'!F47+'Preços unitários'!F68","v":0},0,10,0,{"$f":"+'Modelação de custos PAYT'!$D$19","v":0},0]
[null,null,"DEPOS","RI/RS","equip depo","contentores superfície","1 100 L","com controlo acesso_volume",null,{"$f":"'Modelação do sist PAYT'!$I$39+'Modelação do sist PAYT'!I52","v":0},{"$f":"+'Preços unitários'!F47+'Preços unitários'!F66","v":0},0,10,0,{"$f":"+'Modelação de custos PAYT'!$D$19","v":0},0]
[null,null,"DEPOS","RS","equip depo","contentores superfície","1 500 L","não instrumentado",null,{"$f":"'Modelação do sist PAYT'!$CR$45","v":0},{"$f":"'Preços unitários'!$F$48","v":0},0,10,0,{"$f":"+'Modelação de custos PAYT'!$D$19","v":0},0]
[null,null,"DEPOS","RS","equip depo","contentores superfície","2 350 L","não instrumentado",null,{"$f":"'Modelação do sist PAYT'!$CR$46","v":0},{"$f":"'Preços unitários'!$F$49","v":0},0,10,0,{"$f":"+'Modelação de custos PAYT'!$D$19","v":0},0]
[null,null,"DEPOS","RS","equip depo","contentores superfície","2 500 L","não instrumentado",null,{"$f":"'Modelação do sist PAYT'!$CR$47","v":0},{"$f":"'Preços unitários'!$F$50","v":0},0,10,0,{"$f":"+'Modelação de custos PAYT'!$D$19","v":0},{"$f":"+O40*L40","v":0}]
[null,null,"DEPOS","RS","equip depo","contentores superfície","2 700 L","não instrumentado",null,{"$f":"'Modelação do sist PAYT'!$CR$48","v":0},{"$f":"'Preços unitários'!$F$51","v":0},0,10,0,{"$f":"+'Modelação de custos PAYT'!$D$19","v":0},{"$f":"+O41*L41","v":0}]
[null,null,"DEPOS","RI/RS","equip depo","contentores enterrados","800 L","não instrumentado",null,{"$f":"'Modelação do sist PAYT'!$CX$42+'Modelação do sist PAYT'!AR146+'Modelação do sist PAYT'!AR98","v":0},{"$f":"'Preços unitários'!$F$56","v":0},0,20,0,{"$f":"+'Modelação de custos PAYT'!$D$19","v":0},0]
[null,null,"DEPOS","RI/RS","equip depo","contentores enterrados","800 L","com controlo acesso_peso",null,{"$f":"'Modelação do sist PAYT'!$AA$61","v":0},{"$f":"+'Preços unitários'!F56+'Preços unitários'!F69","v":0},0,20,0,{"$f":"+'Modelação de custos PAYT'!$D$19","v":0},0]
[null,null,"DEPOS","RI/RS","equip depo","contentores enterrados","800 L","com controlo acesso_volume",null,{"$f":"'Modelação do sist PAYT'!$AA$37","v":0},{"$f":"+'Preços unitários'!F56+'Preços unitários'!F67","v":0},0,20,0,{"$f":"+'Modelação de custos PAYT'!$D$19","v":0},0]
[null,null,"DEPOS","RI/RS","equip depo","contentores enterrados","1 000 L","não instrumentado",null,{"$f":"'Modelação do sist PAYT'!$CX$43+'Modelação do sist PAYT'!AR99+'Modelação do sist PAYT'!AR147","v":0},{"$f":"'Preços unitários'!$F$57","v":0},0,20,0,{"$f":"+'Modelação de custos PAYT'!$D$19","v":0},0]
[null,null,"DEPOS","RI/RS","equip depo","contentores enterrados","1 000 L","com controlo acesso_peso",null,{"$f":"'Modelação do sist PAYT'!$AA$62","v":0},{"$f":"+'Preços unitários'!F57+'Preços unitários'!F69","v":0},0,20,0,{"$f":"+'Modelação de custos PAYT'!$D$19","v":0},0]
[null,null,"DEPOS","RI/RS","equip depo","contentores enterrados","1 000 L","com controlo acesso_volume",null,{"$f":"'Modelação do sist PAYT'!$AA$38","v":0},{"$f":"+'Preços unitários'!F57+'Preços unitários'!F67","v":0},0,20,0,{"$f":"+'Modelação de custos PAYT'!$D$19","v":0},0]
[null,null,"DEPOS","RI/RS","equip depo","contentores enterrados","1 100 L","não instrumentado",null,{"$f":"'Modelação do sist PAYT'!$CX$44+'Modelação do sist PAYT'!AR148+'Modelação do sist PAYT'!AR100","v":0},{"$f":"'Preços unitários'!$F$58","v":0},0,20,0,{"$f":"+'Modelação de custos PAYT'!$D$19","v":0},0]
[null,null,"DEPOS","RI/RS","equip depo","contentores enterrados","1 100 L","com controlo acesso_peso",null,{"$f":"'Modelação do sist PAYT'!$AA$63","v":0},{"$f":"+'Preços unitários'!F58+'Preços unitários'!F69","v":0},0,20,0,{"$f":"+'Modelação de custos PAYT'!$D$19","v":0},0]
[null,null,"DEPOS","RI/RS","equip depo","contentores enterrados","1 100 L","com controlo acesso_volume",null,{"$f":"'Modelação do sist PAYT'!$AA$39","v":0},{"$f":"+'Preços unitários'!F58+'Preços unitários'!F67","v":0},0,20,0,{"$f":"+'Modelação de custos PAYT'!$D$19","v":0},0]
[null,null,"DEPOS","RI/RS","equip depo","contentores enterrados","3 000 L","não instrumentado",null,{"$f":"'Modelação do sist PAYT'!$CX$49+'Modelação do sist PAYT'!AR101+'Modelação do sist PAYT'!AR149","v":0},{"$f":"'Preços unitários'!$F$59","v":0},0,20,0,{"$f":"+'Modelação de custos PAYT'!$D$19","v":0},0]
[null,null,"DEPOS","RI/RS","equip depo","contentores enterrados","3 000 L","com controlo acesso_peso",null,{"$f":"'Modelação do sist PAYT'!$AA$64","v":0},{"$f":"+'Preços unitários'!F59+'Preços unitários'!F69","v":0},0,20,0,{"$f":"+'Modelação de custos PAYT'!$D$19","v":0},0]
[null,null,"DEPOS","RI/RS","equip depo","contentores enterrados","3 000 L","com controlo acesso_volume",null,{"$f":"'Modelação do sist PAYT'!$AA$40","v":0},{"$f":"+'Preços unitários'!F59+'Preços unitários'!F67","v":0},0,20,0,{"$f":"+'Modelação de custos PAYT'!$D$19","v":0},0]
[null,null,"DEPOS","RI/RS","equip depo","contentores semi-enterrados","3 000 L","não instrumentado",null,{"$f":"+'Modelação do sist PAYT'!CU49+'Modelação do sist PAYT'!AL149+'Modelação do sist PAYT'!AL101","v":0},{"$f":"'Preços unitários'!$F$53","v":0},0,20,0,{"$f":"+'Modelação de custos PAYT'!$D$19","v":0},{"$f":"+O54*L54","v":0}]
[null,null,"DEPOS","RI/RS","equip depo","contentores semi-enterrados","3 000 L","com controlo acesso_peso",null,{"$f":"+'Modelação do sist PAYT'!R64","v":0},{"$f":"+'Preços unitários'!F53+'Preços unitários'!F69","v":0},0,20,0,{"$f":"+'Modelação de custos PAYT'!$D$19","v":0},{"$f":"+O55*L55","v":0}]
[null,null,"DEPOS","RI/RS","equip depo","contentores semi-enterrados","3 000 L","com controlo acesso_volume",null,{"$f":"+'Modelação do sist PAYT'!R40","v":0},{"$f":"+'Preços unitários'!F53+'Preços unitários'!F67","v":0},0,20,0,{"$f":"+'Modelação de custos PAYT'!$D$19","v":0},0]
[null,null,"DEPOS","RI/RS","equip depo","contentores enterrados","3 200 L","não instrumentado",null,{"$f":"'Modelação do sist PAYT'!$CX$50+'Modelação do sist PAYT'!AR150+'Modelação do sist PAYT'!AR102","v":0},{"$f":"'Preços unitários'!$F$60","v":0},0,20,0,{"$f":"+'Modelação de custos PAYT'!$D$19","v":0},0]
[null,null,"DEPOS","RI/RS","equip depo","contentores enterrados","3 200 L","com controlo acesso_peso",null,{"$f":"'Modelação do sist PAYT'!$AA$65","v":0},{"$f":"+'Preços unitários'!F60+'Preços unitários'!F69","v":0},0,20,0,{"$f":"+'Modelação de custos PAYT'!$D$19","v":0},0]
[null,null,"DEPOS","RI/RS","equip depo","contentores enterrados","3 200 L","com controlo acesso_volume",null,{"$f":"'Modelação do sist PAYT'!$AA$41","v":0},{"$f":"+'Preços unitários'!F60+'Preços unitários'!F67","v":0},0,20,0,{"$f":"+'Modelação de custos PAYT'!$D$19","v":0},0]
[null,null,"DEPOS","RI/RS","equip depo","contentores enterrados","4 000 L","não instrumentado",null,{"$f":"'Modelação do sist PAYT'!$CX$51+'Modelação do sist PAYT'!AR103+'Modelação do sist PAYT'!AR151","v":0},{"$f":"'Preços unitários'!$F$61","v":0},0,20,0,{"$f":"+'Modelação de custos PAYT'!$D$19","v":0},0]
[null,null,"DEPOS","RI/RS","equip depo","contentores enterrados","4 000 L","com controlo acesso_peso",null,{"$f":"'Modelação do sist PAYT'!$AA$66","v":0},{"$f":"+'Preços unitários'!F61+'Preços unitários'!F69","v":0},0,20,0,{"$f":"+'Modelação de custos PAYT'!$D$19","v":0},0]
[null,null,"DEPOS","RI/RS","equip depo","contentores enterrados","4 000 L","com controlo acesso_volume",null,{"$f":"'Modelação do sist PAYT'!$AA$42","v":0},{"$f":"+'Preços unitários'!F61+'Preços unitários'!F67","v":0},0,20,0,{"$f":"+'Modelação de custos PAYT'!$D$19","v":0},0]
[null,null,"DEPOS","RI/RS","equip depo","contentores enterrados","5 000 L","não instrumentado",null,{"$f":"'Modelação do sist PAYT'!$CX$52+'Modelação do sist PAYT'!AR152+'Modelação do sist PAYT'!AR104","v":0},{"$f":"'Preços unitários'!$F$62","v":0},0,20,0,{"$f":"+'Modelação de custos PAYT'!$D$19","v":0},0]
[null,null,"DEPOS","RI/RS","equip depo","contentores enterrados","5 000 L","com controlo acesso_peso",null,{"$f":"'Modelação do sist PAYT'!$AA$67","v":0},{"$f":"+'Preços unitários'!F62+'Preços unitários'!F69","v":0},0,20,0,{"$f":"+'Modelação de custos PAYT'!$D$19","v":0},0]
[null,null,"DEPOS","RI/RS","equip depo","contentores enterrados","5 000 L","com controlo acesso_volume",null,{"$f":"'Modelação do sist PAYT'!$AA$43","v":0},{"$f":"+'Preços unitários'!F62+'Preços unitários'!F67","v":0},0,20,0,{"$f":"+'Modelação de custos PAYT'!$D$19","v":0},0]
[null,null,"DEPOS","RI/RS","equip depo","contentores semi-enterrados","5 000 L","não instrumentado",null,{"$f":"+'Modelação do sist PAYT'!CU52+'Modelação do sist PAYT'!AL152+'Modelação do sist PAYT'!AL104","v":0},{"$f":"'Preços unitários'!$F$54","v":0},0,20,0,{"$f":"+'Modelação de custos PAYT'!$D$19","v":0},0]
[null,null,"DEPOS","RI/RS","equip depo","contentores semi-enterrados","5 000 L","com controlo acesso_peso",null,{"$f":"+'Modelação do sist PAYT'!R67","v":0},{"$f":"+'Preços unitários'!F54+'Preços unitários'!F69","v":0},0,20,0,{"$f":"+'Modelação de custos PAYT'!$D$19","v":0},0]
[null,null,"DEPOS","RI/RS","equip depo","contentores semi-enterrados","5 000 L","com controlo acesso_volume",null,{"$f":"+'Modelação do sist PAYT'!R43","v":0},{"$f":"+'Preços unitários'!F54+'Preços unitários'!F67","v":0},0,20,0,{"$f":"+'Modelação de custos PAYT'!$D$19","v":0},0]
[null,null,"DEPOS","RI/RS","equip depo","cartões / chave de acesso",null,"cartões / chave de acesso",null,{"$f":"+'Modelação do sist PAYT'!V33+'Modelação do sist PAYT'!X47+'Modelação do sist PAYT'!AC57+'Modelação do sist PAYT'!AD71","v":0},{"$f":"+'Preços unitários'!F70","v":0},null,null,null,null,{"$f":"+J69*K69","v":0}]
[null,null,"RECOLHA","RI/RS","Viaturas","5-9m3 compactação placa",null,"não instrumentadas gasóleo","gasóleo",{"$f":"'Modelação do sist PAYT'!EI24","v":0},{"$f":"'Preços unitários'!$M$21","v":0},0,8,0,null,null,null,{"$f":"'Modelação do sist PAYT'!$EL$24","v":0},{"$f":"'Modelação do sist PAYT'!$ER$24","v":0},null,{"$f":"'Preços unitários'!$T$34","v":0},null,{"$f":"+S70*R70/100*U70","v":0},{"$f":"+'Modelação de custos PAYT'!$D$20","v":0},{"$f":"L70*X70","v":0},50000,{"$f":"_xlfn.FLOOR.MATH(IF(OR(R70>Z70,R70=Z70),R70/Z70,0),1)","v":0},{"$f":"'Preços unitários'!$T$40","v":0},{"$f":"+AA70*AB70","v":0}]
[null,null,"RECOLHA","RI/RS","Viaturas","5-9m3 compactação placa",null,"não instrumentadas elétrica","elétrica",{"$f":"'Modelação do sist PAYT'!EI25","v":0},{"$f":"'Preços unitários'!$M$22","v":0},0,8,0,null,null,null,{"$f":"'Modelação do sist PAYT'!$EL$25","v":0},null,{"$f":"'Modelação do sist PAYT'!$ER$25","v":0},null,{"$f":"'Preços unitários'!$T$35","v":0},{"$f":"+T71*R71/100*V71","v":0},{"$f":"+'Modelação de custos PAYT'!$D$20","v":0},{"$f":"L71*X71","v":0},50000,{"$f":"_xlfn.FLOOR.MATH(IF(OR(R71>Z71,R71=Z71),R71/Z71,0),1)","v":0},{"$f":"'Preços unitários'!$T$40","v":0},{"$f":"+AA71*AB71","v":0}]
[null,null,"RECOLHA","RI/RS","Viaturas","5-9m3 compactação placa",null,"não instrumentadas gás","gás",{"$f":"+'Modelação do sist PAYT'!EI26","v":0},{"$f":"+'Preços unitários'!M23","v":0},{"$f":"J72*K72","v":0},8,{"$f":"L72/M72","v":0},null,null,null,{"$f":"+'Modelação do sist PAYT'!EL26","v":0},{"$f":"+'Modelação do sist PAYT'!ER26","v":0},null,{"$f":"'Preços unitários'!$T$34","v":0},null,{"$f":"+S72*R72/100*U72","v":0},{"$f":"+'Modelação de custos PAYT'!$D$20","v":0},{"$f":"L72*X72","v":0},50000,{"$f":"_xlfn.FLOOR.MATH(IF(OR(R72>Z72,R72=Z72),R72/Z72,0),1)","v":0},{"$f":"'Preços unitários'!$T$40","v":0},{"$f":"+AA72*AB72","v":0}]
[null,null,"RECOLHA","RI/RS","Viaturas","5-9m3 compactação placa",null,"instrumentadas com leitor chips gasóleo","gasóleo",{"$f":"'Modelação do sist PAYT'!EI27","v":0},{"$f":"+'Preços unitários'!M21+'Preços unitários'!M38","v":0},0,8,0,null,null,null,{"$f":"'Modelação do sist PAYT'!$EL$27","v":0},{"$f":"'Modelação do sist PAYT'!$ER$27","v":0},null,{"$f":"'Preços unitários'!$T$34","v":0},null,{"$f":"+S73*R73/100*U73","v":0},{"$f":"+'Modelação de custos PAYT'!$D$20","v":0},{"$f":"L73*X73","v":0},50000,0,{"$f":"'Preços unitários'!$T$40","v":0},0]
[null,null,"RECOLHA","RI/RS","Viaturas","5-9m3 compactação placa",null,"instrumentadas com leitor chips elétrica","elétrica",{"$f":"'Modelação do sist PAYT'!EI28","v":0},{"$f":"+'Preços unitários'!M22+'Preços unitários'!M38","v":0},0,8,0,null,null,null,{"$f":"'Modelação do sist PAYT'!$EL$28","v":0},null,{"$f":"'Modelação do sist PAYT'!$ER$28","v":0},null,{"$f":"'Preços unitários'!$T$35","v":0},{"$f":"+T74*R74/100*V74","v":0},{"$f":"+'Modelação de custos PAYT'!$D$20","v":0},0,50000,0,{"$f":"'Preços unitários'!$T$40","v":0},0]
[null,null,"RECOLHA","RI/RS","Viaturas","5-9m3 compactação placa",null,"instrumentadas com leitor chips gás","gás",{"$f":"+'Modelação do sist PAYT'!EI29","v":0},{"$f":"+'Preços unitários'!M23+'Preços unitários'!M38","v":0},{"$f":"J75*K75","v":0},8,{"$f":"L75/M75","v":0},null,null,null,{"$f":"+'Modelação do sist PAYT'!EL29","v":0},{"$f":"+'Modelação do sist PAYT'!ER29","v":0},null,{"$f":"'Preços unitários'!$T$34","v":0},null,{"$f":"+S75*R75/100*U75","v":0},{"$f":"+'Modelação de custos PAYT'!$D$20","v":0},{"$f":"L75*X75","v":0},50000,{"$f":"_xlfn.FLOOR.MATH(IF(OR(R75>Z75,R75=Z75),R75/Z75,0),1)","v":0},{"$f":"'Preços unitários'!$T$40","v":0},{"$f":"+AA75*AB75","v":0}]
[null,null,"RECOLHA","RI/RS","Viaturas","5-9m3 compactação placa",null,"instrumentadas com leitor de chips+pesagem elevador gasóleo","gasóleo",{"$f":"'Modelação do sist PAYT'!EI30","v":0},{"$f":"+'Preços unitários'!M21+'Preços unitários'!M38+'Preços unitários'!M39","v":0},0,8,0,null,null,null,{"$f":"'Modelação do sist PAYT'!$EL$30","v":0},{"$f":"'Modelação do sist PAYT'!$ER$30","v":0},null,{"$f":"'Preços unitários'!$T$34","v":0},null,{"$f":"+S76*R76/100*U76","v":0},{"$f":"+'Modelação de custos PAYT'!$D$20","v":0},0,50000,0,{"$f":"'Preços unitários'!$T$40","v":0},0]
[null,null,"RECOLHA","RI/RS","Viaturas","5-9m3 compactação placa",null,"instrumentadas com leitor de chips+pesagem elevador elétrica","elétrica",{"$f":"'Modelação do sist PAYT'!EI31","v":0},{"$f":"+'Preços unitários'!M22+'Preços unitários'!M38+'Preços unitários'!M39","v":0},0,8,0,null,null,null,{"$f":"'Modelação do sist PAYT'!$EL$31","v":0},null,{"$f":"'Modelação do sist PAYT'!$ER$31","v":0},null,{"$f":"'Preços unitários'!$T$35","v":0},{"$f":"+T77*R77/100*V77","v":0},{"$f":"+'Modelação de custos PAYT'!$D$20","v":0},0,50000,0,{"$f":"'Preços unitários'!$T$40","v":0},0]
[null,null,"RECOLHA","RI/RS","Viaturas","5-9m3 compactação placa",null,"instrumentadas com leitor de chips+pesagem elevador gás","gás",{"$f":"+'Modelação do sist PAYT'!EI32","v":0},{"$f":"+'Preços unitários'!M23+'Preços unitários'!M38+'Preços unitários'!M39","v":0},{"$f":"J78*K78","v":0},8,{"$f":"L78/M78","v":0},null,null,null,{"$f":"+'Modelação do sist PAYT'!EL32","v":0},{"$f":"+'Modelação do sist PAYT'!ER32","v":0},null,{"$f":"'Preços unitários'!$T$34","v":0},null,{"$f":"+S78*R78/100*U78","v":0},{"$f":"+'Modelação de custos PAYT'!$D$20","v":0},{"$f":"L78*X78","v":0},50000,{"$f":"_xlfn.FLOOR.MATH(IF(OR(R78>Z78,R78=Z78),R78/Z78,0),1)","v":0},{"$f":"'Preços unitários'!$T$40","v":0},{"$f":"+AA78*AB78","v":0}]
[null,null,"RECOLHA","RI/RS","Viaturas","5-9m3 compactação placa",null,"instrumentadas com leitor de chips+pesagem chassi gasóleo","gasóleo",{"$f":"'Modelação do sist PAYT'!EI33","v":0},{"$f":"+'Preços unitários'!M21+'Preços unitários'!M38+'Preços unitários'!M41","v":0},0,8,0,null,null,null,{"$f":"'Modelação do sist PAYT'!$EL$33","v":0},{"$f":"'Modelação do sist PAYT'!$ER$33","v":0},null,{"$f":"'Preços unitários'!$T$34","v":0},null,{"$f":"+S79*R79/100*U79","v":0},{"$f":"+'Modelação de custos PAYT'!$D$20","v":0},0,50000,0,{"$f":"'Preços unitários'!$T$40","v":0},0]
[null,null,"RECOLHA","RI/RS","Viaturas","5-9m3 compactação placa",null,"instrumentadas com leitor de chips+pesagem chassi elétrica","elétrica",{"$f":"'Modelação do sist PAYT'!EI34","v":0},{"$f":"+'Preços unitários'!M22+'Preços unitários'!M38+'Preços unitários'!M41","v":0},0,8,0,null,null,null,{"$f":"'Modelação do sist PAYT'!$EL$34","v":0},null,{"$f":"'Modelação do sist PAYT'!$ER$34","v":0},null,{"$f":"'Preços unitários'!$T$35","v":0},{"$f":"+T80*R80/100*V80","v":0},{"$f":"+'Modelação de custos PAYT'!$D$20","v":0},0,50000,0,{"$f":"'Preços unitários'!$T$40","v":0},0]
[null,null,"RECOLHA","RI/RS","Viaturas","5-9m3 compactação placa",null,"instrumentadas com leitor de chips+pesagem chassi gás","gás",{"$f":"+'Modelação do sist PAYT'!EI35","v":0},{"$f":"+'Preços unitários'!M23+'Preços unitários'!M38+'Preços unitários'!M41","v":0},{"$f":"J81*K81","v":0},8,{"$f":"L81/M81","v":0},null,null,null,{"$f":"+'Modelação do sist PAYT'!EL35","v":0},{"$f":"+'Modelação do sist PAYT'!ER35","v":0},null,{"$f":"'Preços unitários'!$T$34","v":0},null,{"$f":"+S81*R81/100*U81","v":0},{"$f":"+'Modelação de custos PAYT'!$D$20","v":0},{"$f":"L81*X81","v":0},50000,{"$f":"_xlfn.FLOOR.MATH(IF(OR(R81>Z81,R81=Z81),R81/Z81,0),1)","v":0},{"$f":"'Preços unitários'!$T$40","v":0},{"$f":"+AA81*AB81","v":0}]
[null,null,"RECOLHA","RI/RS","Viaturas","15-20 m3 compactação placa",null,"não instrumentadas gasóleo","gasóleo",{"$f":"'Modelação do sist PAYT'!EI36","v":0},{"$f":"'Preços unitários'!$M$24","v":0},0,8,0,null,null,null,{"$f":"'Modelação do sist PAYT'!$EL$36","v":0},{"$f":"'Modelação do sist PAYT'!$ER$36","v":0},null,{"$f":"'Preços unitários'!$T$34","v":0},null,{"$f":"+S82*R82/100*U82","v":0},{"$f":"+'Modelação de custos PAYT'!$D$20","v":0},0,50000,0,{"$f":"'Preços unitários'!$T$40","v":0},{"$f":"+AA82*AB82","v":0}]
[null,null,"RECOLHA","RI/RS","Viaturas","15-20 m3 compactação placa",null,"não instrumentadas elétrica","elétrica",{"$f":"'Modelação do sist PAYT'!EI37","v":0},{"$f":"'Preços unitários'!$M$25","v":0},0,8,0,null,null,null,{"$f":"'Modelação do sist PAYT'!$EL$37","v":0},null,{"$f":"'Modelação do sist PAYT'!$ER$37","v":0},null,{"$f":"'Preços unitários'!$T$35","v":0},{"$f":"+T83*R83/100*V83","v":0},{"$f":"+'Modelação de custos PAYT'!$D$20","v":0},0,50000,0,{"$f":"'Preços unitários'!$T$40","v":0},0]
[null,null,"RECOLHA","RI/RS","Viaturas","15-20 m3 compactação placa",null,"não instrumentadas gás","gás",{"$f":"+'Modelação do sist PAYT'!EI38","v":0},{"$f":"'Preços unitários'!$M$24","v":0},{"$f":"J84*K84","v":0},8,{"$f":"L84/M84","v":0},null,null,null,{"$f":"+'Modelação do sist PAYT'!EL38","v":0},{"$f":"+'Modelação do sist PAYT'!ER38","v":0},null,{"$f":"'Preços unitários'!$T$34","v":0},null,{"$f":"+S84*R84/100*U84","v":0},{"$f":"+'Modelação de custos PAYT'!$D$20","v":0},{"$f":"L84*X84","v":0},50000,{"$f":"_xlfn.FLOOR.MATH(IF(OR(R84>Z84,R84=Z84),R84/Z84,0),1)","v":0},{"$f":"'Preços unitários'!$T$40","v":0},{"$f":"+AA84*AB84","v":0}]
[null,null,"RECOLHA","RI/RS","Viaturas","15-20 m3 compactação placa",null,"instrumentadas com leitor chips gasóleo","gasóleo",{"$f":"'Modelação do sist PAYT'!EI39","v":0},{"$f":"+'Preços unitários'!M24+'Preços unitários'!M38","v":0},0,8,0,null,null,null,{"$f":"'Modelação do sist PAYT'!$EL$39","v":0},{"$f":"'Modelação do sist PAYT'!$ER$39","v":0},null,{"$f":"'Preços unitários'!$T$34","v":0},null,{"$f":"+S85*R85/100*U85","v":0},{"$f":"+'Modelação de custos PAYT'!$D$20","v":0},0,50000,0,{"$f":"'Preços unitários'!$T$40","v":0},0]
[null,null,"RECOLHA","RI/RS","Viaturas","15-20 m3 compactação placa",null,"instrumentadas com leitor chips elétrica","elétrica",{"$f":"'Modelação do sist PAYT'!EI40","v":0},{"$f":"+'Preços unitários'!M25+'Preços unitários'!M38","v":0},0,8,0,null,null,null,{"$f":"'Modelação do sist PAYT'!$EL$40","v":0},null,{"$f":"'Modelação do sist PAYT'!$ER$40","v":0},null,{"$f":"'Preços unitários'!$T$35","v":0},{"$f":"+T86*R86/100*V86","v":0},{"$f":"+'Modelação de custos PAYT'!$D$20","v":0},0,50000,0,{"$f":"'Preços unitários'!$T$40","v":0},0]
[null,null,"RECOLHA","RI/RS","Viaturas","15-20 m3 compactação placa",null,"instrumentadas com leitor chips gás","gás",{"$f":"+'Modelação do sist PAYT'!EI41","v":0},{"$f":"+'Preços unitários'!M26+'Preços unitários'!M40","v":0},{"$f":"J87*K87","v":0},8,{"$f":"L87/M87","v":0},null,null,null,{"$f":"+'Modelação do sist PAYT'!EL41","v":0},{"$f":"+'Modelação do sist PAYT'!ER41","v":0},null,{"$f":"'Preços unitários'!$T$34","v":0},null,{"$f":"+S87*R87/100*U87","v":0},{"$f":"+'Modelação de custos PAYT'!$D$20","v":0},{"$f":"L87*X87","v":0},50000,{"$f":"_xlfn.FLOOR.MATH(IF(OR(R87>Z87,R87=Z87),R87/Z87,0),1)","v":0},{"$f":"'Preços unitários'!$T$40","v":0},{"$f":"+AA87*AB87","v":0}]
[null,null,"RECOLHA","RI/RS","Viaturas","15-20 m3 compactação placa",null,"instrumentadas com leitor de chips+pesagem elevador gasóleo","gasóleo",{"$f":"'Modelação do sist PAYT'!EI42","v":0},{"$f":"+'Preços unitários'!M24+'Preços unitários'!M38+'Preços unitários'!M39","v":0},{"$f":"J88*K88","v":0},8,{"$f":"L88/M88","v":0},null,null,null,{"$f":"'Modelação do sist PAYT'!$EL$42","v":0},{"$f":"'Modelação do sist PAYT'!$ER$42","v":0},null,{"$f":"'Preços unitários'!$T$34","v":0},null,{"$f":"+S88*R88/100*U88","v":0},{"$f":"+'Modelação de custos PAYT'!$D$20","v":0},0,50000,0,{"$f":"'Preços unitários'!$T$40","v":0},0]
[null,null,"RECOLHA","RI/RS","Viaturas","15-20 m3 compactação placa",null,"instrumentadas com leitor de chips+pesagem elevador elétrica","elétrica",{"$f":"'Modelação do sist PAYT'!EI43","v":0},{"$f":"+'Preços unitários'!M25+'Preços unitários'!M38+'Preços unitários'!M39","v":0},0,8,0,null,null,null,{"$f":"'Modelação do sist PAYT'!$EL$43","v":0},null,{"$f":"'Modelação do sist PAYT'!$ER$43","v":0},null,{"$f":"'Preços unitários'!$T$35","v":0},{"$f":"+T89*R89/100*V89","v":0},{"$f":"+'Modelação de custos PAYT'!$D$20","v":0},0,50000,0,{"$f":"'Preços unitários'!$T$40","v":0},0]
[null,null,"RECOLHA","RI/RS","Viaturas","15-20 m3 compactação placa",null,"instrumentadas com leitor de chips+pesagem elevador gás","gás",{"$f":"+'Modelação do sist PAYT'!EI44","v":0},{"$f":"+'Preços unitários'!M26+'Preços unitários'!M40+'Preços unitários'!M41","v":0},{"$f":"J90*K90","v":0},8,{"$f":"L90/M90","v":0},null,null,null,{"$f":"+'Modelação do sist PAYT'!EL44","v":0},{"$f":"+'Modelação do sist PAYT'!ER44","v":0},null,{"$f":"'Preços unitários'!$T$34","v":0},null,{"$f":"+S90*R90/100*U90","v":0},{"$f":"+'Modelação de custos PAYT'!$D$20","v":0},{"$f":"L90*X90","v":0},50000,{"$f":"_xlfn.FLOOR.MATH(IF(OR(R90>Z90,R90=Z90),R90/Z90,0),1)","v":0},{"$f":"'Preços unitários'!$T$40","v":0},{"$f":"+AA90*AB90","v":0}]
[null,null,"RECOLHA","RI/RS","Viaturas","15-20 m3 compactação placa",null,"instrumentadas com leitor de chips+pesagem chassi gasóleo","gasóleo",{"$f":"'Modelação do sist PAYT'!EI45","v":0},{"$f":"+'Preços unitários'!M24+'Preços unitários'!M38+'Preços unitários'!M41","v":0},0,8,0,null,null,null,{"$f":"'Modelação do sist PAYT'!$EL$45","v":0},{"$f":"'Modelação do sist PAYT'!$ER$45","v":0},null,{"$f":"'Preços unitários'!$T$34","v":0},null,{"$f":"+S91*R91/100*U91","v":0},{"$f":"+'Modelação de custos PAYT'!$D$20","v":0},0,50000,0,{"$f":"'Preços unitários'!$T$40","v":0},0]
[null,null,"RECOLHA","RI/RS","Viaturas","15-20 m3 compactação placa",null,"instrumentadas com leitor de chips+pesagem chassi elétrica","elétrica",{"$f":"'Modelação do sist PAYT'!EI46","v":0},{"$f":"+'Preços unitários'!M25+'Preços unitários'!M38+'Preços unitários'!M41","v":0},0,8,0,null,null,null,{"$f":"'Modelação do sist PAYT'!$EL$46","v":0},null,{"$f":"'Modelação do sist PAYT'!$ER$46","v":0},null,{"$f":"'Preços unitários'!$T$35","v":0},{"$f":"+T92*R92/100*V92","v":0},{"$f":"+'Modelação de custos PAYT'!$D$20","v":0},0,50000,0,{"$f":"'Preços unitários'!$T$40","v":0},0]
[null,null,"RECOLHA","RI/RS","Viaturas","15-20 m3 compactação placa",null,"instrumentadas com leitor de chips+pesagem chassi gás","gás",{"$f":"+'Modelação do sist PAYT'!EI47","v":0},{"$f":"+'Preços unitários'!M26+'Preços unitários'!M40+'Preços unitários'!M43","v":0},{"$f":"J93*K93","v":0},8,{"$f":"L93/M93","v":0},null,null,null,{"$f":"+'Modelação do sist PAYT'!EL47","v":0},{"$f":"+'Modelação do sist PAYT'!ER47","v":0},null,{"$f":"'Preços unitários'!$T$34","v":0},null,{"$f":"+S93*R93/100*U93","v":0},{"$f":"+'Modelação de custos PAYT'!$D$20","v":0},{"$f":"L93*X93","v":0},50000,{"$f":"_xlfn.FLOOR.MATH(IF(OR(R93>Z93,R93=Z93),R93/Z93,0),1)","v":0},{"$f":"'Preços unitários'!$T$40","v":0},{"$f":"+AA93*AB93","v":0}]
[null,null,"RECOLHA","RI/RS","Viaturas","15-20 m3 compactação placa c/ grua",null,"não instrumentadas gasóleo","gasóleo",{"$f":"'Modelação do sist PAYT'!EI48","v":0},{"$f":"'Preços unitários'!$M$27","v":0},0,8,0,null,null,null,{"$f":"'Modelação do sist PAYT'!$EL$48","v":0},{"$f":"'Modelação do sist PAYT'!$ER$48","v":0},null,{"$f":"'Preços unitários'!$T$34","v":0},null,0,{"$f":"+'Modelação de custos PAYT'!$D$20","v":0},0,50000,0,{"$f":"'Preços unitários'!$T$40","v":0},0]
[null,null,"RECOLHA","RI/RS","Viaturas","15-20 m3 compactação placa c/ grua",null,"não instrumentadas elétrica","elétrica",{"$f":"'Modelação do sist PAYT'!EI49","v":0},{"$f":"'Preços unitários'!$M$28","v":0},0,8,0,null,null,null,{"$f":"'Modelação do sist PAYT'!$EL$49","v":0},null,{"$f":"'Modelação do sist PAYT'!$ER$49","v":0},null,{"$f":"'Preços unitários'!$T$35","v":0},{"$f":"+T95*R95/100*V95","v":0},{"$f":"+'Modelação de custos PAYT'!$D$20","v":0},0,50000,0,{"$f":"'Preços unitários'!$T$40","v":0},0]
[null,null,"RECOLHA","RI/RS","Viaturas","15-20 m3 compactação placa c/ grua",null,"não instrumentadas gás","gás",{"$f":"+'Modelação do sist PAYT'!EI50","v":0},{"$f":"'Preços unitários'!$M$27","v":0},{"$f":"J96*K96","v":0},8,{"$f":"L96/M96","v":0},null,null,null,{"$f":"+'Modelação do sist PAYT'!EL50","v":0},{"$f":"+'Modelação do sist PAYT'!ER50","v":0},null,{"$f":"'Preços unitários'!$T$34","v":0},null,{"$f":"+S96*R96/100*U96","v":0},{"$f":"+'Modelação de custos PAYT'!$D$20","v":0},{"$f":"L96*X96","v":0},50000,{"$f":"_xlfn.FLOOR.MATH(IF(OR(R96>Z96,R96=Z96),R96/Z96,0),1)","v":0},{"$f":"'Preços unitários'!$T$40","v":0},{"$f":"+AA96*AB96","v":0}]
[null,null,"RECOLHA","RI/RS","Viaturas","15-20 m3 compactação placa c/ grua",null,"instrumentadas com sist. Pesagem grua gasóleo","gasóleo",{"$f":"'Modelação do sist PAYT'!EI51","v":0},{"$f":"+'Preços unitários'!M27+'Preços unitários'!M40","v":0},0,8,0,null,null,null,{"$f":"'Modelação do sist PAYT'!$EL$51","v":0},{"$f":"'Modelação do sist PAYT'!$ER$51","v":0},null,{"$f":"'Preços unitários'!$T$34","v":0},null,0,{"$f":"+'Modelação de custos PAYT'!$D$20","v":0},0,50000,0,{"$f":"'Preços unitários'!$T$40","v":0},0]
[null,null,"RECOLHA","RI/RS","Viaturas","15-20 m3 compactação placa c/ grua",null,"instrumentadas com sist. Pesagem grua elétrica","elétrica",{"$f":"'Modelação do sist PAYT'!EI52","v":0},{"$f":"+'Preços unitários'!M28+'Preços unitários'!M40","v":0},0,8,0,null,null,null,{"$f":"'Modelação do sist PAYT'!$EL$52","v":0},null,{"$f":"'Modelação do sist PAYT'!$ER$52","v":0},null,{"$f":"'Preços unitários'!$T$35","v":0},{"$f":"+T98*R98/100*V98","v":0},{"$f":"+'Modelação de custos PAYT'!$D$20","v":0},0,50000,0,{"$f":"'Preços unitários'!$T$40","v":0},0]
[null,null,"RECOLHA","RI/RS","Viaturas","15-20 m3 compactação placa c/ grua",null,"instrumentadas com sist. Pesagem grua gás","gás",{"$f":"+'Modelação do sist PAYT'!EI53","v":0},{"$f":"+'Preços unitários'!M29+'Preços unitários'!M42","v":0},{"$f":"J99*K99","v":0},8,{"$f":"L99/M99","v":0},null,null,null,{"$f":"+'Modelação do sist PAYT'!EL53","v":0},{"$f":"+'Modelação do sist PAYT'!ER53","v":0},null,{"$f":"'Preços unitários'!$T$34","v":0},null,{"$f":"+S99*R99/100*U99","v":0},{"$f":"+'Modelação de custos PAYT'!$D$20","v":0},{"$f":"L99*X99","v":0},50000,{"$f":"_xlfn.FLOOR.MATH(IF(OR(R99>Z99,R99=Z99),R99/Z99,0),1)","v":0},{"$f":"'Preços unitários'!$T$40","v":0},{"$f":"+AA99*AB99","v":0}]
[null,null,"RECOLHA","RI/RS","Viaturas","15-23 m3 compactação placa carga lateral",null,"não instrumentadas gasóleo","gasóleo",{"$f":"'Modelação do sist PAYT'!EI54","v":0},{"$f":"'Preços unitários'!$M$30","v":0},0,8,0,null,null,null,{"$f":"'Modelação do sist PAYT'!$EL$54","v":0},{"$f":"'Modelação do sist PAYT'!$ER$54","v":0},null,{"$f":"'Preços unitários'!$T$34","v":0},null,0,{"$f":"+'Modelação de custos PAYT'!$D$20","v":0},0,50000,0,{"$f":"'Preços unitários'!$T$40","v":0},0]
[null,null,"RECOLHA","RI/RS","Viaturas","15-23 m3 compactação placa carga lateral",null,"não instrumentadas elétrica","elétrica",{"$f":"'Modelação do sist PAYT'!EI55","v":0},{"$f":"'Preços unitários'!$M$31","v":0},0,8,0,null,null,null,{"$f":"'Modelação do sist PAYT'!$EL$55","v":0},null,{"$f":"'Modelação do sist PAYT'!$ER$55","v":0},null,{"$f":"'Preços unitários'!$T$35","v":0},{"$f":"+T101*R101/100*V101","v":0},{"$f":"+'Modelação de custos PAYT'!$D$20","v":0},0,50000,0,{"$f":"'Preços unitários'!$T$40","v":0},0]
[null,null,"RECOLHA","RI/RS","Viaturas","15-23 m3 compactação placa carga lateral",null,"não instrumentadas gás","gás",{"$f":"+'Modelação do sist PAYT'!EI56","v":0},{"$f":"'Preços unitários'!$M$30","v":0},{"$f":"J102*K102","v":0},8,{"$f":"L102/M102","v":0},null,null,null,{"$f":"+'Modelação do sist PAYT'!EL56","v":0},{"$f":"+'Modelação do sist PAYT'!ER56","v":0},null,{"$f":"'Preços unitários'!$T$34","v":0},null,{"$f":"+S102*R102/100*U102","v":0},{"$f":"+'Modelação de custos PAYT'!$D$20","v":0},{"$f":"L102*X102","v":0},50000,{"$f":"_xlfn.FLOOR.MATH(IF(OR(R102>Z102,R102=Z102),R102/Z102,0),1)","v":0},{"$f":"'Preços unitários'!$T$40","v":0},{"$f":"+AA102*AB102","v":0}]
[null,null,"RECOLHA","RI/RS","Viaturas","15-23 m3 compactação placa carga lateral",null,"instrumentadas com leitor chips gasóleo","gasóleo",{"$f":"'Modelação do sist PAYT'!EI57","v":0},{"$f":"+'Preços unitários'!M30+'Preços unitários'!M38","v":0},0,8,0,null,null,null,{"$f":"'Modelação do sist PAYT'!$EL$57","v":0},{"$f":"'Modelação do sist PAYT'!$ER$57","v":0},null,{"$f":"'Preços unitários'!$T$34","v":0},null,0,{"$f":"+'Modelação de custos PAYT'!$D$20","v":0},0,50000,0,{"$f":"'Preços unitários'!$T$40","v":0},0]
[null,null,"RECOLHA","RI/RS","Viaturas","15-23 m3 compactação placa carga lateral",null,"instrumentadas com leitor chips elétrica","elétrica",{"$f":"'Modelação do sist PAYT'!EI58","v":0},{"$f":"+'Preços unitários'!M31+'Preços unitários'!M38","v":0},0,8,0,null,null,null,{"$f":"'Modelação do sist PAYT'!$EL$58","v":0},null,{"$f":"'Modelação do sist PAYT'!$ER$58","v":0},null,{"$f":"'Preços unitários'!$T$35","v":0},{"$f":"+T104*R104/100*V104","v":0},{"$f":"+'Modelação de custos PAYT'!$D$20","v":0},0,50000,0,{"$f":"'Preços unitários'!$T$40","v":0},0]
[null,null,"RECOLHA","RI/RS","Viaturas","15-23 m3 compactação placa carga lateral",null,"instrumentadas com leitor chips gás","gás",{"$f":"+'Modelação do sist PAYT'!EI59","v":0},{"$f":"+'Preços unitários'!M32+'Preços unitários'!M40","v":0},{"$f":"J105*K105","v":0},8,{"$f":"L105/M105","v":0},null,null,null,{"$f":"+'Modelação do sist PAYT'!EL59","v":0},{"$f":"+'Modelação do sist PAYT'!ER59","v":0},null,{"$f":"'Preços unitários'!$T$34","v":0},null,{"$f":"+S105*R105/100*U105","v":0},{"$f":"+'Modelação de custos PAYT'!$D$20","v":0},{"$f":"L105*X105","v":0},50000,{"$f":"_xlfn.FLOOR.MATH(IF(OR(R105>Z105,R105=Z105),R105/Z105,0),1)","v":0},{"$f":"'Preços unitários'!$T$40","v":0},{"$f":"+AA105*AB105","v":0}]
[null,null,"RECOLHA","RI/RS","Viaturas","15-23 m3 compactação placa carga lateral",null,"instrumentadas com leitor de chips+pesagem elevador gasóleo","gasóleo",{"$f":"'Modelação do sist PAYT'!EI60","v":0},{"$f":"+'Preços unitários'!M30+'Preços unitários'!M38+'Preços unitários'!M39","v":0},0,8,0,null,null,null,{"$f":"'Modelação do sist PAYT'!$EL$60","v":0},{"$f":"'Modelação do sist PAYT'!$ER$60","v":0},null,{"$f":"'Preços unitários'!$T$34","v":0},null,0,{"$f":"+'Modelação de custos PAYT'!$D$20","v":0},0,50000,{"$f":"_xlfn.FLOOR.MATH(IF(OR(R106>Z106,R106=Z106),R106/Z106,0),1)","v":0},{"$f":"'Preços unitários'!$T$40","v":0},0]
[null,null,"RECOLHA","RI/RS","Viaturas","15-23 m3 compactação placa carga lateral",null,"instrumentadas com leitor de chips+pesagem elevador elétrica","elétrica",{"$f":"'Modelação do sist PAYT'!EI61","v":0},{"$f":"+'Preços unitários'!M31+'Preços unitários'!M38+'Preços unitários'!M39","v":0},0,8,0,null,null,null,{"$f":"'Modelação do sist PAYT'!$EL$61","v":0},null,{"$f":"'Modelação do sist PAYT'!$ER$61","v":0},null,{"$f":"'Preços unitários'!$T$35","v":0},{"$f":"+T107*R107/100*V107","v":0},{"$f":"+'Modelação de custos PAYT'!$D$20","v":0},{"$f":"L107*X107","v":0},50000,0,{"$f":"'Preços unitários'!$T$40","v":0},0]
[null,null,"RECOLHA","RI/RS","Viaturas","15-23 m3 compactação placa carga lateral",null,"instrumentadas com leitor de chips+pesagem elevador gás","gás",{"$f":"+'Modelação do sist PAYT'!EI62","v":0},{"$f":"+'Preços unitários'!M32+'Preços unitários'!M40+'Preços unitários'!M41","v":0},{"$f":"J108*K108","v":0},8,{"$f":"L108/M108","v":0},null,null,null,{"$f":"+'Modelação do sist PAYT'!EL62","v":0},{"$f":"+'Modelação do sist PAYT'!ER62","v":0},null,{"$f":"'Preços unitários'!$T$34","v":0},null,{"$f":"+S108*R108/100*U108","v":0},{"$f":"+'Modelação de custos PAYT'!$D$20","v":0},{"$f":"L108*X108","v":0},50000,{"$f":"_xlfn.FLOOR.MATH(IF(OR(R108>Z108,R108=Z108),R108/Z108,0),1)","v":0},{"$f":"'Preços unitários'!$T$40","v":0},{"$f":"+AA108*AB108","v":0}]
[null,null,"RECOLHA","RI/RS","Viaturas","15-23 m3 compactação placa carga lateral",null,"instrumentadas com leitor de chips+pesagem chassi gasóleo","gasóleo",{"$f":"'Modelação do sist PAYT'!EI63","v":0},{"$f":"+'Preços unitários'!M30+'Preços unitários'!M38+'Preços unitários'!M41","v":0},0,8,0,null,null,null,{"$f":"'Modelação do sist PAYT'!$EL$63","v":0},{"$f":"'Modelação do sist PAYT'!$ER$63","v":0},null,{"$f":"'Preços unitários'!$T$34","v":0},null,0,{"$f":"+'Modelação de custos PAYT'!$D$20","v":0},0,50000,0,{"$f":"'Preços unitários'!$T$40","v":0},0]
[null,null,"RECOLHA","RI/RS","Viaturas","15-23 m3 compactação placa carga lateral",null,"instrumentadas com leitor de chips+pesagem chassi elétrica","elétrica",{"$f":"'Modelação do sist PAYT'!EI64","v":0},{"$f":"+'Preços unitários'!M31+'Preços unitários'!M38+'Preços unitários'!M41","v":0},0,8,0,null,null,null,{"$f":"'Modelação do sist PAYT'!$EL$64","v":0},null,{"$f":"'Modelação do sist PAYT'!$ER$64","v":0},null,{"$f":"'Preços unitários'!$T$35","v":0},{"$f":"+T110*R110/100*V110","v":0},{"$f":"+'Modelação de custos PAYT'!$D$20","v":0},0,50000,0,{"$f":"'Preços unitários'!$T$40","v":0},0]
[null,null,"RECOLHA","RI/RS","Viaturas","15-23 m3 compactação placa carga lateral",null,"instrumentadas com leitor de chips+pesagem chassi gás","gás",{"$f":"+'Modelação do sist PAYT'!EI65","v":0},{"$f":"+'Preços unitários'!M32+'Preços unitários'!M40+'Preços unitários'!M43","v":0},{"$f":"J111*K111","v":0},8,{"$f":"L111/M111","v":0},null,null,null,{"$f":"+'Modelação do sist PAYT'!EL65","v":0},{"$f":"+'Modelação do sist PAYT'!ER65","v":0},null,{"$f":"'Preços unitários'!$T$34","v":0},null,{"$f":"+S111*R111/100*U111","v":0},{"$f":"+'Modelação de custos PAYT'!$D$20","v":0},{"$f":"L111*X111","v":0},50000,{"$f":"_xlfn.FLOOR.MATH(IF(OR(R111>Z111,R111=Z111),R111/Z111,0),1)","v":0},{"$f":"'Preços unitários'!$T$40","v":0},{"$f":"+AA111*AB111","v":0}]
[null,null,"LAVAGEM","RI/RS","Viaturas","Veículos lavagem contentores (cx dedicada)",null,null,"gasóleo",{"$f":"+'Modelação do sist PAYT'!EI68","v":0},{"$f":"+'Preços unitários'!M35","v":0},0,8,0,null,null,null,{"$f":"+'Modelação do sist PAYT'!EL68","v":0},{"$f":"+'Modelação do sist PAYT'!ER68","v":0},null,{"$f":"'Preços unitários'!$T$34","v":0},null,0,{"$f":"+'Modelação de custos PAYT'!$D$20","v":0},{"$f":"L112*X112","v":0},50000,0,{"$f":"+'Preços unitários'!T41","v":0},0]
[null,null,"APOIO","RI/RS","Viaturas","Viatura de cx aberta",null,null,"gasóleo",{"$f":"'Modelação do sist PAYT'!$EI$66","v":0},{"$f":"'Preços unitários'!$M$33","v":0},0,6,0,null,null,null,{"$f":"'Modelação do sist PAYT'!$EL$66","v":0},{"$f":"'Modelação do sist PAYT'!$ER$66","v":0},null,{"$f":"'Preços unitários'!$T$34","v":0},null,0,{"$f":"+'Modelação de custos PAYT'!$D$20","v":0},0,50000,0,{"$f":"'Preços unitários'!$T$39","v":0},0]
[null,null,"APOIO","RI/RS","Viaturas","Viatura de apoio",null,null,"gasóleo",{"$f":"'Modelação do sist PAYT'!$EI$67","v":0},{"$f":"'Preços unitários'!$M$34","v":0},0,6,0,null,null,null,{"$f":"'Modelação do sist PAYT'!$EL$67","v":0},{"$f":"'Modelação do sist PAYT'!$ER$67","v":0},null,{"$f":"'Preços unitários'!$T$34","v":0},null,0,{"$f":"+'Modelação de custos PAYT'!$D$20","v":0},0,50000,{"$f":"_xlfn.FLOOR.MATH(IF(OR(R114>Z114,R114=Z114),R114/Z114,0),1)","v":0},{"$f":"'Preços unitários'!$T$38","v":0},0]
[null,null,"ECO","ECO","c. civil","c. civil",null,null,null,{"$f":"'Modelação do sist PAYT'!$DJ$82","v":0},{"$f":"'Preços unitários'!$M$49","v":0},0,40,0,null,null,null,null,null,null,null,null,null,null,null,null,null,null,null,{"$f":"+'Modelação de custos PAYT'!D21","v":0},{"$f":"IF(E115=\"c. civil\",L115*AD115,0)","v":0}]
[null,null,"ECO","ECO","equip depo","cont met. 15 m3",null,null,null,{"$f":"'Modelação do sist PAYT'!$DL$85","v":0},{"$f":"'Preços unitários'!$M$52","v":0},0,8,0]
[null,null,"ECO","ECO","equip depo","cont met. 30 m3",null,null,null,{"$f":"'Modelação do sist PAYT'!$DL$86","v":0},{"$f":"'Preços unitários'!$M$53","v":0},0,8,0]
[null,null,"ECO","ECO","equip depo","autocompactadores 20 m3",null,null,null,{"$f":"'Modelação do sist PAYT'!$DL$87","v":0},{"$f":"'Preços unitários'!$M$54","v":0},0,8,0]
[null,null,"ECO","ECO","Viaturas","Viatura de transporte ecocentro",null,null,"gasóleo",{"$f":"'Modelação do sist PAYT'!$DW$85","v":0},{"$f":"'Preços unitários'!$M$57","v":0},0,8,0,null,null,null,{"$f":"'Modelação do sist PAYT'!$DZ$85","v":0},{"$f":"'Modelação do sist PAYT'!$EH$85","v":0},null,{"$f":"'Preços unitários'!$T$34","v":0},null,{"$f":"+S119*R119/100*U119","v":0},{"$f":"+'Modelação de custos PAYT'!$D$20","v":0},{"$f":"L119*X119","v":0},50000,{"$f":"_xlfn.FLOOR.MATH(IF(OR(R119>Z119,R119=Z119),R119/Z119,0),1)","v":0},{"$f":"'Preços unitários'!$T$42","v":0},{"$f":"+AA119*AB119","v":0}]
[null,null,"ET","ET","c. civil","c. civil",null,null,null,{"$f":"'Modelação do sist PAYT'!$DJ$93","v":0},{"$f":"'Preços unitários'!$M$65","v":0},0,40,0,null,null,null,null,null,null,null,null,null,null,null,null,null,null,null,{"$f":"+'Modelação de custos PAYT'!D21","v":0},{"$f":"IF(E120=\"c. civil\",L120*AD120,0)","v":0}]
[null,null,"ET","ET","equip depo","compactador estacionário c/ tremonha de carga",null,null,null,{"$f":"'Modelação do sist PAYT'!$DP$100","v":0},{"$f":"'Preços unitários'!$M$72","v":0},0,8,0]
[null,null,"ET","ET","equip depo","mesa de translação",null,null,null,{"$f":"'Modelação do sist PAYT'!$DP$101","v":0},{"$f":"'Preços unitários'!$M$73","v":0},0,8,0]
[null,null,"ET","ET","equip depo","cont. 30 m3 aberto",null,null,null,{"$f":"'Modelação do sist PAYT'!$DP$96","v":0},{"$f":"'Preços unitários'!$M$68","v":0},0,8,0]
[null,null,"ET","ET","equip depo","cont. 40 m3 aberto",null,null,null,{"$f":"'Modelação do sist PAYT'!$DP$97","v":0},{"$f":"'Preços unitários'!$M$69","v":0},0,8,0]
[null,null,"ET","ET","equip depo","cont. 30 m3 fechado",null,null,null,{"$f":"'Modelação do sist PAYT'!$DP$98","v":0},{"$f":"'Preços unitários'!$M$70","v":0},0,8,0]
[null,null,"ET","ET","equip depo","cont. 40 m3 fechado",null,null,null,{"$f":"'Modelação do sist PAYT'!$DP$99","v":0},{"$f":"'Preços unitários'!$M$71","v":0},0,8,0]
[null,null,"ET","ET","Viaturas","semi-reboque 90 m3 com piso móvel",null,null,null,{"$f":"'Modelação do sist PAYT'!$EF$96","v":0},{"$f":"'Preços unitários'!$M$76","v":0},0,8,0,null,null,null,{"$f":"+'Modelação do sist PAYT'!EI96","v":0},{"$f":"+'Modelação do sist PAYT'!ER96","v":0},null,{"$f":"'Preços unitários'!$T$34","v":0},null,{"$f":"+S127*R127/100*U127","v":0},{"$f":"+'Modelação de custos PAYT'!$D$20","v":0},{"$f":"L127*X127","v":0},50000,{"$f":"_xlfn.FLOOR.MATH(IF(OR(R127>Z127,R127=Z127),R127/Z127,0),1)","v":0},{"$f":"'Preços unitários'!$T$43","v":0},{"$f":"+AA127*AB127","v":0}]
[null,null,"ET","ET","Viaturas","Trator para semi-reboque piso móvel",null,null,"gasóleo",{"$f":"'Modelação do sist PAYT'!$EF$97","v":0},{"$f":"'Preços unitários'!$M$77","v":0},0,8,0,null,null,null,{"$f":"'Modelação do sist PAYT'!$EI$97","v":0},{"$f":"'Modelação do sist PAYT'!$ER$97","v":0},null,{"$f":"'Preços unitários'!$T$34","v":0},null,0,{"$f":"+'Modelação de custos PAYT'!$D$20","v":0},0,50000,0,{"$f":"'Preços unitários'!$T$44","v":0},{"$f":"+AA128*AB128","v":0}]
[null,null,"ET","ET","Viaturas","Chassis cabina para veículo de transferência",null,null,"gasóleo",{"$f":"'Modelação do sist PAYT'!$EF$98","v":0},{"$f":"'Preços unitários'!$M$78","v":0},0,8,0,null,null,null,{"$f":"'Modelação do sist PAYT'!$EI$98","v":0},{"$f":"'Modelação do sist PAYT'!$ER$98","v":0},null,{"$f":"'Preços unitários'!$T$34","v":0},null,0,{"$f":"+'Modelação de custos PAYT'!$D$20","v":0},0,50000,0,{"$f":"'Preços unitários'!$T$45","v":0},{"$f":"+AA129*AB129","v":0}]
[null,null,"DEPOS","RI/RS","equip depo","sacos","15 L","normal","normal",{"$f":"'Modelação do sist PAYT'!$I$86+'Modelação do sist PAYT'!BY83","v":0},{"$f":"'Preços unitários'!F21","v":0},null,null,null,null,null,{"$f":"+J130*K130","v":0}]
[null,null,"DEPOS","RI/RS","equip depo","sacos","15 L","com chip","chip",{"$f":"'Modelação do sist PAYT'!$I$102+'Modelação do sist PAYT'!I143","v":0},{"$f":"'Preços unitários'!F22","v":0},null,null,null,null,null,0]
[null,null,"DEPOS","RI/RS","equip depo","sacos","15 L","com etiqueta RFID","etiqueta",{"$f":"+'Modelação do sist PAYT'!I94+'Modelação do sist PAYT'!I135","v":0},{"$f":"'Preços unitários'!F23","v":0},null,null,null,null,null,0]
[null,null,"DEPOS","RI/RS","equip depo","sacos","30 L","normal","normal",{"$f":"'Modelação do sist PAYT'!$I$87+'Modelação do sist PAYT'!BY84","v":0},{"$f":"'Preços unitários'!F24","v":0},null,null,null,null,null,0]
[null,null,"DEPOS","RI/RS","equip depo","sacos","30 L","com chip","chip",{"$f":"'Modelação do sist PAYT'!$I$103+'Modelação do sist PAYT'!I144","v":0},{"$f":"'Preços unitários'!F25","v":0},null,null,null,null,null,0]
[null,null,"DEPOS","RI/RS","equip depo","sacos","30 L","com etiqueta RFID","etiqueta",{"$f":"+'Modelação do sist PAYT'!I95+'Modelação do sist PAYT'!I136","v":0},{"$f":"'Preços unitários'!F26","v":0},null,null,null,null,null,0]
[null,null,"DEPOS","RI/RS","equip depo","sacos","50 L","normal","normal",{"$f":"'Modelação do sist PAYT'!$I$88+'Modelação do sist PAYT'!BY85","v":0},{"$f":"'Preços unitários'!F27","v":0},null,null,null,null,null,0]
[null,null,"DEPOS","RI/RS","equip depo","sacos","50 L","com chip","chip",{"$f":"'Modelação do sist PAYT'!$I$104+'Modelação do sist PAYT'!I145","v":0},{"$f":"'Preços unitários'!F28","v":0},null,null,null,null,null,0]
[null,null,"DEPOS","RI/RS","equip depo","sacos","50 L","com etiqueta RFID","etiqueta",{"$f":"+'Modelação do sist PAYT'!I96+'Modelação do sist PAYT'!I137","v":0},{"$f":"'Preços unitários'!F29","v":0},null,null,null,null,null,0]
[null,null,"DEPOS","RI/RS","impressora etiquetas","impressora etiquetas",null,"impressora etiquetas",null,{"$f":"+IF(OR(J132>0,J135>0,J138>0),1,0)","v":0},1500,{"$f":"J139*K139","v":0},3,{"$f":"L139/M139","v":0}]
[null,null,"Diversos","Diversos","Rendas de edifícios",null,null,null,null,null,null,null,null,null,null,null,null,null,null,null,null,null,null,null,null,null,null,null,null,null,null,{"$f":"+'Modelação de custos PAYT'!D11","v":0}]
[null,null,"Diversos","Diversos","Aluguer de edifícios",null,null,null,null,null,null,null,null,null,null,null,null,null,null,null,null,null,null,null,null,null,null,null,null,null,null,null,{"$f":"+'Modelação de custos PAYT'!D12","v":0}]
[null,null,"Diversos","Diversos","Comunicações",null,null,null,null,null,null,null,null,null,null,null,null,null,null,null,null,null,null,null,null,null,null,null,null,null,null,null,null,{"$f":"+'Modelação de custos PAYT'!D13","v":0}]
[null,null,"Diversos","Diversos","Comunicações associadas aos sistemas de instrumentação",null,null,null,null,null,null,null,null,null,null,null,null,null,null,null,null,null,null,null,null,null,null,null,null,null,null,null,null,null,{"$f":"+'Modelação de custos PAYT'!D14","v":0}]
[null,null,"Diversos","Diversos","Seguros gerais",null,null,null,null,null,null,null,null,null,null,null,null,null,null,null,null,null,null,null,null,null,null,null,null,null,null,null,null,null,null,{"$f":"+'Modelação de custos PAYT'!D15","v":0}]
[null,null,"Diversos","Diversos","Seguros de frota",null,null,null,null,null,null,null,null,null,null,null,null,null,null,null,null,null,null,null,null,null,null,null,null,null,null,null,null,null,null,null,{"$f":"+'Modelação de custos PAYT'!D16","v":0}]
[null,null,"Diversos","Diversos","Honorários",null,null,null,null,null,null,null,null,null,null,null,null,null,null,null,null,null,null,null,null,null,null,null,null,null,null,null,null,null,null,null,null,{"$f":"+'Modelação de custos PAYT'!D17","v":0}]
[null,null,"Software de gestão","Software de gestão","Quota anual por viatura recolha",null,null,null,null,{"$f":"'Modelação do sist PAYT'!$EI$70","v":0},{"$f":"+'Preços unitários'!T21","v":0},null,null,null,null,null,null,null,null,null,null,null,null,null,null,null,null,null,null,null,null,null,null,null,null,null,null,null,{"$f":"+J147*K147","v":0}]
[null,null,"Software de gestão","Software de gestão","Quota anual por utilizador com licença de edição",null,null,null,null,{"$f":"'Modelação do sist PAYT'!$DO$110","v":0},{"$f":"+'Preços unitários'!T22","v":0},null,null,null,null,null,null,null,null,null,null,null,null,null,null,null,null,null,null,null,null,null,null,null,null,null,null,null,{"$f":"+J148*K148","v":0}]
[null,null,"Software de gestão","Software de gestão","Quota anual por sist. de controlo de acesso em contentores de superfície",null,null,null,null,{"$f":"+'Modelação do sist PAYT'!I44:Q44+'Modelação do sist PAYT'!I53:K53+'Modelação do sist PAYT'!I68:Q68+'Modelação do sist PAYT'!I78:Q78","v":0},{"$f":"+'Preços unitários'!T23","v":0},null,null,null,null,null,null,null,null,null,null,null,null,null,null,null,null,null,null,null,null,null,null,null,null,null,null,null,{"$f":"+J149*K149","v":0}]
[null,null,"Software de gestão","Software de gestão","Quota anual por sist. de controlo de acesso em contentores semi-enterrados / enterrados",null,null,null,null,{"$f":"+'Modelação do sist PAYT'!R44+'Modelação do sist PAYT'!AA44+'Modelação do sist PAYT'!R68+'Modelação do sist PAYT'!AA68","v":0},{"$f":"+'Preços unitários'!T24","v":0},null,null,null,null,null,null,null,null,null,null,null,null,null,null,null,null,null,null,null,null,null,null,null,null,null,null,null,{"$f":"+J150*K150","v":0}]
[null,null,"Publicidade e propaganda","Publicidade e propaganda","Conceção - €/h",null,null,null,null,{"$f":"'Modelação do sist PAYT'!$DT$122","v":0},null,null,null,null,null,null,null,null,null,null,null,null,null,null,null,null,null,null,null,null,null,null,null,null,null,null,null,null,null,{"$f":"+'Preços unitários'!T54","v":0},{"$f":"+AN151*J151","v":0}]
[null,null,"Publicidade e propaganda","Publicidade e propaganda","Folhetos",null,null,null,null,{"$f":"'Modelação do sist PAYT'!DT123","v":0},{"$f":"'Preços unitários'!T56","v":0},null,null,null,null,null,null,null,null,null,null,null,null,null,null,null,null,null,null,null,null,null,null,null,null,null,null,null,null,null,{"$f":"+K152*J152","v":0}]
[null,null,"Publicidade e propaganda","Publicidade e propaganda","Posters",null,null,null,null,{"$f":"'Modelação do sist PAYT'!DT124","v":0},{"$f":"'Preços unitários'!T57","v":0},null,null,null,null,null,null,null,null,null,null,null,null,null,null,null,null,null,null,null,null,null,null,null,null,null,null,null,null,null,{"$f":"+K153*J153","v":0}]
[null,null,"Publicidade e propaganda","Publicidade e propaganda","Placards",null,null,null,null,{"$f":"'Modelação do sist PAYT'!DT125","v":0},{"$f":"'Preços unitários'!T58","v":0},null,null,null,null,null,null,null,null,null,null,null,null,null,null,null,null,null,null,null,null,null,null,null,null,null,null,null,null,null,{"$f":"+K154*J154","v":0}]
[null,null,"Publicidade e propaganda","Publicidade e propaganda","Outdoors",null,null,null,null,{"$f":"'Modelação do sist PAYT'!DT126","v":0},{"$f":"'Preços unitários'!T59","v":0},null,null,null,null,null,null,null,null,null,null,null,null,null,null,null,null,null,null,null,null,null,null,null,null,null,null,null,null,null,{"$f":"+K155*J155","v":0}]
[null,null,"Publicidade e propaganda","Publicidade e propaganda","Jornais locais/regionais",null,null,null,null,{"$f":"'Modelação do sist PAYT'!DT127","v":0},{"$f":"'Preços unitários'!T60","v":0},null,null,null,null,null,null,null,null,null,null,null,null,null,null,null,null,null,null,null,null,null,null,null,null,null,null,null,null,null,{"$f":"+K156*J156","v":0}]
[null,null,"Pessoal","Pessoal","Custos com pessoal - encarregado",null,null,null,null,{"$f":"'Modelação do sist PAYT'!$DJ$74*'Modelação do sist PAYT'!DM74","v":0},{"$f":"+'Modelação de custos PAYT'!D24","v":0},null,null,null,null,null,null,null,null,null,null,null,null,null,null,null,null,null,null,null,null,null,null,null,null,null,null,null,null,null,null,null,{"$f":"+J157*K157","v":0}]
[null,null,"Pessoal","Pessoal","Custos com pessoal - motorista",null,null,null,null,{"$f":"+'Modelação do sist PAYT'!DJ75*'Modelação do sist PAYT'!DM75+'Modelação do sist PAYT'!ET85*'Modelação do sist PAYT'!EX85+'Modelação do sist PAYT'!DY102*'Modelação do sist PAYT'!EB102","v":0},{"$f":"+'Modelação de custos PAYT'!D25","v":0},null,null,null,null,null,null,null,null,null,null,null,null,null,null,null,null,null,null,null,null,null,null,null,null,null,null,null,null,null,null,null,{"$f":"+J158*K158","v":0}]
[null,null,"Pessoal","Pessoal","Custos com pessoal - ajudantes",null,null,null,null,{"$f":"+'Modelação do sist PAYT'!DJ76*'Modelação do sist PAYT'!DM76+'Modelação do sist PAYT'!ET86*'Modelação do sist PAYT'!EX86+'Modelação do sist PAYT'!DY103*'Modelação do sist PAYT'!EB103","v":0},{"$f":"+'Modelação de custos PAYT'!D26","v":0},null,null,null,null,null,null,null,null,null,null,null,null,null,null,null,null,null,null,null,null,null,null,null,null,null,null,null,null,null,null,null,{"$f":"+J159*K159","v":0}]
[null,null,"Pessoal","Pessoal","Custos com pessoal - técnico especializado",null,null,null,null,{"$f":"+'Modelação do sist PAYT'!DO110*'Modelação do sist PAYT'!DR110+'Modelação do sist PAYT'!DO111*'Modelação do sist PAYT'!DR111","v":0},{"$f":"+'Modelação de custos PAYT'!D27","v":0},null,null,null,null,null,null,null,null,null,null,null,null,null,null,null,null,null,null,null,null,null,null,null,null,null,null,null,null,null,null,null,{"$f":"+J160*K160","v":0}]
[null,null,"Pessoal","Pessoal","Custos com pessoal - fiscal",null,null,null,null,{"$f":"+'Modelação do sist PAYT'!DO112*'Modelação do sist PAYT'!DR112","v":0},{"$f":"+'Modelação de custos PAYT'!D28","v":0},null,null,null,null,null,null,null,null,null,null,null,null,null,null,null,null,null,null,null,null,null,null,null,null,null,null,null,null,null,null,null,0]
[null,null,"Pessoal","Pessoal","Custos com pessoal - enquadramento - 10% custos pessoal direto",null,null,null,null,null,null,null,null,null,null,null,null,null,null,null,null,null,null,null,null,null,null,null,null,null,null,null,null,null,null,null,null,null,null,null,null,{"$f":"+'Modelação de custos PAYT'!D29","v":0},{"$f":"+SUM(AQ157:AQ161)*AP162","v":0}]
[null,null,"Pessoal","Pessoal","Custos com serviços auxiliares (recolhas a pedido)",null,null,null,null,null,null,null,null,null,null,null,null,null,null,null,null,null,null,null,null,null,null,null,null,null,null,null,null,null,null,null,null,null,null,null,null,null,null,{"$f":"+'Modelação de custos PAYT'!D22","v":0}]
[null,null,"Diversos","Diversos","Custos com subcontratos",null,null,null,null,null,null,null,null,null,null,null,null,null,null,null,null,null,null,null,null,null,null,null,null,null,null,null,null,null,null,null,null,null,null,null,null,null,null,null,{"$f":"+'Modelação de custos PAYT'!D30","v":0}]
[null,null,"Diversos","Diversos","Custos com trabalhos especializados",null,null,null,null,null,null,null,null,null,null,null,null,null,null,null,null,null,null,null,null,null,null,null,null,null,null,null,null,null,null,null,null,null,null,null,null,null,null,null,null,{"$f":"+'Modelação de custos PAYT'!D31","v":0}]
[null,null,"Diversos","Diversos","Custos com publicidade e propaganda",null,null,null,null,null,null,null,null,null,null,null,null,null,null,null,null,null,null,null,null,null,null,null,null,null,null,null,null,null,null,null,null,null,null,null,{"$f":"+'Modelação de custos PAYT'!D32","v":0}]
[null,null,"Diversos","Diversos","Custos financeiros",null,null,null,null,null,null,null,null,null,null,null,null,null,null,null,null,null,null,null,null,null,null,null,null,null,null,null,null,null,null,null,null,null,null,null,null,null,null,null,null,null,{"$f":"+'Modelação de custos PAYT'!D33","v":0}]
[]
[]
[null,null,null,null,"Total",null,null,null,null,null,null,null,null,{"$f":"SUM(N5:N169)","v":0},null,{"$f":"SUM(P5:P169)","v":0},{"$f":"SUM(Q5:Q169)","v":0},null,null,null,null,null,{"$f":"SUM(W5:W169)","v":0},null,{"$f":"SUM(Y5:Y169)","v":0},null,null,null,{"$f":"SUM(AC5:AC169)","v":0},null,{"$f":"SUM(AE5:AE169)","v":0},0,0,0,0,0,0,0,0,null,{"$f":"SUM(AO5:AO169)","v":0},null,{"$f":"SUM(AQ5:AQ169)","v":0},{"$f":"SUM(AR5:AR169)","v":0},{"$f":"SUM(AS5:AS169)","v":0},0,{"$f":"SUM(AU5:AU169)","v":0},{"$f":"SUM(N170:AU170)","v":0}]
[]
[null,null,null,null,"Outros (eletricidade, água,limpeza, utilização de inst comuns, etc.)",null,null,null,null,null,null,null,null,null,null,null,null,null,null,null,null,null,null,null,null,null,null,null,null,null,null,null,null,null,null,null,null,null,null,null,null,null,null,null,null,null,null,null,{"$f":"+'Modelação de custos PAYT'!D34","v":0},{"$f":"+AV170*AW172","v":0}]
[null,null,null,null,"Custo anual com a entidade gestora em alta",null,null,null,null,null,null,null,null,null,null,null,null,null,null,null,null,null,null,null,null,null,null,null,null,null,null,null,null,null,null,null,null,null,null,null,null,null,null,null,null,null,null,null,null,null,{"$f":"+'Modelação de custos PAYT'!D35","v":0}]
[]
[null,null,null,null,null,null,null,null,null,null,null,null,null,null,null,null,null,null,null,null,null,null,null,null,null,null,null,null,null,null,null,null,null,null,null,null,null,null,null,null,null,null,null,null,null,null,null,null,null,null,null,{"$f":"+AV170+AX172+AY173","v":0}]

{"sheet":"Apoio_cálculo custos_SAYT_RAYT","index":15,"n_rows":175,"n_cols":52,"rows_kept":175,"cut":false,"hidden":true,"merged":[]}
[]
[]
[null,null,null,null,null,null,null,null,null,"valor indexado a outro mód. do simulador","valor indexado a outro mód. do simulador",null,null,null,"valor indexado a outro mód. do simulador",null,null,"valor indexado a outro mód. do simulador","valor indexado a outro mód. do simulador","valor indexado a outro mód. do simulador","valor indexado a outro mód. do simulador","valor indexado a outro mód. do simulador",null,"valor indexado a outro mód. do simulador",null,null,null,"valor indexado a outro mód. do simulador",null,"valor indexado a outro mód. do simulador",null,"valor indexado a outro mód. do simulador","valor indexado a outro mód. do simulador","valor indexado a outro mód. do simulador","valor indexado a outro mód. do simulador","valor indexado a outro mód. do simulador","valor indexado a outro mód. do simulador","valor indexado a outro mód. do simulador",null,"valor indexado a outro mód. do simulador",null,"valor indexado a outro mód. do simulador",null,"valor indexado a outro mód. do simulador","valor indexado a outro mód. do simulador","valor indexado a outro mód. do simulador","valor indexado a outro mód. do simulador",null,"valor indexado a outro mód. do simulador",null,"valor indexado a outro mód. do simulador"]
[null,null,null,null,null,null,null,null,null,"Nº","Preço unit","Custo parcial","Vida útil","Amortização","contentores - Conservação/reparação - %","contentores - Conservação/reparação - €","Sacos","dist. percorrida - km","combustível - L/100 km","combustível - kW/100 km","combustível - €/L","combustível - €/kW","Combustível","viaturas - conservação /reparação - %","viaturas - conservação /reparação","viaturas - jogos pneus - \n1jogo/50000km","viaturas - nº jogos pneus","viaturas - €/jogo pneus","viaturas - pneus - €","cc - conservação / reparação - %","cc - conservação / reparação","Rendas de edifícios","Aluguer de edifícios","Comunicações","Comunicações associadas aos sistemas de instrumentação","Seguros gerais","Seguros de frota","Honorários","Software de gestão","Publicidade e propaganda - €/h","Publicidade e propaganda","Pessoal enquadramento - % dos custos com pessoal direto","Pessoal","Custos com serviços auxiliares (recolhas a pedido)","Custos com subcontratos","Custos com trabalhos especializados","Custos financeiros","Custos totais","Outros (água, limpeza, utilização de inst comuns, etc.) - % dos custos totais","Outros (água,limpeza, utilização de inst comuns, etc.)","Custo anual com a entidade gestora em alta"]
[null,null,"DEPOS","RS","equip depo","contentores superfície","10 L","não instrumentado",null,{"$f":"+'Modelação do sist SAYT_RAYT'!Y86","v":0},{"$f":"'Preços unitários'!F33","v":0},{"$f":"J5*K5","v":0},10,{"$f":"L5/M5","v":0},{"$f":"+'Modelação de custos SAYT_RAYT'!$D$19","v":0},{"$f":"+O5*L5","v":0}]
[null,null,"DEPOS","RS","equip depo","contentores superfície","40 L","não instrumentado",null,{"$f":"+'Modelação do sist SAYT_RAYT'!Y87","v":0},{"$f":"'Preços unitários'!F34","v":0},{"$f":"J6*K6","v":0},10,{"$f":"L6/M6","v":0},{"$f":"+'Modelação de custos SAYT_RAYT'!$D$19","v":0},{"$f":"+O6*L6","v":0}]
[null,null,"DEPOS","RS","equip depo","contentores superfície","50 L","não instrumentado",null,{"$f":"+'Modelação do sist SAYT_RAYT'!Y88","v":0},{"$f":"'Preços unitários'!F35","v":0},{"$f":"J7*K7","v":0},10,{"$f":"L7/M7","v":0},{"$f":"+'Modelação de custos SAYT_RAYT'!$D$19","v":0},{"$f":"+O7*L7","v":0}]
[null,null,"DEPOS","RS","equip depo","contentores superfície","60 L","não instrumentado",null,{"$f":"+'Modelação do sist SAYT_RAYT'!Y89","v":0},{"$f":"'Preços unitários'!F36","v":0},0,10,0,{"$f":"+'Modelação de custos SAYT_RAYT'!$D$19","v":0},0]
[null,null,"DEPOS","RS","equip depo","contentores superfície","80 L","não instrumentado",null,{"$f":"+'Modelação do sist SAYT_RAYT'!Y90","v":0},{"$f":"'Preços unitários'!F37","v":0},0,10,0,{"$f":"+'Modelação de custos SAYT_RAYT'!$D$19","v":0},0]
[null,null,"DEPOS","RS","equip depo","contentores superfície","90 L","não instrumentado",null,{"$f":"+'Modelação do sist SAYT_RAYT'!Y91","v":0},{"$f":"'Preços unitários'!F38","v":0},0,10,0,{"$f":"+'Modelação de custos SAYT_RAYT'!$D$19","v":0},0]
[null,null,"DEPOS","RS","equip depo","contentores superfície","110 L","não instrumentado",null,null,{"$f":"'Preços unitários'!F39","v":0},0,10,0,{"$f":"+'Modelação de custos SAYT_RAYT'!$D$19","v":0},0]
[null,null,"DEPOS","RS","equip depo","contentores superfície","120 L","não instrumentado",null,{"$f":"+'Modelação do sist SAYT_RAYT'!Y92","v":0},{"$f":"'Preços unitários'!F40","v":0},0,10,0,{"$f":"+'Modelação de custos SAYT_RAYT'!$D$19","v":0},0]
[null,null,"DEPOS","RS","equip depo","contentores superfície","140 L","não instrumentado",null,{"$f":"+'Modelação do sist SAYT_RAYT'!Y93","v":0},{"$f":"'Preços unitários'!F41","v":0},0,10,0,{"$f":"+'Modelação de custos SAYT_RAYT'!$D$19","v":0},0]
[null,null,"DEPOS","RS","equip depo","contentores superfície","240 L","não instrumentado",null,{"$f":"+'Modelação do sist SAYT_RAYT'!AR38+'Modelação do sist SAYT_RAYT'!Y94","v":0},{"$f":"'Preços unitários'!F42","v":0},0,10,0,{"$f":"+'Modelação de custos SAYT_RAYT'!$D$19","v":0},0]
[null,null,"DEPOS","RS","equip depo","contentores superfície","360 L","não instrumentado",null,{"$f":"+'Modelação do sist SAYT_RAYT'!AR39+'Modelação do sist SAYT_RAYT'!Y95","v":0},{"$f":"'Preços unitários'!F43","v":0},0,10,0,{"$f":"+'Modelação de custos SAYT_RAYT'!$D$19","v":0},0]
[null,null,"DEPOS","RS","equip depo","contentores superfície","800 L","não instrumentado",null,{"$f":"+'Modelação do sist SAYT_RAYT'!AR41+'Modelação do sist SAYT_RAYT'!Y96","v":0},{"$f":"'Preços unitários'!F45","v":0},0,10,0,{"$f":"+'Modelação de custos SAYT_RAYT'!$D$19","v":0},0]
[null,null,"DEPOS","RS","equip depo","contentores superfície","1 000 L","não instrumentado",null,{"$f":"+'Modelação do sist SAYT_RAYT'!AR42","v":0},{"$f":"'Preços unitários'!F46","v":0},0,10,0,{"$f":"+'Modelação de custos SAYT_RAYT'!$D$19","v":0},0]
[null,null,"DEPOS","RS","equip depo","contentores superfície","1 100 L","não instrumentado",null,{"$f":"+'Modelação do sist SAYT_RAYT'!AR43","v":0},{"$f":"'Preços unitários'!F47","v":0},0,10,0,{"$f":"+'Modelação de custos SAYT_RAYT'!$D$19","v":0},0]
[null,null,"DEPOS","RS","equip depo","contentores superfície","40 L","instrumentado - chip",null,{"$f":"+'Modelação do sist SAYT_RAYT'!Y108","v":0},{"$f":"'Preços unitários'!F34+'Preços unitários'!F65","v":0},0,10,0,{"$f":"+'Modelação de custos SAYT_RAYT'!$D$19","v":0},0]
[null,null,"DEPOS","RS","equip depo","contentores superfície","50 L","instrumentado - chip",null,{"$f":"+'Modelação do sist SAYT_RAYT'!Y109","v":0},{"$f":"'Preços unitários'!F35+'Preços unitários'!F65","v":0},0,10,0,{"$f":"+'Modelação de custos SAYT_RAYT'!$D$19","v":0},0]
[null,null,"DEPOS","RS","equip depo","contentores superfície","60 L","instrumentado - chip",null,{"$f":"+'Modelação do sist SAYT_RAYT'!Y110","v":0},{"$f":"'Preços unitários'!F36+'Preços unitários'!F65","v":0},0,10,0,{"$f":"+'Modelação de custos SAYT_RAYT'!$D$19","v":0},0]
[null,null,"DEPOS","RS","equip depo","contentores superfície","80 L","instrumentado - chip",null,{"$f":"+'Modelação do sist SAYT_RAYT'!Y111","v":0},{"$f":"'Preços unitários'!F37+'Preços unitários'!F65","v":0},0,10,0,{"$f":"+'Modelação de custos SAYT_RAYT'!$D$19","v":0},0]
[null,null,"DEPOS","RS","equip depo","contentores superfície","90 L","instrumentado - chip",null,{"$f":"+'Modelação do sist SAYT_RAYT'!Y112","v":0},{"$f":"'Preços unitários'!F38+'Preços unitários'!F65","v":0},0,10,0,{"$f":"+'Modelação de custos SAYT_RAYT'!$D$19","v":0},0]
[null,null,"DEPOS","RS","equip depo","contentores superfície","120 L","instrumentado - chip",null,{"$f":"+'Modelação do sist SAYT_RAYT'!Y113","v":0},{"$f":"'Preços unitários'!F40+'Preços unitários'!F65","v":0},0,10,0,{"$f":"+'Modelação de custos SAYT_RAYT'!$D$19","v":0},0]
[null,null,"DEPOS","RS","equip depo","contentores superfície","140 L","instrumentado - chip",null,{"$f":"+'Modelação do sist SAYT_RAYT'!Y114","v":0},{"$f":"'Preços unitários'!F41+'Preços unitários'!F65","v":0},0,10,0,{"$f":"+'Modelação de custos SAYT_RAYT'!$D$19","v":0},0]
[null,null,"DEPOS","RS","equip depo","contentores superfície","240 L","instrumentado - chip",null,{"$f":"+'Modelação do sist SAYT_RAYT'!Y115","v":0},{"$f":"'Preços unitários'!F42+'Preços unitários'!F65","v":0},0,10,0,{"$f":"+'Modelação de custos SAYT_RAYT'!$D$19","v":0},0]
[null,null,"DEPOS","RS","equip depo","contentores superfície","360 L","instrumentado - chip",null,{"$f":"+'Modelação do sist SAYT_RAYT'!Y116","v":0},{"$f":"'Preços unitários'!F43+'Preços unitários'!F65","v":0},0,10,0,{"$f":"+'Modelação de custos SAYT_RAYT'!$D$19","v":0},0]
[null,null,"DEPOS","RS","equip depo","contentores superfície","750 L","não instrumentado",null,{"$f":"+'Modelação do sist SAYT_RAYT'!AR40","v":0},{"$f":"'Preços unitários'!$F$44","v":0},0,10,0,{"$f":"+'Modelação de custos SAYT_RAYT'!$D$19","v":0},0]
[null,null,"DEPOS","RS","equip depo","contentores superfície","800 L","instrumentado - chip",null,{"$f":"+'Modelação do sist SAYT_RAYT'!Y117","v":0},{"$f":"'Preços unitários'!F45+'Preços unitários'!F65","v":0},0,10,0,{"$f":"+'Modelação de custos SAYT_RAYT'!$D$19","v":0},0]
[null,null,"DEPOS","RS","equip depo","contentores superfície","800 L","com controlo acesso_peso",null,null,{"$f":"+'Preços unitários'!F45+'Preços unitários'!F68","v":0},0,10,0,{"$f":"+'Modelação de custos SAYT_RAYT'!$D$19","v":0},0]
[null,null,"DEPOS","RS","equip depo","contentores superfície","800 L","com controlo acesso_volume",null,{"$f":"+'Modelação do sist SAYT_RAYT'!AR64","v":0},{"$f":"+'Preços unitários'!F45+'Preços unitários'!F66","v":0},0,10,0,{"$f":"+'Modelação de custos SAYT_RAYT'!$D$19","v":0},0]
[null,null,"DEPOS","RS","equip depo","contentores superfície","1 000 L","instrumentado - chip",null,null,{"$f":"'Preços unitários'!F46+'Preços unitários'!F65","v":0},0,10,0,{"$f":"+'Modelação de custos SAYT_RAYT'!$D$19","v":0},0]
[null,null,"DEPOS","RS","equip depo","contentores superfície","1 000 L","com controlo acesso_peso",null,null,{"$f":"+'Preços unitários'!F46+'Preços unitários'!F68","v":0},0,10,0,{"$f":"+'Modelação de custos SAYT_RAYT'!$D$19","v":0},0]
[null,null,"DEPOS","RS","equip depo","contentores superfície","1 000 L","com controlo acesso_volume",null,{"$f":"+'Modelação do sist SAYT_RAYT'!AR65","v":0},{"$f":"+'Preços unitários'!F46+'Preços unitários'!F66","v":0},0,10,0,{"$f":"+'Modelação de custos SAYT_RAYT'!$D$19","v":0},0]
[null,null,"DEPOS","RS","equip depo","contentores superfície","1 100 L","instrumentado - chip",null,null,{"$f":"'Preços unitários'!$F$47+'Preços unitários'!F65","v":0},0,10,0,{"$f":"+'Modelação de custos SAYT_RAYT'!$D$19","v":0},0]
[null,null,"DEPOS","RS","equip depo","contentores superfície","1 100 L","com controlo acesso_peso",null,null,{"$f":"+'Preços unitários'!F47+'Preços unitários'!F68","v":0},0,10,0,{"$f":"+'Modelação de custos SAYT_RAYT'!$D$19","v":0},0]
[null,null,"DEPOS","RS","equip depo","contentores superfície","1 100 L","com controlo acesso_volume",null,{"$f":"+'Modelação do sist SAYT_RAYT'!AR66","v":0},{"$f":"+'Preços unitários'!F47+'Preços unitários'!F66","v":0},0,10,0,{"$f":"+'Modelação de custos SAYT_RAYT'!$D$19","v":0},0]
[null,null,"DEPOS","RS","equip depo","contentores superfície","1 500 L","não instrumentado",null,{"$f":"+'Modelação do sist SAYT_RAYT'!AR44","v":0},{"$f":"'Preços unitários'!$F$48","v":0},0,10,0,{"$f":"+'Modelação de custos SAYT_RAYT'!$D$19","v":0},0]
[null,null,"DEPOS","RS","equip depo","contentores superfície","2 350 L","não instrumentado",null,{"$f":"+'Modelação do sist SAYT_RAYT'!AR45","v":0},{"$f":"'Preços unitários'!$F$49","v":0},0,10,0,{"$f":"+'Modelação de custos SAYT_RAYT'!$D$19","v":0},0]
[null,null,"DEPOS","RS","equip depo","contentores superfície","2 500 L","não instrumentado",null,{"$f":"+'Modelação do sist SAYT_RAYT'!AR46","v":0},{"$f":"'Preços unitários'!$F$50","v":0},0,10,0,{"$f":"+'Modelação de custos SAYT_RAYT'!$D$19","v":0},{"$f":"+O40*L40","v":0}]
[null,null,"DEPOS","RS","equip depo","contentores superfície","2 700 L","não instrumentado",null,{"$f":"+'Modelação do sist SAYT_RAYT'!AR47","v":0},{"$f":"'Preços unitários'!$F$51","v":0},0,10,0,{"$f":"+'Modelação de custos SAYT_RAYT'!$D$19","v":0},{"$f":"+O41*L41","v":0}]
[null,null,"DEPOS","RS","equip depo","contentores enterrados","800 L","não instrumentado",null,{"$f":"'Modelação do sist SAYT_RAYT'!$AX$41","v":0},{"$f":"'Preços unitários'!$F$56","v":0},0,20,0,{"$f":"+'Modelação de custos SAYT_RAYT'!$D$19","v":0},0]
[null,null,"DEPOS","RS","equip depo","contentores enterrados","800 L","com controlo acesso_peso",null,null,{"$f":"+'Preços unitários'!F56+'Preços unitários'!F69","v":0},0,20,0,{"$f":"+'Modelação de custos SAYT_RAYT'!$D$19","v":0},0]
[null,null,"DEPOS","RS","equip depo","contentores enterrados","800 L","com controlo acesso_volume",null,{"$f":"+'Modelação do sist SAYT_RAYT'!AX64","v":0},{"$f":"+'Preços unitários'!F56+'Preços unitários'!F67","v":0},0,20,0,{"$f":"+'Modelação de custos SAYT_RAYT'!$D$19","v":0},0]
[null,null,"DEPOS","RS","equip depo","contentores enterrados","1 000 L","não instrumentado",null,{"$f":"+'Modelação do sist SAYT_RAYT'!AX43","v":0},{"$f":"'Preços unitários'!$F$57","v":0},0,20,0,{"$f":"+'Modelação de custos SAYT_RAYT'!$D$19","v":0},0]
[null,null,"DEPOS","RS","equip depo","contentores enterrados","1 000 L","com controlo acesso_peso",null,null,{"$f":"+'Preços unitários'!F57+'Preços unitários'!F69","v":0},0,20,0,{"$f":"+'Modelação de custos SAYT_RAYT'!$D$19","v":0},0]
[null,null,"DEPOS","RS","equip depo","contentores enterrados","1 000 L","com controlo acesso_volume",null,{"$f":"+'Modelação do sist SAYT_RAYT'!AX66","v":0},{"$f":"+'Preços unitários'!F57+'Preços unitários'!F67","v":0},0,20,0,{"$f":"+'Modelação de custos SAYT_RAYT'!$D$19","v":0},0]
[null,null,"DEPOS","RS","equip depo","contentores enterrados","1 100 L","não instrumentado",null,{"$f":"+'Modelação do sist SAYT_RAYT'!AX43","v":0},{"$f":"'Preços unitários'!$F$58","v":0},0,20,0,{"$f":"+'Modelação de custos SAYT_RAYT'!$D$19","v":0},0]
[null,null,"DEPOS","RS","equip depo","contentores enterrados","1 100 L","com controlo acesso_peso",null,null,{"$f":"+'Preços unitários'!F58+'Preços unitários'!F69","v":0},0,20,0,{"$f":"+'Modelação de custos SAYT_RAYT'!$D$19","v":0},0]
[null,null,"DEPOS","RS","equip depo","contentores enterrados","1 100 L","com controlo acesso_volume",null,{"$f":"+'Modelação do sist SAYT_RAYT'!AX66","v":0},{"$f":"+'Preços unitários'!F58+'Preços unitários'!F67","v":0},0,20,0,{"$f":"+'Modelação de custos SAYT_RAYT'!$D$19","v":0},0]
[null,null,"DEPOS","RS","equip depo","contentores enterrados","3 000 L","não instrumentado",null,{"$f":"'Modelação do sist SAYT_RAYT'!$AX$48","v":0},{"$f":"'Preços unitários'!$F$59","v":0},0,20,0,{"$f":"+'Modelação de custos SAYT_RAYT'!$D$19","v":0},0]
[null,null,"DEPOS","RS","equip depo","contentores enterrados","3 000 L","com controlo acesso_peso",null,null,{"$f":"+'Preços unitários'!F59+'Preços unitários'!F69","v":0},0,20,0,{"$f":"+'Modelação de custos SAYT_RAYT'!$D$19","v":0},0]
[null,null,"DEPOS","RS","equip depo","contentores enterrados","3 000 L","com controlo acesso_volume",null,{"$f":"+'Modelação do sist SAYT_RAYT'!AX71","v":0},{"$f":"+'Preços unitários'!F59+'Preços unitários'!F67","v":0},0,20,0,{"$f":"+'Modelação de custos SAYT_RAYT'!$D$19","v":0},0]
[null,null,"DEPOS","RS","equip depo","contentores semi-enterrados","3 000 L","não instrumentado",null,{"$f":"+'Modelação do sist SAYT_RAYT'!AU48","v":0},{"$f":"'Preços unitários'!$F$53","v":0},0,20,0,{"$f":"+'Modelação de custos SAYT_RAYT'!$D$19","v":0},{"$f":"+O54*L54","v":0}]
[null,null,"DEPOS","RS","equip depo","contentores semi-enterrados","3 000 L","com controlo acesso_peso",null,null,{"$f":"+'Preços unitários'!F53+'Preços unitários'!F69","v":0},0,20,0,{"$f":"+'Modelação de custos SAYT_RAYT'!$D$19","v":0},{"$f":"+O55*L55","v":0}]
[null,null,"DEPOS","RS","equip depo","contentores semi-enterrados","3 000 L","com controlo acesso_volume",null,{"$f":"+'Modelação do sist SAYT_RAYT'!AU71","v":0},{"$f":"+'Preços unitários'!F53+'Preços unitários'!F67","v":0},0,20,0,{"$f":"+'Modelação de custos SAYT_RAYT'!$D$19","v":0},0]
[null,null,"DEPOS","RS","equip depo","contentores enterrados","3 200 L","não instrumentado",null,{"$f":"+'Modelação do sist SAYT_RAYT'!AX49","v":0},{"$f":"'Preços unitários'!$F$60","v":0},0,20,0,{"$f":"+'Modelação de custos SAYT_RAYT'!$D$19","v":0},0]
[null,null,"DEPOS","RS","equip depo","contentores enterrados","3 200 L","com controlo acesso_peso",null,null,{"$f":"+'Preços unitários'!F60+'Preços unitários'!F69","v":0},0,20,0,{"$f":"+'Modelação de custos SAYT_RAYT'!$D$19","v":0},0]
[null,null,"DEPOS","RS","equip depo","contentores enterrados","3 200 L","com controlo acesso_volume",null,{"$f":"+'Modelação do sist SAYT_RAYT'!AX72","v":0},{"$f":"+'Preços unitários'!F60+'Preços unitários'!F67","v":0},0,20,0,{"$f":"+'Modelação de custos SAYT_RAYT'!$D$19","v":0},0]
[null,null,"DEPOS","RS","equip depo","contentores enterrados","4 000 L","não instrumentado",null,{"$f":"+'Modelação do sist SAYT_RAYT'!AX50","v":0},{"$f":"'Preços unitários'!$F$61","v":0},0,20,0,{"$f":"+'Modelação de custos SAYT_RAYT'!$D$19","v":0},0]
[null,null,"DEPOS","RS","equip depo","contentores enterrados","4 000 L","com controlo acesso_peso",null,null,{"$f":"+'Preços unitários'!F61+'Preços unitários'!F69","v":0},0,20,0,{"$f":"+'Modelação de custos SAYT_RAYT'!$D$19","v":0},0]
[null,null,"DEPOS","RS","equip depo","contentores enterrados","4 000 L","com controlo acesso_volume",null,{"$f":"+'Modelação do sist SAYT_RAYT'!AX73","v":0},{"$f":"+'Preços unitários'!F61+'Preços unitários'!F67","v":0},0,20,0,{"$f":"+'Modelação de custos SAYT_RAYT'!$D$19","v":0},0]
[null,null,"DEPOS","RS","equip depo","contentores enterrados","5 000 L","não instrumentado",null,{"$f":"+'Modelação do sist SAYT_RAYT'!AX51","v":0},{"$f":"'Preços unitários'!$F$62","v":0},0,20,0,{"$f":"+'Modelação de custos SAYT_RAYT'!$D$19","v":0},0]
[null,null,"DEPOS","RS","equip depo","contentores enterrados","5 000 L","com controlo acesso_peso",null,null,{"$f":"+'Preços unitários'!F62+'Preços unitários'!F69","v":0},0,20,0,{"$f":"+'Modelação de custos SAYT_RAYT'!$D$19","v":0},0]
[null,null,"DEPOS","RS","equip depo","contentores enterrados","5 000 L","com controlo acesso_volume",null,{"$f":"+'Modelação do sist SAYT_RAYT'!AX74","v":0},{"$f":"+'Preços unitários'!F62+'Preços unitários'!F67","v":0},0,20,0,{"$f":"+'Modelação de custos SAYT_RAYT'!$D$19","v":0},0]
[null,null,"DEPOS","RS","equip depo","contentores semi-enterrados","5 000 L","não instrumentado",null,{"$f":"+'Modelação do sist SAYT_RAYT'!AU51","v":0},{"$f":"'Preços unitários'!$F$54","v":0},0,20,0,{"$f":"+'Modelação de custos SAYT_RAYT'!$D$19","v":0},0]
[null,null,"DEPOS","RS","equip depo","contentores semi-enterrados","5 000 L","com controlo acesso_peso",null,null,{"$f":"+'Preços unitários'!F54+'Preços unitários'!F69","v":0},0,20,0,{"$f":"+'Modelação de custos SAYT_RAYT'!$D$19","v":0},0]
[null,null,"DEPOS","RS","equip depo","contentores semi-enterrados","5 000 L","com controlo acesso_volume",null,{"$f":"+'Modelação do sist SAYT_RAYT'!AU74","v":0},{"$f":"+'Preços unitários'!F54+'Preços unitários'!F67","v":0},0,20,0,{"$f":"+'Modelação de custos SAYT_RAYT'!$D$19","v":0},0]
[null,null,"DEPOS","RS","equip depo","cartões / chave de acesso",null,"cartões / chave de acesso",null,{"$f":"+'Modelação do sist SAYT_RAYT'!AI54","v":0},{"$f":"+'Preços unitários'!F70","v":0},null,null,null,null,{"$f":"+J69*K69","v":0}]
[null,null,"RECOLHA","RS","Viaturas","5-9m3 compactação placa",null,"não instrumentadas gasóleo","gasóleo",{"$f":"'Modelação do sist SAYT_RAYT'!CJ24","v":0},{"$f":"'Preços unitários'!$M$21","v":0},0,8,0,null,null,null,{"$f":"'Modelação do sist SAYT_RAYT'!$CM$24","v":0},{"$f":"'Modelação do sist SAYT_RAYT'!$CS$24","v":0},null,{"$f":"'Preços unitários'!$T$34","v":0},null,{"$f":"+S70*R70/100*U70","v":0},{"$f":"+'Modelação de custos SAYT_RAYT'!$D$20","v":0},{"$f":"L70*X70","v":0},50000,{"$f":"_xlfn.FLOOR.MATH(IF(OR(R70>Z70,R70=Z70),R70/Z70,0),1)","v":0},{"$f":"'Preços unitários'!$T$40","v":0},{"$f":"+AA70*AB70","v":0}]
[null,null,"RECOLHA","RS","Viaturas","5-9m3 compactação placa",null,"não instrumentadas elétrica","elétrica",{"$f":"'Modelação do sist SAYT_RAYT'!CJ25","v":0},{"$f":"'Preços unitários'!$M$22","v":0},0,8,{"$f":"L71/M71","v":0},null,null,null,{"$f":"'Modelação do sist SAYT_RAYT'!$CM$25","v":0},null,{"$f":"'Modelação do sist SAYT_RAYT'!$CS$25","v":0},null,{"$f":"'Preços unitários'!$T$35","v":0},{"$f":"+T71*R71/100*V71","v":0},{"$f":"+'Modelação de custos SAYT_RAYT'!$D$20","v":0},{"$f":"L71*X71","v":0},50000,{"$f":"_xlfn.FLOOR.MATH(IF(OR(R71>Z71,R71=Z71),R71/Z71,0),1)","v":0},{"$f":"'Preços unitários'!$T$40","v":0},{"$f":"+AA71*AB71","v":0}]
[null,null,"RECOLHA","RS","Viaturas","5-9m3 compactação placa",null,"não instrumentadas gás","gás",{"$f":"+'Modelação do sist SAYT_RAYT'!CJ26","v":0},{"$f":"+'Preços unitários'!M23","v":0},0,8,0,null,null,null,{"$f":"+'Modelação do sist SAYT_RAYT'!CM26","v":0},{"$f":"+'Modelação do sist SAYT_RAYT'!CS26","v":0},null,{"$f":"'Preços unitários'!$T$34","v":0},null,{"$f":"+S72*R72/100*U72","v":0},{"$f":"+'Modelação de custos SAYT_RAYT'!$D$20","v":0},{"$f":"L72*X72","v":0},50000,0,{"$f":"'Preços unitários'!$T$40","v":0},0]
[null,null,"RECOLHA","RS","Viaturas","5-9m3 compactação placa",null,"instrumentadas com leitor chips gasóleo","gasóleo",{"$f":"'Modelação do sist SAYT_RAYT'!CJ27","v":0},{"$f":"+'Preços unitários'!M21+'Preços unitários'!M38","v":0},0,8,0,null,null,null,{"$f":"'Modelação do sist SAYT_RAYT'!$CM$27","v":0},{"$f":"'Modelação do sist SAYT_RAYT'!$CS$27","v":0},null,{"$f":"'Preços unitários'!$T$34","v":0},null,{"$f":"+S73*R73/100*U73","v":0},{"$f":"+'Modelação de custos SAYT_RAYT'!$D$20","v":0},0,50000,0,{"$f":"'Preços unitários'!$T$40","v":0},0]
[null,null,"RECOLHA","RS","Viaturas","5-9m3 compactação placa",null,"instrumentadas com leitor chips elétrica","elétrica",{"$f":"'Modelação do sist SAYT_RAYT'!CJ28","v":0},{"$f":"+'Preços unitários'!M22+'Preços unitários'!M38","v":0},0,8,0,null,null,null,{"$f":"'Modelação do sist SAYT_RAYT'!$CM$28","v":0},null,{"$f":"'Modelação do sist SAYT_RAYT'!$CS$28","v":0},null,{"$f":"'Preços unitários'!$T$35","v":0},{"$f":"+T74*R74/100*V74","v":0},{"$f":"+'Modelação de custos SAYT_RAYT'!$D$20","v":0},0,50000,0,{"$f":"'Preços unitários'!$T$40","v":0},0]
[null,null,"RECOLHA","RS","Viaturas","5-9m3 compactação placa",null,"instrumentadas com leitor chips gás","gás",{"$f":"+'Modelação do sist SAYT_RAYT'!CJ29","v":0},{"$f":"+'Preços unitários'!M23+'Preços unitários'!M38","v":0},0,8,0,null,null,null,{"$f":"+'Modelação do sist SAYT_RAYT'!CM29","v":0},{"$f":"+'Modelação do sist SAYT_RAYT'!CS29","v":0},null,{"$f":"'Preços unitários'!$T$34","v":0},null,{"$f":"+S75*R75/100*U75","v":0},{"$f":"+'Modelação de custos SAYT_RAYT'!$D$20","v":0},0,50000,0,{"$f":"'Preços unitários'!$T$40","v":0},0]
[null,null,"RECOLHA","RS","Viaturas","5-9m3 compactação placa",null,"instrumentadas com leitor de chips+pesagem elevador gasóleo","gasóleo",{"$f":"'Modelação do sist SAYT_RAYT'!CJ30","v":0},{"$f":"+'Preços unitários'!M21+'Preços unitários'!M38+'Preços unitários'!M39","v":0},0,8,0,null,null,null,{"$f":"'Modelação do sist SAYT_RAYT'!$CM$30","v":0},{"$f":"'Modelação do sist SAYT_RAYT'!$CS$30","v":0},null,{"$f":"'Preços unitários'!$T$34","v":0},null,{"$f":"+S76*R76/100*U76","v":0},{"$f":"+'Modelação de custos SAYT_RAYT'!$D$20","v":0},0,50000,0,{"$f":"'Preços unitários'!$T$40","v":0},0]
[null,null,"RECOLHA","RS","Viaturas","5-9m3 compactação placa",null,"instrumentadas com leitor de chips+pesagem elevador elétrica","elétrica",{"$f":"'Modelação do sist SAYT_RAYT'!CJ31","v":0},{"$f":"+'Preços unitários'!M22+'Preços unitários'!M38+'Preços unitários'!M39","v":0},0,8,0,null,null,null,{"$f":"'Modelação do sist SAYT_RAYT'!$CM$31","v":0},null,{"$f":"'Modelação do sist SAYT_RAYT'!$CS$31","v":0},null,{"$f":"'Preços unitários'!$T$35","v":0},{"$f":"+T77*R77/100*V77","v":0},{"$f":"+'Modelação de custos SAYT_RAYT'!$D$20","v":0},0,50000,0,{"$f":"'Preços unitários'!$T$40","v":0},0]
[null,null,"RECOLHA","RS","Viaturas","5-9m3 compactação placa",null,"instrumentadas com leitor de chips+pesagem elevador gás","gás",{"$f":"+'Modelação do sist SAYT_RAYT'!CJ32","v":0},{"$f":"+'Preços unitários'!M23+'Preços unitários'!M38+'Preços unitários'!M39","v":0},0,8,0,null,null,null,{"$f":"+'Modelação do sist SAYT_RAYT'!CM32","v":0},{"$f":"+'Modelação do sist SAYT_RAYT'!CS32","v":0},null,{"$f":"'Preços unitários'!$T$34","v":0},null,{"$f":"+S78*R78/100*U78","v":0},{"$f":"+'Modelação de custos SAYT_RAYT'!$D$20","v":0},0,50000,0,{"$f":"'Preços unitários'!$T$40","v":0},0]
[null,null,"RECOLHA","RS","Viaturas","5-9m3 compactação placa",null,"instrumentadas com leitor de chips+pesagem chassi gasóleo","gasóleo",{"$f":"'Modelação do sist SAYT_RAYT'!CJ33","v":0},{"$f":"+'Preços unitários'!M21+'Preços unitários'!M38+'Preços unitários'!M41","v":0},0,8,0,null,null,null,{"$f":"'Modelação do sist SAYT_RAYT'!$CM$33","v":0},{"$f":"'Modelação do sist SAYT_RAYT'!$CS$33","v":0},null,{"$f":"'Preços unitários'!$T$34","v":0},null,{"$f":"+S79*R79/100*U79","v":0},{"$f":"+'Modelação de custos SAYT_RAYT'!$D$20","v":0},0,50000,0,{"$f":"'Preços unitários'!$T$40","v":0},0]
[null,null,"RECOLHA","RS","Viaturas","5-9m3 compactação placa",null,"instrumentadas com leitor de chips+pesagem chassi elétrica","elétrica",{"$f":"'Modelação do sist SAYT_RAYT'!CJ34","v":0},{"$f":"+'Preços unitários'!M22+'Preços unitários'!M38+'Preços unitários'!M41","v":0},0,8,0,null,null,null,{"$f":"'Modelação do sist SAYT_RAYT'!$CM$34","v":0},null,{"$f":"'Modelação do sist SAYT_RAYT'!$CS$34","v":0},null,{"$f":"'Preços unitários'!$T$35","v":0},{"$f":"+T80*R80/100*V80","v":0},{"$f":"+'Modelação de custos SAYT_RAYT'!$D$20","v":0},0,50000,0,{"$f":"'Preços unitários'!$T$40","v":0},0]
[null,null,"RECOLHA","RS","Viaturas","5-9m3 compactação placa",null,"instrumentadas com leitor de chips+pesagem chassi gás","gás",{"$f":"+'Modelação do sist SAYT_RAYT'!CJ35","v":0},{"$f":"+'Preços unitários'!M23+'Preços unitários'!M38+'Preços unitários'!M41","v":0},0,8,0,null,null,null,{"$f":"+'Modelação do sist SAYT_RAYT'!CM35","v":0},{"$f":"+'Modelação do sist SAYT_RAYT'!CS35","v":0},null,{"$f":"'Preços unitários'!$T$34","v":0},null,{"$f":"+S81*R81/100*U81","v":0},{"$f":"+'Modelação de custos SAYT_RAYT'!$D$20","v":0},0,50000,0,{"$f":"'Preços unitários'!$T$40","v":0},0]
[null,null,"RECOLHA","RS","Viaturas","15-20 m3 compactação placa",null,"não instrumentadas gasóleo","gasóleo",{"$f":"'Modelação do sist SAYT_RAYT'!CJ36","v":0},{"$f":"'Preços unitários'!$M$24","v":0},0,8,0,null,null,null,{"$f":"'Modelação do sist SAYT_RAYT'!$CM$36","v":0},{"$f":"'Modelação do sist SAYT_RAYT'!$CS$36","v":0},null,{"$f":"'Preços unitários'!$T$34","v":0},null,{"$f":"+S82*R82/100*U82","v":0},{"$f":"+'Modelação de custos SAYT_RAYT'!$D$20","v":0},0,50000,0,{"$f":"'Preços unitários'!$T$40","v":0},{"$f":"+AA82*AB82","v":0}]
[null,null,"RECOLHA","RS","Viaturas","15-20 m3 compactação placa",null,"não instrumentadas elétrica","elétrica",{"$f":"'Modelação do sist SAYT_RAYT'!CJ37","v":0},{"$f":"'Preços unitários'!$M$25","v":0},0,8,0,null,null,null,{"$f":"'Modelação do sist SAYT_RAYT'!$CM$37","v":0},null,{"$f":"'Modelação do sist SAYT_RAYT'!$CS$37","v":0},null,{"$f":"'Preços unitários'!$T$35","v":0},{"$f":"+T83*R83/100*V83","v":0},{"$f":"+'Modelação de custos SAYT_RAYT'!$D$20","v":0},0,50000,0,{"$f":"'Preços unitários'!$T$40","v":0},0]
[null,null,"RECOLHA","RS","Viaturas","15-20 m3 compactação placa",null,"não instrumentadas gás","gás",{"$f":"+'Modelação do sist SAYT_RAYT'!CJ38","v":0},{"$f":"'Preços unitários'!$M$24","v":0},0,8,0,null,null,null,{"$f":"+'Modelação do sist SAYT_RAYT'!CM38","v":0},{"$f":"+'Modelação do sist SAYT_RAYT'!CS38","v":0},null,{"$f":"'Preços unitários'!$T$34","v":0},null,{"$f":"+S84*R84/100*U84","v":0},{"$f":"+'Modelação de custos SAYT_RAYT'!$D$20","v":0},0,50000,0,{"$f":"'Preços unitários'!$T$40","v":0},0]
[null,null,"RECOLHA","RS","Viaturas","15-20 m3 compactação placa",null,"instrumentadas com leitor chips gasóleo","gasóleo",{"$f":"'Modelação do sist SAYT_RAYT'!CJ39","v":0},{"$f":"+'Preços unitários'!M24+'Preços unitários'!M38","v":0},0,8,0,null,null,null,{"$f":"'Modelação do sist SAYT_RAYT'!$CM$39","v":0},{"$f":"'Modelação do sist SAYT_RAYT'!$CS$39","v":0},null,{"$f":"'Preços unitários'!$T$34","v":0},null,{"$f":"+S85*R85/100*U85","v":0},{"$f":"+'Modelação de custos SAYT_RAYT'!$D$20","v":0},0,50000,0,{"$f":"'Preços unitários'!$T$40","v":0},0]
[null,null,"RECOLHA","RS","Viaturas","15-20 m3 compactação placa",null,"instrumentadas com leitor chips elétrica","elétrica",{"$f":"'Modelação do sist SAYT_RAYT'!CJ40","v":0},{"$f":"+'Preços unitários'!M25+'Preços unitários'!M38","v":0},0,8,0,null,null,null,{"$f":"'Modelação do sist SAYT_RAYT'!$CM$40","v":0},null,{"$f":"'Modelação do sist SAYT_RAYT'!$CS$40","v":0},null,{"$f":"'Preços unitários'!$T$35","v":0},{"$f":"+T86*R86/100*V86","v":0},{"$f":"+'Modelação de custos SAYT_RAYT'!$D$20","v":0},0,50000,0,{"$f":"'Preços unitários'!$T$40","v":0},0]
[null,null,"RECOLHA","RS","Viaturas","15-20 m3 compactação placa",null,"instrumentadas com leitor chips gás","gás",{"$f":"+'Modelação do sist SAYT_RAYT'!CJ41","v":0},{"$f":"+'Preços unitários'!M26+'Preços unitários'!M40","v":0},{"$f":"J87*K87","v":0},8,0,null,null,null,{"$f":"+'Modelação do sist SAYT_RAYT'!CM41","v":0},{"$f":"+'Modelação do sist SAYT_RAYT'!CS41","v":0},null,{"$f":"'Preços unitários'!$T$34","v":0},null,{"$f":"+S87*R87/100*U87","v":0},{"$f":"+'Modelação de custos SAYT_RAYT'!$D$20","v":0},0,50000,0,{"$f":"'Preços unitários'!$T$40","v":0},0]
[null,null,"RECOLHA","RS","Viaturas","15-20 m3 compactação placa",null,"instrumentadas com leitor de chips+pesagem elevador gasóleo","gasóleo",{"$f":"'Modelação do sist SAYT_RAYT'!CJ42","v":0},{"$f":"+'Preços unitários'!M24+'Preços unitários'!M38+'Preços unitários'!M39","v":0},0,8,0,null,null,null,{"$f":"'Modelação do sist SAYT_RAYT'!$CM$42","v":0},{"$f":"'Modelação do sist SAYT_RAYT'!$CS$42","v":0},null,{"$f":"'Preços unitários'!$T$34","v":0},null,{"$f":"+S88*R88/100*U88","v":0},{"$f":"+'Modelação de custos SAYT_RAYT'!$D$20","v":0},0,50000,0,{"$f":"'Preços unitários'!$T$40","v":0},0]
[null,null,"RECOLHA","RS","Viaturas","15-20 m3 compactação placa",null,"instrumentadas com leitor de chips+pesagem elevador elétrica","elétrica",{"$f":"'Modelação do sist SAYT_RAYT'!CJ43","v":0},{"$f":"+'Preços unitários'!M25+'Preços unitários'!M38+'Preços unitários'!M39","v":0},0,8,0,null,null,null,{"$f":"'Modelação do sist SAYT_RAYT'!$CM$43","v":0},null,{"$f":"'Modelação do sist SAYT_RAYT'!$CS$43","v":0},null,{"$f":"'Preços unitários'!$T$35","v":0},{"$f":"+T89*R89/100*V89","v":0},{"$f":"+'Modelação de custos SAYT_RAYT'!$D$20","v":0},0,50000,0,{"$f":"'Preços unitários'!$T$40","v":0},0]
[null,null,"RECOLHA","RS","Viaturas","15-20 m3 compactação placa",null,"instrumentadas com leitor de chips+pesagem elevador gás","gás",{"$f":"+'Modelação do sist SAYT_RAYT'!CJ44","v":0},{"$f":"+'Preços unitários'!M26+'Preços unitários'!M40+'Preços unitários'!M41","v":0},0,8,0,null,null,null,{"$f":"+'Modelação do sist SAYT_RAYT'!CM44","v":0},{"$f":"+'Modelação do sist SAYT_RAYT'!CS44","v":0},null,{"$f":"'Preços unitários'!$T$34","v":0},null,{"$f":"+S90*R90/100*U90","v":0},{"$f":"+'Modelação de custos SAYT_RAYT'!$D$20","v":0},0,50000,0,{"$f":"'Preços unitários'!$T$40","v":0},0]
[null,null,"RECOLHA","RS","Viaturas","15-20 m3 compactação placa",null,"instrumentadas com leitor de chips+pesagem chassi gasóleo","gasóleo",{"$f":"'Modelação do sist SAYT_RAYT'!CJ45","v":0},{"$f":"+'Preços unitários'!M24+'Preços unitários'!M38+'Preços unitários'!M41","v":0},0,8,0,null,null,null,{"$f":"'Modelação do sist SAYT_RAYT'!$CM$45","v":0},{"$f":"'Modelação do sist SAYT_RAYT'!$CS$45","v":0},null,{"$f":"'Preços unitários'!$T$34","v":0},null,{"$f":"+S91*R91/100*U91","v":0},{"$f":"+'Modelação de custos SAYT_RAYT'!$D$20","v":0},0,50000,0,{"$f":"'Preços unitários'!$T$40","v":0},0]
[null,null,"RECOLHA","RS","Viaturas","15-20 m3 compactação placa",null,"instrumentadas com leitor de chips+pesagem chassi elétrica","elétrica",{"$f":"'Modelação do sist SAYT_RAYT'!CJ46","v":0},{"$f":"+'Preços unitários'!M25+'Preços unitários'!M38+'Preços unitários'!M41","v":0},0,8,0,null,null,null,{"$f":"'Modelação do sist SAYT_RAYT'!$CM$46","v":0},null,{"$f":"'Modelação do sist SAYT_RAYT'!$CS$46","v":0},null,{"$f":"'Preços unitários'!$T$35","v":0},{"$f":"+T92*R92/100*V92","v":0},{"$f":"+'Modelação de custos SAYT_RAYT'!$D$20","v":0},0,50000,0,{"$f":"'Preços unitários'!$T$40","v":0},0]
[null,null,"RECOLHA","RS","Viaturas","15-20 m3 compactação placa",null,"instrumentadas com leitor de chips+pesagem chassi gás","gás",{"$f":"+'Modelação do sist SAYT_RAYT'!CJ47","v":0},{"$f":"+'Preços unitários'!M26+'Preços unitários'!M40+'Preços unitários'!M43","v":0},0,8,0,null,null,null,{"$f":"+'Modelação do sist SAYT_RAYT'!CM47","v":0},{"$f":"+'Modelação do sist SAYT_RAYT'!CS47","v":0},null,{"$f":"'Preços unitários'!$T$34","v":0},null,{"$f":"+S93*R93/100*U93","v":0},{"$f":"+'Modelação de custos SAYT_RAYT'!$D$20","v":0},0,50000,0,{"$f":"'Preços unitários'!$T$40","v":0},0]
[null,null,"RECOLHA","RS","Viaturas","15-20 m3 compactação placa c/ grua",null,"não instrumentadas gasóleo","gasóleo",{"$f":"'Modelação do sist SAYT_RAYT'!CJ48","v":0},{"$f":"'Preços unitários'!$M$27","v":0},0,8,0,null,null,null,{"$f":"'Modelação do sist SAYT_RAYT'!$CM$48","v":0},{"$f":"'Modelação do sist SAYT_RAYT'!$CS$48","v":0},null,{"$f":"'Preços unitários'!$T$34","v":0},null,0,{"$f":"+'Modelação de custos SAYT_RAYT'!$D$20","v":0},0,50000,0,{"$f":"'Preços unitários'!$T$40","v":0},0]
[null,null,"RECOLHA","RS","Viaturas","15-20 m3 compactação placa c/ grua",null,"não instrumentadas elétrica","elétrica",{"$f":"'Modelação do sist SAYT_RAYT'!CJ49","v":0},{"$f":"'Preços unitários'!$M$28","v":0},0,8,0,null,null,null,{"$f":"'Modelação do sist SAYT_RAYT'!$CM$49","v":0},null,{"$f":"'Modelação do sist SAYT_RAYT'!$CS$49","v":0},null,{"$f":"'Preços unitários'!$T$35","v":0},{"$f":"+T95*R95/100*V95","v":0},{"$f":"+'Modelação de custos SAYT_RAYT'!$D$20","v":0},0,50000,0,{"$f":"'Preços unitários'!$T$40","v":0},0]
[null,null,"RECOLHA","RS","Viaturas","15-20 m3 compactação placa c/ grua",null,"não instrumentadas gás","gás",{"$f":"+'Modelação do sist SAYT_RAYT'!CJ50","v":0},{"$f":"'Preços unitários'!$M$27","v":0},0,8,0,null,null,null,{"$f":"+'Modelação do sist SAYT_RAYT'!CM50","v":0},{"$f":"+'Modelação do sist SAYT_RAYT'!CS50","v":0},null,{"$f":"'Preços unitários'!$T$34","v":0},null,{"$f":"+S96*R96/100*U96","v":0},{"$f":"+'Modelação de custos SAYT_RAYT'!$D$20","v":0},0,50000,0,{"$f":"'Preços unitários'!$T$40","v":0},0]
[null,null,"RECOLHA","RS","Viaturas","15-20 m3 compactação placa c/ grua",null,"instrumentadas com sist. Pesagem grua gasóleo","gasóleo",{"$f":"'Modelação do sist SAYT_RAYT'!CJ51","v":0},{"$f":"+'Preços unitários'!M27+'Preços unitários'!M40","v":0},0,8,0,null,null,null,{"$f":"'Modelação do sist SAYT_RAYT'!$CM$51","v":0},{"$f":"'Modelação do sist SAYT_RAYT'!$CS$51","v":0},null,{"$f":"'Preços unitários'!$T$34","v":0},null,0,{"$f":"+'Modelação de custos SAYT_RAYT'!$D$20","v":0},0,50000,0,{"$f":"'Preços unitários'!$T$40","v":0},0]
[null,null,"RECOLHA","RS","Viaturas","15-20 m3 compactação placa c/ grua",null,"instrumentadas com sist. Pesagem grua elétrica","elétrica",{"$f":"'Modelação do sist SAYT_RAYT'!CJ52","v":0},{"$f":"+'Preços unitários'!M28+'Preços unitários'!M40","v":0},0,8,0,null,null,null,{"$f":"'Modelação do sist SAYT_RAYT'!$CM$52","v":0},null,{"$f":"'Modelação do sist SAYT_RAYT'!$CS$52","v":0},null,{"$f":"'Preços unitários'!$T$35","v":0},{"$f":"+T98*R98/100*V98","v":0},{"$f":"+'Modelação de custos SAYT_RAYT'!$D$20","v":0},0,50000,0,{"$f":"'Preços unitários'!$T$40","v":0},0]
[null,null,"RECOLHA","RS","Viaturas","15-20 m3 compactação placa c/ grua",null,"instrumentadas com sist. Pesagem grua gás","gás",{"$f":"+'Modelação do sist SAYT_RAYT'!CJ53","v":0},{"$f":"+'Preços unitários'!M29+'Preços unitários'!M42","v":0},0,8,0,null,null,null,{"$f":"+'Modelação do sist SAYT_RAYT'!CM53","v":0},{"$f":"+'Modelação do sist SAYT_RAYT'!CS53","v":0},null,{"$f":"'Preços unitários'!$T$34","v":0},null,{"$f":"+S99*R99/100*U99","v":0},{"$f":"+'Modelação de custos SAYT_RAYT'!$D$20","v":0},0,50000,0,{"$f":"'Preços unitários'!$T$40","v":0},0]
[null,null,"RECOLHA","RS","Viaturas","15-23 m3 compactação placa carga lateral",null,"não instrumentadas gasóleo","gasóleo",{"$f":"'Modelação do sist SAYT_RAYT'!CJ54","v":0},{"$f":"'Preços unitários'!$M$30","v":0},0,8,0,null,null,null,{"$f":"'Modelação do sist SAYT_RAYT'!$CM$54","v":0},{"$f":"'Modelação do sist SAYT_RAYT'!$CS$54","v":0},null,{"$f":"'Preços unitários'!$T$34","v":0},null,0,{"$f":"+'Modelação de custos SAYT_RAYT'!$D$20","v":0},0,50000,0,{"$f":"'Preços unitários'!$T$40","v":0},0]
[null,null,"RECOLHA","RS","Viaturas","15-23 m3 compactação placa carga lateral",null,"não instrumentadas elétrica","elétrica",{"$f":"'Modelação do sist SAYT_RAYT'!CJ55","v":0},{"$f":"'Preços unitários'!$M$31","v":0},0,8,0,null,null,null,{"$f":"'Modelação do sist SAYT_RAYT'!$CM$55","v":0},null,{"$f":"'Modelação do sist SAYT_RAYT'!$CS$55","v":0},null,{"$f":"'Preços unitários'!$T$35","v":0},{"$f":"+T101*R101/100*V101","v":0},{"$f":"+'Modelação de custos SAYT_RAYT'!$D$20","v":0},0,50000,0,{"$f":"'Preços unitários'!$T$40","v":0},0]
[null,null,"RECOLHA","RS","Viaturas","15-23 m3 compactação placa carga lateral",null,"não instrumentadas gás","gás",{"$f":"+'Modelação do sist SAYT_RAYT'!CJ56","v":0},{"$f":"'Preços unitários'!$M$30","v":0},0,8,0,null,null,null,{"$f":"+'Modelação do sist SAYT_RAYT'!CM56","v":0},{"$f":"+'Modelação do sist SAYT_RAYT'!CS56","v":0},null,{"$f":"'Preços unitários'!$T$34","v":0},null,{"$f":"+S102*R102/100*U102","v":0},{"$f":"+'Modelação de custos SAYT_RAYT'!$D$20","v":0},0,50000,0,{"$f":"'Preços unitários'!$T$40","v":0},0]
[null,null,"RECOLHA","RS","Viaturas","15-23 m3 compactação placa carga lateral",null,"instrumentadas com leitor chips gasóleo","gasóleo",{"$f":"'Modelação do sist SAYT_RAYT'!CJ57","v":0},{"$f":"+'Preços unitários'!M30+'Preços unitários'!M38","v":0},0,8,0,null,null,null,{"$f":"'Modelação do sist SAYT_RAYT'!$CM$57","v":0},{"$f":"'Modelação do sist SAYT_RAYT'!$CS$57","v":0},null,{"$f":"'Preços unitários'!$T$34","v":0},null,0,{"$f":"+'Modelação de custos SAYT_RAYT'!$D$20","v":0},0,50000,0,{"$f":"'Preços unitários'!$T$40","v":0},0]
[null,null,"RECOLHA","RS","Viaturas","15-23 m3 compactação placa carga lateral",null,"instrumentadas com leitor chips elétrica","elétrica",{"$f":"'Modelação do sist SAYT_RAYT'!CJ58","v":0},{"$f":"+'Preços unitários'!M31+'Preços unitários'!M38","v":0},0,8,0,null,null,null,{"$f":"'Modelação do sist SAYT_RAYT'!$CM$58","v":0},null,{"$f":"'Modelação do sist SAYT_RAYT'!$CS$58","v":0},null,{"$f":"'Preços unitários'!$T$35","v":0},{"$f":"+T104*R104/100*V104","v":0},{"$f":"+'Modelação de custos SAYT_RAYT'!$D$20","v":0},0,50000,0,{"$f":"'Preços unitários'!$T$40","v":0},0]
[null,null,"RECOLHA","RS","Viaturas","15-23 m3 compactação placa carga lateral",null,"instrumentadas com leitor chips gás","gás",{"$f":"+'Modelação do sist SAYT_RAYT'!CJ59","v":0},{"$f":"+'Preços unitários'!M32+'Preços unitários'!M40","v":0},0,8,0,null,null,null,{"$f":"+'Modelação do sist SAYT_RAYT'!CM59","v":0},{"$f":"+'Modelação do sist SAYT_RAYT'!CS59","v":0},null,{"$f":"'Preços unitários'!$T$34","v":0},null,{"$f":"+S105*R105/100*U105","v":0},{"$f":"+'Modelação de custos SAYT_RAYT'!$D$20","v":0},0,50000,0,{"$f":"'Preços unitários'!$T$40","v":0},0]
[null,null,"RECOLHA","RS","Viaturas","15-23 m3 compactação placa carga lateral",null,"instrumentadas com leitor de chips+pesagem elevador gasóleo","gasóleo",{"$f":"'Modelação do sist SAYT_RAYT'!CJ60","v":0},{"$f":"+'Preços unitários'!M30+'Preços unitários'!M38+'Preços unitários'!M39","v":0},0,8,0,null,null,null,{"$f":"'Modelação do sist SAYT_RAYT'!$CM$60","v":0},{"$f":"'Modelação do sist SAYT_RAYT'!$CS$60","v":0},null,{"$f":"'Preços unitários'!$T$34","v":0},null,0,{"$f":"+'Modelação de custos SAYT_RAYT'!$D$20","v":0},0,50000,{"$f":"_xlfn.FLOOR.MATH(IF(OR(R106>Z106,R106=Z106),R106/Z106,0),1)","v":0},{"$f":"'Preços unitários'!$T$40","v":0},0]
[null,null,"RECOLHA","RS","Viaturas","15-23 m3 compactação placa carga lateral",null,"instrumentadas com leitor de chips+pesagem elevador elétrica","elétrica",{"$f":"'Modelação do sist SAYT_RAYT'!CJ61","v":0},{"$f":"+'Preços unitários'!M31+'Preços unitários'!M38+'Preços unitários'!M39","v":0},0,8,0,null,null,null,{"$f":"'Modelação do sist SAYT_RAYT'!$CM$61","v":0},null,{"$f":"'Modelação do sist SAYT_RAYT'!$CS$61","v":0},null,{"$f":"'Preços unitários'!$T$35","v":0},{"$f":"+T107*R107/100*V107","v":0},{"$f":"+'Modelação de custos SAYT_RAYT'!$D$20","v":0},{"$f":"L107*X107","v":0},50000,0,{"$f":"'Preços unitários'!$T$40","v":0},0]
[null,null,"RECOLHA","RS","Viaturas","15-23 m3 compactação placa carga lateral",null,"instrumentadas com leitor de chips+pesagem elevador gás","gás",{"$f":"+'Modelação do sist SAYT_RAYT'!CJ62","v":0},{"$f":"+'Preços unitários'!M32+'Preços unitários'!M40+'Preços unitários'!M41","v":0},0,8,0,null,null,null,{"$f":"+'Modelação do sist SAYT_RAYT'!CM62","v":0},{"$f":"+'Modelação do sist SAYT_RAYT'!CS62","v":0},null,{"$f":"'Preços unitários'!$T$34","v":0},null,{"$f":"+S108*R108/100*U108","v":0},{"$f":"+'Modelação de custos SAYT_RAYT'!$D$20","v":0},{"$f":"L108*X108","v":0},50000,{"$f":"_xlfn.FLOOR.MATH(IF(OR(R108>Z108,R108=Z108),R108/Z108,0),1)","v":0},{"$f":"'Preços unitários'!$T$40","v":0},0]
[null,null,"RECOLHA","RS","Viaturas","15-23 m3 compactação placa carga lateral",null,"instrumentadas com leitor de chips+pesagem chassi gasóleo","gasóleo",{"$f":"'Modelação do sist SAYT_RAYT'!CJ63","v":0},{"$f":"+'Preços unitários'!M30+'Preços unitários'!M38+'Preços unitários'!M41","v":0},0,8,0,null,null,null,{"$f":"'Modelação do sist SAYT_RAYT'!$CM$63","v":0},{"$f":"'Modelação do sist SAYT_RAYT'!$CS$63","v":0},null,{"$f":"'Preços unitários'!$T$34","v":0},null,0,{"$f":"+'Modelação de custos SAYT_RAYT'!$D$20","v":0},0,50000,0,{"$f":"'Preços unitários'!$T$40","v":0},0]
[null,null,"RECOLHA","RS","Viaturas","15-23 m3 compactação placa carga lateral",null,"instrumentadas com leitor de chips+pesagem chassi elétrica","elétrica",{"$f":"'Modelação do sist SAYT_RAYT'!CJ64","v":0},{"$f":"+'Preços unitários'!M31+'Preços unitários'!M38+'Preços unitários'!M41","v":0},0,8,0,null,null,null,{"$f":"'Modelação do sist SAYT_RAYT'!$CM$64","v":0},null,{"$f":"'Modelação do sist SAYT_RAYT'!$CS$64","v":0},null,{"$f":"'Preços unitários'!$T$35","v":0},{"$f":"+T110*R110/100*V110","v":0},{"$f":"+'Modelação de custos SAYT_RAYT'!$D$20","v":0},0,50000,0,{"$f":"'Preços unitários'!$T$40","v":0},0]
[null,null,"RECOLHA","RS","Viaturas","15-23 m3 compactação placa carga lateral",null,"instrumentadas com leitor de chips+pesagem chassi gás","gás",{"$f":"+'Modelação do sist SAYT_RAYT'!CJ65","v":0},{"$f":"+'Preços unitários'!M32+'Preços unitários'!M40+'Preços unitários'!M43","v":0},0,8,0,null,null,null,{"$f":"+'Modelação do sist SAYT_RAYT'!CM65","v":0},{"$f":"+'Modelação do sist SAYT_RAYT'!CS65","v":0},null,{"$f":"'Preços unitários'!$T$34","v":0},null,{"$f":"+S111*R111/100*U111","v":0},{"$f":"+'Modelação de custos SAYT_RAYT'!$D$20","v":0},0,50000,0,{"$f":"'Preços unitários'!$T$40","v":0},0]
[null,null,"LAVAGEM","RS","Viaturas","Veículos lavagem contentores (cx dedicada)",null,null,"gasóleo",{"$f":"+'Modelação do sist SAYT_RAYT'!CJ68","v":0},{"$f":"+'Preços unitários'!M35","v":0},0,8,0,null,null,null,{"$f":"+'Modelação do sist SAYT_RAYT'!CM68","v":0},{"$f":"+'Modelação do sist SAYT_RAYT'!CS68","v":0},null,{"$f":"'Preços unitários'!$T$34","v":0},null,0,{"$f":"+'Modelação de custos SAYT_RAYT'!$D$20","v":0},{"$f":"L112*X112","v":0},50000,0,{"$f":"+'Preços unitários'!T41","v":0},0]
[null,null,"APOIO","RS","Viaturas","Viatura de cx aberta",null,null,"gasóleo",{"$f":"'Modelação do sist SAYT_RAYT'!$CJ$66","v":0},{"$f":"'Preços unitários'!$M$33","v":0},0,6,0,null,null,null,{"$f":"'Modelação do sist SAYT_RAYT'!$CM$66","v":0},{"$f":"'Modelação do sist SAYT_RAYT'!$CS$66","v":0},null,{"$f":"'Preços unitários'!$T$34","v":0},null,0,{"$f":"+'Modelação de custos SAYT_RAYT'!$D$20","v":0},0,50000,0,{"$f":"'Preços unitários'!$T$39","v":0},0]
[null,null,"APOIO","RS","Viaturas","Viatura de apoio",null,null,"gasóleo",{"$f":"'Modelação do sist SAYT_RAYT'!$CJ$67","v":0},{"$f":"'Preços unitários'!$M$34","v":0},0,6,0,null,null,null,{"$f":"'Modelação do sist SAYT_RAYT'!$CM$67","v":0},{"$f":"'Modelação do sist SAYT_RAYT'!$CS$67","v":0},null,{"$f":"'Preços unitários'!$T$34","v":0},null,0,{"$f":"+'Modelação de custos SAYT_RAYT'!$D$20","v":0},0,50000,0,{"$f":"'Preços unitários'!$T$38","v":0},0]
[null,null,"ECO","ECO","c. civil","c. civil",null,null,null,{"$f":"'Modelação do sist SAYT_RAYT'!$BJ$82","v":0},{"$f":"'Preços unitários'!$M$49","v":0},0,40,0,null,null,null,null,null,null,null,null,null,null,null,null,null,null,null,{"$f":"+'Modelação de custos SAYT_RAYT'!D21","v":0},{"$f":"IF(E115=\"c. civil\",L115*AD115,0)","v":0}]
[null,null,"ECO","ECO","equip depo","cont met. 15 m3",null,null,null,{"$f":"'Modelação do sist SAYT_RAYT'!$BL$85","v":0},{"$f":"'Preços unitários'!$M$52","v":0},0,8,0]
[null,null,"ECO","ECO","equip depo","cont met. 30 m3",null,null,null,{"$f":"'Modelação do sist SAYT_RAYT'!$BL$86","v":0},{"$f":"'Preços unitários'!$M$53","v":0},0,8,0]
[null,null,"ECO","ECO","equip depo","autocompactadores 20 m3",null,null,null,{"$f":"'Modelação do sist SAYT_RAYT'!$BL$87","v":0},{"$f":"'Preços unitários'!$M$54","v":0},0,8,0]
[null,null,"ECO","ECO","Viaturas","Viatura de transporte ecocentro",null,null,"gasóleo",{"$f":"'Modelação do sist SAYT_RAYT'!$BW$85","v":0},{"$f":"'Preços unitários'!$M$57","v":0},0,8,0,null,null,null,{"$f":"'Modelação do sist SAYT_RAYT'!$BZ$85","v":0},{"$f":"'Modelação do sist SAYT_RAYT'!$CI$85","v":0},null,{"$f":"'Preços unitários'!$T$34","v":0},null,{"$f":"+S119*R119/100*U119","v":0},{"$f":"+'Modelação de custos SAYT_RAYT'!$D$20","v":0},{"$f":"L119*X119","v":0},50000,{"$f":"_xlfn.FLOOR.MATH(IF(OR(R119>Z119,R119=Z119),R119/Z119,0),1)","v":0},{"$f":"'Preços unitários'!$T$42","v":0},{"$f":"+AA119*AB119","v":0}]
[null,null,"ET","ET","c. civil","c. civil",null,null,null,{"$f":"'Modelação do sist SAYT_RAYT'!$BJ$93","v":0},{"$f":"'Preços unitários'!$M$65","v":0},0,40,0,null,null,null,null,null,null,null,null,null,null,null,null,null,null,null,{"$f":"+'Modelação de custos SAYT_RAYT'!D21","v":0},{"$f":"IF(E120=\"c. civil\",L120*AD120,0)","v":0}]
[null,null,"ET","ET","equip depo","compactador estacionário c/ tremonha de carga",null,null,null,{"$f":"'Modelação do sist SAYT_RAYT'!$BP$100","v":0},{"$f":"'Preços unitários'!$M$72","v":0},0,8,0]
[null,null,"ET","ET","equip depo","mesa de translação",null,null,null,{"$f":"'Modelação do sist SAYT_RAYT'!$BP$101","v":0},{"$f":"'Preços unitários'!$M$73","v":0},0,8,0]
[null,null,"ET","ET","equip depo","cont. 30 m3 aberto",null,null,null,{"$f":"'Modelação do sist SAYT_RAYT'!$BP$96","v":0},{"$f":"'Preços unitários'!$M$68","v":0},0,8,0]
[null,null,"ET","ET","equip depo","cont. 40 m3 aberto",null,null,null,{"$f":"'Modelação do sist SAYT_RAYT'!$BP$97","v":0},{"$f":"'Preços unitários'!$M$69","v":0},0,8,0]
[null,null,"ET","ET","equip depo","cont. 30 m3 fechado",null,null,null,{"$f":"'Modelação do sist SAYT_RAYT'!$BP$98","v":0},{"$f":"'Preços unitários'!$M$70","v":0},0,8,0]
[null,null,"ET","ET","equip depo","cont. 40 m3 fechado",null,null,null,{"$f":"'Modelação do sist SAYT_RAYT'!$BP$99","v":0},{"$f":"'Preços unitários'!$M$71","v":0},0,8,0]
[null,null,"ET","ET","Viaturas","semi-reboque 90 m3 com piso móvel",null,null,null,{"$f":"'Modelação do sist SAYT_RAYT'!$CG$96","v":0},{"$f":"'Preços unitários'!$M$76","v":0},0,8,0,null,null,null,{"$f":"+'Modelação do sist SAYT_RAYT'!CJ96","v":0},{"$f":"+'Modelação do sist SAYT_RAYT'!CS96","v":0},null,{"$f":"'Preços unitários'!$T$34","v":0},null,{"$f":"+S127*R127/100*U127","v":0},{"$f":"+'Modelação de custos SAYT_RAYT'!$D$20","v":0},{"$f":"L127*X127","v":0},50000,{"$f":"_xlfn.FLOOR.MATH(IF(OR(R127>Z127,R127=Z127),R127/Z127,0),1)","v":0},{"$f":"'Preços unitários'!$T$43","v":0},{"$f":"+AA127*AB127","v":0}]
[null,null,"ET","ET","Viaturas","Trator para semi-reboque piso móvel",null,null,"gasóleo",{"$f":"'Modelação do sist SAYT_RAYT'!$CG$97","v":0},{"$f":"'Preços unitários'!$M$77","v":0},0,8,0,null,null,null,{"$f":"'Modelação do sist SAYT_RAYT'!$CJ$97","v":0},{"$f":"'Modelação do sist SAYT_RAYT'!$CS$97","v":0},null,{"$f":"'Preços unitários'!$T$34","v":0},null,0,{"$f":"+'Modelação de custos SAYT_RAYT'!$D$20","v":0},0,50000,0,{"$f":"'Preços unitários'!$T$44","v":0},{"$f":"+AA128*AB128","v":0}]
[null,null,"ET","ET","Viaturas","Chassis cabina para veículo de transferência",null,null,"gasóleo",{"$f":"'Modelação do sist SAYT_RAYT'!$CG$98","v":0},{"$f":"'Preços unitários'!$M$78","v":0},0,8,0,null,null,null,{"$f":"'Modelação do sist SAYT_RAYT'!$CJ$98","v":0},{"$f":"'Modelação do sist SAYT_RAYT'!$CS$98","v":0},null,{"$f":"'Preços unitários'!$T$34","v":0},null,0,{"$f":"+'Modelação de custos SAYT_RAYT'!$D$20","v":0},0,50000,0,{"$f":"'Preços unitários'!$T$45","v":0},{"$f":"+AA129*AB129","v":0}]
[null,null,"DEPOS","RS","equip depo","sacos","15 L","normal","normal",{"$f":"'Modelação do sist SAYT_RAYT'!Y125","v":0},{"$f":"'Preços unitários'!F21","v":0},null,null,null,null,null,{"$f":"+J130*K130","v":0}]
[null,null,"DEPOS","RS","equip depo","sacos","15 L","com chip","chip",{"$f":"+'Modelação do sist SAYT_RAYT'!Y144","v":0},{"$f":"'Preços unitários'!F22","v":0},null,null,null,null,null,0]
[null,null,"DEPOS","RS","equip depo","sacos","15 L","com etiqueta RFID","etiqueta",{"$f":"+'Modelação do sist SAYT_RAYT'!Y134","v":0},{"$f":"'Preços unitários'!F23","v":0},null,null,null,null,null,0]
[null,null,"DEPOS","RS","equip depo","sacos","30 L","normal","normal",{"$f":"+'Modelação do sist SAYT_RAYT'!Y126","v":0},{"$f":"'Preços unitários'!F24","v":0},null,null,null,null,null,0]
[null,null,"DEPOS","RS","equip depo","sacos","30 L","com chip","chip",{"$f":"+'Modelação do sist SAYT_RAYT'!Y145","v":0},{"$f":"'Preços unitários'!F25","v":0},null,null,null,null,null,0]
[null,null,"DEPOS","RS","equip depo","sacos","30 L","com etiqueta RFID","etiqueta",{"$f":"+'Modelação do sist SAYT_RAYT'!Y135","v":0},{"$f":"'Preços unitários'!F26","v":0},null,null,null,null,null,0]
[null,null,"DEPOS","RS","equip depo","sacos","50 L","normal","normal",{"$f":"+'Modelação do sist SAYT_RAYT'!Y127","v":0},{"$f":"'Preços unitários'!F27","v":0},null,null,null,null,null,0]
[null,null,"DEPOS","RS","equip depo","sacos","50 L","com chip","chip",{"$f":"+'Modelação do sist SAYT_RAYT'!Y146","v":0},{"$f":"'Preços unitários'!F28","v":0},null,null,null,null,null,0]
[null,null,"DEPOS","RS","equip depo","sacos","50 L","com etiqueta RFID","etiqueta",{"$f":"+'Modelação do sist SAYT_RAYT'!Y136","v":0},{"$f":"'Preços unitários'!F29","v":0},null,null,null,null,null,0]
[null,null,"DEPOS","RS","impressora etiquetas","impressora etiquetas",null,"impressora etiquetas",null,{"$f":"+IF(OR(J132>0,J135>0,J138>0),1,0)","v":0},1500,{"$f":"J139*K139","v":0},3,{"$f":"L139/M139","v":0}]
[null,null,"Diversos","Diversos","Rendas de edifícios",null,null,null,null,null,null,null,null,null,null,null,null,null,null,null,null,null,null,null,null,null,null,null,null,null,null,{"$f":"+'Modelação de custos SAYT_RAYT'!D11","v":0}]
[null,null,"Diversos","Diversos","Aluguer de edifícios",null,null,null,null,null,null,null,null,null,null,null,null,null,null,null,null,null,null,null,null,null,null,null,null,null,null,null,{"$f":"+'Modelação de custos SAYT_RAYT'!D12","v":0}]
[null,null,"Diversos","Diversos","Comunicações",null,null,null,null,null,null,null,null,null,null,null,null,null,null,null,null,null,null,null,null,null,null,null,null,null,null,null,null,{"$f":"+'Modelação de custos SAYT_RAYT'!D13","v":0}]
[null,null,"Diversos","Diversos","Comunicações associadas aos sistemas de instrumentação",null,null,null,null,null,null,null,null,null,null,null,null,null,null,null,null,null,null,null,null,null,null,null,null,null,null,null,null,null,{"$f":"+'Modelação de custos SAYT_RAYT'!D14","v":0}]
[null,null,"Diversos","Diversos","Seguros gerais",null,null,null,null,null,null,null,null,null,null,null,null,null,null,null,null,null,null,null,null,null,null,null,null,null,null,null,null,null,null,{"$f":"+'Modelação de custos SAYT_RAYT'!D15","v":0}]
[null,null,"Diversos","Diversos","Seguros de frota",null,null,null,null,null,null,null,null,null,null,null,null,null,null,null,null,null,null,null,null,null,null,null,null,null,null,null,null,null,null,null,{"$f":"+'Modelação de custos SAYT_RAYT'!D16","v":0}]
[null,null,"Diversos","Diversos","Honorários",null,null,null,null,null,null,null,null,null,null,null,null,null,null,null,null,null,null,null,null,null,null,null,null,null,null,null,null,null,null,null,null,{"$f":"+'Modelação de custos SAYT_RAYT'!D17","v":0}]
[null,null,"Software de gestão","Software de gestão","Quota anual por viatura recolha",null,null,null,null,{"$f":"'Modelação do sist SAYT_RAYT'!$CJ$70","v":0},{"$f":"+'Preços unitários'!T21","v":0},null,null,null,null,null,null,null,null,null,null,null,null,null,null,null,null,null,null,null,null,null,null,null,null,null,null,null,{"$f":"+J147*K147","v":0}]
[null,null,"Software de gestão","Software de gestão","Quota anual por utilizador com licença de edição",null,null,null,null,{"$f":"'Modelação do sist SAYT_RAYT'!$BO$110","v":0},{"$f":"+'Preços unitários'!T22","v":0},null,null,null,null,null,null,null,null,null,null,null,null,null,null,null,null,null,null,null,null,null,null,null,null,null,null,null,{"$f":"+J148*K148","v":0}]
[null,null,"Software de gestão","Software de gestão","Quota anual por sist. de controlo de acesso em contentores de superfície",null,null,null,null,{"$f":"+'Modelação do sist SAYT_RAYT'!AR75","v":0},{"$f":"+'Preços unitários'!T23","v":0},null,null,null,null,null,null,null,null,null,null,null,null,null,null,null,null,null,null,null,null,null,null,null,null,null,null,null,{"$f":"+J149*K149","v":0}]
[null,null,"Software de gestão","Software de gestão","Quota anual por sist. de controlo de acesso em contentores semi-enterrados / enterrados",null,null,null,null,{"$f":"+'Modelação do sist SAYT_RAYT'!AU75+'Modelação do sist SAYT_RAYT'!AX75","v":0},{"$f":"+'Preços unitários'!T24","v":0},null,null,null,null,null,null,null,null,null,null,null,null,null,null,null,null,null,null,null,null,null,null,null,null,null,null,null,{"$f":"+J150*K150","v":0}]
[null,null,"Publicidade e propaganda","Publicidade e propaganda","Conceção - €/h",null,null,null,null,{"$f":"'Modelação do sist SAYT_RAYT'!$BT$122","v":0},null,null,null,null,null,null,null,null,null,null,null,null,null,null,null,null,null,null,null,null,null,null,null,null,null,null,null,null,null,{"$f":"+'Preços unitários'!T54","v":0},{"$f":"+AN151*J151","v":0}]
[null,null,"Publicidade e propaganda","Publicidade e propaganda","Folhetos",null,null,null,null,{"$f":"'Modelação do sist SAYT_RAYT'!BT123","v":0},{"$f":"'Preços unitários'!T56","v":0},null,null,null,null,null,null,null,null,null,null,null,null,null,null,null,null,null,null,null,null,null,null,null,null,null,null,null,null,null,{"$f":"+K152*J152","v":0}]
[null,null,"Publicidade e propaganda","Publicidade e propaganda","Posters",null,null,null,null,{"$f":"'Modelação do sist SAYT_RAYT'!BT124","v":0},{"$f":"'Preços unitários'!T57","v":0},null,null,null,null,null,null,null,null,null,null,null,null,null,null,null,null,null,null,null,null,null,null,null,null,null,null,null,null,null,{"$f":"+K153*J153","v":0}]
[null,null,"Publicidade e propaganda","Publicidade e propaganda","Placards",null,null,null,null,{"$f":"'Modelação do sist SAYT_RAYT'!BT125","v":0},{"$f":"'Preços unitários'!T58","v":0},null,null,null,null,null,null,null,null,null,null,null,null,null,null,null,null,null,null,null,null,null,null,null,null,null,null,null,null,null,{"$f":"+K154*J154","v":0}]
[null,null,"Publicidade e propaganda","Publicidade e propaganda","Outdoors",null,null,null,null,{"$f":"'Modelação do sist SAYT_RAYT'!BT126","v":0},{"$f":"'Preços unitários'!T59","v":0},null,null,null,null,null,null,null,null,null,null,null,null,null,null,null,null,null,null,null,null,null,null,null,null,null,null,null,null,null,{"$f":"+K155*J155","v":0}]
[null,null,"Publicidade e propaganda","Publicidade e propaganda","Jornais locais/regionais",null,null,null,null,{"$f":"'Modelação do sist SAYT_RAYT'!BT127","v":0},{"$f":"'Preços unitários'!T60","v":0},null,null,null,null,null,null,null,null,null,null,null,null,null,null,null,null,null,null,null,null,null,null,null,null,null,null,null,null,null,{"$f":"+K156*J156","v":0}]
[null,null,"Pessoal","Pessoal","Custos com pessoal - encarregado",null,null,null,null,{"$f":"'Modelação do sist SAYT_RAYT'!$BJ$74*'Modelação do sist SAYT_RAYT'!BM74","v":0},{"$f":"+'Modelação de custos SAYT_RAYT'!D24","v":0},null,null,null,null,null,null,null,null,null,null,null,null,null,null,null,null,null,null,null,null,null,null,null,null,null,null,null,null,null,null,null,{"$f":"+J157*K157","v":0}]
[null,null,"Pessoal","Pessoal","Custos com pessoal - motorista",null,null,null,null,{"$f":"+'Modelação do sist SAYT_RAYT'!BJ75*'Modelação do sist SAYT_RAYT'!BM75+'Modelação do sist SAYT_RAYT'!CU85*'Modelação do sist SAYT_RAYT'!CY85+'Modelação do sist SAYT_RAYT'!BY102*'Modelação do sist SAYT_RAYT'!CB102","v":0},{"$f":"+'Modelação de custos SAYT_RAYT'!D25","v":0},null,null,null,null,null,null,null,null,null,null,null,null,null,null,null,null,null,null,null,null,null,null,null,null,null,null,null,null,null,null,null,{"$f":"+J158*K158","v":0}]
[null,null,"Pessoal","Pessoal","Custos com pessoal - ajudantes",null,null,null,null,{"$f":"+'Modelação do sist SAYT_RAYT'!BJ76*'Modelação do sist SAYT_RAYT'!BM76+'Modelação do sist SAYT_RAYT'!CU86*'Modelação do sist SAYT_RAYT'!CY86+'Modelação do sist SAYT_RAYT'!BY103*'Modelação do sist SAYT_RAYT'!CB103","v":0},{"$f":"+'Modelação de custos SAYT_RAYT'!D26","v":0},null,null,null,null,null,null,null,null,null,null,null,null,null,null,null,null,null,null,null,null,null,null,null,null,null,null,null,null,null,null,null,{"$f":"+J159*K159","v":0}]
[null,null,"Pessoal","Pessoal","Custos com pessoal - técnico especializado",null,null,null,null,{"$f":"+'Modelação do sist SAYT_RAYT'!BO110*'Modelação do sist SAYT_RAYT'!BR110+'Modelação do sist SAYT_RAYT'!BO111*'Modelação do sist SAYT_RAYT'!BR111","v":0},{"$f":"+'Modelação de custos SAYT_RAYT'!D27","v":0},null,null,null,null,null,null,null,null,null,null,null,null,null,null,null,null,null,null,null,null,null,null,null,null,null,null,null,null,null,null,null,{"$f":"+J160*K160","v":0}]
[null,null,"Pessoal","Pessoal","Custos com pessoal - fiscal",null,null,null,null,{"$f":"+'Modelação do sist SAYT_RAYT'!BO112*'Modelação do sist SAYT_RAYT'!BR112","v":0},{"$f":"+'Modelação de custos SAYT_RAYT'!D28","v":0},null,null,null,null,null,null,null,null,null,null,null,null,null,null,null,null,null,null,null,null,null,null,null,null,null,null,null,null,null,null,null,0]
[null,null,"Pessoal","Pessoal","Custos com pessoal - enquadramento - 10% custos pessoal direto",null,null,null,null,null,null,null,null,null,null,null,null,null,null,null,null,null,null,null,null,null,null,null,null,null,null,null,null,null,null,null,null,null,null,null,null,{"$f":"+'Modelação de custos SAYT_RAYT'!D29","v":0},{"$f":"+SUM(AQ157:AQ161)*AP162","v":0}]
[null,null,"Pessoal","Pessoal","Custos com serviços auxiliares (recolhas a pedido)",null,null,null,null,null,null,null,null,null,null,null,null,null,null,null,null,null,null,null,null,null,null,null,null,null,null,null,null,null,null,null,null,null,null,null,null,null,null,{"$f":"+'Modelação de custos SAYT_RAYT'!D22","v":0}]
[null,null,"Diversos","Diversos","Custos com subcontratos",null,null,null,null,null,null,null,null,null,null,null,null,null,null,null,null,null,null,null,null,null,null,null,null,null,null,null,null,null,null,null,null,null,null,null,null,null,null,null,{"$f":"+'Modelação de custos SAYT_RAYT'!D30","v":0}]
[null,null,"Diversos","Diversos","Custos com trabalhos especializados",null,null,null,null,null,null,null,null,null,null,null,null,null,null,null,null,null,null,null,null,null,null,null,null,null,null,null,null,null,null,null,null,null,null,null,null,null,null,null,null,{"$f":"+'Modelação de custos SAYT_RAYT'!D31","v":0}]
[null,null,"Diversos","Diversos","Custos com publicidade e propaganda",null,null,null,null,null,null,null,null,null,null,null,null,null,null,null,null,null,null,null,null,null,null,null,null,null,null,null,null,null,null,null,null,null,null,null,{"$f":"+'Modelação de custos SAYT_RAYT'!D32","v":0}]
[null,null,"Diversos","Diversos","Custos financeiros",null,null,null,null,null,null,null,null,null,null,null,null,null,null,null,null,null,null,null,null,null,null,null,null,null,null,null,null,null,null,null,null,null,null,null,null,null,null,null,null,null,{"$f":"+'Modelação de custos SAYT_RAYT'!D33","v":0}]
[]
[]
[null,null,null,null,"Total",null,null,null,null,null,null,null,null,{"$f":"SUM(N5:N169)","v":0},null,{"$f":"SUM(P5:P169)","v":0},{"$f":"SUM(Q5:Q169)","v":0},null,null,null,null,null,{"$f":"SUM(W5:W169)","v":0},null,{"$f":"SUM(Y5:Y169)","v":0},null,null,null,{"$f":"SUM(AC5:AC169)","v":0},null,{"$f":"SUM(AE5:AE169)","v":0},0,0,0,0,0,0,0,0,null,{"$f":"SUM(AO5:AO169)","v":0},null,{"$f":"SUM(AQ5:AQ169)","v":0},{"$f":"SUM(AR5:AR169)","v":0},{"$f":"SUM(AS5:AS169)","v":0},0,{"$f":"SUM(AU5:AU169)","v":0},{"$f":"SUM(N170:AU170)","v":0}]
[]
[null,null,null,null,"Outros (eletricidade, água,limpeza, utilização de inst comuns, etc.)",null,null,null,null,null,null,null,null,null,null,null,null,null,null,null,null,null,null,null,null,null,null,null,null,null,null,null,null,null,null,null,null,null,null,null,null,null,null,null,null,null,null,null,{"$f":"+'Modelação de custos SAYT_RAYT'!D34","v":0},{"$f":"+AV170*AW172","v":0}]
[null,null,null,null,"Custo anual com a entidade gestora em alta",null,null,null,null,null,null,null,null,null,null,null,null,null,null,null,null,null,null,null,null,null,null,null,null,null,null,null,null,null,null,null,null,null,null,null,null,null,null,null,null,null,null,null,null,null,{"$f":"+'Modelação de custos SAYT_RAYT'!D35","v":0}]
[]
[null,null,null,null,null,null,null,null,null,null,null,null,null,null,null,null,null,null,null,null,null,null,null,null,null,null,null,null,null,null,null,null,null,null,null,null,null,null,null,null,null,null,null,null,null,null,null,null,null,null,null,{"$f":"+AV170+AX172+AY173","v":0}]